{"text_format":"1","workbook":"xlsx","n_sheets":6,"sheets":["Order Form","Products","Sheet1","Country & Delivery","Export","Import"],"not_rendered":{"charts":0,"images":1,"macros":1,"external_links":1,"defined_names":92,"comments":0,"pivot_tables":0},"unopened":[],"bounds":{"document_bytes":16777216,"sheet_cells":100000,"rows_first":2000,"rows_last":500,"rows_between":2000,"halvings":0,"cell_chars":16384,"cell_head_chars":4096},"cells_cut":0,"cells_raw":0,"read":"row_number_cap","date_system":"1900"}

{"sheet":"Order Form","index":0,"n_rows":513,"n_cols":60,"rows_kept":513,"cut":false,"hidden":false,"merged":[[8,4,9,10]],"read":"row_number_cap"}
["VC19"]
[]
[]
[]
[]
[]
[]
[]
[null,null,null,null,null,null,null,null,null,null,null,null,null,"Product Total","Combined Total","Postage Total"]
[null,null,null,null,null,null,null,null,null,null,null,null,null,{"$f":"SUM(S14:S1011)","v":0},{"$f":"N10+P10+Q10","v":0},{"$f":"'Country & Delivery'!T11","v":0}]
[]
[null,"Recipient Company Name","Title","First Name","Surname","Mobile Number ","Email","Flat No/Building Name","House No/Street","Town/City","County","Country","State","Postcode/ZipCode","Product Code","Product Name","Price","Quantity","Total Price","Shipping Method","Delivery Method","Delivery Mode","Delivery by*","Gift Card Message (Max 280 Characters)","CountryCode","Delete Line From Order?","Sales Order Number","Sales Order Line  Number","Line Status","Line Error","Bypass Validation Error?","Product Personalization Line 1 (Max 20 Characters)","Product Personalization Line 2 (Max 20 Characters)","Product Personalization Line 3 (Max 20 Characters)","Product Personalization Line 4 (Max 20 Characters)","Product Personalization Line 5 (Max 20 Characters)","State Id",null,null,null,null,null,null,null,null,null,null,null,null,{"$f":"SUM(AX13:AX1013)","v":0}]
["e.g.","Fortnum & Mason","Mr","William","Fortnum",7717680506,"concierge@fortnumandmason.co.uk",null,"181 Piccadilly","London",null,"United Kingdom",null,"W1A 1ER",8021201,"The Champagne & Chocolate Box",72,2,144,"UKDelivery","Standard",{"$error":"#N/A"},"2022-12-01","Dear Hugh, Happy Christmas! From Will","GBR",null,null,null,null,null,null,"Product personalization Line 1","Product personalization Line 2","Product personalization Line 3","Product personalization Line 4","Product personalization Line 5","State Id (auto)",null,null,null,null,null,null,null,null,null,null,null,null,null,null,null,null,null,null,"imported delivery type","imported lookup",null,"country code ","lookup"]
[1,null,null,null,null,null,null,null,null,null,null,null,null,null,null,null,{"$f":"IF(O14=\"\",\"\",VLOOKUP(O14,Products!A:C,3,FALSE))","v":""},null,{"$f":"IFERROR((Q14*R14),\"\")","v":""},{"$f":"IF(Y14=\"\",\"\",VLOOKUP(Y14,'Country & Delivery'!B:C,2,FALSE))","v":""},null,{"$f":"IF(U14=\"\",\"\",VLOOKUP(U14,'Country & Delivery'!N:O,2,FALSE))","v":""},null,null,{"$f":"IF(L14=\"\",\"\",VLOOKUP(L14,'Country & Delivery'!A:B,2,FALSE))","v":""},null,null,null,null,null,null,null,null,null,null,null,{"$f":"IF(M14=\"\",\"\",VLOOKUP(M14,'Country & Delivery'!AB:AC,2,FALSE))","v":""},null,null,null,null,null,null,null,null,null,null,null,{"$f":"IF(U14=\"\",\"\",VLOOKUP(U14,'Country & Delivery'!$N$1:$O$8,2,0))","v":""},{"$f":"IF(O14<>\"\",COUNTIFS(D14:D14,\"\")+COUNTIFS(E14:E14,\"\")+COUNTIFS(I14:I14,\"\")+COUNTIFS(N14:N14,\"\")+COUNTIFS(O14:O14,\"\")+COUNTIFS(R14:R14,\"\")+COUNTIFS(U14:U14,\"\"),\"\")","v":""},{"$f":"+$L$10","v":0},"AE","ARE","N",null,"STD",{"$f":"IFERROR(INDEX('Country & Delivery'!N3:N9,MATCH(BD14,'Country & Delivery'!O3:O9,0),1),\"\")","v":"Standard"},null,null,{"$f":"IFERROR(INDEX('Country & Delivery'!A3:A252,MATCH(BG14,'Country & Delivery'!B3:B252,0),1),\"\")","v":""}]
[2,null,null,null,null,null,null,null,null,null,null,null,null,null,null,null,{"$f":"IF(O15=\"\",\"\",VLOOKUP(O15,Products!A:C,3,FALSE))","v":""},null,"",{"$f":"IF(Y15=\"\",\"\",VLOOKUP(Y15,'Country & Delivery'!B:C,2,FALSE))","v":""},null,{"$f":"IF(U15=\"\",\"\",VLOOKUP(U15,'Country & Delivery'!N:O,2,FALSE))","v":""},null,null,{"$f":"IF(L15=\"\",\"\",VLOOKUP(L15,'Country & Delivery'!A:B,2,FALSE))","v":""},null,null,null,null,null,null,null,null,null,null,null,{"$f":"IF(M15=\"\",\"\",VLOOKUP(M15,'Country & Delivery'!AB:AC,2,FALSE))","v":""},null,null,null,null,null,null,null,null,null,null,null,{"$f":"IF(U15=\"\",\"\",VLOOKUP(U15,'Country & Delivery'!$N$1:$O$8,2,0))","v":""},"",0,"AF","AFG","N","dc","STD",{"$f":"IFERROR(INDEX('Country & Delivery'!N4:N10,MATCH(BD15,'Country & Delivery'!O4:O10,0),1),\"\")","v":"Standard"},null,null,{"$f":"IFERROR(INDEX('Country & Delivery'!A4:A253,MATCH(BG15,'Country & Delivery'!B4:B253,0),1),\"\")","v":""}]
[3,null,null,null,null,null,null,null,null,null,null,null,null,null,null,null,{"$f":"IF(O16=\"\",\"\",VLOOKUP(O16,Products!A:C,3,FALSE))","v":""},null,"",{"$f":"IF(Y16=\"\",\"\",VLOOKUP(Y16,'Country & Delivery'!B:C,2,FALSE))","v":""},null,{"$f":"IF(U16=\"\",\"\",VLOOKUP(U16,'Country & Delivery'!N:O,2,FALSE))","v":""},null,null,{"$f":"IF(L16=\"\",\"\",VLOOKUP(L16,'Country & Delivery'!A:B,2,FALSE))","v":""},null,null,null,null,null,null,null,null,null,null,null,{"$f":"IF(M16=\"\",\"\",VLOOKUP(M16,'Country & Delivery'!AB:AC,2,FALSE))","v":""},null,null,null,null,null,null,null,null,null,null,null,{"$f":"IF(U16=\"\",\"\",VLOOKUP(U16,'Country & Delivery'!$N$1:$O$8,2,0))","v":""},"",0,"Afghanistan","AFG","N","dc","STD",{"$f":"IFERROR(INDEX('Country & Delivery'!N5:N11,MATCH(BD16,'Country & Delivery'!O5:O11,0),1),\"\")","v":"Standard"},null,null,{"$f":"IFERROR(INDEX('Country & Delivery'!A5:A254,MATCH(BG16,'Country & Delivery'!B5:B254,0),1),\"\")","v":""}]
[4,null,null,null,null,null,null,null,null,null,null,null,null,null,null,null,{"$f":"IF(O17=\"\",\"\",VLOOKUP(O17,Products!A:C,3,FALSE))","v":""},null,"",{"$f":"IF(Y17=\"\",\"\",VLOOKUP(Y17,'Country & Delivery'!B:C,2,FALSE))","v":""},null,{"$f":"IF(U17=\"\",\"\",VLOOKUP(U17,'Country & Delivery'!N:O,2,FALSE))","v":""},null,null,{"$f":"IF(L17=\"\",\"\",VLOOKUP(L17,'Country & Delivery'!A:B,2,FALSE))","v":""},null,null,null,null,null,null,null,null,null,null,null,{"$f":"IF(M17=\"\",\"\",VLOOKUP(M17,'Country & Delivery'!AB:AC,2,FALSE))","v":""},null,null,null,null,null,null,null,null,null,null,null,{"$f":"IF(U17=\"\",\"\",VLOOKUP(U17,'Country & Delivery'!$N$1:$O$8,2,0))","v":""},"",0,"AG","ATG","N",null,"u7",{"$f":"IFERROR(INDEX('Country & Delivery'!N6:N12,MATCH(BD17,'Country & Delivery'!O6:O12,0),1),\"\")","v":""},null,null,{"$f":"IFERROR(INDEX('Country & Delivery'!A6:A255,MATCH(BG17,'Country & Delivery'!B6:B255,0),1),\"\")","v":""}]
[5,null,null,null,null,null,null,null,null,null,null,null,null,null,null,null,{"$f":"IF(O18=\"\",\"\",VLOOKUP(O18,Products!A:C,3,FALSE))","v":""},null,"",{"$f":"IF(Y18=\"\",\"\",VLOOKUP(Y18,'Country & Delivery'!B:C,2,FALSE))","v":""},null,{"$f":"IF(U18=\"\",\"\",VLOOKUP(U18,'Country & Delivery'!N:O,2,FALSE))","v":""},null,null,{"$f":"IF(L18=\"\",\"\",VLOOKUP(L18,'Country & Delivery'!A:B,2,FALSE))","v":""},null,null,null,null,null,null,null,null,null,null,null,{"$f":"IF(M18=\"\",\"\",VLOOKUP(M18,'Country & Delivery'!AB:AC,2,FALSE))","v":""},null,null,null,null,null,null,null,null,null,null,null,{"$f":"IF(U18=\"\",\"\",VLOOKUP(U18,'Country & Delivery'!$N$1:$O$8,2,0))","v":""},"",0,"AI","AIA","N","dc",null,{"$f":"IFERROR(INDEX('Country & Delivery'!N7:N13,MATCH(BD18,'Country & Delivery'!O7:O13,0),1),\"\")","v":""},null,null,{"$f":"IFERROR(INDEX('Country & Delivery'!A7:A256,MATCH(BG18,'Country & Delivery'!B7:B256,0),1),\"\")","v":""}]
[6,null,null,null,null,null,null,null,null,null,null,null,null,null,null,null,{"$f":"IF(O19=\"\",\"\",VLOOKUP(O19,Products!A:C,3,FALSE))","v":""},null,"",{"$f":"IF(Y19=\"\",\"\",VLOOKUP(Y19,'Country & Delivery'!B:C,2,FALSE))","v":""},null,{"$f":"IF(U19=\"\",\"\",VLOOKUP(U19,'Country & Delivery'!N:O,2,FALSE))","v":""},null,null,{"$f":"IF(L19=\"\",\"\",VLOOKUP(L19,'Country & Delivery'!A:B,2,FALSE))","v":""},null,null,null,null,null,null,null,null,null,null,null,{"$f":"IF(M19=\"\",\"\",VLOOKUP(M19,'Country & Delivery'!AB:AC,2,FALSE))","v":""},null,null,null,null,null,null,null,null,null,null,null,{"$f":"IF(U19=\"\",\"\",VLOOKUP(U19,'Country & Delivery'!$N$1:$O$8,2,0))","v":""},"",0,"AL","ALB","N","dc",null,{"$f":"IFERROR(INDEX('Country & Delivery'!N8:N14,MATCH(BD19,'Country & Delivery'!O8:O14,0),1),\"\")","v":""},null,null,{"$f":"IFERROR(INDEX('Country & Delivery'!A8:A257,MATCH(BG19,'Country & Delivery'!B8:B257,0),1),\"\")","v":""}]
[7,null,null,null,null,null,null,null,null,null,null,null,null,null,null,null,{"$f":"IF(O20=\"\",\"\",VLOOKUP(O20,Products!A:C,3,FALSE))","v":""},null,"",{"$f":"IF(Y20=\"\",\"\",VLOOKUP(Y20,'Country & Delivery'!B:C,2,FALSE))","v":""},null,{"$f":"IF(U20=\"\",\"\",VLOOKUP(U20,'Country & Delivery'!N:O,2,FALSE))","v":""},null,null,{"$f":"IF(L20=\"\",\"\",VLOOKUP(L20,'Country & Delivery'!A:B,2,FALSE))","v":""},null,null,null,null,null,null,null,null,null,null,null,{"$f":"IF(M20=\"\",\"\",VLOOKUP(M20,'Country & Delivery'!AB:AC,2,FALSE))","v":""},null,null,null,null,null,null,null,null,null,null,null,{"$f":"IF(U20=\"\",\"\",VLOOKUP(U20,'Country & Delivery'!$N$1:$O$8,2,0))","v":""},"",0,"ALA","AX","N",null,null,{"$f":"IFERROR(INDEX('Country & Delivery'!N9:N15,MATCH(BD20,'Country & Delivery'!O9:O15,0),1),\"\")","v":""},null,null,{"$f":"IFERROR(INDEX('Country & Delivery'!A9:A258,MATCH(BG20,'Country & Delivery'!B9:B258,0),1),\"\")","v":""}]
[8,null,null,null,null,null,null,null,null,null,null,null,null,null,null,{"$f":"IF(O21=\"\",\"\",VLOOKUP(O21,Products!A:C,2,FALSE))","v":""},{"$f":"IF(O21=\"\",\"\",VLOOKUP(O21,Products!A:C,3,FALSE))","v":""},null,"",{"$f":"IF(Y21=\"\",\"\",VLOOKUP(Y21,'Country & Delivery'!B:C,2,FALSE))","v":""},null,{"$f":"IF(U21=\"\",\"\",VLOOKUP(U21,'Country & Delivery'!N:O,2,FALSE))","v":""},null,null,{"$f":"IF(L21=\"\",\"\",VLOOKUP(L21,'Country & Delivery'!A:B,2,FALSE))","v":""},null,null,null,null,null,null,null,null,null,null,null,{"$f":"IF(M21=\"\",\"\",VLOOKUP(M21,'Country & Delivery'!AB:AC,2,FALSE))","v":""},null,null,null,null,null,null,null,null,null,null,null,{"$f":"IF(U21=\"\",\"\",VLOOKUP(U21,'Country & Delivery'!$N$1:$O$8,2,0))","v":""},"",0,"ALAND ISLANDS","AX","N","del meth",null,{"$f":"IFERROR(INDEX('Country & Delivery'!N10:N16,MATCH(BD21,'Country & Delivery'!O10:O16,0),1),\"\")","v":""},null,null,{"$f":"IFERROR(INDEX('Country & Delivery'!A10:A259,MATCH(BG21,'Country & Delivery'!B10:B259,0),1),\"\")","v":""}]
[9,null,null,null,null,null,null,null,null,null,null,null,null,null,null,{"$f":"IF(O22=\"\",\"\",VLOOKUP(O22,Products!A:C,2,FALSE))","v":""},{"$f":"IF(O22=\"\",\"\",VLOOKUP(O22,Products!A:C,3,FALSE))","v":""},null,"",{"$f":"IF(Y22=\"\",\"\",VLOOKUP(Y22,'Country & Delivery'!B:C,2,FALSE))","v":""},null,{"$f":"IF(U22=\"\",\"\",VLOOKUP(U22,'Country & Delivery'!N:O,2,FALSE))","v":""},null,null,{"$f":"IF(L22=\"\",\"\",VLOOKUP(L22,'Country & Delivery'!A:B,2,FALSE))","v":""},null,null,null,null,null,null,null,null,null,null,null,{"$f":"IF(M22=\"\",\"\",VLOOKUP(M22,'Country & Delivery'!AB:AC,2,FALSE))","v":""},null,null,null,null,null,null,null,null,null,null,null,{"$f":"IF(U22=\"\",\"\",VLOOKUP(U22,'Country & Delivery'!$N$1:$O$8,2,0))","v":""},"",0,"Albania","ALB","N","dc",null,{"$f":"IFERROR(INDEX('Country & Delivery'!N11:N17,MATCH(BD22,'Country & Delivery'!O11:O17,0),1),\"\")","v":""},null,null,{"$f":"IFERROR(INDEX('Country & Delivery'!A11:A260,MATCH(BG22,'Country & Delivery'!B11:B260,0),1),\"\")","v":""}]
[10,null,null,null,null,null,null,null,null,null,null,null,null,null,null,{"$f":"IF(O23=\"\",\"\",VLOOKUP(O23,Products!A:C,2,FALSE))","v":""},{"$f":"IF(O23=\"\",\"\",VLOOKUP(O23,Products!A:C,3,FALSE))","v":""},null,"",{"$f":"IF(Y23=\"\",\"\",VLOOKUP(Y23,'Country & Delivery'!B:C,2,FALSE))","v":""},null,{"$f":"IF(U23=\"\",\"\",VLOOKUP(U23,'Country & Delivery'!N:O,2,FALSE))","v":""},null,null,{"$f":"IF(L23=\"\",\"\",VLOOKUP(L23,'Country & Delivery'!A:B,2,FALSE))","v":""},null,null,null,null,null,null,null,null,null,null,null,{"$f":"IF(M23=\"\",\"\",VLOOKUP(M23,'Country & Delivery'!AB:AC,2,FALSE))","v":""},null,null,null,null,null,null,null,null,null,null,null,{"$f":"IF(U23=\"\",\"\",VLOOKUP(U23,'Country & Delivery'!$N$1:$O$8,2,0))","v":""},"",0,"Algeria","DZA","N",null,null,{"$f":"IFERROR(INDEX('Country & Delivery'!N12:N18,MATCH(BD23,'Country & Delivery'!O12:O18,0),1),\"\")","v":""},null,null,{"$f":"IFERROR(INDEX('Country & Delivery'!A12:A261,MATCH(BG23,'Country & Delivery'!B12:B261,0),1),\"\")","v":""}]
[11,null,null,null,null,null,null,null,null,null,null,null,null,null,null,{"$f":"IF(O24=\"\",\"\",VLOOKUP(O24,Products!A:C,2,FALSE))","v":""},{"$f":"IF(O24=\"\",\"\",VLOOKUP(O24,Products!A:C,3,FALSE))","v":""},null,"",{"$f":"IF(Y24=\"\",\"\",VLOOKUP(Y24,'Country & Delivery'!B:C,2,FALSE))","v":""},null,{"$f":"IF(U24=\"\",\"\",VLOOKUP(U24,'Country & Delivery'!N:O,2,FALSE))","v":""},null,null,{"$f":"IF(L24=\"\",\"\",VLOOKUP(L24,'Country & Delivery'!A:B,2,FALSE))","v":""},null,null,null,null,null,null,null,null,null,null,null,{"$f":"IF(M24=\"\",\"\",VLOOKUP(M24,'Country & Delivery'!AB:AC,2,FALSE))","v":""},null,null,null,null,null,null,null,null,null,null,null,{"$f":"IF(U24=\"\",\"\",VLOOKUP(U24,'Country & Delivery'!$N$1:$O$8,2,0))","v":""},"",0,"AM","ARM","N","dc",null,{"$f":"IFERROR(INDEX('Country & Delivery'!N13:N19,MATCH(BD24,'Country & Delivery'!O13:O19,0),1),\"\")","v":""},null,null,{"$f":"IFERROR(INDEX('Country & Delivery'!A13:A262,MATCH(BG24,'Country & Delivery'!B13:B262,0),1),\"\")","v":""}]
[12,null,null,null,null,null,null,null,null,null,null,null,null,null,null,{"$f":"IF(O25=\"\",\"\",VLOOKUP(O25,Products!A:C,2,FALSE))","v":""},{"$f":"IF(O25=\"\",\"\",VLOOKUP(O25,Products!A:C,3,FALSE))","v":""},null,"",{"$f":"IF(Y25=\"\",\"\",VLOOKUP(Y25,'Country & Delivery'!B:C,2,FALSE))","v":""},null,{"$f":"IF(U25=\"\",\"\",VLOOKUP(U25,'Country & Delivery'!N:O,2,FALSE))","v":""},null,null,{"$f":"IF(L25=\"\",\"\",VLOOKUP(L25,'Country & Delivery'!A:B,2,FALSE))","v":""},null,null,null,null,null,null,null,null,null,null,null,{"$f":"IF(M25=\"\",\"\",VLOOKUP(M25,'Country & Delivery'!AB:AC,2,FALSE))","v":""},null,null,null,null,null,null,null,null,null,null,null,{"$f":"IF(U25=\"\",\"\",VLOOKUP(U25,'Country & Delivery'!$N$1:$O$8,2,0))","v":""},"",0,"American Samoa","ASM","N","dc",null,{"$f":"IFERROR(INDEX('Country & Delivery'!N14:N20,MATCH(BD25,'Country & Delivery'!O14:O20,0),1),\"\")","v":""},null,null,{"$f":"IFERROR(INDEX('Country & Delivery'!A14:A263,MATCH(BG25,'Country & Delivery'!B14:B263,0),1),\"\")","v":""}]
[13,null,null,null,null,null,null,null,null,null,null,null,null,null,null,{"$f":"IF(O26=\"\",\"\",VLOOKUP(O26,Products!A:C,2,FALSE))","v":""},{"$f":"IF(O26=\"\",\"\",VLOOKUP(O26,Products!A:C,3,FALSE))","v":""},null,"",{"$f":"IF(Y26=\"\",\"\",VLOOKUP(Y26,'Country & Delivery'!B:C,2,FALSE))","v":""},null,{"$f":"IF(U26=\"\",\"\",VLOOKUP(U26,'Country & Delivery'!N:O,2,FALSE))","v":""},null,null,{"$f":"IF(L26=\"\",\"\",VLOOKUP(L26,'Country & Delivery'!A:B,2,FALSE))","v":""},null,null,null,null,null,null,null,null,null,null,null,{"$f":"IF(M26=\"\",\"\",VLOOKUP(M26,'Country & Delivery'!AB:AC,2,FALSE))","v":""},null,null,null,null,null,null,null,null,null,null,null,{"$f":"IF(U26=\"\",\"\",VLOOKUP(U26,'Country & Delivery'!$N$1:$O$8,2,0))","v":""},"",0,"AN","ANT","N",null,null,{"$f":"IFERROR(INDEX('Country & Delivery'!N15:N21,MATCH(BD26,'Country & Delivery'!O15:O21,0),1),\"\")","v":""},null,null,{"$f":"IFERROR(INDEX('Country & Delivery'!A15:A264,MATCH(BG26,'Country & Delivery'!B15:B264,0),1),\"\")","v":""}]
[14,null,null,null,null,null,null,null,null,null,null,null,null,null,null,{"$f":"IF(O27=\"\",\"\",VLOOKUP(O27,Products!A:C,2,FALSE))","v":""},{"$f":"IF(O27=\"\",\"\",VLOOKUP(O27,Products!A:C,3,FALSE))","v":""},null,"",{"$f":"IF(Y27=\"\",\"\",VLOOKUP(Y27,'Country & Delivery'!B:C,2,FALSE))","v":""},null,{"$f":"IF(U27=\"\",\"\",VLOOKUP(U27,'Country & Delivery'!N:O,2,FALSE))","v":""},null,null,{"$f":"IF(L27=\"\",\"\",VLOOKUP(L27,'Country & Delivery'!A:B,2,FALSE))","v":""},null,null,null,null,null,null,null,null,null,null,null,{"$f":"IF(M27=\"\",\"\",VLOOKUP(M27,'Country & Delivery'!AB:AC,2,FALSE))","v":""},null,null,null,null,null,null,null,null,null,null,null,{"$f":"IF(U27=\"\",\"\",VLOOKUP(U27,'Country & Delivery'!$N$1:$O$8,2,0))","v":""},"",0,"Andorra","AND","N",null,null,{"$f":"IFERROR(INDEX('Country & Delivery'!N16:N22,MATCH(BD27,'Country & Delivery'!O16:O22,0),1),\"\")","v":""},null,null,{"$f":"IFERROR(INDEX('Country & Delivery'!A16:A265,MATCH(BG27,'Country & Delivery'!B16:B265,0),1),\"\")","v":""}]
[15,null,null,null,null,null,null,null,null,null,null,null,null,null,null,{"$f":"IF(O28=\"\",\"\",VLOOKUP(O28,Products!A:C,2,FALSE))","v":""},{"$f":"IF(O28=\"\",\"\",VLOOKUP(O28,Products!A:C,3,FALSE))","v":""},null,"",{"$f":"IF(Y28=\"\",\"\",VLOOKUP(Y28,'Country & Delivery'!B:C,2,FALSE))","v":""},null,{"$f":"IF(U28=\"\",\"\",VLOOKUP(U28,'Country & Delivery'!N:O,2,FALSE))","v":""},null,null,{"$f":"IF(L28=\"\",\"\",VLOOKUP(L28,'Country & Delivery'!A:B,2,FALSE))","v":""},null,null,null,null,null,null,null,null,null,null,null,{"$f":"IF(M28=\"\",\"\",VLOOKUP(M28,'Country & Delivery'!AB:AC,2,FALSE))","v":""},null,null,null,null,null,null,null,null,null,null,null,{"$f":"IF(U28=\"\",\"\",VLOOKUP(U28,'Country & Delivery'!$N$1:$O$8,2,0))","v":""},"",0,"Angola","AGO","N","dc",null,{"$f":"IFERROR(INDEX('Country & Delivery'!N17:N23,MATCH(BD28,'Country & Delivery'!O17:O23,0),1),\"\")","v":""},null,null,{"$f":"IFERROR(INDEX('Country & Delivery'!A17:A266,MATCH(BG28,'Country & Delivery'!B17:B266,0),1),\"\")","v":""}]
[16,null,null,null,null,null,null,null,null,null,null,null,null,null,null,{"$f":"IF(O29=\"\",\"\",VLOOKUP(O29,Products!A:C,2,FALSE))","v":""},{"$f":"IF(O29=\"\",\"\",VLOOKUP(O29,Products!A:C,3,FALSE))","v":""},null,"",{"$f":"IF(Y29=\"\",\"\",VLOOKUP(Y29,'Country & Delivery'!B:C,2,FALSE))","v":""},null,{"$f":"IF(U29=\"\",\"\",VLOOKUP(U29,'Country & Delivery'!N:O,2,FALSE))","v":""},null,null,{"$f":"IF(L29=\"\",\"\",VLOOKUP(L29,'Country & Delivery'!A:B,2,FALSE))","v":""},null,null,null,null,null,null,null,null,null,null,null,{"$f":"IF(M29=\"\",\"\",VLOOKUP(M29,'Country & Delivery'!AB:AC,2,FALSE))","v":""},null,null,null,null,null,null,null,null,null,null,null,{"$f":"IF(U29=\"\",\"\",VLOOKUP(U29,'Country & Delivery'!$N$1:$O$8,2,0))","v":""},"",0,"Anguilla","AIA","N","dc",null,{"$f":"IFERROR(INDEX('Country & Delivery'!N18:N24,MATCH(BD29,'Country & Delivery'!O18:O24,0),1),\"\")","v":""},null,null,{"$f":"IFERROR(INDEX('Country & Delivery'!A18:A267,MATCH(BG29,'Country & Delivery'!B18:B267,0),1),\"\")","v":""}]
[17,null,null,null,null,null,null,null,null,null,null,null,null,null,null,{"$f":"IF(O30=\"\",\"\",VLOOKUP(O30,Products!A:C,2,FALSE))","v":""},{"$f":"IF(O30=\"\",\"\",VLOOKUP(O30,Products!A:C,3,FALSE))","v":""},null,"",{"$f":"IF(Y30=\"\",\"\",VLOOKUP(Y30,'Country & Delivery'!B:C,2,FALSE))","v":""},null,{"$f":"IF(U30=\"\",\"\",VLOOKUP(U30,'Country & Delivery'!N:O,2,FALSE))","v":""},null,null,{"$f":"IF(L30=\"\",\"\",VLOOKUP(L30,'Country & Delivery'!A:B,2,FALSE))","v":""},null,null,null,null,null,null,null,null,null,null,null,{"$f":"IF(M30=\"\",\"\",VLOOKUP(M30,'Country & Delivery'!AB:AC,2,FALSE))","v":""},null,null,null,null,null,null,null,null,null,null,null,{"$f":"IF(U30=\"\",\"\",VLOOKUP(U30,'Country & Delivery'!$N$1:$O$8,2,0))","v":""},"",0,"Antarctica","ATA","N","dc",null,{"$f":"IFERROR(INDEX('Country & Delivery'!N19:N25,MATCH(BD30,'Country & Delivery'!O19:O25,0),1),\"\")","v":""},null,null,{"$f":"IFERROR(INDEX('Country & Delivery'!A19:A268,MATCH(BG30,'Country & Delivery'!B19:B268,0),1),\"\")","v":""}]
[18,null,null,null,null,null,null,null,null,null,null,null,null,null,null,{"$f":"IF(O31=\"\",\"\",VLOOKUP(O31,Products!A:C,2,FALSE))","v":""},{"$f":"IF(O31=\"\",\"\",VLOOKUP(O31,Products!A:C,3,FALSE))","v":""},null,"",{"$f":"IF(Y31=\"\",\"\",VLOOKUP(Y31,'Country & Delivery'!B:C,2,FALSE))","v":""},null,{"$f":"IF(U31=\"\",\"\",VLOOKUP(U31,'Country & Delivery'!N:O,2,FALSE))","v":""},null,null,{"$f":"IF(L31=\"\",\"\",VLOOKUP(L31,'Country & Delivery'!A:B,2,FALSE))","v":""},null,null,null,null,null,null,null,null,null,null,null,{"$f":"IF(M31=\"\",\"\",VLOOKUP(M31,'Country & Delivery'!AB:AC,2,FALSE))","v":""},null,null,null,null,null,null,null,null,null,null,null,{"$f":"IF(U31=\"\",\"\",VLOOKUP(U31,'Country & Delivery'!$N$1:$O$8,2,0))","v":""},"",0,"Antigua And Barbuda","ATG","N",null,null,{"$f":"IFERROR(INDEX('Country & Delivery'!N20:N26,MATCH(BD31,'Country & Delivery'!O20:O26,0),1),\"\")","v":""},null,null,{"$f":"IFERROR(INDEX('Country & Delivery'!A20:A269,MATCH(BG31,'Country & Delivery'!B20:B269,0),1),\"\")","v":""}]
[19,null,null,null,null,null,null,null,null,null,null,null,null,null,null,{"$f":"IF(O32=\"\",\"\",VLOOKUP(O32,Products!A:C,2,FALSE))","v":""},{"$f":"IF(O32=\"\",\"\",VLOOKUP(O32,Products!A:C,3,FALSE))","v":""},null,{"$f":"IFERROR((Q32*R32),\"\")","v":""},{"$f":"IF(Y32=\"\",\"\",VLOOKUP(Y32,'Country & Delivery'!B:C,2,FALSE))","v":""},null,{"$f":"IF(U32=\"\",\"\",VLOOKUP(U32,'Country & Delivery'!N:O,2,FALSE))","v":""},null,null,{"$f":"IF(L32=\"\",\"\",VLOOKUP(L32,'Country & Delivery'!A:B,2,FALSE))","v":""},null,null,null,null,null,null,null,null,null,null,null,{"$f":"IF(M32=\"\",\"\",VLOOKUP(M32,'Country & Delivery'!AB:AC,2,FALSE))","v":""},null,null,null,null,null,null,null,null,null,null,null,{"$f":"IF(U32=\"\",\"\",VLOOKUP(U32,'Country & Delivery'!$N$1:$O$8,2,0))","v":""},"",0,"AO","AGO","N","dc",null,{"$f":"IFERROR(INDEX('Country & Delivery'!N21:N27,MATCH(BD32,'Country & Delivery'!O21:O27,0),1),\"\")","v":""},null,null,{"$f":"IFERROR(INDEX('Country & Delivery'!A21:A270,MATCH(BG32,'Country & Delivery'!B21:B270,0),1),\"\")","v":""}]
[20,null,null,null,null,null,null,null,null,null,null,null,null,null,null,{"$f":"IF(O33=\"\",\"\",VLOOKUP(O33,Products!A:C,2,FALSE))","v":""},{"$f":"IF(O33=\"\",\"\",VLOOKUP(O33,Products!A:C,3,FALSE))","v":""},null,"",{"$f":"IF(Y33=\"\",\"\",VLOOKUP(Y33,'Country & Delivery'!B:C,2,FALSE))","v":""},null,{"$f":"IF(U33=\"\",\"\",VLOOKUP(U33,'Country & Delivery'!N:O,2,FALSE))","v":""},null,null,{"$f":"IF(L33=\"\",\"\",VLOOKUP(L33,'Country & Delivery'!A:B,2,FALSE))","v":""},null,null,null,null,null,null,null,null,null,null,null,{"$f":"IF(M33=\"\",\"\",VLOOKUP(M33,'Country & Delivery'!AB:AC,2,FALSE))","v":""},null,null,null,null,null,null,null,null,null,null,null,{"$f":"IF(U33=\"\",\"\",VLOOKUP(U33,'Country & Delivery'!$N$1:$O$8,2,0))","v":""},"",0,"AQ","ATA","N","dc",null,{"$f":"IFERROR(INDEX('Country & Delivery'!N22:N28,MATCH(BD33,'Country & Delivery'!O22:O28,0),1),\"\")","v":""},null,null,{"$f":"IFERROR(INDEX('Country & Delivery'!A22:A271,MATCH(BG33,'Country & Delivery'!B22:B271,0),1),\"\")","v":""}]
[21,null,null,null,null,null,null,null,null,null,null,null,null,null,null,{"$f":"IF(O34=\"\",\"\",VLOOKUP(O34,Products!A:C,2,FALSE))","v":""},{"$f":"IF(O34=\"\",\"\",VLOOKUP(O34,Products!A:C,3,FALSE))","v":""},null,"",{"$f":"IF(Y34=\"\",\"\",VLOOKUP(Y34,'Country & Delivery'!B:C,2,FALSE))","v":""},null,{"$f":"IF(U34=\"\",\"\",VLOOKUP(U34,'Country & Delivery'!N:O,2,FALSE))","v":""},null,null,{"$f":"IF(L34=\"\",\"\",VLOOKUP(L34,'Country & Delivery'!A:B,2,FALSE))","v":""},null,null,null,null,null,null,null,null,null,null,null,{"$f":"IF(M34=\"\",\"\",VLOOKUP(M34,'Country & Delivery'!AB:AC,2,FALSE))","v":""},null,null,null,null,null,null,null,null,null,null,null,{"$f":"IF(U34=\"\",\"\",VLOOKUP(U34,'Country & Delivery'!$N$1:$O$8,2,0))","v":""},"",0,"AR","ARG","N","dc",null,{"$f":"IFERROR(INDEX('Country & Delivery'!N23:N29,MATCH(BD34,'Country & Delivery'!O23:O29,0),1),\"\")","v":""},null,null,{"$f":"IFERROR(INDEX('Country & Delivery'!A23:A272,MATCH(BG34,'Country & Delivery'!B23:B272,0),1),\"\")","v":""}]
[22,null,null,null,null,null,null,null,null,null,null,null,null,null,null,{"$f":"IF(O35=\"\",\"\",VLOOKUP(O35,Products!A:C,2,FALSE))","v":""},{"$f":"IF(O35=\"\",\"\",VLOOKUP(O35,Products!A:C,3,FALSE))","v":""},null,"",{"$f":"IF(Y35=\"\",\"\",VLOOKUP(Y35,'Country & Delivery'!B:C,2,FALSE))","v":""},null,{"$f":"IF(U35=\"\",\"\",VLOOKUP(U35,'Country & Delivery'!N:O,2,FALSE))","v":""},null,null,{"$f":"IF(L35=\"\",\"\",VLOOKUP(L35,'Country & Delivery'!A:B,2,FALSE))","v":""},null,null,null,null,null,null,null,null,null,null,null,{"$f":"IF(M35=\"\",\"\",VLOOKUP(M35,'Country & Delivery'!AB:AC,2,FALSE))","v":""},null,null,null,null,null,null,null,null,null,null,null,{"$f":"IF(U35=\"\",\"\",VLOOKUP(U35,'Country & Delivery'!$N$1:$O$8,2,0))","v":""},"",0,"Argentina","ARG","N",null,null,{"$f":"IFERROR(INDEX('Country & Delivery'!N24:N30,MATCH(BD35,'Country & Delivery'!O24:O30,0),1),\"\")","v":""},null,null,{"$f":"IFERROR(INDEX('Country & Delivery'!A24:A273,MATCH(BG35,'Country & Delivery'!B24:B273,0),1),\"\")","v":""}]
[23,null,null,null,null,null,null,null,null,null,null,null,null,null,null,{"$f":"IF(O36=\"\",\"\",VLOOKUP(O36,Products!A:C,2,FALSE))","v":""},{"$f":"IF(O36=\"\",\"\",VLOOKUP(O36,Products!A:C,3,FALSE))","v":""},null,"",{"$f":"IF(Y36=\"\",\"\",VLOOKUP(Y36,'Country & Delivery'!B:C,2,FALSE))","v":""},null,{"$f":"IF(U36=\"\",\"\",VLOOKUP(U36,'Country & Delivery'!N:O,2,FALSE))","v":""},null,null,{"$f":"IF(L36=\"\",\"\",VLOOKUP(L36,'Country & Delivery'!A:B,2,FALSE))","v":""},null,null,null,null,null,null,null,null,null,null,null,{"$f":"IF(M36=\"\",\"\",VLOOKUP(M36,'Country & Delivery'!AB:AC,2,FALSE))","v":""},null,null,null,null,null,null,null,null,null,null,null,{"$f":"IF(U36=\"\",\"\",VLOOKUP(U36,'Country & Delivery'!$N$1:$O$8,2,0))","v":""},"",0,"Armenia","ARM","N","dc",null,{"$f":"IFERROR(INDEX('Country & Delivery'!N25:N31,MATCH(BD36,'Country & Delivery'!O25:O31,0),1),\"\")","v":""},null,null,{"$f":"IFERROR(INDEX('Country & Delivery'!A25:A274,MATCH(BG36,'Country & Delivery'!B25:B274,0),1),\"\")","v":""}]
[24,null,null,null,null,null,null,null,null,null,null,null,null,null,null,{"$f":"IF(O37=\"\",\"\",VLOOKUP(O37,Products!A:C,2,FALSE))","v":""},{"$f":"IF(O37=\"\",\"\",VLOOKUP(O37,Products!A:C,3,FALSE))","v":""},null,"",{"$f":"IF(Y37=\"\",\"\",VLOOKUP(Y37,'Country & Delivery'!B:C,2,FALSE))","v":""},null,{"$f":"IF(U37=\"\",\"\",VLOOKUP(U37,'Country & Delivery'!N:O,2,FALSE))","v":""},null,null,{"$f":"IF(L37=\"\",\"\",VLOOKUP(L37,'Country & Delivery'!A:B,2,FALSE))","v":""},null,null,null,null,null,null,null,null,null,null,null,{"$f":"IF(M37=\"\",\"\",VLOOKUP(M37,'Country & Delivery'!AB:AC,2,FALSE))","v":""},null,null,null,null,null,null,null,null,null,null,null,{"$f":"IF(U37=\"\",\"\",VLOOKUP(U37,'Country & Delivery'!$N$1:$O$8,2,0))","v":""},"",0,"Aruba","ABW","N",null,null,{"$f":"IFERROR(INDEX('Country & Delivery'!N26:N32,MATCH(BD37,'Country & Delivery'!O26:O32,0),1),\"\")","v":""},null,null,{"$f":"IFERROR(INDEX('Country & Delivery'!A26:A275,MATCH(BG37,'Country & Delivery'!B26:B275,0),1),\"\")","v":""}]
[25,null,null,null,null,null,null,null,null,null,null,null,null,null,null,{"$f":"IF(O38=\"\",\"\",VLOOKUP(O38,Products!A:C,2,FALSE))","v":""},{"$f":"IF(O38=\"\",\"\",VLOOKUP(O38,Products!A:C,3,FALSE))","v":""},null,"",{"$f":"IF(Y38=\"\",\"\",VLOOKUP(Y38,'Country & Delivery'!B:C,2,FALSE))","v":""},null,{"$f":"IF(U38=\"\",\"\",VLOOKUP(U38,'Country & Delivery'!N:O,2,FALSE))","v":""},null,null,{"$f":"IF(L38=\"\",\"\",VLOOKUP(L38,'Country & Delivery'!A:B,2,FALSE))","v":""},null,null,null,null,null,null,null,null,null,null,null,{"$f":"IF(M38=\"\",\"\",VLOOKUP(M38,'Country & Delivery'!AB:AC,2,FALSE))","v":""},null,null,null,null,null,null,null,null,null,null,null,{"$f":"IF(U38=\"\",\"\",VLOOKUP(U38,'Country & Delivery'!$N$1:$O$8,2,0))","v":""},"",0,"AS","ASM","N","dc",null,{"$f":"IFERROR(INDEX('Country & Delivery'!N27:N33,MATCH(BD38,'Country & Delivery'!O27:O33,0),1),\"\")","v":""},null,null,{"$f":"IFERROR(INDEX('Country & Delivery'!A27:A276,MATCH(BG38,'Country & Delivery'!B27:B276,0),1),\"\")","v":""}]
[26,null,null,null,null,null,null,null,null,null,null,null,null,null,null,{"$f":"IF(O39=\"\",\"\",VLOOKUP(O39,Products!A:C,2,FALSE))","v":""},{"$f":"IF(O39=\"\",\"\",VLOOKUP(O39,Products!A:C,3,FALSE))","v":""},null,"",{"$f":"IF(Y39=\"\",\"\",VLOOKUP(Y39,'Country & Delivery'!B:C,2,FALSE))","v":""},null,{"$f":"IF(U39=\"\",\"\",VLOOKUP(U39,'Country & Delivery'!N:O,2,FALSE))","v":""},null,null,{"$f":"IF(L39=\"\",\"\",VLOOKUP(L39,'Country & Delivery'!A:B,2,FALSE))","v":""},null,null,null,null,null,null,null,null,null,null,null,{"$f":"IF(M39=\"\",\"\",VLOOKUP(M39,'Country & Delivery'!AB:AC,2,FALSE))","v":""},null,null,null,null,null,null,null,null,null,null,null,{"$f":"IF(U39=\"\",\"\",VLOOKUP(U39,'Country & Delivery'!$N$1:$O$8,2,0))","v":""},"",0,"AT","AUT","Y",null,null,{"$f":"IFERROR(INDEX('Country & Delivery'!N28:N34,MATCH(BD39,'Country & Delivery'!O28:O34,0),1),\"\")","v":""},null,null,{"$f":"IFERROR(INDEX('Country & Delivery'!A28:A277,MATCH(BG39,'Country & Delivery'!B28:B277,0),1),\"\")","v":""}]
[27,null,null,null,null,null,null,null,null,null,null,null,null,null,null,{"$f":"IF(O40=\"\",\"\",VLOOKUP(O40,Products!A:C,2,FALSE))","v":""},{"$f":"IF(O40=\"\",\"\",VLOOKUP(O40,Products!A:C,3,FALSE))","v":""},null,"",{"$f":"IF(Y40=\"\",\"\",VLOOKUP(Y40,'Country & Delivery'!B:C,2,FALSE))","v":""},null,{"$f":"IF(U40=\"\",\"\",VLOOKUP(U40,'Country & Delivery'!N:O,2,FALSE))","v":""},null,null,{"$f":"IF(L40=\"\",\"\",VLOOKUP(L40,'Country & Delivery'!A:B,2,FALSE))","v":""},null,null,null,null,null,null,null,null,null,null,null,{"$f":"IF(M40=\"\",\"\",VLOOKUP(M40,'Country & Delivery'!AB:AC,2,FALSE))","v":""},null,null,null,null,null,null,null,null,null,null,null,{"$f":"IF(U40=\"\",\"\",VLOOKUP(U40,'Country & Delivery'!$N$1:$O$8,2,0))","v":""},"",0,"AU","AUS","N",null,null,{"$f":"IFERROR(INDEX('Country & Delivery'!N29:N35,MATCH(BD40,'Country & Delivery'!O29:O35,0),1),\"\")","v":""},null,null,{"$f":"IFERROR(INDEX('Country & Delivery'!A29:A278,MATCH(BG40,'Country & Delivery'!B29:B278,0),1),\"\")","v":""}]
[28,null,null,null,null,null,null,null,null,null,null,null,null,null,null,{"$f":"IF(O41=\"\",\"\",VLOOKUP(O41,Products!A:C,2,FALSE))","v":""},{"$f":"IF(O41=\"\",\"\",VLOOKUP(O41,Products!A:C,3,FALSE))","v":""},null,"",{"$f":"IF(Y41=\"\",\"\",VLOOKUP(Y41,'Country & Delivery'!B:C,2,FALSE))","v":""},null,{"$f":"IF(U41=\"\",\"\",VLOOKUP(U41,'Country & Delivery'!N:O,2,FALSE))","v":""},null,null,{"$f":"IF(L41=\"\",\"\",VLOOKUP(L41,'Country & Delivery'!A:B,2,FALSE))","v":""},null,null,null,null,null,null,null,null,null,null,null,{"$f":"IF(M41=\"\",\"\",VLOOKUP(M41,'Country & Delivery'!AB:AC,2,FALSE))","v":""},null,null,null,null,null,null,null,null,null,null,null,{"$f":"IF(U41=\"\",\"\",VLOOKUP(U41,'Country & Delivery'!$N$1:$O$8,2,0))","v":""},"",0,"Australia","AUS","N",null,null,{"$f":"IFERROR(INDEX('Country & Delivery'!N30:N36,MATCH(BD41,'Country & Delivery'!O30:O36,0),1),\"\")","v":""},null,null,{"$f":"IFERROR(INDEX('Country & Delivery'!A30:A279,MATCH(BG41,'Country & Delivery'!B30:B279,0),1),\"\")","v":""}]
[29,null,null,null,null,null,null,null,null,null,null,null,null,null,null,{"$f":"IF(O42=\"\",\"\",VLOOKUP(O42,Products!A:C,2,FALSE))","v":""},{"$f":"IF(O42=\"\",\"\",VLOOKUP(O42,Products!A:C,3,FALSE))","v":""},null,"",{"$f":"IF(Y42=\"\",\"\",VLOOKUP(Y42,'Country & Delivery'!B:C,2,FALSE))","v":""},null,{"$f":"IF(U42=\"\",\"\",VLOOKUP(U42,'Country & Delivery'!N:O,2,FALSE))","v":""},null,null,{"$f":"IF(L42=\"\",\"\",VLOOKUP(L42,'Country & Delivery'!A:B,2,FALSE))","v":""},null,null,null,null,null,null,null,null,null,null,null,{"$f":"IF(M42=\"\",\"\",VLOOKUP(M42,'Country & Delivery'!AB:AC,2,FALSE))","v":""},null,null,null,null,null,null,null,null,null,null,null,{"$f":"IF(U42=\"\",\"\",VLOOKUP(U42,'Country & Delivery'!$N$1:$O$8,2,0))","v":""},"",0,"Austria","AUT","Y",null,null,{"$f":"IFERROR(INDEX('Country & Delivery'!N31:N37,MATCH(BD42,'Country & Delivery'!O31:O37,0),1),\"\")","v":""},null,null,{"$f":"IFERROR(INDEX('Country & Delivery'!A31:A280,MATCH(BG42,'Country & Delivery'!B31:B280,0),1),\"\")","v":""}]
[30,null,null,null,null,null,null,null,null,null,null,null,null,null,null,{"$f":"IF(O43=\"\",\"\",VLOOKUP(O43,Products!A:C,2,FALSE))","v":""},{"$f":"IF(O43=\"\",\"\",VLOOKUP(O43,Products!A:C,3,FALSE))","v":""},null,"",{"$f":"IF(Y43=\"\",\"\",VLOOKUP(Y43,'Country & Delivery'!B:C,2,FALSE))","v":""},null,{"$f":"IF(U43=\"\",\"\",VLOOKUP(U43,'Country & Delivery'!N:O,2,FALSE))","v":""},null,null,{"$f":"IF(L43=\"\",\"\",VLOOKUP(L43,'Country & Delivery'!A:B,2,FALSE))","v":""},null,null,null,null,null,null,null,null,null,null,null,{"$f":"IF(M43=\"\",\"\",VLOOKUP(M43,'Country & Delivery'!AB:AC,2,FALSE))","v":""},null,null,null,null,null,null,null,null,null,null,null,{"$f":"IF(U43=\"\",\"\",VLOOKUP(U43,'Country & Delivery'!$N$1:$O$8,2,0))","v":""},"",0,"AW","ABW","N",null,null,{"$f":"IFERROR(INDEX('Country & Delivery'!N32:N38,MATCH(BD43,'Country & Delivery'!O32:O38,0),1),\"\")","v":""},null,null,{"$f":"IFERROR(INDEX('Country & Delivery'!A32:A281,MATCH(BG43,'Country & Delivery'!B32:B281,0),1),\"\")","v":""}]
[31,null,null,null,null,null,null,null,null,null,null,null,null,null,null,{"$f":"IF(O44=\"\",\"\",VLOOKUP(O44,Products!A:C,2,FALSE))","v":""},{"$f":"IF(O44=\"\",\"\",VLOOKUP(O44,Products!A:C,3,FALSE))","v":""},null,"",{"$f":"IF(Y44=\"\",\"\",VLOOKUP(Y44,'Country & Delivery'!B:C,2,FALSE))","v":""},null,{"$f":"IF(U44=\"\",\"\",VLOOKUP(U44,'Country & Delivery'!N:O,2,FALSE))","v":""},null,null,{"$f":"IF(L44=\"\",\"\",VLOOKUP(L44,'Country & Delivery'!A:B,2,FALSE))","v":""},null,null,null,null,null,null,null,null,null,null,null,{"$f":"IF(M44=\"\",\"\",VLOOKUP(M44,'Country & Delivery'!AB:AC,2,FALSE))","v":""},null,null,null,null,null,null,null,null,null,null,null,{"$f":"IF(U44=\"\",\"\",VLOOKUP(U44,'Country & Delivery'!$N$1:$O$8,2,0))","v":""},"",0,"AZ","AZE","N",null,null,{"$f":"IFERROR(INDEX('Country & Delivery'!N33:N39,MATCH(BD44,'Country & Delivery'!O33:O39,0),1),\"\")","v":""},null,null,{"$f":"IFERROR(INDEX('Country & Delivery'!A33:A282,MATCH(BG44,'Country & Delivery'!B33:B282,0),1),\"\")","v":""}]
[32,null,null,null,null,null,null,null,null,null,null,null,null,null,null,{"$f":"IF(O45=\"\",\"\",VLOOKUP(O45,Products!A:C,2,FALSE))","v":""},{"$f":"IF(O45=\"\",\"\",VLOOKUP(O45,Products!A:C,3,FALSE))","v":""},null,"",{"$f":"IF(Y45=\"\",\"\",VLOOKUP(Y45,'Country & Delivery'!B:C,2,FALSE))","v":""},null,{"$f":"IF(U45=\"\",\"\",VLOOKUP(U45,'Country & Delivery'!N:O,2,FALSE))","v":""},null,null,{"$f":"IF(L45=\"\",\"\",VLOOKUP(L45,'Country & Delivery'!A:B,2,FALSE))","v":""},null,null,null,null,null,null,null,null,null,null,null,{"$f":"IF(M45=\"\",\"\",VLOOKUP(M45,'Country & Delivery'!AB:AC,2,FALSE))","v":""},null,null,null,null,null,null,null,null,null,null,null,{"$f":"IF(U45=\"\",\"\",VLOOKUP(U45,'Country & Delivery'!$N$1:$O$8,2,0))","v":""},"",0,"Azerbaijan","AZE","N",null,null,{"$f":"IFERROR(INDEX('Country & Delivery'!N34:N40,MATCH(BD45,'Country & Delivery'!O34:O40,0),1),\"\")","v":""},null,null,{"$f":"IFERROR(INDEX('Country & Delivery'!A34:A283,MATCH(BG45,'Country & Delivery'!B34:B283,0),1),\"\")","v":""}]
[33,null,null,null,null,null,null,null,null,null,null,null,null,null,null,{"$f":"IF(O46=\"\",\"\",VLOOKUP(O46,Products!A:C,2,FALSE))","v":""},{"$f":"IF(O46=\"\",\"\",VLOOKUP(O46,Products!A:C,3,FALSE))","v":""},null,"",{"$f":"IF(Y46=\"\",\"\",VLOOKUP(Y46,'Country & Delivery'!B:C,2,FALSE))","v":""},null,{"$f":"IF(U46=\"\",\"\",VLOOKUP(U46,'Country & Delivery'!N:O,2,FALSE))","v":""},null,null,{"$f":"IF(L46=\"\",\"\",VLOOKUP(L46,'Country & Delivery'!A:B,2,FALSE))","v":""},null,null,null,null,null,null,null,null,null,null,null,{"$f":"IF(M46=\"\",\"\",VLOOKUP(M46,'Country & Delivery'!AB:AC,2,FALSE))","v":""},null,null,null,null,null,null,null,null,null,null,null,{"$f":"IF(U46=\"\",\"\",VLOOKUP(U46,'Country & Delivery'!$N$1:$O$8,2,0))","v":""},"",0,"Azores","AZO","Y",null,null,{"$f":"IFERROR(INDEX('Country & Delivery'!N35:N41,MATCH(BD46,'Country & Delivery'!O35:O41,0),1),\"\")","v":""},null,null,{"$f":"IFERROR(INDEX('Country & Delivery'!A35:A284,MATCH(BG46,'Country & Delivery'!B35:B284,0),1),\"\")","v":""}]
[34,null,null,null,null,null,null,null,null,null,null,null,null,null,null,{"$f":"IF(O47=\"\",\"\",VLOOKUP(O47,Products!A:C,2,FALSE))","v":""},{"$f":"IF(O47=\"\",\"\",VLOOKUP(O47,Products!A:C,3,FALSE))","v":""},null,"",{"$f":"IF(Y47=\"\",\"\",VLOOKUP(Y47,'Country & Delivery'!B:C,2,FALSE))","v":""},null,{"$f":"IF(U47=\"\",\"\",VLOOKUP(U47,'Country & Delivery'!N:O,2,FALSE))","v":""},null,null,{"$f":"IF(L47=\"\",\"\",VLOOKUP(L47,'Country & Delivery'!A:B,2,FALSE))","v":""},null,null,null,null,null,null,null,null,null,null,null,{"$f":"IF(M47=\"\",\"\",VLOOKUP(M47,'Country & Delivery'!AB:AC,2,FALSE))","v":""},null,null,null,null,null,null,null,null,null,null,null,{"$f":"IF(U47=\"\",\"\",VLOOKUP(U47,'Country & Delivery'!$N$1:$O$8,2,0))","v":""},"",0,"BA","BIH","N",null,null,{"$f":"IFERROR(INDEX('Country & Delivery'!N36:N42,MATCH(BD47,'Country & Delivery'!O36:O42,0),1),\"\")","v":""},null,null,{"$f":"IFERROR(INDEX('Country & Delivery'!A36:A285,MATCH(BG47,'Country & Delivery'!B36:B285,0),1),\"\")","v":""}]
[35,null,null,null,null,null,null,null,null,null,null,null,null,null,null,{"$f":"IF(O48=\"\",\"\",VLOOKUP(O48,Products!A:C,2,FALSE))","v":""},{"$f":"IF(O48=\"\",\"\",VLOOKUP(O48,Products!A:C,3,FALSE))","v":""},null,"",{"$f":"IF(Y48=\"\",\"\",VLOOKUP(Y48,'Country & Delivery'!B:C,2,FALSE))","v":""},null,{"$f":"IF(U48=\"\",\"\",VLOOKUP(U48,'Country & Delivery'!N:O,2,FALSE))","v":""},null,null,{"$f":"IF(L48=\"\",\"\",VLOOKUP(L48,'Country & Delivery'!A:B,2,FALSE))","v":""},null,null,null,null,null,null,null,null,null,null,null,{"$f":"IF(M48=\"\",\"\",VLOOKUP(M48,'Country & Delivery'!AB:AC,2,FALSE))","v":""},null,null,null,null,null,null,null,null,null,null,null,{"$f":"IF(U48=\"\",\"\",VLOOKUP(U48,'Country & Delivery'!$N$1:$O$8,2,0))","v":""},"",0,"Bahamas","BHS","N","dc",null,{"$f":"IFERROR(INDEX('Country & Delivery'!N37:N43,MATCH(BD48,'Country & Delivery'!O37:O43,0),1),\"\")","v":""},null,null,{"$f":"IFERROR(INDEX('Country & Delivery'!A37:A286,MATCH(BG48,'Country & Delivery'!B37:B286,0),1),\"\")","v":""}]
[36,null,null,null,null,null,null,null,null,null,null,null,null,null,null,{"$f":"IF(O49=\"\",\"\",VLOOKUP(O49,Products!A:C,2,FALSE))","v":""},{"$f":"IF(O49=\"\",\"\",VLOOKUP(O49,Products!A:C,3,FALSE))","v":""},null,"",{"$f":"IF(Y49=\"\",\"\",VLOOKUP(Y49,'Country & Delivery'!B:C,2,FALSE))","v":""},null,{"$f":"IF(U49=\"\",\"\",VLOOKUP(U49,'Country & Delivery'!N:O,2,FALSE))","v":""},null,null,{"$f":"IF(L49=\"\",\"\",VLOOKUP(L49,'Country & Delivery'!A:B,2,FALSE))","v":""},null,null,null,null,null,null,null,null,null,null,null,{"$f":"IF(M49=\"\",\"\",VLOOKUP(M49,'Country & Delivery'!AB:AC,2,FALSE))","v":""},null,null,null,null,null,null,null,null,null,null,null,{"$f":"IF(U49=\"\",\"\",VLOOKUP(U49,'Country & Delivery'!$N$1:$O$8,2,0))","v":""},"",0,"Bahrain","BHR","N",null,null,{"$f":"IFERROR(INDEX('Country & Delivery'!N38:N44,MATCH(BD49,'Country & Delivery'!O38:O44,0),1),\"\")","v":""},null,null,{"$f":"IFERROR(INDEX('Country & Delivery'!A38:A287,MATCH(BG49,'Country & Delivery'!B38:B287,0),1),\"\")","v":""}]
[37,null,null,null,null,null,null,null,null,null,null,null,null,null,null,{"$f":"IF(O50=\"\",\"\",VLOOKUP(O50,Products!A:C,2,FALSE))","v":""},{"$f":"IF(O50=\"\",\"\",VLOOKUP(O50,Products!A:C,3,FALSE))","v":""},null,"",{"$f":"IF(Y50=\"\",\"\",VLOOKUP(Y50,'Country & Delivery'!B:C,2,FALSE))","v":""},null,{"$f":"IF(U50=\"\",\"\",VLOOKUP(U50,'Country & Delivery'!N:O,2,FALSE))","v":""},null,null,{"$f":"IF(L50=\"\",\"\",VLOOKUP(L50,'Country & Delivery'!A:B,2,FALSE))","v":""},null,null,null,null,null,null,null,null,null,null,null,{"$f":"IF(M50=\"\",\"\",VLOOKUP(M50,'Country & Delivery'!AB:AC,2,FALSE))","v":""},null,null,null,null,null,null,null,null,null,null,null,{"$f":"IF(U50=\"\",\"\",VLOOKUP(U50,'Country & Delivery'!$N$1:$O$8,2,0))","v":""},"",0,"Bangladesh","BGD","N",null,null,{"$f":"IFERROR(INDEX('Country & Delivery'!N39:N45,MATCH(BD50,'Country & Delivery'!O39:O45,0),1),\"\")","v":""},null,null,{"$f":"IFERROR(INDEX('Country & Delivery'!A39:A288,MATCH(BG50,'Country & Delivery'!B39:B288,0),1),\"\")","v":""}]
[38,null,null,null,null,null,null,null,null,null,null,null,null,null,null,{"$f":"IF(O51=\"\",\"\",VLOOKUP(O51,Products!A:C,2,FALSE))","v":""},{"$f":"IF(O51=\"\",\"\",VLOOKUP(O51,Products!A:C,3,FALSE))","v":""},null,"",{"$f":"IF(Y51=\"\",\"\",VLOOKUP(Y51,'Country & Delivery'!B:C,2,FALSE))","v":""},null,{"$f":"IF(U51=\"\",\"\",VLOOKUP(U51,'Country & Delivery'!N:O,2,FALSE))","v":""},null,null,{"$f":"IF(L51=\"\",\"\",VLOOKUP(L51,'Country & Delivery'!A:B,2,FALSE))","v":""},null,null,null,null,null,null,null,null,null,null,null,{"$f":"IF(M51=\"\",\"\",VLOOKUP(M51,'Country & Delivery'!AB:AC,2,FALSE))","v":""},null,null,null,null,null,null,null,null,null,null,null,{"$f":"IF(U51=\"\",\"\",VLOOKUP(U51,'Country & Delivery'!$N$1:$O$8,2,0))","v":""},"",0,"Barbados","BRB","N",null,null,{"$f":"IFERROR(INDEX('Country & Delivery'!N40:N46,MATCH(BD51,'Country & Delivery'!O40:O46,0),1),\"\")","v":""},null,null,{"$f":"IFERROR(INDEX('Country & Delivery'!A40:A289,MATCH(BG51,'Country & Delivery'!B40:B289,0),1),\"\")","v":""}]
[39,null,null,null,null,null,null,null,null,null,null,null,null,null,null,{"$f":"IF(O52=\"\",\"\",VLOOKUP(O52,Products!A:C,2,FALSE))","v":""},{"$f":"IF(O52=\"\",\"\",VLOOKUP(O52,Products!A:C,3,FALSE))","v":""},null,{"$f":"IFERROR((Q52*R52),\"\")","v":""},{"$f":"IF(Y52=\"\",\"\",VLOOKUP(Y52,'Country & Delivery'!B:C,2,FALSE))","v":""},null,{"$f":"IF(U52=\"\",\"\",VLOOKUP(U52,'Country & Delivery'!N:O,2,FALSE))","v":""},null,null,{"$f":"IF(L52=\"\",\"\",VLOOKUP(L52,'Country & Delivery'!A:B,2,FALSE))","v":""},null,null,null,null,null,null,null,null,null,null,null,{"$f":"IF(M52=\"\",\"\",VLOOKUP(M52,'Country & Delivery'!AB:AC,2,FALSE))","v":""},null,null,null,null,null,null,null,null,null,null,null,{"$f":"IF(U52=\"\",\"\",VLOOKUP(U52,'Country & Delivery'!$N$1:$O$8,2,0))","v":""},"",0,"BB","BRB","N",null,null,{"$f":"IFERROR(INDEX('Country & Delivery'!N41:N47,MATCH(BD52,'Country & Delivery'!O41:O47,0),1),\"\")","v":""},null,null,{"$f":"IFERROR(INDEX('Country & Delivery'!A41:A290,MATCH(BG52,'Country & Delivery'!B41:B290,0),1),\"\")","v":""}]
[40,null,null,null,null,null,null,null,null,null,null,null,null,null,null,{"$f":"IF(O53=\"\",\"\",VLOOKUP(O53,Products!A:C,2,FALSE))","v":""},{"$f":"IF(O53=\"\",\"\",VLOOKUP(O53,Products!A:C,3,FALSE))","v":""},null,"",{"$f":"IF(Y53=\"\",\"\",VLOOKUP(Y53,'Country & Delivery'!B:C,2,FALSE))","v":""},null,{"$f":"IF(U53=\"\",\"\",VLOOKUP(U53,'Country & Delivery'!N:O,2,FALSE))","v":""},null,null,{"$f":"IF(L53=\"\",\"\",VLOOKUP(L53,'Country & Delivery'!A:B,2,FALSE))","v":""},null,null,null,null,null,null,null,null,null,null,null,{"$f":"IF(M53=\"\",\"\",VLOOKUP(M53,'Country & Delivery'!AB:AC,2,FALSE))","v":""},null,null,null,null,null,null,null,null,null,null,null,{"$f":"IF(U53=\"\",\"\",VLOOKUP(U53,'Country & Delivery'!$N$1:$O$8,2,0))","v":""},"",0,"BD","BGD","N",null,null,{"$f":"IFERROR(INDEX('Country & Delivery'!N42:N48,MATCH(BD53,'Country & Delivery'!O42:O48,0),1),\"\")","v":""},null,null,{"$f":"IFERROR(INDEX('Country & Delivery'!A42:A291,MATCH(BG53,'Country & Delivery'!B42:B291,0),1),\"\")","v":""}]
[41,null,null,null,null,null,null,null,null,null,null,null,null,null,null,{"$f":"IF(O54=\"\",\"\",VLOOKUP(O54,Products!A:C,2,FALSE))","v":""},{"$f":"IF(O54=\"\",\"\",VLOOKUP(O54,Products!A:C,3,FALSE))","v":""},null,"",{"$f":"IF(Y54=\"\",\"\",VLOOKUP(Y54,'Country & Delivery'!B:C,2,FALSE))","v":""},null,{"$f":"IF(U54=\"\",\"\",VLOOKUP(U54,'Country & Delivery'!N:O,2,FALSE))","v":""},null,null,{"$f":"IF(L54=\"\",\"\",VLOOKUP(L54,'Country & Delivery'!A:B,2,FALSE))","v":""},null,null,null,null,null,null,null,null,null,null,null,{"$f":"IF(M54=\"\",\"\",VLOOKUP(M54,'Country & Delivery'!AB:AC,2,FALSE))","v":""},null,null,null,null,null,null,null,null,null,null,null,{"$f":"IF(U54=\"\",\"\",VLOOKUP(U54,'Country & Delivery'!$N$1:$O$8,2,0))","v":""},{"$f":"IF(O54<>\"\",COUNTIFS(D54:D54,\"\")+COUNTIFS(E54:E54,\"\")+COUNTIFS(#REF!,\"\")+COUNTIFS(N54:N54,\"\")+COUNTIFS(O54:O54,\"\")+COUNTIFS(R54:R54,\"\")+COUNTIFS(U54:U54,\"\"),\"\")","v":""},0,"BE","BEL","Y",null,null,{"$f":"IFERROR(INDEX('Country & Delivery'!N43:N49,MATCH(BD54,'Country & Delivery'!O43:O49,0),1),\"\")","v":""},null,null,{"$f":"IFERROR(INDEX('Country & Delivery'!A43:A292,MATCH(BG54,'Country & Delivery'!B43:B292,0),1),\"\")","v":""}]
[42,null,null,null,null,null,null,null,null,null,null,null,null,null,null,{"$f":"IF(O55=\"\",\"\",VLOOKUP(O55,Products!A:C,2,FALSE))","v":""},{"$f":"IF(O55=\"\",\"\",VLOOKUP(O55,Products!A:C,3,FALSE))","v":""},null,"",{"$f":"IF(Y55=\"\",\"\",VLOOKUP(Y55,'Country & Delivery'!B:C,2,FALSE))","v":""},null,{"$f":"IF(U55=\"\",\"\",VLOOKUP(U55,'Country & Delivery'!N:O,2,FALSE))","v":""},null,null,{"$f":"IF(L55=\"\",\"\",VLOOKUP(L55,'Country & Delivery'!A:B,2,FALSE))","v":""},null,null,null,null,null,null,null,null,null,null,null,{"$f":"IF(M55=\"\",\"\",VLOOKUP(M55,'Country & Delivery'!AB:AC,2,FALSE))","v":""},null,null,null,null,null,null,null,null,null,null,null,{"$f":"IF(U55=\"\",\"\",VLOOKUP(U55,'Country & Delivery'!$N$1:$O$8,2,0))","v":""},{"$f":"IF(O55<>\"\",COUNTIFS(D55:D55,\"\")+COUNTIFS(E55:E55,\"\")+COUNTIFS(#REF!,\"\")+COUNTIFS(N55:N55,\"\")+COUNTIFS(O55:O55,\"\")+COUNTIFS(R55:R55,\"\")+COUNTIFS(U55:U55,\"\"),\"\")","v":""},0,"Belarus","BLR","N",null,null,{"$f":"IFERROR(INDEX('Country & Delivery'!N44:N50,MATCH(BD55,'Country & Delivery'!O44:O50,0),1),\"\")","v":""},null,null,{"$f":"IFERROR(INDEX('Country & Delivery'!A44:A293,MATCH(BG55,'Country & Delivery'!B44:B293,0),1),\"\")","v":""}]
[43,null,null,null,null,null,null,null,null,null,null,null,null,null,null,{"$f":"IF(O56=\"\",\"\",VLOOKUP(O56,Products!A:C,2,FALSE))","v":""},{"$f":"IF(O56=\"\",\"\",VLOOKUP(O56,Products!A:C,3,FALSE))","v":""},null,"",{"$f":"IF(Y56=\"\",\"\",VLOOKUP(Y56,'Country & Delivery'!B:C,2,FALSE))","v":""},null,{"$f":"IF(U56=\"\",\"\",VLOOKUP(U56,'Country & Delivery'!N:O,2,FALSE))","v":""},null,null,{"$f":"IF(L56=\"\",\"\",VLOOKUP(L56,'Country & Delivery'!A:B,2,FALSE))","v":""},null,null,null,null,null,null,null,null,null,null,null,{"$f":"IF(M56=\"\",\"\",VLOOKUP(M56,'Country & Delivery'!AB:AC,2,FALSE))","v":""},null,null,null,null,null,null,null,null,null,null,null,{"$f":"IF(U56=\"\",\"\",VLOOKUP(U56,'Country & Delivery'!$N$1:$O$8,2,0))","v":""},"",0,"Belgium","BEL","Y",null,null,{"$f":"IFERROR(INDEX('Country & Delivery'!N45:N51,MATCH(BD56,'Country & Delivery'!O45:O51,0),1),\"\")","v":""},null,null,{"$f":"IFERROR(INDEX('Country & Delivery'!A45:A294,MATCH(BG56,'Country & Delivery'!B45:B294,0),1),\"\")","v":""}]
[44,null,null,null,null,null,null,null,null,null,null,null,null,null,null,{"$f":"IF(O57=\"\",\"\",VLOOKUP(O57,Products!A:C,2,FALSE))","v":""},{"$f":"IF(O57=\"\",\"\",VLOOKUP(O57,Products!A:C,3,FALSE))","v":""},null,"",{"$f":"IF(Y57=\"\",\"\",VLOOKUP(Y57,'Country & Delivery'!B:C,2,FALSE))","v":""},null,{"$f":"IF(U57=\"\",\"\",VLOOKUP(U57,'Country & Delivery'!N:O,2,FALSE))","v":""},null,null,{"$f":"IF(L57=\"\",\"\",VLOOKUP(L57,'Country & Delivery'!A:B,2,FALSE))","v":""},null,null,null,null,null,null,null,null,null,null,null,{"$f":"IF(M57=\"\",\"\",VLOOKUP(M57,'Country & Delivery'!AB:AC,2,FALSE))","v":""},null,null,null,null,null,null,null,null,null,null,null,{"$f":"IF(U57=\"\",\"\",VLOOKUP(U57,'Country & Delivery'!$N$1:$O$8,2,0))","v":""},"",0,"Belize","BLZ","N",null,null,{"$f":"IFERROR(INDEX('Country & Delivery'!N46:N52,MATCH(BD57,'Country & Delivery'!O46:O52,0),1),\"\")","v":""},null,null,{"$f":"IFERROR(INDEX('Country & Delivery'!A46:A295,MATCH(BG57,'Country & Delivery'!B46:B295,0),1),\"\")","v":""}]
[45,null,null,null,null,null,null,null,null,null,null,null,null,null,null,{"$f":"IF(O58=\"\",\"\",VLOOKUP(O58,Products!A:C,2,FALSE))","v":""},{"$f":"IF(O58=\"\",\"\",VLOOKUP(O58,Products!A:C,3,FALSE))","v":""},null,"",{"$f":"IF(Y58=\"\",\"\",VLOOKUP(Y58,'Country & Delivery'!B:C,2,FALSE))","v":""},null,{"$f":"IF(U58=\"\",\"\",VLOOKUP(U58,'Country & Delivery'!N:O,2,FALSE))","v":""},null,null,{"$f":"IF(L58=\"\",\"\",VLOOKUP(L58,'Country & Delivery'!A:B,2,FALSE))","v":""},null,null,null,null,null,null,null,null,null,null,null,{"$f":"IF(M58=\"\",\"\",VLOOKUP(M58,'Country & Delivery'!AB:AC,2,FALSE))","v":""},null,null,null,null,null,null,null,null,null,null,null,{"$f":"IF(U58=\"\",\"\",VLOOKUP(U58,'Country & Delivery'!$N$1:$O$8,2,0))","v":""},"",0,"Benin","BEN","N","dc",null,{"$f":"IFERROR(INDEX('Country & Delivery'!N47:N53,MATCH(BD58,'Country & Delivery'!O47:O53,0),1),\"\")","v":""},null,null,{"$f":"IFERROR(INDEX('Country & Delivery'!A47:A296,MATCH(BG58,'Country & Delivery'!B47:B296,0),1),\"\")","v":""}]
[46,null,null,null,null,null,null,null,null,null,null,null,null,null,null,{"$f":"IF(O59=\"\",\"\",VLOOKUP(O59,Products!A:C,2,FALSE))","v":""},{"$f":"IF(O59=\"\",\"\",VLOOKUP(O59,Products!A:C,3,FALSE))","v":""},null,"",{"$f":"IF(Y59=\"\",\"\",VLOOKUP(Y59,'Country & Delivery'!B:C,2,FALSE))","v":""},null,{"$f":"IF(U59=\"\",\"\",VLOOKUP(U59,'Country & Delivery'!N:O,2,FALSE))","v":""},null,null,{"$f":"IF(L59=\"\",\"\",VLOOKUP(L59,'Country & Delivery'!A:B,2,FALSE))","v":""},null,null,null,null,null,null,null,null,null,null,null,{"$f":"IF(M59=\"\",\"\",VLOOKUP(M59,'Country & Delivery'!AB:AC,2,FALSE))","v":""},null,null,null,null,null,null,null,null,null,null,null,{"$f":"IF(U59=\"\",\"\",VLOOKUP(U59,'Country & Delivery'!$N$1:$O$8,2,0))","v":""},"",0,"Bermuda","BMU","N",null,null,{"$f":"IFERROR(INDEX('Country & Delivery'!N48:N54,MATCH(BD59,'Country & Delivery'!O48:O54,0),1),\"\")","v":""},null,null,{"$f":"IFERROR(INDEX('Country & Delivery'!A48:A297,MATCH(BG59,'Country & Delivery'!B48:B297,0),1),\"\")","v":""}]
[47,null,null,null,null,null,null,null,null,null,null,null,null,null,null,{"$f":"IF(O60=\"\",\"\",VLOOKUP(O60,Products!A:C,2,FALSE))","v":""},{"$f":"IF(O60=\"\",\"\",VLOOKUP(O60,Products!A:C,3,FALSE))","v":""},null,"",{"$f":"IF(Y60=\"\",\"\",VLOOKUP(Y60,'Country & Delivery'!B:C,2,FALSE))","v":""},null,{"$f":"IF(U60=\"\",\"\",VLOOKUP(U60,'Country & Delivery'!N:O,2,FALSE))","v":""},null,null,{"$f":"IF(L60=\"\",\"\",VLOOKUP(L60,'Country & Delivery'!A:B,2,FALSE))","v":""},null,null,null,null,null,null,null,null,null,null,null,{"$f":"IF(M60=\"\",\"\",VLOOKUP(M60,'Country & Delivery'!AB:AC,2,FALSE))","v":""},null,null,null,null,null,null,null,null,null,null,null,{"$f":"IF(U60=\"\",\"\",VLOOKUP(U60,'Country & Delivery'!$N$1:$O$8,2,0))","v":""},"",0,"BF","BFA","N","dc",null,{"$f":"IFERROR(INDEX('Country & Delivery'!N49:N55,MATCH(BD60,'Country & Delivery'!O49:O55,0),1),\"\")","v":""},null,null,{"$f":"IFERROR(INDEX('Country & Delivery'!A49:A298,MATCH(BG60,'Country & Delivery'!B49:B298,0),1),\"\")","v":""}]
[48,null,null,null,null,null,null,null,null,null,null,null,null,null,null,{"$f":"IF(O61=\"\",\"\",VLOOKUP(O61,Products!A:C,2,FALSE))","v":""},{"$f":"IF(O61=\"\",\"\",VLOOKUP(O61,Products!A:C,3,FALSE))","v":""},null,"",{"$f":"IF(Y61=\"\",\"\",VLOOKUP(Y61,'Country & Delivery'!B:C,2,FALSE))","v":""},null,{"$f":"IF(U61=\"\",\"\",VLOOKUP(U61,'Country & Delivery'!N:O,2,FALSE))","v":""},null,null,{"$f":"IF(L61=\"\",\"\",VLOOKUP(L61,'Country & Delivery'!A:B,2,FALSE))","v":""},null,null,null,null,null,null,null,null,null,null,null,{"$f":"IF(M61=\"\",\"\",VLOOKUP(M61,'Country & Delivery'!AB:AC,2,FALSE))","v":""},null,null,null,null,null,null,null,null,null,null,null,{"$f":"IF(U61=\"\",\"\",VLOOKUP(U61,'Country & Delivery'!$N$1:$O$8,2,0))","v":""},"",0,"BG","BGR","Y",null,null,{"$f":"IFERROR(INDEX('Country & Delivery'!N50:N56,MATCH(BD61,'Country & Delivery'!O50:O56,0),1),\"\")","v":""},null,null,{"$f":"IFERROR(INDEX('Country & Delivery'!A50:A299,MATCH(BG61,'Country & Delivery'!B50:B299,0),1),\"\")","v":""}]
[49,null,null,null,null,null,null,null,null,null,null,null,null,null,null,{"$f":"IF(O62=\"\",\"\",VLOOKUP(O62,Products!A:C,2,FALSE))","v":""},{"$f":"IF(O62=\"\",\"\",VLOOKUP(O62,Products!A:C,3,FALSE))","v":""},null,"",{"$f":"IF(Y62=\"\",\"\",VLOOKUP(Y62,'Country & Delivery'!B:C,2,FALSE))","v":""},null,{"$f":"IF(U62=\"\",\"\",VLOOKUP(U62,'Country & Delivery'!N:O,2,FALSE))","v":""},null,null,{"$f":"IF(L62=\"\",\"\",VLOOKUP(L62,'Country & Delivery'!A:B,2,FALSE))","v":""},null,null,null,null,null,null,null,null,null,null,null,{"$f":"IF(M62=\"\",\"\",VLOOKUP(M62,'Country & Delivery'!AB:AC,2,FALSE))","v":""},null,null,null,null,null,null,null,null,null,null,null,{"$f":"IF(U62=\"\",\"\",VLOOKUP(U62,'Country & Delivery'!$N$1:$O$8,2,0))","v":""},"",0,"BH","BHR","N",null,null,{"$f":"IFERROR(INDEX('Country & Delivery'!N51:N57,MATCH(BD62,'Country & Delivery'!O51:O57,0),1),\"\")","v":""},null,null,{"$f":"IFERROR(INDEX('Country & Delivery'!A51:A300,MATCH(BG62,'Country & Delivery'!B51:B300,0),1),\"\")","v":""}]
[50,null,null,null,null,null,null,null,null,null,null,null,null,null,null,{"$f":"IF(O63=\"\",\"\",VLOOKUP(O63,Products!A:C,2,FALSE))","v":""},{"$f":"IF(O63=\"\",\"\",VLOOKUP(O63,Products!A:C,3,FALSE))","v":""},null,"",{"$f":"IF(Y63=\"\",\"\",VLOOKUP(Y63,'Country & Delivery'!B:C,2,FALSE))","v":""},null,{"$f":"IF(U63=\"\",\"\",VLOOKUP(U63,'Country & Delivery'!N:O,2,FALSE))","v":""},null,null,{"$f":"IF(L63=\"\",\"\",VLOOKUP(L63,'Country & Delivery'!A:B,2,FALSE))","v":""},null,null,null,null,null,null,null,null,null,null,null,{"$f":"IF(M63=\"\",\"\",VLOOKUP(M63,'Country & Delivery'!AB:AC,2,FALSE))","v":""},null,null,null,null,null,null,null,null,null,null,null,{"$f":"IF(U63=\"\",\"\",VLOOKUP(U63,'Country & Delivery'!$N$1:$O$8,2,0))","v":""},"",0,"Bhutan","BTN","N","dc",null,{"$f":"IFERROR(INDEX('Country & Delivery'!N52:N58,MATCH(BD63,'Country & Delivery'!O52:O58,0),1),\"\")","v":""},null,null,{"$f":"IFERROR(INDEX('Country & Delivery'!A52:A301,MATCH(BG63,'Country & Delivery'!B52:B301,0),1),\"\")","v":""}]
[51,null,null,null,null,null,null,null,null,null,null,null,null,null,null,{"$f":"IF(O64=\"\",\"\",VLOOKUP(O64,Products!A:C,2,FALSE))","v":""},{"$f":"IF(O64=\"\",\"\",VLOOKUP(O64,Products!A:C,3,FALSE))","v":""},null,"",{"$f":"IF(Y64=\"\",\"\",VLOOKUP(Y64,'Country & Delivery'!B:C,2,FALSE))","v":""},null,{"$f":"IF(U64=\"\",\"\",VLOOKUP(U64,'Country & Delivery'!N:O,2,FALSE))","v":""},null,null,{"$f":"IF(L64=\"\",\"\",VLOOKUP(L64,'Country & Delivery'!A:B,2,FALSE))","v":""},null,null,null,null,null,null,null,null,null,null,null,{"$f":"IF(M64=\"\",\"\",VLOOKUP(M64,'Country & Delivery'!AB:AC,2,FALSE))","v":""},null,null,null,null,null,null,null,null,null,null,null,{"$f":"IF(U64=\"\",\"\",VLOOKUP(U64,'Country & Delivery'!$N$1:$O$8,2,0))","v":""},"",0,"BI","BDI","N",null,null,{"$f":"IFERROR(INDEX('Country & Delivery'!N53:N59,MATCH(BD64,'Country & Delivery'!O53:O59,0),1),\"\")","v":""},null,null,{"$f":"IFERROR(INDEX('Country & Delivery'!A53:A302,MATCH(BG64,'Country & Delivery'!B53:B302,0),1),\"\")","v":""}]
[52,null,null,null,null,null,null,null,null,null,null,null,null,null,null,{"$f":"IF(O65=\"\",\"\",VLOOKUP(O65,Products!A:C,2,FALSE))","v":""},{"$f":"IF(O65=\"\",\"\",VLOOKUP(O65,Products!A:C,3,FALSE))","v":""},null,"",{"$f":"IF(Y65=\"\",\"\",VLOOKUP(Y65,'Country & Delivery'!B:C,2,FALSE))","v":""},null,{"$f":"IF(U65=\"\",\"\",VLOOKUP(U65,'Country & Delivery'!N:O,2,FALSE))","v":""},null,null,{"$f":"IF(L65=\"\",\"\",VLOOKUP(L65,'Country & Delivery'!A:B,2,FALSE))","v":""},null,null,null,null,null,null,null,null,null,null,null,{"$f":"IF(M65=\"\",\"\",VLOOKUP(M65,'Country & Delivery'!AB:AC,2,FALSE))","v":""},null,null,null,null,null,null,null,null,null,null,null,{"$f":"IF(U65=\"\",\"\",VLOOKUP(U65,'Country & Delivery'!$N$1:$O$8,2,0))","v":""},"",0,"BJ","BEN","N","dc",null,{"$f":"IFERROR(INDEX('Country & Delivery'!N54:N60,MATCH(BD65,'Country & Delivery'!O54:O60,0),1),\"\")","v":""},null,null,{"$f":"IFERROR(INDEX('Country & Delivery'!A54:A303,MATCH(BG65,'Country & Delivery'!B54:B303,0),1),\"\")","v":""}]
[53,null,null,null,null,null,null,null,null,null,null,null,null,null,null,{"$f":"IF(O66=\"\",\"\",VLOOKUP(O66,Products!A:C,2,FALSE))","v":""},{"$f":"IF(O66=\"\",\"\",VLOOKUP(O66,Products!A:C,3,FALSE))","v":""},null,"",{"$f":"IF(Y66=\"\",\"\",VLOOKUP(Y66,'Country & Delivery'!B:C,2,FALSE))","v":""},null,{"$f":"IF(U66=\"\",\"\",VLOOKUP(U66,'Country & Delivery'!N:O,2,FALSE))","v":""},null,null,{"$f":"IF(L66=\"\",\"\",VLOOKUP(L66,'Country & Delivery'!A:B,2,FALSE))","v":""},null,null,null,null,null,null,null,null,null,null,null,{"$f":"IF(M66=\"\",\"\",VLOOKUP(M66,'Country & Delivery'!AB:AC,2,FALSE))","v":""},null,null,null,null,null,null,null,null,null,null,null,{"$f":"IF(U66=\"\",\"\",VLOOKUP(U66,'Country & Delivery'!$N$1:$O$8,2,0))","v":""},"",0,"BL","BLM","N","dc",null,{"$f":"IFERROR(INDEX('Country & Delivery'!N55:N61,MATCH(BD66,'Country & Delivery'!O55:O61,0),1),\"\")","v":""},null,null,{"$f":"IFERROR(INDEX('Country & Delivery'!A55:A304,MATCH(BG66,'Country & Delivery'!B55:B304,0),1),\"\")","v":""}]
[54,null,null,null,null,null,null,null,null,null,null,null,null,null,null,{"$f":"IF(O67=\"\",\"\",VLOOKUP(O67,Products!A:C,2,FALSE))","v":""},{"$f":"IF(O67=\"\",\"\",VLOOKUP(O67,Products!A:C,3,FALSE))","v":""},null,"",{"$f":"IF(Y67=\"\",\"\",VLOOKUP(Y67,'Country & Delivery'!B:C,2,FALSE))","v":""},null,{"$f":"IF(U67=\"\",\"\",VLOOKUP(U67,'Country & Delivery'!N:O,2,FALSE))","v":""},null,null,{"$f":"IF(L67=\"\",\"\",VLOOKUP(L67,'Country & Delivery'!A:B,2,FALSE))","v":""},null,null,null,null,null,null,null,null,null,null,null,{"$f":"IF(M67=\"\",\"\",VLOOKUP(M67,'Country & Delivery'!AB:AC,2,FALSE))","v":""},null,null,null,null,null,null,null,null,null,null,null,{"$f":"IF(U67=\"\",\"\",VLOOKUP(U67,'Country & Delivery'!$N$1:$O$8,2,0))","v":""},"",0,"BM","BMU","N",null,null,{"$f":"IFERROR(INDEX('Country & Delivery'!N56:N62,MATCH(BD67,'Country & Delivery'!O56:O62,0),1),\"\")","v":""},null,null,{"$f":"IFERROR(INDEX('Country & Delivery'!A56:A305,MATCH(BG67,'Country & Delivery'!B56:B305,0),1),\"\")","v":""}]
[55,null,null,null,null,null,null,null,null,null,null,null,null,null,null,{"$f":"IF(O68=\"\",\"\",VLOOKUP(O68,Products!A:C,2,FALSE))","v":""},{"$f":"IF(O68=\"\",\"\",VLOOKUP(O68,Products!A:C,3,FALSE))","v":""},null,"",{"$f":"IF(Y68=\"\",\"\",VLOOKUP(Y68,'Country & Delivery'!B:C,2,FALSE))","v":""},null,{"$f":"IF(U68=\"\",\"\",VLOOKUP(U68,'Country & Delivery'!N:O,2,FALSE))","v":""},null,null,{"$f":"IF(L68=\"\",\"\",VLOOKUP(L68,'Country & Delivery'!A:B,2,FALSE))","v":""},null,null,null,null,null,null,null,null,null,null,null,{"$f":"IF(M68=\"\",\"\",VLOOKUP(M68,'Country & Delivery'!AB:AC,2,FALSE))","v":""},null,null,null,null,null,null,null,null,null,null,null,{"$f":"IF(U68=\"\",\"\",VLOOKUP(U68,'Country & Delivery'!$N$1:$O$8,2,0))","v":""},"",0,"BN","BRN","N",null,null,{"$f":"IFERROR(INDEX('Country & Delivery'!N57:N63,MATCH(BD68,'Country & Delivery'!O57:O63,0),1),\"\")","v":""},null,null,{"$f":"IFERROR(INDEX('Country & Delivery'!A57:A306,MATCH(BG68,'Country & Delivery'!B57:B306,0),1),\"\")","v":""}]
[56,null,null,null,null,null,null,null,null,null,null,null,null,null,null,{"$f":"IF(O69=\"\",\"\",VLOOKUP(O69,Products!A:C,2,FALSE))","v":""},{"$f":"IF(O69=\"\",\"\",VLOOKUP(O69,Products!A:C,3,FALSE))","v":""},null,"",{"$f":"IF(Y69=\"\",\"\",VLOOKUP(Y69,'Country & Delivery'!B:C,2,FALSE))","v":""},null,{"$f":"IF(U69=\"\",\"\",VLOOKUP(U69,'Country & Delivery'!N:O,2,FALSE))","v":""},null,null,{"$f":"IF(L69=\"\",\"\",VLOOKUP(L69,'Country & Delivery'!A:B,2,FALSE))","v":""},null,null,null,null,null,null,null,null,null,null,null,{"$f":"IF(M69=\"\",\"\",VLOOKUP(M69,'Country & Delivery'!AB:AC,2,FALSE))","v":""},null,null,null,null,null,null,null,null,null,null,null,{"$f":"IF(U69=\"\",\"\",VLOOKUP(U69,'Country & Delivery'!$N$1:$O$8,2,0))","v":""},"",0,"BO","BOL","N",null,null,{"$f":"IFERROR(INDEX('Country & Delivery'!N58:N64,MATCH(BD69,'Country & Delivery'!O58:O64,0),1),\"\")","v":""},null,null,{"$f":"IFERROR(INDEX('Country & Delivery'!A58:A307,MATCH(BG69,'Country & Delivery'!B58:B307,0),1),\"\")","v":""}]
[57,null,null,null,null,null,null,null,null,null,null,null,null,null,null,{"$f":"IF(O70=\"\",\"\",VLOOKUP(O70,Products!A:C,2,FALSE))","v":""},{"$f":"IF(O70=\"\",\"\",VLOOKUP(O70,Products!A:C,3,FALSE))","v":""},null,"",{"$f":"IF(Y70=\"\",\"\",VLOOKUP(Y70,'Country & Delivery'!B:C,2,FALSE))","v":""},null,{"$f":"IF(U70=\"\",\"\",VLOOKUP(U70,'Country & Delivery'!N:O,2,FALSE))","v":""},null,null,{"$f":"IF(L70=\"\",\"\",VLOOKUP(L70,'Country & Delivery'!A:B,2,FALSE))","v":""},null,null,null,null,null,null,null,null,null,null,null,{"$f":"IF(M70=\"\",\"\",VLOOKUP(M70,'Country & Delivery'!AB:AC,2,FALSE))","v":""},null,null,null,null,null,null,null,null,null,null,null,{"$f":"IF(U70=\"\",\"\",VLOOKUP(U70,'Country & Delivery'!$N$1:$O$8,2,0))","v":""},"",0,"Bolivia","BOL","N",null,null,{"$f":"IFERROR(INDEX('Country & Delivery'!N59:N65,MATCH(BD70,'Country & Delivery'!O59:O65,0),1),\"\")","v":""},null,null,{"$f":"IFERROR(INDEX('Country & Delivery'!A59:A308,MATCH(BG70,'Country & Delivery'!B59:B308,0),1),\"\")","v":""}]
[58,null,null,null,null,null,null,null,null,null,null,null,null,null,null,{"$f":"IF(O71=\"\",\"\",VLOOKUP(O71,Products!A:C,2,FALSE))","v":""},{"$f":"IF(O71=\"\",\"\",VLOOKUP(O71,Products!A:C,3,FALSE))","v":""},null,"",{"$f":"IF(Y71=\"\",\"\",VLOOKUP(Y71,'Country & Delivery'!B:C,2,FALSE))","v":""},null,{"$f":"IF(U71=\"\",\"\",VLOOKUP(U71,'Country & Delivery'!N:O,2,FALSE))","v":""},null,null,{"$f":"IF(L71=\"\",\"\",VLOOKUP(L71,'Country & Delivery'!A:B,2,FALSE))","v":""},null,null,null,null,null,null,null,null,null,null,null,{"$f":"IF(M71=\"\",\"\",VLOOKUP(M71,'Country & Delivery'!AB:AC,2,FALSE))","v":""},null,null,null,null,null,null,null,null,null,null,null,{"$f":"IF(U71=\"\",\"\",VLOOKUP(U71,'Country & Delivery'!$N$1:$O$8,2,0))","v":""},"",0,"Bonaire Sint Eustatius and Saba","BES","N","dc",null,{"$f":"IFERROR(INDEX('Country & Delivery'!N60:N66,MATCH(BD71,'Country & Delivery'!O60:O66,0),1),\"\")","v":""},null,null,{"$f":"IFERROR(INDEX('Country & Delivery'!A60:A309,MATCH(BG71,'Country & Delivery'!B60:B309,0),1),\"\")","v":""}]
[59,null,null,null,null,null,null,null,null,null,null,null,null,null,null,{"$f":"IF(O72=\"\",\"\",VLOOKUP(O72,Products!A:C,2,FALSE))","v":""},{"$f":"IF(O72=\"\",\"\",VLOOKUP(O72,Products!A:C,3,FALSE))","v":""},null,"",{"$f":"IF(Y72=\"\",\"\",VLOOKUP(Y72,'Country & Delivery'!B:C,2,FALSE))","v":""},null,{"$f":"IF(U72=\"\",\"\",VLOOKUP(U72,'Country & Delivery'!N:O,2,FALSE))","v":""},null,null,{"$f":"IF(L72=\"\",\"\",VLOOKUP(L72,'Country & Delivery'!A:B,2,FALSE))","v":""},null,null,null,null,null,null,null,null,null,null,null,{"$f":"IF(M72=\"\",\"\",VLOOKUP(M72,'Country & Delivery'!AB:AC,2,FALSE))","v":""},null,null,null,null,null,null,null,null,null,null,null,{"$f":"IF(U72=\"\",\"\",VLOOKUP(U72,'Country & Delivery'!$N$1:$O$8,2,0))","v":""},"",0,"Bosnia And Herzegovina","BIH","N",null,null,{"$f":"IFERROR(INDEX('Country & Delivery'!N61:N67,MATCH(BD72,'Country & Delivery'!O61:O67,0),1),\"\")","v":""},null,null,{"$f":"IFERROR(INDEX('Country & Delivery'!A61:A310,MATCH(BG72,'Country & Delivery'!B61:B310,0),1),\"\")","v":""}]
[60,null,null,null,null,null,null,null,null,null,null,null,null,null,null,{"$f":"IF(O73=\"\",\"\",VLOOKUP(O73,Products!A:C,2,FALSE))","v":""},{"$f":"IF(O73=\"\",\"\",VLOOKUP(O73,Products!A:C,3,FALSE))","v":""},null,"",{"$f":"IF(Y73=\"\",\"\",VLOOKUP(Y73,'Country & Delivery'!B:C,2,FALSE))","v":""},null,{"$f":"IF(U73=\"\",\"\",VLOOKUP(U73,'Country & Delivery'!N:O,2,FALSE))","v":""},null,null,{"$f":"IF(L73=\"\",\"\",VLOOKUP(L73,'Country & Delivery'!A:B,2,FALSE))","v":""},null,null,null,null,null,null,null,null,null,null,null,{"$f":"IF(M73=\"\",\"\",VLOOKUP(M73,'Country & Delivery'!AB:AC,2,FALSE))","v":""},null,null,null,null,null,null,null,null,null,null,null,{"$f":"IF(U73=\"\",\"\",VLOOKUP(U73,'Country & Delivery'!$N$1:$O$8,2,0))","v":""},"",0,"Botswana","BWA","N",null,null,{"$f":"IFERROR(INDEX('Country & Delivery'!N62:N68,MATCH(BD73,'Country & Delivery'!O62:O68,0),1),\"\")","v":""},null,null,{"$f":"IFERROR(INDEX('Country & Delivery'!A62:A311,MATCH(BG73,'Country & Delivery'!B62:B311,0),1),\"\")","v":""}]
[61,null,null,null,null,null,null,null,null,null,null,null,null,null,null,{"$f":"IF(O74=\"\",\"\",VLOOKUP(O74,Products!A:C,2,FALSE))","v":""},{"$f":"IF(O74=\"\",\"\",VLOOKUP(O74,Products!A:C,3,FALSE))","v":""},null,"",{"$f":"IF(Y74=\"\",\"\",VLOOKUP(Y74,'Country & Delivery'!B:C,2,FALSE))","v":""},null,{"$f":"IF(U74=\"\",\"\",VLOOKUP(U74,'Country & Delivery'!N:O,2,FALSE))","v":""},null,null,{"$f":"IF(L74=\"\",\"\",VLOOKUP(L74,'Country & Delivery'!A:B,2,FALSE))","v":""},null,null,null,null,null,null,null,null,null,null,null,{"$f":"IF(M74=\"\",\"\",VLOOKUP(M74,'Country & Delivery'!AB:AC,2,FALSE))","v":""},null,null,null,null,null,null,null,null,null,null,null,{"$f":"IF(U74=\"\",\"\",VLOOKUP(U74,'Country & Delivery'!$N$1:$O$8,2,0))","v":""},"",0,"Bouvet Island","BVT","N","dc",null,{"$f":"IFERROR(INDEX('Country & Delivery'!N63:N69,MATCH(BD74,'Country & Delivery'!O63:O69,0),1),\"\")","v":""},null,null,{"$f":"IFERROR(INDEX('Country & Delivery'!A63:A312,MATCH(BG74,'Country & Delivery'!B63:B312,0),1),\"\")","v":""}]
[62,null,null,null,null,null,null,null,null,null,null,null,null,null,null,{"$f":"IF(O75=\"\",\"\",VLOOKUP(O75,Products!A:C,2,FALSE))","v":""},{"$f":"IF(O75=\"\",\"\",VLOOKUP(O75,Products!A:C,3,FALSE))","v":""},null,"",{"$f":"IF(Y75=\"\",\"\",VLOOKUP(Y75,'Country & Delivery'!B:C,2,FALSE))","v":""},null,{"$f":"IF(U75=\"\",\"\",VLOOKUP(U75,'Country & Delivery'!N:O,2,FALSE))","v":""},null,null,{"$f":"IF(L75=\"\",\"\",VLOOKUP(L75,'Country & Delivery'!A:B,2,FALSE))","v":""},null,null,null,null,null,null,null,null,null,null,null,{"$f":"IF(M75=\"\",\"\",VLOOKUP(M75,'Country & Delivery'!AB:AC,2,FALSE))","v":""},null,null,null,null,null,null,null,null,null,null,null,{"$f":"IF(U75=\"\",\"\",VLOOKUP(U75,'Country & Delivery'!$N$1:$O$8,2,0))","v":""},"",0,"BQ","BES","N","dc",null,{"$f":"IFERROR(INDEX('Country & Delivery'!N64:N70,MATCH(BD75,'Country & Delivery'!O64:O70,0),1),\"\")","v":""},null,null,{"$f":"IFERROR(INDEX('Country & Delivery'!A64:A313,MATCH(BG75,'Country & Delivery'!B64:B313,0),1),\"\")","v":""}]
[63,null,null,null,null,null,null,null,null,null,null,null,null,null,null,{"$f":"IF(O76=\"\",\"\",VLOOKUP(O76,Products!A:C,2,FALSE))","v":""},{"$f":"IF(O76=\"\",\"\",VLOOKUP(O76,Products!A:C,3,FALSE))","v":""},null,"",{"$f":"IF(Y76=\"\",\"\",VLOOKUP(Y76,'Country & Delivery'!B:C,2,FALSE))","v":""},null,{"$f":"IF(U76=\"\",\"\",VLOOKUP(U76,'Country & Delivery'!N:O,2,FALSE))","v":""},null,null,{"$f":"IF(L76=\"\",\"\",VLOOKUP(L76,'Country & Delivery'!A:B,2,FALSE))","v":""},null,null,null,null,null,null,null,null,null,null,null,{"$f":"IF(M76=\"\",\"\",VLOOKUP(M76,'Country & Delivery'!AB:AC,2,FALSE))","v":""},null,null,null,null,null,null,null,null,null,null,null,{"$f":"IF(U76=\"\",\"\",VLOOKUP(U76,'Country & Delivery'!$N$1:$O$8,2,0))","v":""},{"$f":"IF(O76<>\"\",COUNTIFS(D76:D76,\"\")+COUNTIFS(E76:E76,\"\")+COUNTIFS(I76:I76,\"\")+COUNTIFS(N76:N76,\"\")+COUNTIFS(O76:O76,\"\")+COUNTIFS(R76:R76,\"\")+COUNTIFS(U76:U76,\"\"),\"\")","v":""},0,"BR","BRA","N","dc",null,{"$f":"IFERROR(INDEX('Country & Delivery'!N65:N71,MATCH(BD76,'Country & Delivery'!O65:O71,0),1),\"\")","v":""},null,null,{"$f":"IFERROR(INDEX('Country & Delivery'!A65:A314,MATCH(BG76,'Country & Delivery'!B65:B314,0),1),\"\")","v":""}]
[64,null,null,null,null,null,null,null,null,null,null,null,null,null,null,{"$f":"IF(O77=\"\",\"\",VLOOKUP(O77,Products!A:C,2,FALSE))","v":""},{"$f":"IF(O77=\"\",\"\",VLOOKUP(O77,Products!A:C,3,FALSE))","v":""},null,"",{"$f":"IF(Y77=\"\",\"\",VLOOKUP(Y77,'Country & Delivery'!B:C,2,FALSE))","v":""},null,{"$f":"IF(U77=\"\",\"\",VLOOKUP(U77,'Country & Delivery'!N:O,2,FALSE))","v":""},null,null,{"$f":"IF(L77=\"\",\"\",VLOOKUP(L77,'Country & Delivery'!A:B,2,FALSE))","v":""},null,null,null,null,null,null,null,null,null,null,null,{"$f":"IF(M77=\"\",\"\",VLOOKUP(M77,'Country & Delivery'!AB:AC,2,FALSE))","v":""},null,null,null,null,null,null,null,null,null,null,null,{"$f":"IF(U77=\"\",\"\",VLOOKUP(U77,'Country & Delivery'!$N$1:$O$8,2,0))","v":""},"",{"$f":"+$L$10","v":0},"Brazil","BRA","N",null,null,{"$f":"IFERROR(INDEX('Country & Delivery'!N66:N72,MATCH(BD77,'Country & Delivery'!O66:O72,0),1),\"\")","v":""},null,null,{"$f":"IFERROR(INDEX('Country & Delivery'!A66:A315,MATCH(BG77,'Country & Delivery'!B66:B315,0),1),\"\")","v":""}]
[65,null,null,null,null,null,null,null,null,null,null,null,null,null,null,{"$f":"IF(O78=\"\",\"\",VLOOKUP(O78,Products!A:C,2,FALSE))","v":""},{"$f":"IF(O78=\"\",\"\",VLOOKUP(O78,Products!A:C,3,FALSE))","v":""},null,"",{"$f":"IF(Y78=\"\",\"\",VLOOKUP(Y78,'Country & Delivery'!B:C,2,FALSE))","v":""},null,{"$f":"IF(U78=\"\",\"\",VLOOKUP(U78,'Country & Delivery'!N:O,2,FALSE))","v":""},null,null,{"$f":"IF(L78=\"\",\"\",VLOOKUP(L78,'Country & Delivery'!A:B,2,FALSE))","v":""},null,null,null,null,null,null,null,null,null,null,null,{"$f":"IF(M78=\"\",\"\",VLOOKUP(M78,'Country & Delivery'!AB:AC,2,FALSE))","v":""},null,null,null,null,null,null,null,null,null,null,null,{"$f":"IF(U78=\"\",\"\",VLOOKUP(U78,'Country & Delivery'!$N$1:$O$8,2,0))","v":""},"",0,"British Indian Ocean Territory","IOT","N","dc",null,{"$f":"IFERROR(INDEX('Country & Delivery'!N67:N73,MATCH(BD78,'Country & Delivery'!O67:O73,0),1),\"\")","v":""},null,null,{"$f":"IFERROR(INDEX('Country & Delivery'!A67:A316,MATCH(BG78,'Country & Delivery'!B67:B316,0),1),\"\")","v":""}]
[66,null,null,null,null,null,null,null,null,null,null,null,null,null,null,{"$f":"IF(O79=\"\",\"\",VLOOKUP(O79,Products!A:C,2,FALSE))","v":""},{"$f":"IF(O79=\"\",\"\",VLOOKUP(O79,Products!A:C,3,FALSE))","v":""},null,"",{"$f":"IF(Y79=\"\",\"\",VLOOKUP(Y79,'Country & Delivery'!B:C,2,FALSE))","v":""},null,{"$f":"IF(U79=\"\",\"\",VLOOKUP(U79,'Country & Delivery'!N:O,2,FALSE))","v":""},null,null,{"$f":"IF(L79=\"\",\"\",VLOOKUP(L79,'Country & Delivery'!A:B,2,FALSE))","v":""},null,null,null,null,null,null,null,null,null,null,null,{"$f":"IF(M79=\"\",\"\",VLOOKUP(M79,'Country & Delivery'!AB:AC,2,FALSE))","v":""},null,null,null,null,null,null,null,null,null,null,null,{"$f":"IF(U79=\"\",\"\",VLOOKUP(U79,'Country & Delivery'!$N$1:$O$8,2,0))","v":""},"",0,"Brunei Darussalam","BRN","N",null,null,{"$f":"IFERROR(INDEX('Country & Delivery'!N68:N74,MATCH(BD79,'Country & Delivery'!O68:O74,0),1),\"\")","v":""},null,null,{"$f":"IFERROR(INDEX('Country & Delivery'!A68:A317,MATCH(BG79,'Country & Delivery'!B68:B317,0),1),\"\")","v":""}]
[67,null,null,null,null,null,null,null,null,null,null,null,null,null,null,{"$f":"IF(O80=\"\",\"\",VLOOKUP(O80,Products!A:C,2,FALSE))","v":""},{"$f":"IF(O80=\"\",\"\",VLOOKUP(O80,Products!A:C,3,FALSE))","v":""},null,"",{"$f":"IF(Y80=\"\",\"\",VLOOKUP(Y80,'Country & Delivery'!B:C,2,FALSE))","v":""},null,{"$f":"IF(U80=\"\",\"\",VLOOKUP(U80,'Country & Delivery'!N:O,2,FALSE))","v":""},null,null,{"$f":"IF(L80=\"\",\"\",VLOOKUP(L80,'Country & Delivery'!A:B,2,FALSE))","v":""},null,null,null,null,null,null,null,null,null,null,null,{"$f":"IF(M80=\"\",\"\",VLOOKUP(M80,'Country & Delivery'!AB:AC,2,FALSE))","v":""},null,null,null,null,null,null,null,null,null,null,null,{"$f":"IF(U80=\"\",\"\",VLOOKUP(U80,'Country & Delivery'!$N$1:$O$8,2,0))","v":""},"",0,"BS","BHS","N","dc",null,{"$f":"IFERROR(INDEX('Country & Delivery'!N69:N75,MATCH(BD80,'Country & Delivery'!O69:O75,0),1),\"\")","v":""},null,null,{"$f":"IFERROR(INDEX('Country & Delivery'!A69:A318,MATCH(BG80,'Country & Delivery'!B69:B318,0),1),\"\")","v":""}]
[68,null,null,null,null,null,null,null,null,null,null,null,null,null,null,{"$f":"IF(O81=\"\",\"\",VLOOKUP(O81,Products!A:C,2,FALSE))","v":""},{"$f":"IF(O81=\"\",\"\",VLOOKUP(O81,Products!A:C,3,FALSE))","v":""},null,"",{"$f":"IF(Y81=\"\",\"\",VLOOKUP(Y81,'Country & Delivery'!B:C,2,FALSE))","v":""},null,{"$f":"IF(U81=\"\",\"\",VLOOKUP(U81,'Country & Delivery'!N:O,2,FALSE))","v":""},null,null,{"$f":"IF(L81=\"\",\"\",VLOOKUP(L81,'Country & Delivery'!A:B,2,FALSE))","v":""},null,null,null,null,null,null,null,null,null,null,null,{"$f":"IF(M81=\"\",\"\",VLOOKUP(M81,'Country & Delivery'!AB:AC,2,FALSE))","v":""},null,null,null,null,null,null,null,null,null,null,null,{"$f":"IF(U81=\"\",\"\",VLOOKUP(U81,'Country & Delivery'!$N$1:$O$8,2,0))","v":""},"",0,"BT","BTN","N","dc",null,{"$f":"IFERROR(INDEX('Country & Delivery'!N70:N76,MATCH(BD81,'Country & Delivery'!O70:O76,0),1),\"\")","v":""},null,null,{"$f":"IFERROR(INDEX('Country & Delivery'!A70:A319,MATCH(BG81,'Country & Delivery'!B70:B319,0),1),\"\")","v":""}]
[69,null,null,null,null,null,null,null,null,null,null,null,null,null,null,{"$f":"IF(O82=\"\",\"\",VLOOKUP(O82,Products!A:C,2,FALSE))","v":""},{"$f":"IF(O82=\"\",\"\",VLOOKUP(O82,Products!A:C,3,FALSE))","v":""},null,"",{"$f":"IF(Y82=\"\",\"\",VLOOKUP(Y82,'Country & Delivery'!B:C,2,FALSE))","v":""},null,{"$f":"IF(U82=\"\",\"\",VLOOKUP(U82,'Country & Delivery'!N:O,2,FALSE))","v":""},null,null,{"$f":"IF(L82=\"\",\"\",VLOOKUP(L82,'Country & Delivery'!A:B,2,FALSE))","v":""},null,null,null,null,null,null,null,null,null,null,null,{"$f":"IF(M82=\"\",\"\",VLOOKUP(M82,'Country & Delivery'!AB:AC,2,FALSE))","v":""},null,null,null,null,null,null,null,null,null,null,null,{"$f":"IF(U82=\"\",\"\",VLOOKUP(U82,'Country & Delivery'!$N$1:$O$8,2,0))","v":""},"",0,"Bulgaria","BGR","Y",null,null,{"$f":"IFERROR(INDEX('Country & Delivery'!N71:N77,MATCH(BD82,'Country & Delivery'!O71:O77,0),1),\"\")","v":""},null,null,{"$f":"IFERROR(INDEX('Country & Delivery'!A71:A320,MATCH(BG82,'Country & Delivery'!B71:B320,0),1),\"\")","v":""}]
[70,null,null,null,null,null,null,null,null,null,null,null,null,null,null,{"$f":"IF(O83=\"\",\"\",VLOOKUP(O83,Products!A:C,2,FALSE))","v":""},{"$f":"IF(O83=\"\",\"\",VLOOKUP(O83,Products!A:C,3,FALSE))","v":""},null,"",{"$f":"IF(Y83=\"\",\"\",VLOOKUP(Y83,'Country & Delivery'!B:C,2,FALSE))","v":""},null,{"$f":"IF(U83=\"\",\"\",VLOOKUP(U83,'Country & Delivery'!N:O,2,FALSE))","v":""},null,null,{"$f":"IF(L83=\"\",\"\",VLOOKUP(L83,'Country & Delivery'!A:B,2,FALSE))","v":""},null,null,null,null,null,null,null,null,null,null,null,{"$f":"IF(M83=\"\",\"\",VLOOKUP(M83,'Country & Delivery'!AB:AC,2,FALSE))","v":""},null,null,null,null,null,null,null,null,null,null,null,{"$f":"IF(U83=\"\",\"\",VLOOKUP(U83,'Country & Delivery'!$N$1:$O$8,2,0))","v":""},"",0,"Burkina Faso","BFA","N","dc",null,{"$f":"IFERROR(INDEX('Country & Delivery'!N72:N78,MATCH(BD83,'Country & Delivery'!O72:O78,0),1),\"\")","v":""},null,null,{"$f":"IFERROR(INDEX('Country & Delivery'!A72:A321,MATCH(BG83,'Country & Delivery'!B72:B321,0),1),\"\")","v":""}]
[71,null,null,null,null,null,null,null,null,null,null,null,null,null,null,{"$f":"IF(O84=\"\",\"\",VLOOKUP(O84,Products!A:C,2,FALSE))","v":""},{"$f":"IF(O84=\"\",\"\",VLOOKUP(O84,Products!A:C,3,FALSE))","v":""},null,"",{"$f":"IF(Y84=\"\",\"\",VLOOKUP(Y84,'Country & Delivery'!B:C,2,FALSE))","v":""},null,{"$f":"IF(U84=\"\",\"\",VLOOKUP(U84,'Country & Delivery'!N:O,2,FALSE))","v":""},null,null,{"$f":"IF(L84=\"\",\"\",VLOOKUP(L84,'Country & Delivery'!A:B,2,FALSE))","v":""},null,null,null,null,null,null,null,null,null,null,null,{"$f":"IF(M84=\"\",\"\",VLOOKUP(M84,'Country & Delivery'!AB:AC,2,FALSE))","v":""},null,null,null,null,null,null,null,null,null,null,null,{"$f":"IF(U84=\"\",\"\",VLOOKUP(U84,'Country & Delivery'!$N$1:$O$8,2,0))","v":""},"",0,"Burundi","BDI","N",null,null,{"$f":"IFERROR(INDEX('Country & Delivery'!N73:N79,MATCH(BD84,'Country & Delivery'!O73:O79,0),1),\"\")","v":""},null,null,{"$f":"IFERROR(INDEX('Country & Delivery'!A73:A322,MATCH(BG84,'Country & Delivery'!B73:B322,0),1),\"\")","v":""}]
[72,null,null,null,null,null,null,null,null,null,null,null,null,null,null,{"$f":"IF(O85=\"\",\"\",VLOOKUP(O85,Products!A:C,2,FALSE))","v":""},{"$f":"IF(O85=\"\",\"\",VLOOKUP(O85,Products!A:C,3,FALSE))","v":""},null,"",{"$f":"IF(Y85=\"\",\"\",VLOOKUP(Y85,'Country & Delivery'!B:C,2,FALSE))","v":""},null,{"$f":"IF(U85=\"\",\"\",VLOOKUP(U85,'Country & Delivery'!N:O,2,FALSE))","v":""},null,null,{"$f":"IF(L85=\"\",\"\",VLOOKUP(L85,'Country & Delivery'!A:B,2,FALSE))","v":""},null,null,null,null,null,null,null,null,null,null,null,{"$f":"IF(M85=\"\",\"\",VLOOKUP(M85,'Country & Delivery'!AB:AC,2,FALSE))","v":""},null,null,null,null,null,null,null,null,null,null,null,{"$f":"IF(U85=\"\",\"\",VLOOKUP(U85,'Country & Delivery'!$N$1:$O$8,2,0))","v":""},"",0,"BV","BVT","N","dc",null,{"$f":"IFERROR(INDEX('Country & Delivery'!N74:N80,MATCH(BD85,'Country & Delivery'!O74:O80,0),1),\"\")","v":""},null,null,{"$f":"IFERROR(INDEX('Country & Delivery'!A74:A323,MATCH(BG85,'Country & Delivery'!B74:B323,0),1),\"\")","v":""}]
[73,null,null,null,null,null,null,null,null,null,null,null,null,null,null,{"$f":"IF(O86=\"\",\"\",VLOOKUP(O86,Products!A:C,2,FALSE))","v":""},{"$f":"IF(O86=\"\",\"\",VLOOKUP(O86,Products!A:C,3,FALSE))","v":""},null,"",{"$f":"IF(Y86=\"\",\"\",VLOOKUP(Y86,'Country & Delivery'!B:C,2,FALSE))","v":""},null,{"$f":"IF(U86=\"\",\"\",VLOOKUP(U86,'Country & Delivery'!N:O,2,FALSE))","v":""},null,null,{"$f":"IF(L86=\"\",\"\",VLOOKUP(L86,'Country & Delivery'!A:B,2,FALSE))","v":""},null,null,null,null,null,null,null,null,null,null,null,{"$f":"IF(M86=\"\",\"\",VLOOKUP(M86,'Country & Delivery'!AB:AC,2,FALSE))","v":""},null,null,null,null,null,null,null,null,null,null,null,{"$f":"IF(U86=\"\",\"\",VLOOKUP(U86,'Country & Delivery'!$N$1:$O$8,2,0))","v":""},"",0,"BW","BWA","N",null,null,{"$f":"IFERROR(INDEX('Country & Delivery'!N75:N81,MATCH(BD86,'Country & Delivery'!O75:O81,0),1),\"\")","v":""},null,null,{"$f":"IFERROR(INDEX('Country & Delivery'!A75:A324,MATCH(BG86,'Country & Delivery'!B75:B324,0),1),\"\")","v":""}]
[74,null,null,null,null,null,null,null,null,null,null,null,null,null,null,{"$f":"IF(O87=\"\",\"\",VLOOKUP(O87,Products!A:C,2,FALSE))","v":""},{"$f":"IF(O87=\"\",\"\",VLOOKUP(O87,Products!A:C,3,FALSE))","v":""},null,"",{"$f":"IF(Y87=\"\",\"\",VLOOKUP(Y87,'Country & Delivery'!B:C,2,FALSE))","v":""},null,{"$f":"IF(U87=\"\",\"\",VLOOKUP(U87,'Country & Delivery'!N:O,2,FALSE))","v":""},null,null,{"$f":"IF(L87=\"\",\"\",VLOOKUP(L87,'Country & Delivery'!A:B,2,FALSE))","v":""},null,null,null,null,null,null,null,null,null,null,null,{"$f":"IF(M87=\"\",\"\",VLOOKUP(M87,'Country & Delivery'!AB:AC,2,FALSE))","v":""},null,null,null,null,null,null,null,null,null,null,null,{"$f":"IF(U87=\"\",\"\",VLOOKUP(U87,'Country & Delivery'!$N$1:$O$8,2,0))","v":""},"",0,"BY","BLR","N","dc",null,{"$f":"IFERROR(INDEX('Country & Delivery'!N76:N82,MATCH(BD87,'Country & Delivery'!O76:O82,0),1),\"\")","v":""},null,null,{"$f":"IFERROR(INDEX('Country & Delivery'!A76:A325,MATCH(BG87,'Country & Delivery'!B76:B325,0),1),\"\")","v":""}]
[75,null,null,null,null,null,null,null,null,null,null,null,null,null,null,{"$f":"IF(O88=\"\",\"\",VLOOKUP(O88,Products!A:C,2,FALSE))","v":""},{"$f":"IF(O88=\"\",\"\",VLOOKUP(O88,Products!A:C,3,FALSE))","v":""},null,"",{"$f":"IF(Y88=\"\",\"\",VLOOKUP(Y88,'Country & Delivery'!B:C,2,FALSE))","v":""},null,{"$f":"IF(U88=\"\",\"\",VLOOKUP(U88,'Country & Delivery'!N:O,2,FALSE))","v":""},null,null,{"$f":"IF(L88=\"\",\"\",VLOOKUP(L88,'Country & Delivery'!A:B,2,FALSE))","v":""},null,null,null,null,null,null,null,null,null,null,null,{"$f":"IF(M88=\"\",\"\",VLOOKUP(M88,'Country & Delivery'!AB:AC,2,FALSE))","v":""},null,null,null,null,null,null,null,null,null,null,null,{"$f":"IF(U88=\"\",\"\",VLOOKUP(U88,'Country & Delivery'!$N$1:$O$8,2,0))","v":""},"",0,"BZ","BLZ","N","dc",null,{"$f":"IFERROR(INDEX('Country & Delivery'!N77:N83,MATCH(BD88,'Country & Delivery'!O77:O83,0),1),\"\")","v":""},null,null,{"$f":"IFERROR(INDEX('Country & Delivery'!A77:A326,MATCH(BG88,'Country & Delivery'!B77:B326,0),1),\"\")","v":""}]
[76,null,null,null,null,null,null,null,null,null,null,null,null,null,null,{"$f":"IF(O89=\"\",\"\",VLOOKUP(O89,Products!A:C,2,FALSE))","v":""},{"$f":"IF(O89=\"\",\"\",VLOOKUP(O89,Products!A:C,3,FALSE))","v":""},null,"",{"$f":"IF(Y89=\"\",\"\",VLOOKUP(Y89,'Country & Delivery'!B:C,2,FALSE))","v":""},null,{"$f":"IF(U89=\"\",\"\",VLOOKUP(U89,'Country & Delivery'!N:O,2,FALSE))","v":""},null,null,{"$f":"IF(L89=\"\",\"\",VLOOKUP(L89,'Country & Delivery'!A:B,2,FALSE))","v":""},null,null,null,null,null,null,null,null,null,null,null,{"$f":"IF(M89=\"\",\"\",VLOOKUP(M89,'Country & Delivery'!AB:AC,2,FALSE))","v":""},null,null,null,null,null,null,null,null,null,null,null,{"$f":"IF(U89=\"\",\"\",VLOOKUP(U89,'Country & Delivery'!$N$1:$O$8,2,0))","v":""},"",0,"CA","CAN","N",null,null,{"$f":"IFERROR(INDEX('Country & Delivery'!N78:N84,MATCH(BD89,'Country & Delivery'!O78:O84,0),1),\"\")","v":""},null,null,{"$f":"IFERROR(INDEX('Country & Delivery'!A78:A327,MATCH(BG89,'Country & Delivery'!B78:B327,0),1),\"\")","v":""}]
[77,null,null,null,null,null,null,null,null,null,null,null,null,null,null,{"$f":"IF(O90=\"\",\"\",VLOOKUP(O90,Products!A:C,2,FALSE))","v":""},{"$f":"IF(O90=\"\",\"\",VLOOKUP(O90,Products!A:C,3,FALSE))","v":""},null,"",{"$f":"IF(Y90=\"\",\"\",VLOOKUP(Y90,'Country & Delivery'!B:C,2,FALSE))","v":""},null,{"$f":"IF(U90=\"\",\"\",VLOOKUP(U90,'Country & Delivery'!N:O,2,FALSE))","v":""},null,null,{"$f":"IF(L90=\"\",\"\",VLOOKUP(L90,'Country & Delivery'!A:B,2,FALSE))","v":""},null,null,null,null,null,null,null,null,null,null,null,{"$f":"IF(M90=\"\",\"\",VLOOKUP(M90,'Country & Delivery'!AB:AC,2,FALSE))","v":""},null,null,null,null,null,null,null,null,null,null,null,{"$f":"IF(U90=\"\",\"\",VLOOKUP(U90,'Country & Delivery'!$N$1:$O$8,2,0))","v":""},"",0,"Cabo Verde","CPV","N","dc",null,{"$f":"IFERROR(INDEX('Country & Delivery'!N79:N85,MATCH(BD90,'Country & Delivery'!O79:O85,0),1),\"\")","v":""},null,null,{"$f":"IFERROR(INDEX('Country & Delivery'!A79:A328,MATCH(BG90,'Country & Delivery'!B79:B328,0),1),\"\")","v":""}]
[78,null,null,null,null,null,null,null,null,null,null,null,null,null,null,{"$f":"IF(O91=\"\",\"\",VLOOKUP(O91,Products!A:C,2,FALSE))","v":""},{"$f":"IF(O91=\"\",\"\",VLOOKUP(O91,Products!A:C,3,FALSE))","v":""},null,"",{"$f":"IF(Y91=\"\",\"\",VLOOKUP(Y91,'Country & Delivery'!B:C,2,FALSE))","v":""},null,{"$f":"IF(U91=\"\",\"\",VLOOKUP(U91,'Country & Delivery'!N:O,2,FALSE))","v":""},null,null,{"$f":"IF(L91=\"\",\"\",VLOOKUP(L91,'Country & Delivery'!A:B,2,FALSE))","v":""},null,null,null,null,null,null,null,null,null,null,null,{"$f":"IF(M91=\"\",\"\",VLOOKUP(M91,'Country & Delivery'!AB:AC,2,FALSE))","v":""},null,null,null,null,null,null,null,null,null,null,null,{"$f":"IF(U91=\"\",\"\",VLOOKUP(U91,'Country & Delivery'!$N$1:$O$8,2,0))","v":""},"",0,"Cambodia","KHM","N",null,null,{"$f":"IFERROR(INDEX('Country & Delivery'!N80:N86,MATCH(BD91,'Country & Delivery'!O80:O86,0),1),\"\")","v":""},null,null,{"$f":"IFERROR(INDEX('Country & Delivery'!A80:A329,MATCH(BG91,'Country & Delivery'!B80:B329,0),1),\"\")","v":""}]
[79,null,null,null,null,null,null,null,null,null,null,null,null,null,null,{"$f":"IF(O92=\"\",\"\",VLOOKUP(O92,Products!A:C,2,FALSE))","v":""},{"$f":"IF(O92=\"\",\"\",VLOOKUP(O92,Products!A:C,3,FALSE))","v":""},null,"",{"$f":"IF(Y92=\"\",\"\",VLOOKUP(Y92,'Country & Delivery'!B:C,2,FALSE))","v":""},null,{"$f":"IF(U92=\"\",\"\",VLOOKUP(U92,'Country & Delivery'!N:O,2,FALSE))","v":""},null,null,{"$f":"IF(L92=\"\",\"\",VLOOKUP(L92,'Country & Delivery'!A:B,2,FALSE))","v":""},null,null,null,null,null,null,null,null,null,null,null,{"$f":"IF(M92=\"\",\"\",VLOOKUP(M92,'Country & Delivery'!AB:AC,2,FALSE))","v":""},null,null,null,null,null,null,null,null,null,null,null,{"$f":"IF(U92=\"\",\"\",VLOOKUP(U92,'Country & Delivery'!$N$1:$O$8,2,0))","v":""},"",0,"Cameroon","CMR","N","dc",null,{"$f":"IFERROR(INDEX('Country & Delivery'!N81:N87,MATCH(BD92,'Country & Delivery'!O81:O87,0),1),\"\")","v":""},null,null,{"$f":"IFERROR(INDEX('Country & Delivery'!A81:A330,MATCH(BG92,'Country & Delivery'!B81:B330,0),1),\"\")","v":""}]
[80,null,null,null,null,null,null,null,null,null,null,null,null,null,null,{"$f":"IF(O93=\"\",\"\",VLOOKUP(O93,Products!A:C,2,FALSE))","v":""},{"$f":"IF(O93=\"\",\"\",VLOOKUP(O93,Products!A:C,3,FALSE))","v":""},null,"",{"$f":"IF(Y93=\"\",\"\",VLOOKUP(Y93,'Country & Delivery'!B:C,2,FALSE))","v":""},null,{"$f":"IF(U93=\"\",\"\",VLOOKUP(U93,'Country & Delivery'!N:O,2,FALSE))","v":""},null,null,{"$f":"IF(L93=\"\",\"\",VLOOKUP(L93,'Country & Delivery'!A:B,2,FALSE))","v":""},null,null,null,null,null,null,null,null,null,null,null,{"$f":"IF(M93=\"\",\"\",VLOOKUP(M93,'Country & Delivery'!AB:AC,2,FALSE))","v":""},null,null,null,null,null,null,null,null,null,null,null,{"$f":"IF(U93=\"\",\"\",VLOOKUP(U93,'Country & Delivery'!$N$1:$O$8,2,0))","v":""},"",0,"Canada","CAN","N",null,null,{"$f":"IFERROR(INDEX('Country & Delivery'!N82:N88,MATCH(BD93,'Country & Delivery'!O82:O88,0),1),\"\")","v":""},null,null,{"$f":"IFERROR(INDEX('Country & Delivery'!A82:A331,MATCH(BG93,'Country & Delivery'!B82:B331,0),1),\"\")","v":""}]
[81,null,null,null,null,null,null,null,null,null,null,null,null,null,null,{"$f":"IF(O94=\"\",\"\",VLOOKUP(O94,Products!A:C,2,FALSE))","v":""},{"$f":"IF(O94=\"\",\"\",VLOOKUP(O94,Products!A:C,3,FALSE))","v":""},null,"",{"$f":"IF(Y94=\"\",\"\",VLOOKUP(Y94,'Country & Delivery'!B:C,2,FALSE))","v":""},null,{"$f":"IF(U94=\"\",\"\",VLOOKUP(U94,'Country & Delivery'!N:O,2,FALSE))","v":""},null,null,{"$f":"IF(L94=\"\",\"\",VLOOKUP(L94,'Country & Delivery'!A:B,2,FALSE))","v":""},null,null,null,null,null,null,null,null,null,null,null,{"$f":"IF(M94=\"\",\"\",VLOOKUP(M94,'Country & Delivery'!AB:AC,2,FALSE))","v":""},null,null,null,null,null,null,null,null,null,null,null,{"$f":"IF(U94=\"\",\"\",VLOOKUP(U94,'Country & Delivery'!$N$1:$O$8,2,0))","v":""},"",0,"Canary Islands","ICN","Y",null,null,{"$f":"IFERROR(INDEX('Country & Delivery'!N83:N89,MATCH(BD94,'Country & Delivery'!O83:O89,0),1),\"\")","v":""},null,null,{"$f":"IFERROR(INDEX('Country & Delivery'!A83:A332,MATCH(BG94,'Country & Delivery'!B83:B332,0),1),\"\")","v":""}]
[82,null,null,null,null,null,null,null,null,null,null,null,null,null,null,{"$f":"IF(O95=\"\",\"\",VLOOKUP(O95,Products!A:C,2,FALSE))","v":""},{"$f":"IF(O95=\"\",\"\",VLOOKUP(O95,Products!A:C,3,FALSE))","v":""},null,"",{"$f":"IF(Y95=\"\",\"\",VLOOKUP(Y95,'Country & Delivery'!B:C,2,FALSE))","v":""},null,{"$f":"IF(U95=\"\",\"\",VLOOKUP(U95,'Country & Delivery'!N:O,2,FALSE))","v":""},null,null,{"$f":"IF(L95=\"\",\"\",VLOOKUP(L95,'Country & Delivery'!A:B,2,FALSE))","v":""},null,null,null,null,null,null,null,null,null,null,null,{"$f":"IF(M95=\"\",\"\",VLOOKUP(M95,'Country & Delivery'!AB:AC,2,FALSE))","v":""},null,null,null,null,null,null,null,null,null,null,null,{"$f":"IF(U95=\"\",\"\",VLOOKUP(U95,'Country & Delivery'!$N$1:$O$8,2,0))","v":""},"",0,"CAPE VERDE","CPV","N","del meth",null,{"$f":"IFERROR(INDEX('Country & Delivery'!N84:N90,MATCH(BD95,'Country & Delivery'!O84:O90,0),1),\"\")","v":""},null,null,{"$f":"IFERROR(INDEX('Country & Delivery'!A84:A333,MATCH(BG95,'Country & Delivery'!B84:B333,0),1),\"\")","v":""}]
[83,null,null,null,null,null,null,null,null,null,null,null,null,null,null,{"$f":"IF(O96=\"\",\"\",VLOOKUP(O96,Products!A:C,2,FALSE))","v":""},{"$f":"IF(O96=\"\",\"\",VLOOKUP(O96,Products!A:C,3,FALSE))","v":""},null,"",{"$f":"IF(Y96=\"\",\"\",VLOOKUP(Y96,'Country & Delivery'!B:C,2,FALSE))","v":""},null,{"$f":"IF(U96=\"\",\"\",VLOOKUP(U96,'Country & Delivery'!N:O,2,FALSE))","v":""},null,null,{"$f":"IF(L96=\"\",\"\",VLOOKUP(L96,'Country & Delivery'!A:B,2,FALSE))","v":""},null,null,null,null,null,null,null,null,null,null,null,{"$f":"IF(M96=\"\",\"\",VLOOKUP(M96,'Country & Delivery'!AB:AC,2,FALSE))","v":""},null,null,null,null,null,null,null,null,null,null,null,{"$f":"IF(U96=\"\",\"\",VLOOKUP(U96,'Country & Delivery'!$N$1:$O$8,2,0))","v":""},"",0,"Cayman Islands","CYM","N",null,null,{"$f":"IFERROR(INDEX('Country & Delivery'!N85:N91,MATCH(BD96,'Country & Delivery'!O85:O91,0),1),\"\")","v":""},null,null,{"$f":"IFERROR(INDEX('Country & Delivery'!A85:A334,MATCH(BG96,'Country & Delivery'!B85:B334,0),1),\"\")","v":""}]
[84,null,null,null,null,null,null,null,null,null,null,null,null,null,null,{"$f":"IF(O97=\"\",\"\",VLOOKUP(O97,Products!A:C,2,FALSE))","v":""},{"$f":"IF(O97=\"\",\"\",VLOOKUP(O97,Products!A:C,3,FALSE))","v":""},null,"",{"$f":"IF(Y97=\"\",\"\",VLOOKUP(Y97,'Country & Delivery'!B:C,2,FALSE))","v":""},null,{"$f":"IF(U97=\"\",\"\",VLOOKUP(U97,'Country & Delivery'!N:O,2,FALSE))","v":""},null,null,{"$f":"IF(L97=\"\",\"\",VLOOKUP(L97,'Country & Delivery'!A:B,2,FALSE))","v":""},null,null,null,null,null,null,null,null,null,null,null,{"$f":"IF(M97=\"\",\"\",VLOOKUP(M97,'Country & Delivery'!AB:AC,2,FALSE))","v":""},null,null,null,null,null,null,null,null,null,null,null,{"$f":"IF(U97=\"\",\"\",VLOOKUP(U97,'Country & Delivery'!$N$1:$O$8,2,0))","v":""},"",0,"CC","CCK","N","dc",null,{"$f":"IFERROR(INDEX('Country & Delivery'!N86:N92,MATCH(BD97,'Country & Delivery'!O86:O92,0),1),\"\")","v":""},null,null,{"$f":"IFERROR(INDEX('Country & Delivery'!A86:A335,MATCH(BG97,'Country & Delivery'!B86:B335,0),1),\"\")","v":""}]
[85,null,null,null,null,null,null,null,null,null,null,null,null,null,null,{"$f":"IF(O98=\"\",\"\",VLOOKUP(O98,Products!A:C,2,FALSE))","v":""},{"$f":"IF(O98=\"\",\"\",VLOOKUP(O98,Products!A:C,3,FALSE))","v":""},null,"",{"$f":"IF(Y98=\"\",\"\",VLOOKUP(Y98,'Country & Delivery'!B:C,2,FALSE))","v":""},null,{"$f":"IF(U98=\"\",\"\",VLOOKUP(U98,'Country & Delivery'!N:O,2,FALSE))","v":""},null,null,{"$f":"IF(L98=\"\",\"\",VLOOKUP(L98,'Country & Delivery'!A:B,2,FALSE))","v":""},null,null,null,null,null,null,null,null,null,null,null,{"$f":"IF(M98=\"\",\"\",VLOOKUP(M98,'Country & Delivery'!AB:AC,2,FALSE))","v":""},null,null,null,null,null,null,null,null,null,null,null,{"$f":"IF(U98=\"\",\"\",VLOOKUP(U98,'Country & Delivery'!$N$1:$O$8,2,0))","v":""},"",0,"CD","COD","N","dc",null,{"$f":"IFERROR(INDEX('Country & Delivery'!N87:N93,MATCH(BD98,'Country & Delivery'!O87:O93,0),1),\"\")","v":""},null,null,{"$f":"IFERROR(INDEX('Country & Delivery'!A87:A336,MATCH(BG98,'Country & Delivery'!B87:B336,0),1),\"\")","v":""}]
[86,null,null,null,null,null,null,null,null,null,null,null,null,null,null,{"$f":"IF(O99=\"\",\"\",VLOOKUP(O99,Products!A:C,2,FALSE))","v":""},{"$f":"IF(O99=\"\",\"\",VLOOKUP(O99,Products!A:C,3,FALSE))","v":""},null,"",{"$f":"IF(Y99=\"\",\"\",VLOOKUP(Y99,'Country & Delivery'!B:C,2,FALSE))","v":""},null,{"$f":"IF(U99=\"\",\"\",VLOOKUP(U99,'Country & Delivery'!N:O,2,FALSE))","v":""},null,null,{"$f":"IF(L99=\"\",\"\",VLOOKUP(L99,'Country & Delivery'!A:B,2,FALSE))","v":""},null,null,null,null,null,null,null,null,null,null,null,{"$f":"IF(M99=\"\",\"\",VLOOKUP(M99,'Country & Delivery'!AB:AC,2,FALSE))","v":""},null,null,null,null,null,null,null,null,null,null,null,{"$f":"IF(U99=\"\",\"\",VLOOKUP(U99,'Country & Delivery'!$N$1:$O$8,2,0))","v":""},"",0,"Central African Republic","CAF","N","dc",null,{"$f":"IFERROR(INDEX('Country & Delivery'!N88:N94,MATCH(BD99,'Country & Delivery'!O88:O94,0),1),\"\")","v":""},null,null,{"$f":"IFERROR(INDEX('Country & Delivery'!A88:A337,MATCH(BG99,'Country & Delivery'!B88:B337,0),1),\"\")","v":""}]
[87,null,null,null,null,null,null,null,null,null,null,null,null,null,null,{"$f":"IF(O100=\"\",\"\",VLOOKUP(O100,Products!A:C,2,FALSE))","v":""},{"$f":"IF(O100=\"\",\"\",VLOOKUP(O100,Products!A:C,3,FALSE))","v":""},null,"",{"$f":"IF(Y100=\"\",\"\",VLOOKUP(Y100,'Country & Delivery'!B:C,2,FALSE))","v":""},null,{"$f":"IF(U100=\"\",\"\",VLOOKUP(U100,'Country & Delivery'!N:O,2,FALSE))","v":""},null,null,{"$f":"IF(L100=\"\",\"\",VLOOKUP(L100,'Country & Delivery'!A:B,2,FALSE))","v":""},null,null,null,null,null,null,null,null,null,null,null,{"$f":"IF(M100=\"\",\"\",VLOOKUP(M100,'Country & Delivery'!AB:AC,2,FALSE))","v":""},null,null,null,null,null,null,null,null,null,null,null,{"$f":"IF(U100=\"\",\"\",VLOOKUP(U100,'Country & Delivery'!$N$1:$O$8,2,0))","v":""},"",0,"CF","CAF","N","dc",null,{"$f":"IFERROR(INDEX('Country & Delivery'!N89:N95,MATCH(BD100,'Country & Delivery'!O89:O95,0),1),\"\")","v":""},null,null,{"$f":"IFERROR(INDEX('Country & Delivery'!A89:A338,MATCH(BG100,'Country & Delivery'!B89:B338,0),1),\"\")","v":""}]
[88,null,null,null,null,null,null,null,null,null,null,null,null,null,null,{"$f":"IF(O101=\"\",\"\",VLOOKUP(O101,Products!A:C,2,FALSE))","v":""},{"$f":"IF(O101=\"\",\"\",VLOOKUP(O101,Products!A:C,3,FALSE))","v":""},null,"",{"$f":"IF(Y101=\"\",\"\",VLOOKUP(Y101,'Country & Delivery'!B:C,2,FALSE))","v":""},null,{"$f":"IF(U101=\"\",\"\",VLOOKUP(U101,'Country & Delivery'!N:O,2,FALSE))","v":""},null,null,{"$f":"IF(L101=\"\",\"\",VLOOKUP(L101,'Country & Delivery'!A:B,2,FALSE))","v":""},null,null,null,null,null,null,null,null,null,null,null,{"$f":"IF(M101=\"\",\"\",VLOOKUP(M101,'Country & Delivery'!AB:AC,2,FALSE))","v":""},null,null,null,null,null,null,null,null,null,null,null,{"$f":"IF(U101=\"\",\"\",VLOOKUP(U101,'Country & Delivery'!$N$1:$O$8,2,0))","v":""},"",0,"CG","COG","N","dc",null,{"$f":"IFERROR(INDEX('Country & Delivery'!N90:N96,MATCH(BD101,'Country & Delivery'!O90:O96,0),1),\"\")","v":""},null,null,{"$f":"IFERROR(INDEX('Country & Delivery'!A90:A339,MATCH(BG101,'Country & Delivery'!B90:B339,0),1),\"\")","v":""}]
[89,null,null,null,null,null,null,null,null,null,null,null,null,null,null,{"$f":"IF(O102=\"\",\"\",VLOOKUP(O102,Products!A:C,2,FALSE))","v":""},{"$f":"IF(O102=\"\",\"\",VLOOKUP(O102,Products!A:C,3,FALSE))","v":""},null,"",{"$f":"IF(Y102=\"\",\"\",VLOOKUP(Y102,'Country & Delivery'!B:C,2,FALSE))","v":""},null,{"$f":"IF(U102=\"\",\"\",VLOOKUP(U102,'Country & Delivery'!N:O,2,FALSE))","v":""},null,null,{"$f":"IF(L102=\"\",\"\",VLOOKUP(L102,'Country & Delivery'!A:B,2,FALSE))","v":""},null,null,null,null,null,null,null,null,null,null,null,{"$f":"IF(M102=\"\",\"\",VLOOKUP(M102,'Country & Delivery'!AB:AC,2,FALSE))","v":""},null,null,null,null,null,null,null,null,null,null,null,{"$f":"IF(U102=\"\",\"\",VLOOKUP(U102,'Country & Delivery'!$N$1:$O$8,2,0))","v":""},"",0,"CH","CHE","N",null,null,{"$f":"IFERROR(INDEX('Country & Delivery'!N91:N97,MATCH(BD102,'Country & Delivery'!O91:O97,0),1),\"\")","v":""},null,null,{"$f":"IFERROR(INDEX('Country & Delivery'!A91:A340,MATCH(BG102,'Country & Delivery'!B91:B340,0),1),\"\")","v":""}]
[90,null,null,null,null,null,null,null,null,null,null,null,null,null,null,{"$f":"IF(O103=\"\",\"\",VLOOKUP(O103,Products!A:C,2,FALSE))","v":""},{"$f":"IF(O103=\"\",\"\",VLOOKUP(O103,Products!A:C,3,FALSE))","v":""},null,"",{"$f":"IF(Y103=\"\",\"\",VLOOKUP(Y103,'Country & Delivery'!B:C,2,FALSE))","v":""},null,{"$f":"IF(U103=\"\",\"\",VLOOKUP(U103,'Country & Delivery'!N:O,2,FALSE))","v":""},null,null,{"$f":"IF(L103=\"\",\"\",VLOOKUP(L103,'Country & Delivery'!A:B,2,FALSE))","v":""},null,null,null,null,null,null,null,null,null,null,null,{"$f":"IF(M103=\"\",\"\",VLOOKUP(M103,'Country & Delivery'!AB:AC,2,FALSE))","v":""},null,null,null,null,null,null,null,null,null,null,null,{"$f":"IF(U103=\"\",\"\",VLOOKUP(U103,'Country & Delivery'!$N$1:$O$8,2,0))","v":""},"",0,"Chad","TCD","N","dc",null,{"$f":"IFERROR(INDEX('Country & Delivery'!N92:N98,MATCH(BD103,'Country & Delivery'!O92:O98,0),1),\"\")","v":""},null,null,{"$f":"IFERROR(INDEX('Country & Delivery'!A92:A341,MATCH(BG103,'Country & Delivery'!B92:B341,0),1),\"\")","v":""}]
[91,null,null,null,null,null,null,null,null,null,null,null,null,null,null,{"$f":"IF(O104=\"\",\"\",VLOOKUP(O104,Products!A:C,2,FALSE))","v":""},{"$f":"IF(O104=\"\",\"\",VLOOKUP(O104,Products!A:C,3,FALSE))","v":""},null,"",{"$f":"IF(Y104=\"\",\"\",VLOOKUP(Y104,'Country & Delivery'!B:C,2,FALSE))","v":""},null,{"$f":"IF(U104=\"\",\"\",VLOOKUP(U104,'Country & Delivery'!N:O,2,FALSE))","v":""},null,null,{"$f":"IF(L104=\"\",\"\",VLOOKUP(L104,'Country & Delivery'!A:B,2,FALSE))","v":""},null,null,null,null,null,null,null,null,null,null,null,{"$f":"IF(M104=\"\",\"\",VLOOKUP(M104,'Country & Delivery'!AB:AC,2,FALSE))","v":""},null,null,null,null,null,null,null,null,null,null,null,{"$f":"IF(U104=\"\",\"\",VLOOKUP(U104,'Country & Delivery'!$N$1:$O$8,2,0))","v":""},"",0,"Chile","CHL","N",null,null,{"$f":"IFERROR(INDEX('Country & Delivery'!N93:N99,MATCH(BD104,'Country & Delivery'!O93:O99,0),1),\"\")","v":""},null,null,{"$f":"IFERROR(INDEX('Country & Delivery'!A93:A342,MATCH(BG104,'Country & Delivery'!B93:B342,0),1),\"\")","v":""}]
[92,null,null,null,null,null,null,null,null,null,null,null,null,null,null,{"$f":"IF(O105=\"\",\"\",VLOOKUP(O105,Products!A:C,2,FALSE))","v":""},{"$f":"IF(O105=\"\",\"\",VLOOKUP(O105,Products!A:C,3,FALSE))","v":""},null,"",{"$f":"IF(Y105=\"\",\"\",VLOOKUP(Y105,'Country & Delivery'!B:C,2,FALSE))","v":""},null,{"$f":"IF(U105=\"\",\"\",VLOOKUP(U105,'Country & Delivery'!N:O,2,FALSE))","v":""},null,null,{"$f":"IF(L105=\"\",\"\",VLOOKUP(L105,'Country & Delivery'!A:B,2,FALSE))","v":""},null,null,null,null,null,null,null,null,null,null,null,{"$f":"IF(M105=\"\",\"\",VLOOKUP(M105,'Country & Delivery'!AB:AC,2,FALSE))","v":""},null,null,null,null,null,null,null,null,null,null,null,{"$f":"IF(U105=\"\",\"\",VLOOKUP(U105,'Country & Delivery'!$N$1:$O$8,2,0))","v":""},"",0,"China","CHN","N",null,null,{"$f":"IFERROR(INDEX('Country & Delivery'!N94:N100,MATCH(BD105,'Country & Delivery'!O94:O100,0),1),\"\")","v":""},null,null,{"$f":"IFERROR(INDEX('Country & Delivery'!A94:A343,MATCH(BG105,'Country & Delivery'!B94:B343,0),1),\"\")","v":""}]
[93,null,null,null,null,null,null,null,null,null,null,null,null,null,null,{"$f":"IF(O106=\"\",\"\",VLOOKUP(O106,Products!A:C,2,FALSE))","v":""},{"$f":"IF(O106=\"\",\"\",VLOOKUP(O106,Products!A:C,3,FALSE))","v":""},null,"",{"$f":"IF(Y106=\"\",\"\",VLOOKUP(Y106,'Country & Delivery'!B:C,2,FALSE))","v":""},null,{"$f":"IF(U106=\"\",\"\",VLOOKUP(U106,'Country & Delivery'!N:O,2,FALSE))","v":""},null,null,{"$f":"IF(L106=\"\",\"\",VLOOKUP(L106,'Country & Delivery'!A:B,2,FALSE))","v":""},null,null,null,null,null,null,null,null,null,null,null,{"$f":"IF(M106=\"\",\"\",VLOOKUP(M106,'Country & Delivery'!AB:AC,2,FALSE))","v":""},null,null,null,null,null,null,null,null,null,null,null,{"$f":"IF(U106=\"\",\"\",VLOOKUP(U106,'Country & Delivery'!$N$1:$O$8,2,0))","v":""},"",0,"Christmas Island","CXR","N","dc",null,{"$f":"IFERROR(INDEX('Country & Delivery'!N95:N101,MATCH(BD106,'Country & Delivery'!O95:O101,0),1),\"\")","v":""},null,null,{"$f":"IFERROR(INDEX('Country & Delivery'!A95:A344,MATCH(BG106,'Country & Delivery'!B95:B344,0),1),\"\")","v":""}]
[94,null,null,null,null,null,null,null,null,null,null,null,null,null,null,{"$f":"IF(O107=\"\",\"\",VLOOKUP(O107,Products!A:C,2,FALSE))","v":""},{"$f":"IF(O107=\"\",\"\",VLOOKUP(O107,Products!A:C,3,FALSE))","v":""},null,"",{"$f":"IF(Y107=\"\",\"\",VLOOKUP(Y107,'Country & Delivery'!B:C,2,FALSE))","v":""},null,{"$f":"IF(U107=\"\",\"\",VLOOKUP(U107,'Country & Delivery'!N:O,2,FALSE))","v":""},null,null,{"$f":"IF(L107=\"\",\"\",VLOOKUP(L107,'Country & Delivery'!A:B,2,FALSE))","v":""},null,null,null,null,null,null,null,null,null,null,null,{"$f":"IF(M107=\"\",\"\",VLOOKUP(M107,'Country & Delivery'!AB:AC,2,FALSE))","v":""},null,null,null,null,null,null,null,null,null,null,null,{"$f":"IF(U107=\"\",\"\",VLOOKUP(U107,'Country & Delivery'!$N$1:$O$8,2,0))","v":""},"",0,"CI","CIV","N","dc",null,{"$f":"IFERROR(INDEX('Country & Delivery'!N96:N102,MATCH(BD107,'Country & Delivery'!O96:O102,0),1),\"\")","v":""},null,null,{"$f":"IFERROR(INDEX('Country & Delivery'!A96:A345,MATCH(BG107,'Country & Delivery'!B96:B345,0),1),\"\")","v":""}]
[95,null,null,null,null,null,null,null,null,null,null,null,null,null,null,{"$f":"IF(O108=\"\",\"\",VLOOKUP(O108,Products!A:C,2,FALSE))","v":""},{"$f":"IF(O108=\"\",\"\",VLOOKUP(O108,Products!A:C,3,FALSE))","v":""},null,"",{"$f":"IF(Y108=\"\",\"\",VLOOKUP(Y108,'Country & Delivery'!B:C,2,FALSE))","v":""},null,{"$f":"IF(U108=\"\",\"\",VLOOKUP(U108,'Country & Delivery'!N:O,2,FALSE))","v":""},null,null,{"$f":"IF(L108=\"\",\"\",VLOOKUP(L108,'Country & Delivery'!A:B,2,FALSE))","v":""},null,null,null,null,null,null,null,null,null,null,null,{"$f":"IF(M108=\"\",\"\",VLOOKUP(M108,'Country & Delivery'!AB:AC,2,FALSE))","v":""},null,null,null,null,null,null,null,null,null,null,null,{"$f":"IF(U108=\"\",\"\",VLOOKUP(U108,'Country & Delivery'!$N$1:$O$8,2,0))","v":""},"",0,"CK","COK","N","dc",null,{"$f":"IFERROR(INDEX('Country & Delivery'!N97:N103,MATCH(BD108,'Country & Delivery'!O97:O103,0),1),\"\")","v":""},null,null,{"$f":"IFERROR(INDEX('Country & Delivery'!A97:A346,MATCH(BG108,'Country & Delivery'!B97:B346,0),1),\"\")","v":""}]
[96,null,null,null,null,null,null,null,null,null,null,null,null,null,null,{"$f":"IF(O109=\"\",\"\",VLOOKUP(O109,Products!A:C,2,FALSE))","v":""},{"$f":"IF(O109=\"\",\"\",VLOOKUP(O109,Products!A:C,3,FALSE))","v":""},null,"",{"$f":"IF(Y109=\"\",\"\",VLOOKUP(Y109,'Country & Delivery'!B:C,2,FALSE))","v":""},null,{"$f":"IF(U109=\"\",\"\",VLOOKUP(U109,'Country & Delivery'!N:O,2,FALSE))","v":""},null,null,{"$f":"IF(L109=\"\",\"\",VLOOKUP(L109,'Country & Delivery'!A:B,2,FALSE))","v":""},null,null,null,null,null,null,null,null,null,null,null,{"$f":"IF(M109=\"\",\"\",VLOOKUP(M109,'Country & Delivery'!AB:AC,2,FALSE))","v":""},null,null,null,null,null,null,null,null,null,null,null,{"$f":"IF(U109=\"\",\"\",VLOOKUP(U109,'Country & Delivery'!$N$1:$O$8,2,0))","v":""},"",0,"CL","CHL","N",null,null,{"$f":"IFERROR(INDEX('Country & Delivery'!N98:N104,MATCH(BD109,'Country & Delivery'!O98:O104,0),1),\"\")","v":""},null,null,{"$f":"IFERROR(INDEX('Country & Delivery'!A98:A347,MATCH(BG109,'Country & Delivery'!B98:B347,0),1),\"\")","v":""}]
[97,null,null,null,null,null,null,null,null,null,null,null,null,null,null,{"$f":"IF(O110=\"\",\"\",VLOOKUP(O110,Products!A:C,2,FALSE))","v":""},{"$f":"IF(O110=\"\",\"\",VLOOKUP(O110,Products!A:C,3,FALSE))","v":""},null,"",{"$f":"IF(Y110=\"\",\"\",VLOOKUP(Y110,'Country & Delivery'!B:C,2,FALSE))","v":""},null,{"$f":"IF(U110=\"\",\"\",VLOOKUP(U110,'Country & Delivery'!N:O,2,FALSE))","v":""},null,null,{"$f":"IF(L110=\"\",\"\",VLOOKUP(L110,'Country & Delivery'!A:B,2,FALSE))","v":""},null,null,null,null,null,null,null,null,null,null,null,{"$f":"IF(M110=\"\",\"\",VLOOKUP(M110,'Country & Delivery'!AB:AC,2,FALSE))","v":""},null,null,null,null,null,null,null,null,null,null,null,{"$f":"IF(U110=\"\",\"\",VLOOKUP(U110,'Country & Delivery'!$N$1:$O$8,2,0))","v":""},"",0,"CM","CMR","N","dc",null,{"$f":"IFERROR(INDEX('Country & Delivery'!N99:N105,MATCH(BD110,'Country & Delivery'!O99:O105,0),1),\"\")","v":""},null,null,{"$f":"IFERROR(INDEX('Country & Delivery'!A99:A348,MATCH(BG110,'Country & Delivery'!B99:B348,0),1),\"\")","v":""}]
[98,null,null,null,null,null,null,null,null,null,null,null,null,null,null,{"$f":"IF(O111=\"\",\"\",VLOOKUP(O111,Products!A:C,2,FALSE))","v":""},{"$f":"IF(O111=\"\",\"\",VLOOKUP(O111,Products!A:C,3,FALSE))","v":""},null,"",{"$f":"IF(Y111=\"\",\"\",VLOOKUP(Y111,'Country & Delivery'!B:C,2,FALSE))","v":""},null,{"$f":"IF(U111=\"\",\"\",VLOOKUP(U111,'Country & Delivery'!N:O,2,FALSE))","v":""},null,null,{"$f":"IF(L111=\"\",\"\",VLOOKUP(L111,'Country & Delivery'!A:B,2,FALSE))","v":""},null,null,null,null,null,null,null,null,null,null,null,{"$f":"IF(M111=\"\",\"\",VLOOKUP(M111,'Country & Delivery'!AB:AC,2,FALSE))","v":""},null,null,null,null,null,null,null,null,null,null,null,{"$f":"IF(U111=\"\",\"\",VLOOKUP(U111,'Country & Delivery'!$N$1:$O$8,2,0))","v":""},"",0,"CN","CHN","N",null,null,{"$f":"IFERROR(INDEX('Country & Delivery'!N100:N106,MATCH(BD111,'Country & Delivery'!O100:O106,0),1),\"\")","v":""},null,null,{"$f":"IFERROR(INDEX('Country & Delivery'!A100:A349,MATCH(BG111,'Country & Delivery'!B100:B349,0),1),\"\")","v":""}]
[99,null,null,null,null,null,null,null,null,null,null,null,null,null,null,{"$f":"IF(O112=\"\",\"\",VLOOKUP(O112,Products!A:C,2,FALSE))","v":""},{"$f":"IF(O112=\"\",\"\",VLOOKUP(O112,Products!A:C,3,FALSE))","v":""},null,"",{"$f":"IF(Y112=\"\",\"\",VLOOKUP(Y112,'Country & Delivery'!B:C,2,FALSE))","v":""},null,{"$f":"IF(U112=\"\",\"\",VLOOKUP(U112,'Country & Delivery'!N:O,2,FALSE))","v":""},null,null,{"$f":"IF(L112=\"\",\"\",VLOOKUP(L112,'Country & Delivery'!A:B,2,FALSE))","v":""},null,null,null,null,null,null,null,null,null,null,null,{"$f":"IF(M112=\"\",\"\",VLOOKUP(M112,'Country & Delivery'!AB:AC,2,FALSE))","v":""},null,null,null,null,null,null,null,null,null,null,null,{"$f":"IF(U112=\"\",\"\",VLOOKUP(U112,'Country & Delivery'!$N$1:$O$8,2,0))","v":""},"",0,"CO","COL","N",null,null,{"$f":"IFERROR(INDEX('Country & Delivery'!N101:N107,MATCH(BD112,'Country & Delivery'!O101:O107,0),1),\"\")","v":""},null,null,{"$f":"IFERROR(INDEX('Country & Delivery'!A101:A350,MATCH(BG112,'Country & Delivery'!B101:B350,0),1),\"\")","v":""}]
[100,null,null,null,null,null,null,null,null,null,null,null,null,null,null,{"$f":"IF(O113=\"\",\"\",VLOOKUP(O113,Products!A:C,2,FALSE))","v":""},{"$f":"IF(O113=\"\",\"\",VLOOKUP(O113,Products!A:C,3,FALSE))","v":""},null,"",{"$f":"IF(Y113=\"\",\"\",VLOOKUP(Y113,'Country & Delivery'!B:C,2,FALSE))","v":""},null,{"$f":"IF(U113=\"\",\"\",VLOOKUP(U113,'Country & Delivery'!N:O,2,FALSE))","v":""},null,null,{"$f":"IF(L113=\"\",\"\",VLOOKUP(L113,'Country & Delivery'!A:B,2,FALSE))","v":""},null,null,null,null,null,null,null,null,null,null,null,{"$f":"IF(M113=\"\",\"\",VLOOKUP(M113,'Country & Delivery'!AB:AC,2,FALSE))","v":""},null,null,null,null,null,null,null,null,null,null,null,{"$f":"IF(U113=\"\",\"\",VLOOKUP(U113,'Country & Delivery'!$N$1:$O$8,2,0))","v":""},"",0,"Cocos (Keeling) Islands","CCK","N","dc",null,{"$f":"IFERROR(INDEX('Country & Delivery'!N102:N108,MATCH(BD113,'Country & Delivery'!O102:O108,0),1),\"\")","v":""},null,null,{"$f":"IFERROR(INDEX('Country & Delivery'!A102:A351,MATCH(BG113,'Country & Delivery'!B102:B351,0),1),\"\")","v":""}]
[101,null,null,null,null,null,null,null,null,null,null,null,null,null,null,{"$f":"IF(O114=\"\",\"\",VLOOKUP(O114,Products!A:C,2,FALSE))","v":""},{"$f":"IF(O114=\"\",\"\",VLOOKUP(O114,Products!A:C,3,FALSE))","v":""},null,"",{"$f":"IF(Y114=\"\",\"\",VLOOKUP(Y114,'Country & Delivery'!B:C,2,FALSE))","v":""},null,{"$f":"IF(U114=\"\",\"\",VLOOKUP(U114,'Country & Delivery'!N:O,2,FALSE))","v":""},null,null,{"$f":"IF(L114=\"\",\"\",VLOOKUP(L114,'Country & Delivery'!A:B,2,FALSE))","v":""},null,null,null,null,null,null,null,null,null,null,null,{"$f":"IF(M114=\"\",\"\",VLOOKUP(M114,'Country & Delivery'!AB:AC,2,FALSE))","v":""},null,null,null,null,null,null,null,null,null,null,null,{"$f":"IF(U114=\"\",\"\",VLOOKUP(U114,'Country & Delivery'!$N$1:$O$8,2,0))","v":""},"",0,"Colombia","COL","N",null,null,{"$f":"IFERROR(INDEX('Country & Delivery'!N103:N109,MATCH(BD114,'Country & Delivery'!O103:O109,0),1),\"\")","v":""},null,null,{"$f":"IFERROR(INDEX('Country & Delivery'!A103:A352,MATCH(BG114,'Country & Delivery'!B103:B352,0),1),\"\")","v":""}]
[102,null,null,null,null,null,null,null,null,null,null,null,null,null,null,{"$f":"IF(O115=\"\",\"\",VLOOKUP(O115,Products!A:C,2,FALSE))","v":""},{"$f":"IF(O115=\"\",\"\",VLOOKUP(O115,Products!A:C,3,FALSE))","v":""},null,"",{"$f":"IF(Y115=\"\",\"\",VLOOKUP(Y115,'Country & Delivery'!B:C,2,FALSE))","v":""},null,{"$f":"IF(U115=\"\",\"\",VLOOKUP(U115,'Country & Delivery'!N:O,2,FALSE))","v":""},null,null,{"$f":"IF(L115=\"\",\"\",VLOOKUP(L115,'Country & Delivery'!A:B,2,FALSE))","v":""},null,null,null,null,null,null,null,null,null,null,null,{"$f":"IF(M115=\"\",\"\",VLOOKUP(M115,'Country & Delivery'!AB:AC,2,FALSE))","v":""},null,null,null,null,null,null,null,null,null,null,null,{"$f":"IF(U115=\"\",\"\",VLOOKUP(U115,'Country & Delivery'!$N$1:$O$8,2,0))","v":""},"",0,"Comoros","COM","N","dc",null,{"$f":"IFERROR(INDEX('Country & Delivery'!N104:N110,MATCH(BD115,'Country & Delivery'!O104:O110,0),1),\"\")","v":""},null,null,{"$f":"IFERROR(INDEX('Country & Delivery'!A104:A353,MATCH(BG115,'Country & Delivery'!B104:B353,0),1),\"\")","v":""}]
[103,null,null,null,null,null,null,null,null,null,null,null,null,null,null,{"$f":"IF(O116=\"\",\"\",VLOOKUP(O116,Products!A:C,2,FALSE))","v":""},{"$f":"IF(O116=\"\",\"\",VLOOKUP(O116,Products!A:C,3,FALSE))","v":""},null,{"$f":"IFERROR((Q116*R116),\"\")","v":""},{"$f":"IF(Y116=\"\",\"\",VLOOKUP(Y116,'Country & Delivery'!B:C,2,FALSE))","v":""},null,{"$f":"IF(U116=\"\",\"\",VLOOKUP(U116,'Country & Delivery'!N:O,2,FALSE))","v":""},null,null,{"$f":"IF(L116=\"\",\"\",VLOOKUP(L116,'Country & Delivery'!A:B,2,FALSE))","v":""},null,null,null,null,null,null,null,null,null,null,null,{"$f":"IF(M116=\"\",\"\",VLOOKUP(M116,'Country & Delivery'!AB:AC,2,FALSE))","v":""},null,null,null,null,null,null,null,null,null,null,null,{"$f":"IF(U116=\"\",\"\",VLOOKUP(U116,'Country & Delivery'!$N$1:$O$8,2,0))","v":""},"",0,"Congo","COG","N","dc",null,{"$f":"IFERROR(INDEX('Country & Delivery'!N105:N111,MATCH(BD116,'Country & Delivery'!O105:O111,0),1),\"\")","v":""},null,null,{"$f":"IFERROR(INDEX('Country & Delivery'!A105:A354,MATCH(BG116,'Country & Delivery'!B105:B354,0),1),\"\")","v":""}]
[104,null,null,null,null,null,null,null,null,null,null,null,null,null,null,{"$f":"IF(O117=\"\",\"\",VLOOKUP(O117,Products!A:C,2,FALSE))","v":""},{"$f":"IF(O117=\"\",\"\",VLOOKUP(O117,Products!A:C,3,FALSE))","v":""},null,"",{"$f":"IF(Y117=\"\",\"\",VLOOKUP(Y117,'Country & Delivery'!B:C,2,FALSE))","v":""},null,{"$f":"IF(U117=\"\",\"\",VLOOKUP(U117,'Country & Delivery'!N:O,2,FALSE))","v":""},null,null,{"$f":"IF(L117=\"\",\"\",VLOOKUP(L117,'Country & Delivery'!A:B,2,FALSE))","v":""},null,null,null,null,null,null,null,null,null,null,null,{"$f":"IF(M117=\"\",\"\",VLOOKUP(M117,'Country & Delivery'!AB:AC,2,FALSE))","v":""},null,null,null,null,null,null,null,null,null,null,null,{"$f":"IF(U117=\"\",\"\",VLOOKUP(U117,'Country & Delivery'!$N$1:$O$8,2,0))","v":""},"",0,"Congo (Democratic Republic of the)","COD","N","dc",null,{"$f":"IFERROR(INDEX('Country & Delivery'!N106:N112,MATCH(BD117,'Country & Delivery'!O106:O112,0),1),\"\")","v":""},null,null,{"$f":"IFERROR(INDEX('Country & Delivery'!A106:A355,MATCH(BG117,'Country & Delivery'!B106:B355,0),1),\"\")","v":""}]
[105,null,null,null,null,null,null,null,null,null,null,null,null,null,null,{"$f":"IF(O118=\"\",\"\",VLOOKUP(O118,Products!A:C,2,FALSE))","v":""},{"$f":"IF(O118=\"\",\"\",VLOOKUP(O118,Products!A:C,3,FALSE))","v":""},null,"",{"$f":"IF(Y118=\"\",\"\",VLOOKUP(Y118,'Country & Delivery'!B:C,2,FALSE))","v":""},null,{"$f":"IF(U118=\"\",\"\",VLOOKUP(U118,'Country & Delivery'!N:O,2,FALSE))","v":""},null,null,{"$f":"IF(L118=\"\",\"\",VLOOKUP(L118,'Country & Delivery'!A:B,2,FALSE))","v":""},null,null,null,null,null,null,null,null,null,null,null,{"$f":"IF(M118=\"\",\"\",VLOOKUP(M118,'Country & Delivery'!AB:AC,2,FALSE))","v":""},null,null,null,null,null,null,null,null,null,null,null,{"$f":"IF(U118=\"\",\"\",VLOOKUP(U118,'Country & Delivery'!$N$1:$O$8,2,0))","v":""},"",0,"Cook Islands","COK","N","dc",null,{"$f":"IFERROR(INDEX('Country & Delivery'!N107:N113,MATCH(BD118,'Country & Delivery'!O107:O113,0),1),\"\")","v":""},null,null,{"$f":"IFERROR(INDEX('Country & Delivery'!A107:A356,MATCH(BG118,'Country & Delivery'!B107:B356,0),1),\"\")","v":""}]
[106,null,null,null,null,null,null,null,null,null,null,null,null,null,null,{"$f":"IF(O119=\"\",\"\",VLOOKUP(O119,Products!A:C,2,FALSE))","v":""},{"$f":"IF(O119=\"\",\"\",VLOOKUP(O119,Products!A:C,3,FALSE))","v":""},null,"",{"$f":"IF(Y119=\"\",\"\",VLOOKUP(Y119,'Country & Delivery'!B:C,2,FALSE))","v":""},null,{"$f":"IF(U119=\"\",\"\",VLOOKUP(U119,'Country & Delivery'!N:O,2,FALSE))","v":""},null,null,{"$f":"IF(L119=\"\",\"\",VLOOKUP(L119,'Country & Delivery'!A:B,2,FALSE))","v":""},null,null,null,null,null,null,null,null,null,null,null,{"$f":"IF(M119=\"\",\"\",VLOOKUP(M119,'Country & Delivery'!AB:AC,2,FALSE))","v":""},null,null,null,null,null,null,null,null,null,null,null,{"$f":"IF(U119=\"\",\"\",VLOOKUP(U119,'Country & Delivery'!$N$1:$O$8,2,0))","v":""},"",0,"Costa Rica","CRI","N",null,null,{"$f":"IFERROR(INDEX('Country & Delivery'!N108:N114,MATCH(BD119,'Country & Delivery'!O108:O114,0),1),\"\")","v":""},null,null,{"$f":"IFERROR(INDEX('Country & Delivery'!A108:A357,MATCH(BG119,'Country & Delivery'!B108:B357,0),1),\"\")","v":""}]
[107,null,null,null,null,null,null,null,null,null,null,null,null,null,null,{"$f":"IF(O120=\"\",\"\",VLOOKUP(O120,Products!A:C,2,FALSE))","v":""},{"$f":"IF(O120=\"\",\"\",VLOOKUP(O120,Products!A:C,3,FALSE))","v":""},null,"",{"$f":"IF(Y120=\"\",\"\",VLOOKUP(Y120,'Country & Delivery'!B:C,2,FALSE))","v":""},null,{"$f":"IF(U120=\"\",\"\",VLOOKUP(U120,'Country & Delivery'!N:O,2,FALSE))","v":""},null,null,{"$f":"IF(L120=\"\",\"\",VLOOKUP(L120,'Country & Delivery'!A:B,2,FALSE))","v":""},null,null,null,null,null,null,null,null,null,null,null,{"$f":"IF(M120=\"\",\"\",VLOOKUP(M120,'Country & Delivery'!AB:AC,2,FALSE))","v":""},null,null,null,null,null,null,null,null,null,null,null,{"$f":"IF(U120=\"\",\"\",VLOOKUP(U120,'Country & Delivery'!$N$1:$O$8,2,0))","v":""},"",0,"Cote d'Ivoire","CIV","N","dc",null,{"$f":"IFERROR(INDEX('Country & Delivery'!N109:N115,MATCH(BD120,'Country & Delivery'!O109:O115,0),1),\"\")","v":""},null,null,{"$f":"IFERROR(INDEX('Country & Delivery'!A109:A358,MATCH(BG120,'Country & Delivery'!B109:B358,0),1),\"\")","v":""}]
[108,null,null,null,null,null,null,null,null,null,null,null,null,null,null,{"$f":"IF(O121=\"\",\"\",VLOOKUP(O121,Products!A:C,2,FALSE))","v":""},{"$f":"IF(O121=\"\",\"\",VLOOKUP(O121,Products!A:C,3,FALSE))","v":""},null,"",{"$f":"IF(Y121=\"\",\"\",VLOOKUP(Y121,'Country & Delivery'!B:C,2,FALSE))","v":""},null,{"$f":"IF(U121=\"\",\"\",VLOOKUP(U121,'Country & Delivery'!N:O,2,FALSE))","v":""},null,null,{"$f":"IF(L121=\"\",\"\",VLOOKUP(L121,'Country & Delivery'!A:B,2,FALSE))","v":""},null,null,null,null,null,null,null,null,null,null,null,{"$f":"IF(M121=\"\",\"\",VLOOKUP(M121,'Country & Delivery'!AB:AC,2,FALSE))","v":""},null,null,null,null,null,null,null,null,null,null,null,{"$f":"IF(U121=\"\",\"\",VLOOKUP(U121,'Country & Delivery'!$N$1:$O$8,2,0))","v":""},"",0,"CÔTE D'IVOIRE","CIV","N","del meth",null,{"$f":"IFERROR(INDEX('Country & Delivery'!N110:N116,MATCH(BD121,'Country & Delivery'!O110:O116,0),1),\"\")","v":""},null,null,{"$f":"IFERROR(INDEX('Country & Delivery'!A110:A359,MATCH(BG121,'Country & Delivery'!B110:B359,0),1),\"\")","v":""}]
[109,null,null,null,null,null,null,null,null,null,null,null,null,null,null,{"$f":"IF(O122=\"\",\"\",VLOOKUP(O122,Products!A:C,2,FALSE))","v":""},{"$f":"IF(O122=\"\",\"\",VLOOKUP(O122,Products!A:C,3,FALSE))","v":""},null,"",{"$f":"IF(Y122=\"\",\"\",VLOOKUP(Y122,'Country & Delivery'!B:C,2,FALSE))","v":""},null,{"$f":"IF(U122=\"\",\"\",VLOOKUP(U122,'Country & Delivery'!N:O,2,FALSE))","v":""},null,null,{"$f":"IF(L122=\"\",\"\",VLOOKUP(L122,'Country & Delivery'!A:B,2,FALSE))","v":""},null,null,null,null,null,null,null,null,null,null,null,{"$f":"IF(M122=\"\",\"\",VLOOKUP(M122,'Country & Delivery'!AB:AC,2,FALSE))","v":""},null,null,null,null,null,null,null,null,null,null,null,{"$f":"IF(U122=\"\",\"\",VLOOKUP(U122,'Country & Delivery'!$N$1:$O$8,2,0))","v":""},"",0,"CR","CRI","N",null,null,{"$f":"IFERROR(INDEX('Country & Delivery'!N111:N117,MATCH(BD122,'Country & Delivery'!O111:O117,0),1),\"\")","v":""},null,null,{"$f":"IFERROR(INDEX('Country & Delivery'!A111:A360,MATCH(BG122,'Country & Delivery'!B111:B360,0),1),\"\")","v":""}]
[110,null,null,null,null,null,null,null,null,null,null,null,null,null,null,{"$f":"IF(O123=\"\",\"\",VLOOKUP(O123,Products!A:C,2,FALSE))","v":""},{"$f":"IF(O123=\"\",\"\",VLOOKUP(O123,Products!A:C,3,FALSE))","v":""},null,"",{"$f":"IF(Y123=\"\",\"\",VLOOKUP(Y123,'Country & Delivery'!B:C,2,FALSE))","v":""},null,{"$f":"IF(U123=\"\",\"\",VLOOKUP(U123,'Country & Delivery'!N:O,2,FALSE))","v":""},null,null,{"$f":"IF(L123=\"\",\"\",VLOOKUP(L123,'Country & Delivery'!A:B,2,FALSE))","v":""},null,null,null,null,null,null,null,null,null,null,null,{"$f":"IF(M123=\"\",\"\",VLOOKUP(M123,'Country & Delivery'!AB:AC,2,FALSE))","v":""},null,null,null,null,null,null,null,null,null,null,null,{"$f":"IF(U123=\"\",\"\",VLOOKUP(U123,'Country & Delivery'!$N$1:$O$8,2,0))","v":""},"",0,"Croatia","HRV","Y",null,null,{"$f":"IFERROR(INDEX('Country & Delivery'!N112:N118,MATCH(BD123,'Country & Delivery'!O112:O118,0),1),\"\")","v":""},null,null,{"$f":"IFERROR(INDEX('Country & Delivery'!A112:A361,MATCH(BG123,'Country & Delivery'!B112:B361,0),1),\"\")","v":""}]
[111,null,null,null,null,null,null,null,null,null,null,null,null,null,null,{"$f":"IF(O124=\"\",\"\",VLOOKUP(O124,Products!A:C,2,FALSE))","v":""},{"$f":"IF(O124=\"\",\"\",VLOOKUP(O124,Products!A:C,3,FALSE))","v":""},null,"",{"$f":"IF(Y124=\"\",\"\",VLOOKUP(Y124,'Country & Delivery'!B:C,2,FALSE))","v":""},null,{"$f":"IF(U124=\"\",\"\",VLOOKUP(U124,'Country & Delivery'!N:O,2,FALSE))","v":""},null,null,{"$f":"IF(L124=\"\",\"\",VLOOKUP(L124,'Country & Delivery'!A:B,2,FALSE))","v":""},null,null,null,null,null,null,null,null,null,null,null,{"$f":"IF(M124=\"\",\"\",VLOOKUP(M124,'Country & Delivery'!AB:AC,2,FALSE))","v":""},null,null,null,null,null,null,null,null,null,null,null,{"$f":"IF(U124=\"\",\"\",VLOOKUP(U124,'Country & Delivery'!$N$1:$O$8,2,0))","v":""},"",0,"CU","CUB","N","dc",null,{"$f":"IFERROR(INDEX('Country & Delivery'!N113:N119,MATCH(BD124,'Country & Delivery'!O113:O119,0),1),\"\")","v":""},null,null,{"$f":"IFERROR(INDEX('Country & Delivery'!A113:A362,MATCH(BG124,'Country & Delivery'!B113:B362,0),1),\"\")","v":""}]
[112,null,null,null,null,null,null,null,null,null,null,null,null,null,null,{"$f":"IF(O125=\"\",\"\",VLOOKUP(O125,Products!A:C,2,FALSE))","v":""},{"$f":"IF(O125=\"\",\"\",VLOOKUP(O125,Products!A:C,3,FALSE))","v":""},null,"",{"$f":"IF(Y125=\"\",\"\",VLOOKUP(Y125,'Country & Delivery'!B:C,2,FALSE))","v":""},null,{"$f":"IF(U125=\"\",\"\",VLOOKUP(U125,'Country & Delivery'!N:O,2,FALSE))","v":""},null,null,{"$f":"IF(L125=\"\",\"\",VLOOKUP(L125,'Country & Delivery'!A:B,2,FALSE))","v":""},null,null,null,null,null,null,null,null,null,null,null,{"$f":"IF(M125=\"\",\"\",VLOOKUP(M125,'Country & Delivery'!AB:AC,2,FALSE))","v":""},null,null,null,null,null,null,null,null,null,null,null,{"$f":"IF(U125=\"\",\"\",VLOOKUP(U125,'Country & Delivery'!$N$1:$O$8,2,0))","v":""},"",0,"Cuba","CUB","N","dc",null,{"$f":"IFERROR(INDEX('Country & Delivery'!N114:N120,MATCH(BD125,'Country & Delivery'!O114:O120,0),1),\"\")","v":""},null,null,{"$f":"IFERROR(INDEX('Country & Delivery'!A114:A363,MATCH(BG125,'Country & Delivery'!B114:B363,0),1),\"\")","v":""}]
[113,null,null,null,null,null,null,null,null,null,null,null,null,null,null,{"$f":"IF(O126=\"\",\"\",VLOOKUP(O126,Products!A:C,2,FALSE))","v":""},{"$f":"IF(O126=\"\",\"\",VLOOKUP(O126,Products!A:C,3,FALSE))","v":""},null,"",{"$f":"IF(Y126=\"\",\"\",VLOOKUP(Y126,'Country & Delivery'!B:C,2,FALSE))","v":""},null,{"$f":"IF(U126=\"\",\"\",VLOOKUP(U126,'Country & Delivery'!N:O,2,FALSE))","v":""},null,null,{"$f":"IF(L126=\"\",\"\",VLOOKUP(L126,'Country & Delivery'!A:B,2,FALSE))","v":""},null,null,null,null,null,null,null,null,null,null,null,{"$f":"IF(M126=\"\",\"\",VLOOKUP(M126,'Country & Delivery'!AB:AC,2,FALSE))","v":""},null,null,null,null,null,null,null,null,null,null,null,{"$f":"IF(U126=\"\",\"\",VLOOKUP(U126,'Country & Delivery'!$N$1:$O$8,2,0))","v":""},"",0,"Curacao","CUW","N","dc",null,{"$f":"IFERROR(INDEX('Country & Delivery'!N115:N121,MATCH(BD126,'Country & Delivery'!O115:O121,0),1),\"\")","v":""},null,null,{"$f":"IFERROR(INDEX('Country & Delivery'!A115:A364,MATCH(BG126,'Country & Delivery'!B115:B364,0),1),\"\")","v":""}]
[114,null,null,null,null,null,null,null,null,null,null,null,null,null,null,{"$f":"IF(O127=\"\",\"\",VLOOKUP(O127,Products!A:C,2,FALSE))","v":""},{"$f":"IF(O127=\"\",\"\",VLOOKUP(O127,Products!A:C,3,FALSE))","v":""},null,"",{"$f":"IF(Y127=\"\",\"\",VLOOKUP(Y127,'Country & Delivery'!B:C,2,FALSE))","v":""},null,{"$f":"IF(U127=\"\",\"\",VLOOKUP(U127,'Country & Delivery'!N:O,2,FALSE))","v":""},null,null,{"$f":"IF(L127=\"\",\"\",VLOOKUP(L127,'Country & Delivery'!A:B,2,FALSE))","v":""},null,null,null,null,null,null,null,null,null,null,null,{"$f":"IF(M127=\"\",\"\",VLOOKUP(M127,'Country & Delivery'!AB:AC,2,FALSE))","v":""},null,null,null,null,null,null,null,null,null,null,null,{"$f":"IF(U127=\"\",\"\",VLOOKUP(U127,'Country & Delivery'!$N$1:$O$8,2,0))","v":""},"",0,"CV","CPV","N","dc",null,{"$f":"IFERROR(INDEX('Country & Delivery'!N116:N122,MATCH(BD127,'Country & Delivery'!O116:O122,0),1),\"\")","v":""},null,null,{"$f":"IFERROR(INDEX('Country & Delivery'!A116:A365,MATCH(BG127,'Country & Delivery'!B116:B365,0),1),\"\")","v":""}]
[115,null,null,null,null,null,null,null,null,null,null,null,null,null,null,{"$f":"IF(O128=\"\",\"\",VLOOKUP(O128,Products!A:C,2,FALSE))","v":""},{"$f":"IF(O128=\"\",\"\",VLOOKUP(O128,Products!A:C,3,FALSE))","v":""},null,"",{"$f":"IF(Y128=\"\",\"\",VLOOKUP(Y128,'Country & Delivery'!B:C,2,FALSE))","v":""},null,{"$f":"IF(U128=\"\",\"\",VLOOKUP(U128,'Country & Delivery'!N:O,2,FALSE))","v":""},null,null,{"$f":"IF(L128=\"\",\"\",VLOOKUP(L128,'Country & Delivery'!A:B,2,FALSE))","v":""},null,null,null,null,null,null,null,null,null,null,null,{"$f":"IF(M128=\"\",\"\",VLOOKUP(M128,'Country & Delivery'!AB:AC,2,FALSE))","v":""},null,null,null,null,null,null,null,null,null,null,null,{"$f":"IF(U128=\"\",\"\",VLOOKUP(U128,'Country & Delivery'!$N$1:$O$8,2,0))","v":""},"",0,"CW","CUW","N","dc",null,{"$f":"IFERROR(INDEX('Country & Delivery'!N117:N123,MATCH(BD128,'Country & Delivery'!O117:O123,0),1),\"\")","v":""},null,null,{"$f":"IFERROR(INDEX('Country & Delivery'!A117:A366,MATCH(BG128,'Country & Delivery'!B117:B366,0),1),\"\")","v":""}]
[116,null,null,null,null,null,null,null,null,null,null,null,null,null,null,{"$f":"IF(O129=\"\",\"\",VLOOKUP(O129,Products!A:C,2,FALSE))","v":""},{"$f":"IF(O129=\"\",\"\",VLOOKUP(O129,Products!A:C,3,FALSE))","v":""},null,"",{"$f":"IF(Y129=\"\",\"\",VLOOKUP(Y129,'Country & Delivery'!B:C,2,FALSE))","v":""},null,{"$f":"IF(U129=\"\",\"\",VLOOKUP(U129,'Country & Delivery'!N:O,2,FALSE))","v":""},null,null,{"$f":"IF(L129=\"\",\"\",VLOOKUP(L129,'Country & Delivery'!A:B,2,FALSE))","v":""},null,null,null,null,null,null,null,null,null,null,null,{"$f":"IF(M129=\"\",\"\",VLOOKUP(M129,'Country & Delivery'!AB:AC,2,FALSE))","v":""},null,null,null,null,null,null,null,null,null,null,null,{"$f":"IF(U129=\"\",\"\",VLOOKUP(U129,'Country & Delivery'!$N$1:$O$8,2,0))","v":""},"",0,"CX","CXR","N","dc",null,{"$f":"IFERROR(INDEX('Country & Delivery'!N118:N124,MATCH(BD129,'Country & Delivery'!O118:O124,0),1),\"\")","v":""},null,null,{"$f":"IFERROR(INDEX('Country & Delivery'!A118:A367,MATCH(BG129,'Country & Delivery'!B118:B367,0),1),\"\")","v":""}]
[117,null,null,null,null,null,null,null,null,null,null,null,null,null,null,{"$f":"IF(O130=\"\",\"\",VLOOKUP(O130,Products!A:C,2,FALSE))","v":""},{"$f":"IF(O130=\"\",\"\",VLOOKUP(O130,Products!A:C,3,FALSE))","v":""},null,"",{"$f":"IF(Y130=\"\",\"\",VLOOKUP(Y130,'Country & Delivery'!B:C,2,FALSE))","v":""},null,{"$f":"IF(U130=\"\",\"\",VLOOKUP(U130,'Country & Delivery'!N:O,2,FALSE))","v":""},null,null,{"$f":"IF(L130=\"\",\"\",VLOOKUP(L130,'Country & Delivery'!A:B,2,FALSE))","v":""},null,null,null,null,null,null,null,null,null,null,null,{"$f":"IF(M130=\"\",\"\",VLOOKUP(M130,'Country & Delivery'!AB:AC,2,FALSE))","v":""},null,null,null,null,null,null,null,null,null,null,null,{"$f":"IF(U130=\"\",\"\",VLOOKUP(U130,'Country & Delivery'!$N$1:$O$8,2,0))","v":""},"",0,"CY","CYP","Y",null,null,{"$f":"IFERROR(INDEX('Country & Delivery'!N119:N125,MATCH(BD130,'Country & Delivery'!O119:O125,0),1),\"\")","v":""},null,null,{"$f":"IFERROR(INDEX('Country & Delivery'!A119:A368,MATCH(BG130,'Country & Delivery'!B119:B368,0),1),\"\")","v":""}]
[118,null,null,null,null,null,null,null,null,null,null,null,null,null,null,{"$f":"IF(O131=\"\",\"\",VLOOKUP(O131,Products!A:C,2,FALSE))","v":""},{"$f":"IF(O131=\"\",\"\",VLOOKUP(O131,Products!A:C,3,FALSE))","v":""},null,"",{"$f":"IF(Y131=\"\",\"\",VLOOKUP(Y131,'Country & Delivery'!B:C,2,FALSE))","v":""},null,{"$f":"IF(U131=\"\",\"\",VLOOKUP(U131,'Country & Delivery'!N:O,2,FALSE))","v":""},null,null,{"$f":"IF(L131=\"\",\"\",VLOOKUP(L131,'Country & Delivery'!A:B,2,FALSE))","v":""},null,null,null,null,null,null,null,null,null,null,null,{"$f":"IF(M131=\"\",\"\",VLOOKUP(M131,'Country & Delivery'!AB:AC,2,FALSE))","v":""},null,null,null,null,null,null,null,null,null,null,null,{"$f":"IF(U131=\"\",\"\",VLOOKUP(U131,'Country & Delivery'!$N$1:$O$8,2,0))","v":""},"",0,"Cyprus","CYP","Y",null,null,{"$f":"IFERROR(INDEX('Country & Delivery'!N120:N126,MATCH(BD131,'Country & Delivery'!O120:O126,0),1),\"\")","v":""},null,null,{"$f":"IFERROR(INDEX('Country & Delivery'!A120:A369,MATCH(BG131,'Country & Delivery'!B120:B369,0),1),\"\")","v":""}]
[119,null,null,null,null,null,null,null,null,null,null,null,null,null,null,{"$f":"IF(O132=\"\",\"\",VLOOKUP(O132,Products!A:C,2,FALSE))","v":""},{"$f":"IF(O132=\"\",\"\",VLOOKUP(O132,Products!A:C,3,FALSE))","v":""},null,"",{"$f":"IF(Y132=\"\",\"\",VLOOKUP(Y132,'Country & Delivery'!B:C,2,FALSE))","v":""},null,{"$f":"IF(U132=\"\",\"\",VLOOKUP(U132,'Country & Delivery'!N:O,2,FALSE))","v":""},null,null,{"$f":"IF(L132=\"\",\"\",VLOOKUP(L132,'Country & Delivery'!A:B,2,FALSE))","v":""},null,null,null,null,null,null,null,null,null,null,null,{"$f":"IF(M132=\"\",\"\",VLOOKUP(M132,'Country & Delivery'!AB:AC,2,FALSE))","v":""},null,null,null,null,null,null,null,null,null,null,null,{"$f":"IF(U132=\"\",\"\",VLOOKUP(U132,'Country & Delivery'!$N$1:$O$8,2,0))","v":""},"",0,"CZ","CZE","Y",null,null,{"$f":"IFERROR(INDEX('Country & Delivery'!N121:N127,MATCH(BD132,'Country & Delivery'!O121:O127,0),1),\"\")","v":""},null,null,{"$f":"IFERROR(INDEX('Country & Delivery'!A121:A370,MATCH(BG132,'Country & Delivery'!B121:B370,0),1),\"\")","v":""}]
[120,null,null,null,null,null,null,null,null,null,null,null,null,null,null,{"$f":"IF(O133=\"\",\"\",VLOOKUP(O133,Products!A:C,2,FALSE))","v":""},{"$f":"IF(O133=\"\",\"\",VLOOKUP(O133,Products!A:C,3,FALSE))","v":""},null,"",{"$f":"IF(Y133=\"\",\"\",VLOOKUP(Y133,'Country & Delivery'!B:C,2,FALSE))","v":""},null,{"$f":"IF(U133=\"\",\"\",VLOOKUP(U133,'Country & Delivery'!N:O,2,FALSE))","v":""},null,null,{"$f":"IF(L133=\"\",\"\",VLOOKUP(L133,'Country & Delivery'!A:B,2,FALSE))","v":""},null,null,null,null,null,null,null,null,null,null,null,{"$f":"IF(M133=\"\",\"\",VLOOKUP(M133,'Country & Delivery'!AB:AC,2,FALSE))","v":""},null,null,null,null,null,null,null,null,null,null,null,{"$f":"IF(U133=\"\",\"\",VLOOKUP(U133,'Country & Delivery'!$N$1:$O$8,2,0))","v":""},"",0,"Czech Republic","CZE","Y",null,null,{"$f":"IFERROR(INDEX('Country & Delivery'!N122:N128,MATCH(BD133,'Country & Delivery'!O122:O128,0),1),\"\")","v":""},null,null,{"$f":"IFERROR(INDEX('Country & Delivery'!A122:A371,MATCH(BG133,'Country & Delivery'!B122:B371,0),1),\"\")","v":""}]
[121,null,null,null,null,null,null,null,null,null,null,null,null,null,null,{"$f":"IF(O134=\"\",\"\",VLOOKUP(O134,Products!A:C,2,FALSE))","v":""},{"$f":"IF(O134=\"\",\"\",VLOOKUP(O134,Products!A:C,3,FALSE))","v":""},null,"",{"$f":"IF(Y134=\"\",\"\",VLOOKUP(Y134,'Country & Delivery'!B:C,2,FALSE))","v":""},null,{"$f":"IF(U134=\"\",\"\",VLOOKUP(U134,'Country & Delivery'!N:O,2,FALSE))","v":""},null,null,{"$f":"IF(L134=\"\",\"\",VLOOKUP(L134,'Country & Delivery'!A:B,2,FALSE))","v":""},null,null,null,null,null,null,null,null,null,null,null,{"$f":"IF(M134=\"\",\"\",VLOOKUP(M134,'Country & Delivery'!AB:AC,2,FALSE))","v":""},null,null,null,null,null,null,null,null,null,null,null,{"$f":"IF(U134=\"\",\"\",VLOOKUP(U134,'Country & Delivery'!$N$1:$O$8,2,0))","v":""},"",0,"DE","DEU","Y",null,null,{"$f":"IFERROR(INDEX('Country & Delivery'!N123:N129,MATCH(BD134,'Country & Delivery'!O123:O129,0),1),\"\")","v":""},null,null,{"$f":"IFERROR(INDEX('Country & Delivery'!A123:A372,MATCH(BG134,'Country & Delivery'!B123:B372,0),1),\"\")","v":""}]
[122,null,null,null,null,null,null,null,null,null,null,null,null,null,null,{"$f":"IF(O135=\"\",\"\",VLOOKUP(O135,Products!A:C,2,FALSE))","v":""},{"$f":"IF(O135=\"\",\"\",VLOOKUP(O135,Products!A:C,3,FALSE))","v":""},null,"",{"$f":"IF(Y135=\"\",\"\",VLOOKUP(Y135,'Country & Delivery'!B:C,2,FALSE))","v":""},null,{"$f":"IF(U135=\"\",\"\",VLOOKUP(U135,'Country & Delivery'!N:O,2,FALSE))","v":""},null,null,{"$f":"IF(L135=\"\",\"\",VLOOKUP(L135,'Country & Delivery'!A:B,2,FALSE))","v":""},null,null,null,null,null,null,null,null,null,null,null,{"$f":"IF(M135=\"\",\"\",VLOOKUP(M135,'Country & Delivery'!AB:AC,2,FALSE))","v":""},null,null,null,null,null,null,null,null,null,null,null,{"$f":"IF(U135=\"\",\"\",VLOOKUP(U135,'Country & Delivery'!$N$1:$O$8,2,0))","v":""},"",0,"Denmark","DNK","Y",null,null,{"$f":"IFERROR(INDEX('Country & Delivery'!N124:N130,MATCH(BD135,'Country & Delivery'!O124:O130,0),1),\"\")","v":""},null,null,{"$f":"IFERROR(INDEX('Country & Delivery'!A124:A373,MATCH(BG135,'Country & Delivery'!B124:B373,0),1),\"\")","v":""}]
[123,null,null,null,null,null,null,null,null,null,null,null,null,null,null,{"$f":"IF(O136=\"\",\"\",VLOOKUP(O136,Products!A:C,2,FALSE))","v":""},{"$f":"IF(O136=\"\",\"\",VLOOKUP(O136,Products!A:C,3,FALSE))","v":""},null,"",{"$f":"IF(Y136=\"\",\"\",VLOOKUP(Y136,'Country & Delivery'!B:C,2,FALSE))","v":""},null,{"$f":"IF(U136=\"\",\"\",VLOOKUP(U136,'Country & Delivery'!N:O,2,FALSE))","v":""},null,null,{"$f":"IF(L136=\"\",\"\",VLOOKUP(L136,'Country & Delivery'!A:B,2,FALSE))","v":""},null,null,null,null,null,null,null,null,null,null,null,{"$f":"IF(M136=\"\",\"\",VLOOKUP(M136,'Country & Delivery'!AB:AC,2,FALSE))","v":""},null,null,null,null,null,null,null,null,null,null,null,{"$f":"IF(U136=\"\",\"\",VLOOKUP(U136,'Country & Delivery'!$N$1:$O$8,2,0))","v":""},"",0,"DJ","DJI","N","dc",null,{"$f":"IFERROR(INDEX('Country & Delivery'!N125:N131,MATCH(BD136,'Country & Delivery'!O125:O131,0),1),\"\")","v":""},null,null,{"$f":"IFERROR(INDEX('Country & Delivery'!A125:A374,MATCH(BG136,'Country & Delivery'!B125:B374,0),1),\"\")","v":""}]
[124,null,null,null,null,null,null,null,null,null,null,null,null,null,null,{"$f":"IF(O137=\"\",\"\",VLOOKUP(O137,Products!A:C,2,FALSE))","v":""},{"$f":"IF(O137=\"\",\"\",VLOOKUP(O137,Products!A:C,3,FALSE))","v":""},null,"",{"$f":"IF(Y137=\"\",\"\",VLOOKUP(Y137,'Country & Delivery'!B:C,2,FALSE))","v":""},null,{"$f":"IF(U137=\"\",\"\",VLOOKUP(U137,'Country & Delivery'!N:O,2,FALSE))","v":""},null,null,{"$f":"IF(L137=\"\",\"\",VLOOKUP(L137,'Country & Delivery'!A:B,2,FALSE))","v":""},null,null,null,null,null,null,null,null,null,null,null,{"$f":"IF(M137=\"\",\"\",VLOOKUP(M137,'Country & Delivery'!AB:AC,2,FALSE))","v":""},null,null,null,null,null,null,null,null,null,null,null,{"$f":"IF(U137=\"\",\"\",VLOOKUP(U137,'Country & Delivery'!$N$1:$O$8,2,0))","v":""},"",0,"Djibouti","DJI","N","dc",null,{"$f":"IFERROR(INDEX('Country & Delivery'!N126:N132,MATCH(BD137,'Country & Delivery'!O126:O132,0),1),\"\")","v":""},null,null,{"$f":"IFERROR(INDEX('Country & Delivery'!A126:A375,MATCH(BG137,'Country & Delivery'!B126:B375,0),1),\"\")","v":""}]
[125,null,null,null,null,null,null,null,null,null,null,null,null,null,null,{"$f":"IF(O138=\"\",\"\",VLOOKUP(O138,Products!A:C,2,FALSE))","v":""},{"$f":"IF(O138=\"\",\"\",VLOOKUP(O138,Products!A:C,3,FALSE))","v":""},null,"",{"$f":"IF(Y138=\"\",\"\",VLOOKUP(Y138,'Country & Delivery'!B:C,2,FALSE))","v":""},null,{"$f":"IF(U138=\"\",\"\",VLOOKUP(U138,'Country & Delivery'!N:O,2,FALSE))","v":""},null,null,{"$f":"IF(L138=\"\",\"\",VLOOKUP(L138,'Country & Delivery'!A:B,2,FALSE))","v":""},null,null,null,null,null,null,null,null,null,null,null,{"$f":"IF(M138=\"\",\"\",VLOOKUP(M138,'Country & Delivery'!AB:AC,2,FALSE))","v":""},null,null,null,null,null,null,null,null,null,null,null,{"$f":"IF(U138=\"\",\"\",VLOOKUP(U138,'Country & Delivery'!$N$1:$O$8,2,0))","v":""},"",0,"DK","DNK","Y",null,null,{"$f":"IFERROR(INDEX('Country & Delivery'!N127:N133,MATCH(BD138,'Country & Delivery'!O127:O133,0),1),\"\")","v":""},null,null,{"$f":"IFERROR(INDEX('Country & Delivery'!A127:A376,MATCH(BG138,'Country & Delivery'!B127:B376,0),1),\"\")","v":""}]
[126,null,null,null,null,null,null,null,null,null,null,null,null,null,null,{"$f":"IF(O139=\"\",\"\",VLOOKUP(O139,Products!A:C,2,FALSE))","v":""},{"$f":"IF(O139=\"\",\"\",VLOOKUP(O139,Products!A:C,3,FALSE))","v":""},null,"",{"$f":"IF(Y139=\"\",\"\",VLOOKUP(Y139,'Country & Delivery'!B:C,2,FALSE))","v":""},null,{"$f":"IF(U139=\"\",\"\",VLOOKUP(U139,'Country & Delivery'!N:O,2,FALSE))","v":""},null,null,{"$f":"IF(L139=\"\",\"\",VLOOKUP(L139,'Country & Delivery'!A:B,2,FALSE))","v":""},null,null,null,null,null,null,null,null,null,null,null,{"$f":"IF(M139=\"\",\"\",VLOOKUP(M139,'Country & Delivery'!AB:AC,2,FALSE))","v":""},null,null,null,null,null,null,null,null,null,null,null,{"$f":"IF(U139=\"\",\"\",VLOOKUP(U139,'Country & Delivery'!$N$1:$O$8,2,0))","v":""},"",0,"DM","DMA","N",null,null,{"$f":"IFERROR(INDEX('Country & Delivery'!N128:N134,MATCH(BD139,'Country & Delivery'!O128:O134,0),1),\"\")","v":""},null,null,{"$f":"IFERROR(INDEX('Country & Delivery'!A128:A377,MATCH(BG139,'Country & Delivery'!B128:B377,0),1),\"\")","v":""}]
[127,null,null,null,null,null,null,null,null,null,null,null,null,null,null,{"$f":"IF(O140=\"\",\"\",VLOOKUP(O140,Products!A:C,2,FALSE))","v":""},{"$f":"IF(O140=\"\",\"\",VLOOKUP(O140,Products!A:C,3,FALSE))","v":""},null,"",{"$f":"IF(Y140=\"\",\"\",VLOOKUP(Y140,'Country & Delivery'!B:C,2,FALSE))","v":""},null,{"$f":"IF(U140=\"\",\"\",VLOOKUP(U140,'Country & Delivery'!N:O,2,FALSE))","v":""},null,null,{"$f":"IF(L140=\"\",\"\",VLOOKUP(L140,'Country & Delivery'!A:B,2,FALSE))","v":""},null,null,null,null,null,null,null,null,null,null,null,{"$f":"IF(M140=\"\",\"\",VLOOKUP(M140,'Country & Delivery'!AB:AC,2,FALSE))","v":""},null,null,null,null,null,null,null,null,null,null,null,{"$f":"IF(U140=\"\",\"\",VLOOKUP(U140,'Country & Delivery'!$N$1:$O$8,2,0))","v":""},{"$f":"IF(O140<>\"\",COUNTIFS(D140:D140,\"\")+COUNTIFS(E140:E140,\"\")+COUNTIFS(I140:I140,\"\")+COUNTIFS(N140:N140,\"\")+COUNTIFS(O140:O140,\"\")+COUNTIFS(R140:R140,\"\")+COUNTIFS(U140:U140,\"\"),\"\")","v":""},0,"DO","DOM","N",null,null,{"$f":"IFERROR(INDEX('Country & Delivery'!N129:N135,MATCH(BD140,'Country & Delivery'!O129:O135,0),1),\"\")","v":""},null,null,{"$f":"IFERROR(INDEX('Country & Delivery'!A129:A378,MATCH(BG140,'Country & Delivery'!B129:B378,0),1),\"\")","v":""}]
[128,null,null,null,null,null,null,null,null,null,null,null,null,null,null,{"$f":"IF(O141=\"\",\"\",VLOOKUP(O141,Products!A:C,2,FALSE))","v":""},{"$f":"IF(O141=\"\",\"\",VLOOKUP(O141,Products!A:C,3,FALSE))","v":""},null,"",{"$f":"IF(Y141=\"\",\"\",VLOOKUP(Y141,'Country & Delivery'!B:C,2,FALSE))","v":""},null,{"$f":"IF(U141=\"\",\"\",VLOOKUP(U141,'Country & Delivery'!N:O,2,FALSE))","v":""},null,null,{"$f":"IF(L141=\"\",\"\",VLOOKUP(L141,'Country & Delivery'!A:B,2,FALSE))","v":""},null,null,null,null,null,null,null,null,null,null,null,{"$f":"IF(M141=\"\",\"\",VLOOKUP(M141,'Country & Delivery'!AB:AC,2,FALSE))","v":""},null,null,null,null,null,null,null,null,null,null,null,{"$f":"IF(U141=\"\",\"\",VLOOKUP(U141,'Country & Delivery'!$N$1:$O$8,2,0))","v":""},"",{"$f":"+$L$10","v":0},"Dominica","DMA","N",null,null,{"$f":"IFERROR(INDEX('Country & Delivery'!N130:N136,MATCH(BD141,'Country & Delivery'!O130:O136,0),1),\"\")","v":""},null,null,{"$f":"IFERROR(INDEX('Country & Delivery'!A130:A379,MATCH(BG141,'Country & Delivery'!B130:B379,0),1),\"\")","v":""}]
[129,null,null,null,null,null,null,null,null,null,null,null,null,null,null,{"$f":"IF(O142=\"\",\"\",VLOOKUP(O142,Products!A:C,2,FALSE))","v":""},{"$f":"IF(O142=\"\",\"\",VLOOKUP(O142,Products!A:C,3,FALSE))","v":""},null,"",{"$f":"IF(Y142=\"\",\"\",VLOOKUP(Y142,'Country & Delivery'!B:C,2,FALSE))","v":""},null,{"$f":"IF(U142=\"\",\"\",VLOOKUP(U142,'Country & Delivery'!N:O,2,FALSE))","v":""},null,null,{"$f":"IF(L142=\"\",\"\",VLOOKUP(L142,'Country & Delivery'!A:B,2,FALSE))","v":""},null,null,null,null,null,null,null,null,null,null,null,{"$f":"IF(M142=\"\",\"\",VLOOKUP(M142,'Country & Delivery'!AB:AC,2,FALSE))","v":""},null,null,null,null,null,null,null,null,null,null,null,{"$f":"IF(U142=\"\",\"\",VLOOKUP(U142,'Country & Delivery'!$N$1:$O$8,2,0))","v":""},"",0,"Dominican Republic","DOM","N",null,null,{"$f":"IFERROR(INDEX('Country & Delivery'!N131:N137,MATCH(BD142,'Country & Delivery'!O131:O137,0),1),\"\")","v":""},null,null,{"$f":"IFERROR(INDEX('Country & Delivery'!A131:A380,MATCH(BG142,'Country & Delivery'!B131:B380,0),1),\"\")","v":""}]
[130,null,null,null,null,null,null,null,null,null,null,null,null,null,null,{"$f":"IF(O143=\"\",\"\",VLOOKUP(O143,Products!A:C,2,FALSE))","v":""},{"$f":"IF(O143=\"\",\"\",VLOOKUP(O143,Products!A:C,3,FALSE))","v":""},null,"",{"$f":"IF(Y143=\"\",\"\",VLOOKUP(Y143,'Country & Delivery'!B:C,2,FALSE))","v":""},null,{"$f":"IF(U143=\"\",\"\",VLOOKUP(U143,'Country & Delivery'!N:O,2,FALSE))","v":""},null,null,{"$f":"IF(L143=\"\",\"\",VLOOKUP(L143,'Country & Delivery'!A:B,2,FALSE))","v":""},null,null,null,null,null,null,null,null,null,null,null,{"$f":"IF(M143=\"\",\"\",VLOOKUP(M143,'Country & Delivery'!AB:AC,2,FALSE))","v":""},null,null,null,null,null,null,null,null,null,null,null,{"$f":"IF(U143=\"\",\"\",VLOOKUP(U143,'Country & Delivery'!$N$1:$O$8,2,0))","v":""},"",0,"DZ","DZA","N",null,null,{"$f":"IFERROR(INDEX('Country & Delivery'!N132:N138,MATCH(BD143,'Country & Delivery'!O132:O138,0),1),\"\")","v":""},null,null,{"$f":"IFERROR(INDEX('Country & Delivery'!A132:A381,MATCH(BG143,'Country & Delivery'!B132:B381,0),1),\"\")","v":""}]
[131,null,null,null,null,null,null,null,null,null,null,null,null,null,null,{"$f":"IF(O144=\"\",\"\",VLOOKUP(O144,Products!A:C,2,FALSE))","v":""},{"$f":"IF(O144=\"\",\"\",VLOOKUP(O144,Products!A:C,3,FALSE))","v":""},null,"",{"$f":"IF(Y144=\"\",\"\",VLOOKUP(Y144,'Country & Delivery'!B:C,2,FALSE))","v":""},null,{"$f":"IF(U144=\"\",\"\",VLOOKUP(U144,'Country & Delivery'!N:O,2,FALSE))","v":""},null,null,{"$f":"IF(L144=\"\",\"\",VLOOKUP(L144,'Country & Delivery'!A:B,2,FALSE))","v":""},null,null,null,null,null,null,null,null,null,null,null,{"$f":"IF(M144=\"\",\"\",VLOOKUP(M144,'Country & Delivery'!AB:AC,2,FALSE))","v":""},null,null,null,null,null,null,null,null,null,null,null,{"$f":"IF(U144=\"\",\"\",VLOOKUP(U144,'Country & Delivery'!$N$1:$O$8,2,0))","v":""},"",0,"EC","ECU","N",null,null,{"$f":"IFERROR(INDEX('Country & Delivery'!N133:N139,MATCH(BD144,'Country & Delivery'!O133:O139,0),1),\"\")","v":""},null,null,{"$f":"IFERROR(INDEX('Country & Delivery'!A133:A382,MATCH(BG144,'Country & Delivery'!B133:B382,0),1),\"\")","v":""}]
[132,null,null,null,null,null,null,null,null,null,null,null,null,null,null,{"$f":"IF(O145=\"\",\"\",VLOOKUP(O145,Products!A:C,2,FALSE))","v":""},{"$f":"IF(O145=\"\",\"\",VLOOKUP(O145,Products!A:C,3,FALSE))","v":""},null,"",{"$f":"IF(Y145=\"\",\"\",VLOOKUP(Y145,'Country & Delivery'!B:C,2,FALSE))","v":""},null,{"$f":"IF(U145=\"\",\"\",VLOOKUP(U145,'Country & Delivery'!N:O,2,FALSE))","v":""},null,null,{"$f":"IF(L145=\"\",\"\",VLOOKUP(L145,'Country & Delivery'!A:B,2,FALSE))","v":""},null,null,null,null,null,null,null,null,null,null,null,{"$f":"IF(M145=\"\",\"\",VLOOKUP(M145,'Country & Delivery'!AB:AC,2,FALSE))","v":""},null,null,null,null,null,null,null,null,null,null,null,{"$f":"IF(U145=\"\",\"\",VLOOKUP(U145,'Country & Delivery'!$N$1:$O$8,2,0))","v":""},"",0,"Ecuador","ECU","N",null,null,{"$f":"IFERROR(INDEX('Country & Delivery'!N134:N140,MATCH(BD145,'Country & Delivery'!O134:O140,0),1),\"\")","v":""},null,null,{"$f":"IFERROR(INDEX('Country & Delivery'!A134:A383,MATCH(BG145,'Country & Delivery'!B134:B383,0),1),\"\")","v":""}]
[133,null,null,null,null,null,null,null,null,null,null,null,null,null,null,{"$f":"IF(O146=\"\",\"\",VLOOKUP(O146,Products!A:C,2,FALSE))","v":""},{"$f":"IF(O146=\"\",\"\",VLOOKUP(O146,Products!A:C,3,FALSE))","v":""},null,"",{"$f":"IF(Y146=\"\",\"\",VLOOKUP(Y146,'Country & Delivery'!B:C,2,FALSE))","v":""},null,{"$f":"IF(U146=\"\",\"\",VLOOKUP(U146,'Country & Delivery'!N:O,2,FALSE))","v":""},null,null,{"$f":"IF(L146=\"\",\"\",VLOOKUP(L146,'Country & Delivery'!A:B,2,FALSE))","v":""},null,null,null,null,null,null,null,null,null,null,null,{"$f":"IF(M146=\"\",\"\",VLOOKUP(M146,'Country & Delivery'!AB:AC,2,FALSE))","v":""},null,null,null,null,null,null,null,null,null,null,null,{"$f":"IF(U146=\"\",\"\",VLOOKUP(U146,'Country & Delivery'!$N$1:$O$8,2,0))","v":""},"",0,"EE","EST","Y",null,null,{"$f":"IFERROR(INDEX('Country & Delivery'!N135:N141,MATCH(BD146,'Country & Delivery'!O135:O141,0),1),\"\")","v":""},null,null,{"$f":"IFERROR(INDEX('Country & Delivery'!A135:A384,MATCH(BG146,'Country & Delivery'!B135:B384,0),1),\"\")","v":""}]
[134,null,null,null,null,null,null,null,null,null,null,null,null,null,null,{"$f":"IF(O147=\"\",\"\",VLOOKUP(O147,Products!A:C,2,FALSE))","v":""},{"$f":"IF(O147=\"\",\"\",VLOOKUP(O147,Products!A:C,3,FALSE))","v":""},null,"",{"$f":"IF(Y147=\"\",\"\",VLOOKUP(Y147,'Country & Delivery'!B:C,2,FALSE))","v":""},null,{"$f":"IF(U147=\"\",\"\",VLOOKUP(U147,'Country & Delivery'!N:O,2,FALSE))","v":""},null,null,{"$f":"IF(L147=\"\",\"\",VLOOKUP(L147,'Country & Delivery'!A:B,2,FALSE))","v":""},null,null,null,null,null,null,null,null,null,null,null,{"$f":"IF(M147=\"\",\"\",VLOOKUP(M147,'Country & Delivery'!AB:AC,2,FALSE))","v":""},null,null,null,null,null,null,null,null,null,null,null,{"$f":"IF(U147=\"\",\"\",VLOOKUP(U147,'Country & Delivery'!$N$1:$O$8,2,0))","v":""},"",0,"EG","EGY","N",null,null,{"$f":"IFERROR(INDEX('Country & Delivery'!N136:N142,MATCH(BD147,'Country & Delivery'!O136:O142,0),1),\"\")","v":""},null,null,{"$f":"IFERROR(INDEX('Country & Delivery'!A136:A385,MATCH(BG147,'Country & Delivery'!B136:B385,0),1),\"\")","v":""}]
[135,null,null,null,null,null,null,null,null,null,null,null,null,null,null,{"$f":"IF(O148=\"\",\"\",VLOOKUP(O148,Products!A:C,2,FALSE))","v":""},{"$f":"IF(O148=\"\",\"\",VLOOKUP(O148,Products!A:C,3,FALSE))","v":""},null,"",{"$f":"IF(Y148=\"\",\"\",VLOOKUP(Y148,'Country & Delivery'!B:C,2,FALSE))","v":""},null,{"$f":"IF(U148=\"\",\"\",VLOOKUP(U148,'Country & Delivery'!N:O,2,FALSE))","v":""},null,null,{"$f":"IF(L148=\"\",\"\",VLOOKUP(L148,'Country & Delivery'!A:B,2,FALSE))","v":""},null,null,null,null,null,null,null,null,null,null,null,{"$f":"IF(M148=\"\",\"\",VLOOKUP(M148,'Country & Delivery'!AB:AC,2,FALSE))","v":""},null,null,null,null,null,null,null,null,null,null,null,{"$f":"IF(U148=\"\",\"\",VLOOKUP(U148,'Country & Delivery'!$N$1:$O$8,2,0))","v":""},"",0,"Egypt","EGY","N",null,null,{"$f":"IFERROR(INDEX('Country & Delivery'!N137:N143,MATCH(BD148,'Country & Delivery'!O137:O143,0),1),\"\")","v":""},null,null,{"$f":"IFERROR(INDEX('Country & Delivery'!A137:A386,MATCH(BG148,'Country & Delivery'!B137:B386,0),1),\"\")","v":""}]
[136,null,null,null,null,null,null,null,null,null,null,null,null,null,null,{"$f":"IF(O149=\"\",\"\",VLOOKUP(O149,Products!A:C,2,FALSE))","v":""},{"$f":"IF(O149=\"\",\"\",VLOOKUP(O149,Products!A:C,3,FALSE))","v":""},null,"",{"$f":"IF(Y149=\"\",\"\",VLOOKUP(Y149,'Country & Delivery'!B:C,2,FALSE))","v":""},null,{"$f":"IF(U149=\"\",\"\",VLOOKUP(U149,'Country & Delivery'!N:O,2,FALSE))","v":""},null,null,{"$f":"IF(L149=\"\",\"\",VLOOKUP(L149,'Country & Delivery'!A:B,2,FALSE))","v":""},null,null,null,null,null,null,null,null,null,null,null,{"$f":"IF(M149=\"\",\"\",VLOOKUP(M149,'Country & Delivery'!AB:AC,2,FALSE))","v":""},null,null,null,null,null,null,null,null,null,null,null,{"$f":"IF(U149=\"\",\"\",VLOOKUP(U149,'Country & Delivery'!$N$1:$O$8,2,0))","v":""},"",0,"EH","ESH","N","dc",null,{"$f":"IFERROR(INDEX('Country & Delivery'!N138:N144,MATCH(BD149,'Country & Delivery'!O138:O144,0),1),\"\")","v":""},null,null,{"$f":"IFERROR(INDEX('Country & Delivery'!A138:A387,MATCH(BG149,'Country & Delivery'!B138:B387,0),1),\"\")","v":""}]
[137,null,null,null,null,null,null,null,null,null,null,null,null,null,null,{"$f":"IF(O150=\"\",\"\",VLOOKUP(O150,Products!A:C,2,FALSE))","v":""},{"$f":"IF(O150=\"\",\"\",VLOOKUP(O150,Products!A:C,3,FALSE))","v":""},null,"",{"$f":"IF(Y150=\"\",\"\",VLOOKUP(Y150,'Country & Delivery'!B:C,2,FALSE))","v":""},null,{"$f":"IF(U150=\"\",\"\",VLOOKUP(U150,'Country & Delivery'!N:O,2,FALSE))","v":""},null,null,{"$f":"IF(L150=\"\",\"\",VLOOKUP(L150,'Country & Delivery'!A:B,2,FALSE))","v":""},null,null,null,null,null,null,null,null,null,null,null,{"$f":"IF(M150=\"\",\"\",VLOOKUP(M150,'Country & Delivery'!AB:AC,2,FALSE))","v":""},null,null,null,null,null,null,null,null,null,null,null,{"$f":"IF(U150=\"\",\"\",VLOOKUP(U150,'Country & Delivery'!$N$1:$O$8,2,0))","v":""},"",0,"El Salvador","SLV","N",null,null,{"$f":"IFERROR(INDEX('Country & Delivery'!N139:N145,MATCH(BD150,'Country & Delivery'!O139:O145,0),1),\"\")","v":""},null,null,{"$f":"IFERROR(INDEX('Country & Delivery'!A139:A388,MATCH(BG150,'Country & Delivery'!B139:B388,0),1),\"\")","v":""}]
[138,null,null,null,null,null,null,null,null,null,null,null,null,null,null,{"$f":"IF(O151=\"\",\"\",VLOOKUP(O151,Products!A:C,2,FALSE))","v":""},{"$f":"IF(O151=\"\",\"\",VLOOKUP(O151,Products!A:C,3,FALSE))","v":""},null,"",{"$f":"IF(Y151=\"\",\"\",VLOOKUP(Y151,'Country & Delivery'!B:C,2,FALSE))","v":""},null,{"$f":"IF(U151=\"\",\"\",VLOOKUP(U151,'Country & Delivery'!N:O,2,FALSE))","v":""},null,null,{"$f":"IF(L151=\"\",\"\",VLOOKUP(L151,'Country & Delivery'!A:B,2,FALSE))","v":""},null,null,null,null,null,null,null,null,null,null,null,{"$f":"IF(M151=\"\",\"\",VLOOKUP(M151,'Country & Delivery'!AB:AC,2,FALSE))","v":""},null,null,null,null,null,null,null,null,null,null,null,{"$f":"IF(U151=\"\",\"\",VLOOKUP(U151,'Country & Delivery'!$N$1:$O$8,2,0))","v":""},"",0,"Equatorial Guinea","GNQ","N","dc",null,{"$f":"IFERROR(INDEX('Country & Delivery'!N140:N146,MATCH(BD151,'Country & Delivery'!O140:O146,0),1),\"\")","v":""},null,null,{"$f":"IFERROR(INDEX('Country & Delivery'!A140:A389,MATCH(BG151,'Country & Delivery'!B140:B389,0),1),\"\")","v":""}]
[139,null,null,null,null,null,null,null,null,null,null,null,null,null,null,{"$f":"IF(O152=\"\",\"\",VLOOKUP(O152,Products!A:C,2,FALSE))","v":""},{"$f":"IF(O152=\"\",\"\",VLOOKUP(O152,Products!A:C,3,FALSE))","v":""},null,"",{"$f":"IF(Y152=\"\",\"\",VLOOKUP(Y152,'Country & Delivery'!B:C,2,FALSE))","v":""},null,{"$f":"IF(U152=\"\",\"\",VLOOKUP(U152,'Country & Delivery'!N:O,2,FALSE))","v":""},null,null,{"$f":"IF(L152=\"\",\"\",VLOOKUP(L152,'Country & Delivery'!A:B,2,FALSE))","v":""},null,null,null,null,null,null,null,null,null,null,null,{"$f":"IF(M152=\"\",\"\",VLOOKUP(M152,'Country & Delivery'!AB:AC,2,FALSE))","v":""},null,null,null,null,null,null,null,null,null,null,null,{"$f":"IF(U152=\"\",\"\",VLOOKUP(U152,'Country & Delivery'!$N$1:$O$8,2,0))","v":""},"",0,"ER","ERI","N","dc",null,{"$f":"IFERROR(INDEX('Country & Delivery'!N141:N147,MATCH(BD152,'Country & Delivery'!O141:O147,0),1),\"\")","v":""},null,null,{"$f":"IFERROR(INDEX('Country & Delivery'!A141:A390,MATCH(BG152,'Country & Delivery'!B141:B390,0),1),\"\")","v":""}]
[140,null,null,null,null,null,null,null,null,null,null,null,null,null,null,{"$f":"IF(O153=\"\",\"\",VLOOKUP(O153,Products!A:C,2,FALSE))","v":""},{"$f":"IF(O153=\"\",\"\",VLOOKUP(O153,Products!A:C,3,FALSE))","v":""},null,"",{"$f":"IF(Y153=\"\",\"\",VLOOKUP(Y153,'Country & Delivery'!B:C,2,FALSE))","v":""},null,{"$f":"IF(U153=\"\",\"\",VLOOKUP(U153,'Country & Delivery'!N:O,2,FALSE))","v":""},null,null,{"$f":"IF(L153=\"\",\"\",VLOOKUP(L153,'Country & Delivery'!A:B,2,FALSE))","v":""},null,null,null,null,null,null,null,null,null,null,null,{"$f":"IF(M153=\"\",\"\",VLOOKUP(M153,'Country & Delivery'!AB:AC,2,FALSE))","v":""},null,null,null,null,null,null,null,null,null,null,null,{"$f":"IF(U153=\"\",\"\",VLOOKUP(U153,'Country & Delivery'!$N$1:$O$8,2,0))","v":""},"",0,"Eritrea","ERI","N","dc",null,{"$f":"IFERROR(INDEX('Country & Delivery'!N142:N148,MATCH(BD153,'Country & Delivery'!O142:O148,0),1),\"\")","v":""},null,null,{"$f":"IFERROR(INDEX('Country & Delivery'!A142:A391,MATCH(BG153,'Country & Delivery'!B142:B391,0),1),\"\")","v":""}]
[141,null,null,null,null,null,null,null,null,null,null,null,null,null,null,{"$f":"IF(O154=\"\",\"\",VLOOKUP(O154,Products!A:C,2,FALSE))","v":""},{"$f":"IF(O154=\"\",\"\",VLOOKUP(O154,Products!A:C,3,FALSE))","v":""},null,"",{"$f":"IF(Y154=\"\",\"\",VLOOKUP(Y154,'Country & Delivery'!B:C,2,FALSE))","v":""},null,{"$f":"IF(U154=\"\",\"\",VLOOKUP(U154,'Country & Delivery'!N:O,2,FALSE))","v":""},null,null,{"$f":"IF(L154=\"\",\"\",VLOOKUP(L154,'Country & Delivery'!A:B,2,FALSE))","v":""},null,null,null,null,null,null,null,null,null,null,null,{"$f":"IF(M154=\"\",\"\",VLOOKUP(M154,'Country & Delivery'!AB:AC,2,FALSE))","v":""},null,null,null,null,null,null,null,null,null,null,null,{"$f":"IF(U154=\"\",\"\",VLOOKUP(U154,'Country & Delivery'!$N$1:$O$8,2,0))","v":""},"",0,"ES","ESP","Y",null,null,{"$f":"IFERROR(INDEX('Country & Delivery'!N143:N149,MATCH(BD154,'Country & Delivery'!O143:O149,0),1),\"\")","v":""},null,null,{"$f":"IFERROR(INDEX('Country & Delivery'!A143:A392,MATCH(BG154,'Country & Delivery'!B143:B392,0),1),\"\")","v":""}]
[142,null,null,null,null,null,null,null,null,null,null,null,null,null,null,{"$f":"IF(O155=\"\",\"\",VLOOKUP(O155,Products!A:C,2,FALSE))","v":""},{"$f":"IF(O155=\"\",\"\",VLOOKUP(O155,Products!A:C,3,FALSE))","v":""},null,"",{"$f":"IF(Y155=\"\",\"\",VLOOKUP(Y155,'Country & Delivery'!B:C,2,FALSE))","v":""},null,{"$f":"IF(U155=\"\",\"\",VLOOKUP(U155,'Country & Delivery'!N:O,2,FALSE))","v":""},null,null,{"$f":"IF(L155=\"\",\"\",VLOOKUP(L155,'Country & Delivery'!A:B,2,FALSE))","v":""},null,null,null,null,null,null,null,null,null,null,null,{"$f":"IF(M155=\"\",\"\",VLOOKUP(M155,'Country & Delivery'!AB:AC,2,FALSE))","v":""},null,null,null,null,null,null,null,null,null,null,null,{"$f":"IF(U155=\"\",\"\",VLOOKUP(U155,'Country & Delivery'!$N$1:$O$8,2,0))","v":""},"",0,"Estonia","EST","Y",null,null,{"$f":"IFERROR(INDEX('Country & Delivery'!N144:N150,MATCH(BD155,'Country & Delivery'!O144:O150,0),1),\"\")","v":""},null,null,{"$f":"IFERROR(INDEX('Country & Delivery'!A144:A393,MATCH(BG155,'Country & Delivery'!B144:B393,0),1),\"\")","v":""}]
[143,null,null,null,null,null,null,null,null,null,null,null,null,null,null,{"$f":"IF(O156=\"\",\"\",VLOOKUP(O156,Products!A:C,2,FALSE))","v":""},{"$f":"IF(O156=\"\",\"\",VLOOKUP(O156,Products!A:C,3,FALSE))","v":""},null,"",{"$f":"IF(Y156=\"\",\"\",VLOOKUP(Y156,'Country & Delivery'!B:C,2,FALSE))","v":""},null,{"$f":"IF(U156=\"\",\"\",VLOOKUP(U156,'Country & Delivery'!N:O,2,FALSE))","v":""},null,null,{"$f":"IF(L156=\"\",\"\",VLOOKUP(L156,'Country & Delivery'!A:B,2,FALSE))","v":""},null,null,null,null,null,null,null,null,null,null,null,{"$f":"IF(M156=\"\",\"\",VLOOKUP(M156,'Country & Delivery'!AB:AC,2,FALSE))","v":""},null,null,null,null,null,null,null,null,null,null,null,{"$f":"IF(U156=\"\",\"\",VLOOKUP(U156,'Country & Delivery'!$N$1:$O$8,2,0))","v":""},"",0,"ET","ETH","N","dc",null,{"$f":"IFERROR(INDEX('Country & Delivery'!N145:N151,MATCH(BD156,'Country & Delivery'!O145:O151,0),1),\"\")","v":""},null,null,{"$f":"IFERROR(INDEX('Country & Delivery'!A145:A394,MATCH(BG156,'Country & Delivery'!B145:B394,0),1),\"\")","v":""}]
[144,null,null,null,null,null,null,null,null,null,null,null,null,null,null,{"$f":"IF(O157=\"\",\"\",VLOOKUP(O157,Products!A:C,2,FALSE))","v":""},{"$f":"IF(O157=\"\",\"\",VLOOKUP(O157,Products!A:C,3,FALSE))","v":""},null,"",{"$f":"IF(Y157=\"\",\"\",VLOOKUP(Y157,'Country & Delivery'!B:C,2,FALSE))","v":""},null,{"$f":"IF(U157=\"\",\"\",VLOOKUP(U157,'Country & Delivery'!N:O,2,FALSE))","v":""},null,null,{"$f":"IF(L157=\"\",\"\",VLOOKUP(L157,'Country & Delivery'!A:B,2,FALSE))","v":""},null,null,null,null,null,null,null,null,null,null,null,{"$f":"IF(M157=\"\",\"\",VLOOKUP(M157,'Country & Delivery'!AB:AC,2,FALSE))","v":""},null,null,null,null,null,null,null,null,null,null,null,{"$f":"IF(U157=\"\",\"\",VLOOKUP(U157,'Country & Delivery'!$N$1:$O$8,2,0))","v":""},"",0,"Ethiopia","ETH","N","dc",null,{"$f":"IFERROR(INDEX('Country & Delivery'!N146:N152,MATCH(BD157,'Country & Delivery'!O146:O152,0),1),\"\")","v":""},null,null,{"$f":"IFERROR(INDEX('Country & Delivery'!A146:A395,MATCH(BG157,'Country & Delivery'!B146:B395,0),1),\"\")","v":""}]
[145,null,null,null,null,null,null,null,null,null,null,null,null,null,null,{"$f":"IF(O158=\"\",\"\",VLOOKUP(O158,Products!A:C,2,FALSE))","v":""},{"$f":"IF(O158=\"\",\"\",VLOOKUP(O158,Products!A:C,3,FALSE))","v":""},null,"",{"$f":"IF(Y158=\"\",\"\",VLOOKUP(Y158,'Country & Delivery'!B:C,2,FALSE))","v":""},null,{"$f":"IF(U158=\"\",\"\",VLOOKUP(U158,'Country & Delivery'!N:O,2,FALSE))","v":""},null,null,{"$f":"IF(L158=\"\",\"\",VLOOKUP(L158,'Country & Delivery'!A:B,2,FALSE))","v":""},null,null,null,null,null,null,null,null,null,null,null,{"$f":"IF(M158=\"\",\"\",VLOOKUP(M158,'Country & Delivery'!AB:AC,2,FALSE))","v":""},null,null,null,null,null,null,null,null,null,null,null,{"$f":"IF(U158=\"\",\"\",VLOOKUP(U158,'Country & Delivery'!$N$1:$O$8,2,0))","v":""},"",0,"Falkland Islands (Malvinas)","FLK","N","dc",null,{"$f":"IFERROR(INDEX('Country & Delivery'!N147:N153,MATCH(BD158,'Country & Delivery'!O147:O153,0),1),\"\")","v":""},null,null,{"$f":"IFERROR(INDEX('Country & Delivery'!A147:A396,MATCH(BG158,'Country & Delivery'!B147:B396,0),1),\"\")","v":""}]
[146,null,null,null,null,null,null,null,null,null,null,null,null,null,null,{"$f":"IF(O159=\"\",\"\",VLOOKUP(O159,Products!A:C,2,FALSE))","v":""},{"$f":"IF(O159=\"\",\"\",VLOOKUP(O159,Products!A:C,3,FALSE))","v":""},null,"",{"$f":"IF(Y159=\"\",\"\",VLOOKUP(Y159,'Country & Delivery'!B:C,2,FALSE))","v":""},null,{"$f":"IF(U159=\"\",\"\",VLOOKUP(U159,'Country & Delivery'!N:O,2,FALSE))","v":""},null,null,{"$f":"IF(L159=\"\",\"\",VLOOKUP(L159,'Country & Delivery'!A:B,2,FALSE))","v":""},null,null,null,null,null,null,null,null,null,null,null,{"$f":"IF(M159=\"\",\"\",VLOOKUP(M159,'Country & Delivery'!AB:AC,2,FALSE))","v":""},null,null,null,null,null,null,null,null,null,null,null,{"$f":"IF(U159=\"\",\"\",VLOOKUP(U159,'Country & Delivery'!$N$1:$O$8,2,0))","v":""},"",0,"Faroe Islands","FRO","N","dc",null,{"$f":"IFERROR(INDEX('Country & Delivery'!N148:N154,MATCH(BD159,'Country & Delivery'!O148:O154,0),1),\"\")","v":""},null,null,{"$f":"IFERROR(INDEX('Country & Delivery'!A148:A397,MATCH(BG159,'Country & Delivery'!B148:B397,0),1),\"\")","v":""}]
[147,null,null,null,null,null,null,null,null,null,null,null,null,null,null,{"$f":"IF(O160=\"\",\"\",VLOOKUP(O160,Products!A:C,2,FALSE))","v":""},{"$f":"IF(O160=\"\",\"\",VLOOKUP(O160,Products!A:C,3,FALSE))","v":""},null,"",{"$f":"IF(Y160=\"\",\"\",VLOOKUP(Y160,'Country & Delivery'!B:C,2,FALSE))","v":""},null,{"$f":"IF(U160=\"\",\"\",VLOOKUP(U160,'Country & Delivery'!N:O,2,FALSE))","v":""},null,null,{"$f":"IF(L160=\"\",\"\",VLOOKUP(L160,'Country & Delivery'!A:B,2,FALSE))","v":""},null,null,null,null,null,null,null,null,null,null,null,{"$f":"IF(M160=\"\",\"\",VLOOKUP(M160,'Country & Delivery'!AB:AC,2,FALSE))","v":""},null,null,null,null,null,null,null,null,null,null,null,{"$f":"IF(U160=\"\",\"\",VLOOKUP(U160,'Country & Delivery'!$N$1:$O$8,2,0))","v":""},"",0,"FI","FIN","Y",null,null,{"$f":"IFERROR(INDEX('Country & Delivery'!N149:N155,MATCH(BD160,'Country & Delivery'!O149:O155,0),1),\"\")","v":""},null,null,{"$f":"IFERROR(INDEX('Country & Delivery'!A149:A398,MATCH(BG160,'Country & Delivery'!B149:B398,0),1),\"\")","v":""}]
[148,null,null,null,null,null,null,null,null,null,null,null,null,null,null,{"$f":"IF(O161=\"\",\"\",VLOOKUP(O161,Products!A:C,2,FALSE))","v":""},{"$f":"IF(O161=\"\",\"\",VLOOKUP(O161,Products!A:C,3,FALSE))","v":""},null,"",{"$f":"IF(Y161=\"\",\"\",VLOOKUP(Y161,'Country & Delivery'!B:C,2,FALSE))","v":""},null,{"$f":"IF(U161=\"\",\"\",VLOOKUP(U161,'Country & Delivery'!N:O,2,FALSE))","v":""},null,null,{"$f":"IF(L161=\"\",\"\",VLOOKUP(L161,'Country & Delivery'!A:B,2,FALSE))","v":""},null,null,null,null,null,null,null,null,null,null,null,{"$f":"IF(M161=\"\",\"\",VLOOKUP(M161,'Country & Delivery'!AB:AC,2,FALSE))","v":""},null,null,null,null,null,null,null,null,null,null,null,{"$f":"IF(U161=\"\",\"\",VLOOKUP(U161,'Country & Delivery'!$N$1:$O$8,2,0))","v":""},"",0,"Fiji","FJI","N","dc",null,{"$f":"IFERROR(INDEX('Country & Delivery'!N150:N156,MATCH(BD161,'Country & Delivery'!O150:O156,0),1),\"\")","v":""},null,null,{"$f":"IFERROR(INDEX('Country & Delivery'!A150:A399,MATCH(BG161,'Country & Delivery'!B150:B399,0),1),\"\")","v":""}]
[149,null,null,null,null,null,null,null,null,null,null,null,null,null,null,{"$f":"IF(O162=\"\",\"\",VLOOKUP(O162,Products!A:C,2,FALSE))","v":""},{"$f":"IF(O162=\"\",\"\",VLOOKUP(O162,Products!A:C,3,FALSE))","v":""},null,"",{"$f":"IF(Y162=\"\",\"\",VLOOKUP(Y162,'Country & Delivery'!B:C,2,FALSE))","v":""},null,{"$f":"IF(U162=\"\",\"\",VLOOKUP(U162,'Country & Delivery'!N:O,2,FALSE))","v":""},null,null,{"$f":"IF(L162=\"\",\"\",VLOOKUP(L162,'Country & Delivery'!A:B,2,FALSE))","v":""},null,null,null,null,null,null,null,null,null,null,null,{"$f":"IF(M162=\"\",\"\",VLOOKUP(M162,'Country & Delivery'!AB:AC,2,FALSE))","v":""},null,null,null,null,null,null,null,null,null,null,null,{"$f":"IF(U162=\"\",\"\",VLOOKUP(U162,'Country & Delivery'!$N$1:$O$8,2,0))","v":""},"",0,"Finland","FIN","Y",null,null,{"$f":"IFERROR(INDEX('Country & Delivery'!N151:N157,MATCH(BD162,'Country & Delivery'!O151:O157,0),1),\"\")","v":""},null,null,{"$f":"IFERROR(INDEX('Country & Delivery'!A151:A400,MATCH(BG162,'Country & Delivery'!B151:B400,0),1),\"\")","v":""}]
[150,null,null,null,null,null,null,null,null,null,null,null,null,null,null,{"$f":"IF(O163=\"\",\"\",VLOOKUP(O163,Products!A:C,2,FALSE))","v":""},{"$f":"IF(O163=\"\",\"\",VLOOKUP(O163,Products!A:C,3,FALSE))","v":""},null,"",{"$f":"IF(Y163=\"\",\"\",VLOOKUP(Y163,'Country & Delivery'!B:C,2,FALSE))","v":""},null,{"$f":"IF(U163=\"\",\"\",VLOOKUP(U163,'Country & Delivery'!N:O,2,FALSE))","v":""},null,null,{"$f":"IF(L163=\"\",\"\",VLOOKUP(L163,'Country & Delivery'!A:B,2,FALSE))","v":""},null,null,null,null,null,null,null,null,null,null,null,{"$f":"IF(M163=\"\",\"\",VLOOKUP(M163,'Country & Delivery'!AB:AC,2,FALSE))","v":""},null,null,null,null,null,null,null,null,null,null,null,{"$f":"IF(U163=\"\",\"\",VLOOKUP(U163,'Country & Delivery'!$N$1:$O$8,2,0))","v":""},"",0,"FJ","FJI","N","dc",null,{"$f":"IFERROR(INDEX('Country & Delivery'!N152:N158,MATCH(BD163,'Country & Delivery'!O152:O158,0),1),\"\")","v":""},null,null,{"$f":"IFERROR(INDEX('Country & Delivery'!A152:A401,MATCH(BG163,'Country & Delivery'!B152:B401,0),1),\"\")","v":""}]
[151,null,null,null,null,null,null,null,null,null,null,null,null,null,null,{"$f":"IF(O164=\"\",\"\",VLOOKUP(O164,Products!A:C,2,FALSE))","v":""},{"$f":"IF(O164=\"\",\"\",VLOOKUP(O164,Products!A:C,3,FALSE))","v":""},null,"",{"$f":"IF(Y164=\"\",\"\",VLOOKUP(Y164,'Country & Delivery'!B:C,2,FALSE))","v":""},null,{"$f":"IF(U164=\"\",\"\",VLOOKUP(U164,'Country & Delivery'!N:O,2,FALSE))","v":""},null,null,{"$f":"IF(L164=\"\",\"\",VLOOKUP(L164,'Country & Delivery'!A:B,2,FALSE))","v":""},null,null,null,null,null,null,null,null,null,null,null,{"$f":"IF(M164=\"\",\"\",VLOOKUP(M164,'Country & Delivery'!AB:AC,2,FALSE))","v":""},null,null,null,null,null,null,null,null,null,null,null,{"$f":"IF(U164=\"\",\"\",VLOOKUP(U164,'Country & Delivery'!$N$1:$O$8,2,0))","v":""},"",0,"FK","FLK","N","dc",null,{"$f":"IFERROR(INDEX('Country & Delivery'!N153:N159,MATCH(BD164,'Country & Delivery'!O153:O159,0),1),\"\")","v":""},null,null,{"$f":"IFERROR(INDEX('Country & Delivery'!A153:A402,MATCH(BG164,'Country & Delivery'!B153:B402,0),1),\"\")","v":""}]
[152,null,null,null,null,null,null,null,null,null,null,null,null,null,null,{"$f":"IF(O165=\"\",\"\",VLOOKUP(O165,Products!A:C,2,FALSE))","v":""},{"$f":"IF(O165=\"\",\"\",VLOOKUP(O165,Products!A:C,3,FALSE))","v":""},null,"",{"$f":"IF(Y165=\"\",\"\",VLOOKUP(Y165,'Country & Delivery'!B:C,2,FALSE))","v":""},null,{"$f":"IF(U165=\"\",\"\",VLOOKUP(U165,'Country & Delivery'!N:O,2,FALSE))","v":""},null,null,{"$f":"IF(L165=\"\",\"\",VLOOKUP(L165,'Country & Delivery'!A:B,2,FALSE))","v":""},null,null,null,null,null,null,null,null,null,null,null,{"$f":"IF(M165=\"\",\"\",VLOOKUP(M165,'Country & Delivery'!AB:AC,2,FALSE))","v":""},null,null,null,null,null,null,null,null,null,null,null,{"$f":"IF(U165=\"\",\"\",VLOOKUP(U165,'Country & Delivery'!$N$1:$O$8,2,0))","v":""},"",0,"FM","FSM","N","dc",null,{"$f":"IFERROR(INDEX('Country & Delivery'!N154:N160,MATCH(BD165,'Country & Delivery'!O154:O160,0),1),\"\")","v":""},null,null,{"$f":"IFERROR(INDEX('Country & Delivery'!A154:A403,MATCH(BG165,'Country & Delivery'!B154:B403,0),1),\"\")","v":""}]
[153,null,null,null,null,null,null,null,null,null,null,null,null,null,null,{"$f":"IF(O166=\"\",\"\",VLOOKUP(O166,Products!A:C,2,FALSE))","v":""},{"$f":"IF(O166=\"\",\"\",VLOOKUP(O166,Products!A:C,3,FALSE))","v":""},null,"",{"$f":"IF(Y166=\"\",\"\",VLOOKUP(Y166,'Country & Delivery'!B:C,2,FALSE))","v":""},null,{"$f":"IF(U166=\"\",\"\",VLOOKUP(U166,'Country & Delivery'!N:O,2,FALSE))","v":""},null,null,{"$f":"IF(L166=\"\",\"\",VLOOKUP(L166,'Country & Delivery'!A:B,2,FALSE))","v":""},null,null,null,null,null,null,null,null,null,null,null,{"$f":"IF(M166=\"\",\"\",VLOOKUP(M166,'Country & Delivery'!AB:AC,2,FALSE))","v":""},null,null,null,null,null,null,null,null,null,null,null,{"$f":"IF(U166=\"\",\"\",VLOOKUP(U166,'Country & Delivery'!$N$1:$O$8,2,0))","v":""},"",0,"FO","FRO","N","dc",null,{"$f":"IFERROR(INDEX('Country & Delivery'!N155:N161,MATCH(BD166,'Country & Delivery'!O155:O161,0),1),\"\")","v":""},null,null,{"$f":"IFERROR(INDEX('Country & Delivery'!A155:A404,MATCH(BG166,'Country & Delivery'!B155:B404,0),1),\"\")","v":""}]
[154,null,null,null,null,null,null,null,null,null,null,null,null,null,null,{"$f":"IF(O167=\"\",\"\",VLOOKUP(O167,Products!A:C,2,FALSE))","v":""},{"$f":"IF(O167=\"\",\"\",VLOOKUP(O167,Products!A:C,3,FALSE))","v":""},null,"",{"$f":"IF(Y167=\"\",\"\",VLOOKUP(Y167,'Country & Delivery'!B:C,2,FALSE))","v":""},null,{"$f":"IF(U167=\"\",\"\",VLOOKUP(U167,'Country & Delivery'!N:O,2,FALSE))","v":""},null,null,{"$f":"IF(L167=\"\",\"\",VLOOKUP(L167,'Country & Delivery'!A:B,2,FALSE))","v":""},null,null,null,null,null,null,null,null,null,null,null,{"$f":"IF(M167=\"\",\"\",VLOOKUP(M167,'Country & Delivery'!AB:AC,2,FALSE))","v":""},null,null,null,null,null,null,null,null,null,null,null,{"$f":"IF(U167=\"\",\"\",VLOOKUP(U167,'Country & Delivery'!$N$1:$O$8,2,0))","v":""},"",0,"FR","FRA","Y",null,null,{"$f":"IFERROR(INDEX('Country & Delivery'!N156:N162,MATCH(BD167,'Country & Delivery'!O156:O162,0),1),\"\")","v":""},null,null,{"$f":"IFERROR(INDEX('Country & Delivery'!A156:A405,MATCH(BG167,'Country & Delivery'!B156:B405,0),1),\"\")","v":""}]
[155,null,null,null,null,null,null,null,null,null,null,null,null,null,null,{"$f":"IF(O168=\"\",\"\",VLOOKUP(O168,Products!A:C,2,FALSE))","v":""},{"$f":"IF(O168=\"\",\"\",VLOOKUP(O168,Products!A:C,3,FALSE))","v":""},null,"",{"$f":"IF(Y168=\"\",\"\",VLOOKUP(Y168,'Country & Delivery'!B:C,2,FALSE))","v":""},null,{"$f":"IF(U168=\"\",\"\",VLOOKUP(U168,'Country & Delivery'!N:O,2,FALSE))","v":""},null,null,{"$f":"IF(L168=\"\",\"\",VLOOKUP(L168,'Country & Delivery'!A:B,2,FALSE))","v":""},null,null,null,null,null,null,null,null,null,null,null,{"$f":"IF(M168=\"\",\"\",VLOOKUP(M168,'Country & Delivery'!AB:AC,2,FALSE))","v":""},null,null,null,null,null,null,null,null,null,null,null,{"$f":"IF(U168=\"\",\"\",VLOOKUP(U168,'Country & Delivery'!$N$1:$O$8,2,0))","v":""},"",0,"France","FRA","Y",null,null,{"$f":"IFERROR(INDEX('Country & Delivery'!N157:N163,MATCH(BD168,'Country & Delivery'!O157:O163,0),1),\"\")","v":""},null,null,{"$f":"IFERROR(INDEX('Country & Delivery'!A157:A406,MATCH(BG168,'Country & Delivery'!B157:B406,0),1),\"\")","v":""}]
[156,null,null,null,null,null,null,null,null,null,null,null,null,null,null,{"$f":"IF(O169=\"\",\"\",VLOOKUP(O169,Products!A:C,2,FALSE))","v":""},{"$f":"IF(O169=\"\",\"\",VLOOKUP(O169,Products!A:C,3,FALSE))","v":""},null,"",{"$f":"IF(Y169=\"\",\"\",VLOOKUP(Y169,'Country & Delivery'!B:C,2,FALSE))","v":""},null,{"$f":"IF(U169=\"\",\"\",VLOOKUP(U169,'Country & Delivery'!N:O,2,FALSE))","v":""},null,null,{"$f":"IF(L169=\"\",\"\",VLOOKUP(L169,'Country & Delivery'!A:B,2,FALSE))","v":""},null,null,null,null,null,null,null,null,null,null,null,{"$f":"IF(M169=\"\",\"\",VLOOKUP(M169,'Country & Delivery'!AB:AC,2,FALSE))","v":""},null,null,null,null,null,null,null,null,null,null,null,{"$f":"IF(U169=\"\",\"\",VLOOKUP(U169,'Country & Delivery'!$N$1:$O$8,2,0))","v":""},"",0,"French Guiana","GUF","Y",null,null,{"$f":"IFERROR(INDEX('Country & Delivery'!N158:N164,MATCH(BD169,'Country & Delivery'!O158:O164,0),1),\"\")","v":""},null,null,{"$f":"IFERROR(INDEX('Country & Delivery'!A158:A407,MATCH(BG169,'Country & Delivery'!B158:B407,0),1),\"\")","v":""}]
[157,null,null,null,null,null,null,null,null,null,null,null,null,null,null,{"$f":"IF(O170=\"\",\"\",VLOOKUP(O170,Products!A:C,2,FALSE))","v":""},{"$f":"IF(O170=\"\",\"\",VLOOKUP(O170,Products!A:C,3,FALSE))","v":""},null,"",{"$f":"IF(Y170=\"\",\"\",VLOOKUP(Y170,'Country & Delivery'!B:C,2,FALSE))","v":""},null,{"$f":"IF(U170=\"\",\"\",VLOOKUP(U170,'Country & Delivery'!N:O,2,FALSE))","v":""},null,null,{"$f":"IF(L170=\"\",\"\",VLOOKUP(L170,'Country & Delivery'!A:B,2,FALSE))","v":""},null,null,null,null,null,null,null,null,null,null,null,{"$f":"IF(M170=\"\",\"\",VLOOKUP(M170,'Country & Delivery'!AB:AC,2,FALSE))","v":""},null,null,null,null,null,null,null,null,null,null,null,{"$f":"IF(U170=\"\",\"\",VLOOKUP(U170,'Country & Delivery'!$N$1:$O$8,2,0))","v":""},"",0,"French Polynesia","PYF","N","dc",null,{"$f":"IFERROR(INDEX('Country & Delivery'!N159:N165,MATCH(BD170,'Country & Delivery'!O159:O165,0),1),\"\")","v":""},null,null,{"$f":"IFERROR(INDEX('Country & Delivery'!A159:A408,MATCH(BG170,'Country & Delivery'!B159:B408,0),1),\"\")","v":""}]
[158,null,null,null,null,null,null,null,null,null,null,null,null,null,null,{"$f":"IF(O171=\"\",\"\",VLOOKUP(O171,Products!A:C,2,FALSE))","v":""},{"$f":"IF(O171=\"\",\"\",VLOOKUP(O171,Products!A:C,3,FALSE))","v":""},null,"",{"$f":"IF(Y171=\"\",\"\",VLOOKUP(Y171,'Country & Delivery'!B:C,2,FALSE))","v":""},null,{"$f":"IF(U171=\"\",\"\",VLOOKUP(U171,'Country & Delivery'!N:O,2,FALSE))","v":""},null,null,{"$f":"IF(L171=\"\",\"\",VLOOKUP(L171,'Country & Delivery'!A:B,2,FALSE))","v":""},null,null,null,null,null,null,null,null,null,null,null,{"$f":"IF(M171=\"\",\"\",VLOOKUP(M171,'Country & Delivery'!AB:AC,2,FALSE))","v":""},null,null,null,null,null,null,null,null,null,null,null,{"$f":"IF(U171=\"\",\"\",VLOOKUP(U171,'Country & Delivery'!$N$1:$O$8,2,0))","v":""},"",0,"French Southern Territories","ATF","N","dc",null,{"$f":"IFERROR(INDEX('Country & Delivery'!N160:N166,MATCH(BD171,'Country & Delivery'!O160:O166,0),1),\"\")","v":""},null,null,{"$f":"IFERROR(INDEX('Country & Delivery'!A160:A409,MATCH(BG171,'Country & Delivery'!B160:B409,0),1),\"\")","v":""}]
[159,null,null,null,null,null,null,null,null,null,null,null,null,null,null,{"$f":"IF(O172=\"\",\"\",VLOOKUP(O172,Products!A:C,2,FALSE))","v":""},{"$f":"IF(O172=\"\",\"\",VLOOKUP(O172,Products!A:C,3,FALSE))","v":""},null,"",{"$f":"IF(Y172=\"\",\"\",VLOOKUP(Y172,'Country & Delivery'!B:C,2,FALSE))","v":""},null,{"$f":"IF(U172=\"\",\"\",VLOOKUP(U172,'Country & Delivery'!N:O,2,FALSE))","v":""},null,null,{"$f":"IF(L172=\"\",\"\",VLOOKUP(L172,'Country & Delivery'!A:B,2,FALSE))","v":""},null,null,null,null,null,null,null,null,null,null,null,{"$f":"IF(M172=\"\",\"\",VLOOKUP(M172,'Country & Delivery'!AB:AC,2,FALSE))","v":""},null,null,null,null,null,null,null,null,null,null,null,{"$f":"IF(U172=\"\",\"\",VLOOKUP(U172,'Country & Delivery'!$N$1:$O$8,2,0))","v":""},"",0,"GA","GAB","N","dc",null,{"$f":"IFERROR(INDEX('Country & Delivery'!N161:N167,MATCH(BD172,'Country & Delivery'!O161:O167,0),1),\"\")","v":""},null,null,{"$f":"IFERROR(INDEX('Country & Delivery'!A161:A410,MATCH(BG172,'Country & Delivery'!B161:B410,0),1),\"\")","v":""}]
[160,null,null,null,null,null,null,null,null,null,null,null,null,null,null,{"$f":"IF(O173=\"\",\"\",VLOOKUP(O173,Products!A:C,2,FALSE))","v":""},{"$f":"IF(O173=\"\",\"\",VLOOKUP(O173,Products!A:C,3,FALSE))","v":""},null,"",{"$f":"IF(Y173=\"\",\"\",VLOOKUP(Y173,'Country & Delivery'!B:C,2,FALSE))","v":""},null,{"$f":"IF(U173=\"\",\"\",VLOOKUP(U173,'Country & Delivery'!N:O,2,FALSE))","v":""},null,null,{"$f":"IF(L173=\"\",\"\",VLOOKUP(L173,'Country & Delivery'!A:B,2,FALSE))","v":""},null,null,null,null,null,null,null,null,null,null,null,{"$f":"IF(M173=\"\",\"\",VLOOKUP(M173,'Country & Delivery'!AB:AC,2,FALSE))","v":""},null,null,null,null,null,null,null,null,null,null,null,{"$f":"IF(U173=\"\",\"\",VLOOKUP(U173,'Country & Delivery'!$N$1:$O$8,2,0))","v":""},"",0,"Gabon","GAB","N","dc",null,{"$f":"IFERROR(INDEX('Country & Delivery'!N162:N168,MATCH(BD173,'Country & Delivery'!O162:O168,0),1),\"\")","v":""},null,null,{"$f":"IFERROR(INDEX('Country & Delivery'!A162:A411,MATCH(BG173,'Country & Delivery'!B162:B411,0),1),\"\")","v":""}]
[161,null,null,null,null,null,null,null,null,null,null,null,null,null,null,{"$f":"IF(O174=\"\",\"\",VLOOKUP(O174,Products!A:C,2,FALSE))","v":""},{"$f":"IF(O174=\"\",\"\",VLOOKUP(O174,Products!A:C,3,FALSE))","v":""},null,"",{"$f":"IF(Y174=\"\",\"\",VLOOKUP(Y174,'Country & Delivery'!B:C,2,FALSE))","v":""},null,{"$f":"IF(U174=\"\",\"\",VLOOKUP(U174,'Country & Delivery'!N:O,2,FALSE))","v":""},null,null,{"$f":"IF(L174=\"\",\"\",VLOOKUP(L174,'Country & Delivery'!A:B,2,FALSE))","v":""},null,null,null,null,null,null,null,null,null,null,null,{"$f":"IF(M174=\"\",\"\",VLOOKUP(M174,'Country & Delivery'!AB:AC,2,FALSE))","v":""},null,null,null,null,null,null,null,null,null,null,null,{"$f":"IF(U174=\"\",\"\",VLOOKUP(U174,'Country & Delivery'!$N$1:$O$8,2,0))","v":""},"",0,"Gambia","GMB","N","dc",null,{"$f":"IFERROR(INDEX('Country & Delivery'!N163:N169,MATCH(BD174,'Country & Delivery'!O163:O169,0),1),\"\")","v":""},null,null,{"$f":"IFERROR(INDEX('Country & Delivery'!A163:A412,MATCH(BG174,'Country & Delivery'!B163:B412,0),1),\"\")","v":""}]
[162,null,null,null,null,null,null,null,null,null,null,null,null,null,null,{"$f":"IF(O175=\"\",\"\",VLOOKUP(O175,Products!A:C,2,FALSE))","v":""},{"$f":"IF(O175=\"\",\"\",VLOOKUP(O175,Products!A:C,3,FALSE))","v":""},null,"",{"$f":"IF(Y175=\"\",\"\",VLOOKUP(Y175,'Country & Delivery'!B:C,2,FALSE))","v":""},null,{"$f":"IF(U175=\"\",\"\",VLOOKUP(U175,'Country & Delivery'!N:O,2,FALSE))","v":""},null,null,{"$f":"IF(L175=\"\",\"\",VLOOKUP(L175,'Country & Delivery'!A:B,2,FALSE))","v":""},null,null,null,null,null,null,null,null,null,null,null,{"$f":"IF(M175=\"\",\"\",VLOOKUP(M175,'Country & Delivery'!AB:AC,2,FALSE))","v":""},null,null,null,null,null,null,null,null,null,null,null,{"$f":"IF(U175=\"\",\"\",VLOOKUP(U175,'Country & Delivery'!$N$1:$O$8,2,0))","v":""},"",0,"GB","GBR","Y","dc",null,{"$f":"IFERROR(INDEX('Country & Delivery'!N164:N170,MATCH(BD175,'Country & Delivery'!O164:O170,0),1),\"\")","v":""},null,null,{"$f":"IFERROR(INDEX('Country & Delivery'!A164:A413,MATCH(BG175,'Country & Delivery'!B164:B413,0),1),\"\")","v":""}]
[163,null,null,null,null,null,null,null,null,null,null,null,null,null,null,{"$f":"IF(O176=\"\",\"\",VLOOKUP(O176,Products!A:C,2,FALSE))","v":""},{"$f":"IF(O176=\"\",\"\",VLOOKUP(O176,Products!A:C,3,FALSE))","v":""},null,"",{"$f":"IF(Y176=\"\",\"\",VLOOKUP(Y176,'Country & Delivery'!B:C,2,FALSE))","v":""},null,{"$f":"IF(U176=\"\",\"\",VLOOKUP(U176,'Country & Delivery'!N:O,2,FALSE))","v":""},null,null,{"$f":"IF(L176=\"\",\"\",VLOOKUP(L176,'Country & Delivery'!A:B,2,FALSE))","v":""},null,null,null,null,null,null,null,null,null,null,null,{"$f":"IF(M176=\"\",\"\",VLOOKUP(M176,'Country & Delivery'!AB:AC,2,FALSE))","v":""},null,null,null,null,null,null,null,null,null,null,null,{"$f":"IF(U176=\"\",\"\",VLOOKUP(U176,'Country & Delivery'!$N$1:$O$8,2,0))","v":""},"",0,"GBR","GBR","Y",null,null,{"$f":"IFERROR(INDEX('Country & Delivery'!N165:N171,MATCH(BD176,'Country & Delivery'!O165:O171,0),1),\"\")","v":""},null,null,{"$f":"IFERROR(INDEX('Country & Delivery'!A165:A414,MATCH(BG176,'Country & Delivery'!B165:B414,0),1),\"\")","v":""}]
[164,null,null,null,null,null,null,null,null,null,null,null,null,null,null,{"$f":"IF(O177=\"\",\"\",VLOOKUP(O177,Products!A:C,2,FALSE))","v":""},{"$f":"IF(O177=\"\",\"\",VLOOKUP(O177,Products!A:C,3,FALSE))","v":""},null,"",{"$f":"IF(Y177=\"\",\"\",VLOOKUP(Y177,'Country & Delivery'!B:C,2,FALSE))","v":""},null,{"$f":"IF(U177=\"\",\"\",VLOOKUP(U177,'Country & Delivery'!N:O,2,FALSE))","v":""},null,null,{"$f":"IF(L177=\"\",\"\",VLOOKUP(L177,'Country & Delivery'!A:B,2,FALSE))","v":""},null,null,null,null,null,null,null,null,null,null,null,{"$f":"IF(M177=\"\",\"\",VLOOKUP(M177,'Country & Delivery'!AB:AC,2,FALSE))","v":""},null,null,null,null,null,null,null,null,null,null,null,{"$f":"IF(U177=\"\",\"\",VLOOKUP(U177,'Country & Delivery'!$N$1:$O$8,2,0))","v":""},"",0,"GD","GRD","N",null,null,{"$f":"IFERROR(INDEX('Country & Delivery'!N166:N172,MATCH(BD177,'Country & Delivery'!O166:O172,0),1),\"\")","v":""},null,null,{"$f":"IFERROR(INDEX('Country & Delivery'!A166:A415,MATCH(BG177,'Country & Delivery'!B166:B415,0),1),\"\")","v":""}]
[165,null,null,null,null,null,null,null,null,null,null,null,null,null,null,{"$f":"IF(O178=\"\",\"\",VLOOKUP(O178,Products!A:C,2,FALSE))","v":""},{"$f":"IF(O178=\"\",\"\",VLOOKUP(O178,Products!A:C,3,FALSE))","v":""},null,"",{"$f":"IF(Y178=\"\",\"\",VLOOKUP(Y178,'Country & Delivery'!B:C,2,FALSE))","v":""},null,{"$f":"IF(U178=\"\",\"\",VLOOKUP(U178,'Country & Delivery'!N:O,2,FALSE))","v":""},null,null,{"$f":"IF(L178=\"\",\"\",VLOOKUP(L178,'Country & Delivery'!A:B,2,FALSE))","v":""},null,null,null,null,null,null,null,null,null,null,null,{"$f":"IF(M178=\"\",\"\",VLOOKUP(M178,'Country & Delivery'!AB:AC,2,FALSE))","v":""},null,null,null,null,null,null,null,null,null,null,null,{"$f":"IF(U178=\"\",\"\",VLOOKUP(U178,'Country & Delivery'!$N$1:$O$8,2,0))","v":""},"",0,"GE","GEO","N","dc",null,{"$f":"IFERROR(INDEX('Country & Delivery'!N167:N173,MATCH(BD178,'Country & Delivery'!O167:O173,0),1),\"\")","v":""},null,null,{"$f":"IFERROR(INDEX('Country & Delivery'!A167:A416,MATCH(BG178,'Country & Delivery'!B167:B416,0),1),\"\")","v":""}]
[166,null,null,null,null,null,null,null,null,null,null,null,null,null,null,{"$f":"IF(O179=\"\",\"\",VLOOKUP(O179,Products!A:C,2,FALSE))","v":""},{"$f":"IF(O179=\"\",\"\",VLOOKUP(O179,Products!A:C,3,FALSE))","v":""},null,"",{"$f":"IF(Y179=\"\",\"\",VLOOKUP(Y179,'Country & Delivery'!B:C,2,FALSE))","v":""},null,{"$f":"IF(U179=\"\",\"\",VLOOKUP(U179,'Country & Delivery'!N:O,2,FALSE))","v":""},null,null,{"$f":"IF(L179=\"\",\"\",VLOOKUP(L179,'Country & Delivery'!A:B,2,FALSE))","v":""},null,null,null,null,null,null,null,null,null,null,null,{"$f":"IF(M179=\"\",\"\",VLOOKUP(M179,'Country & Delivery'!AB:AC,2,FALSE))","v":""},null,null,null,null,null,null,null,null,null,null,null,{"$f":"IF(U179=\"\",\"\",VLOOKUP(U179,'Country & Delivery'!$N$1:$O$8,2,0))","v":""},"",0,"Georgia","GEO","N","dc",null,{"$f":"IFERROR(INDEX('Country & Delivery'!N168:N174,MATCH(BD179,'Country & Delivery'!O168:O174,0),1),\"\")","v":""},null,null,{"$f":"IFERROR(INDEX('Country & Delivery'!A168:A417,MATCH(BG179,'Country & Delivery'!B168:B417,0),1),\"\")","v":""}]
[167,null,null,null,null,null,null,null,null,null,null,null,null,null,null,{"$f":"IF(O180=\"\",\"\",VLOOKUP(O180,Products!A:C,2,FALSE))","v":""},{"$f":"IF(O180=\"\",\"\",VLOOKUP(O180,Products!A:C,3,FALSE))","v":""},null,{"$f":"IFERROR((Q180*R180),\"\")","v":""},{"$f":"IF(Y180=\"\",\"\",VLOOKUP(Y180,'Country & Delivery'!B:C,2,FALSE))","v":""},null,{"$f":"IF(U180=\"\",\"\",VLOOKUP(U180,'Country & Delivery'!N:O,2,FALSE))","v":""},null,null,{"$f":"IF(L180=\"\",\"\",VLOOKUP(L180,'Country & Delivery'!A:B,2,FALSE))","v":""},null,null,null,null,null,null,null,null,null,null,null,{"$f":"IF(M180=\"\",\"\",VLOOKUP(M180,'Country & Delivery'!AB:AC,2,FALSE))","v":""},null,null,null,null,null,null,null,null,null,null,null,{"$f":"IF(U180=\"\",\"\",VLOOKUP(U180,'Country & Delivery'!$N$1:$O$8,2,0))","v":""},"",0,"Germany","DEU","Y",null,null,{"$f":"IFERROR(INDEX('Country & Delivery'!N169:N175,MATCH(BD180,'Country & Delivery'!O169:O175,0),1),\"\")","v":""},null,null,{"$f":"IFERROR(INDEX('Country & Delivery'!A169:A418,MATCH(BG180,'Country & Delivery'!B169:B418,0),1),\"\")","v":""}]
[168,null,null,null,null,null,null,null,null,null,null,null,null,null,null,{"$f":"IF(O181=\"\",\"\",VLOOKUP(O181,Products!A:C,2,FALSE))","v":""},{"$f":"IF(O181=\"\",\"\",VLOOKUP(O181,Products!A:C,3,FALSE))","v":""},null,"",{"$f":"IF(Y181=\"\",\"\",VLOOKUP(Y181,'Country & Delivery'!B:C,2,FALSE))","v":""},null,{"$f":"IF(U181=\"\",\"\",VLOOKUP(U181,'Country & Delivery'!N:O,2,FALSE))","v":""},null,null,{"$f":"IF(L181=\"\",\"\",VLOOKUP(L181,'Country & Delivery'!A:B,2,FALSE))","v":""},null,null,null,null,null,null,null,null,null,null,null,{"$f":"IF(M181=\"\",\"\",VLOOKUP(M181,'Country & Delivery'!AB:AC,2,FALSE))","v":""},null,null,null,null,null,null,null,null,null,null,null,{"$f":"IF(U181=\"\",\"\",VLOOKUP(U181,'Country & Delivery'!$N$1:$O$8,2,0))","v":""},"",0,"GF","GUF","Y",null,null,{"$f":"IFERROR(INDEX('Country & Delivery'!N170:N176,MATCH(BD181,'Country & Delivery'!O170:O176,0),1),\"\")","v":""},null,null,{"$f":"IFERROR(INDEX('Country & Delivery'!A170:A419,MATCH(BG181,'Country & Delivery'!B170:B419,0),1),\"\")","v":""}]
[169,null,null,null,null,null,null,null,null,null,null,null,null,null,null,{"$f":"IF(O182=\"\",\"\",VLOOKUP(O182,Products!A:C,2,FALSE))","v":""},{"$f":"IF(O182=\"\",\"\",VLOOKUP(O182,Products!A:C,3,FALSE))","v":""},null,"",{"$f":"IF(Y182=\"\",\"\",VLOOKUP(Y182,'Country & Delivery'!B:C,2,FALSE))","v":""},null,{"$f":"IF(U182=\"\",\"\",VLOOKUP(U182,'Country & Delivery'!N:O,2,FALSE))","v":""},null,null,{"$f":"IF(L182=\"\",\"\",VLOOKUP(L182,'Country & Delivery'!A:B,2,FALSE))","v":""},null,null,null,null,null,null,null,null,null,null,null,{"$f":"IF(M182=\"\",\"\",VLOOKUP(M182,'Country & Delivery'!AB:AC,2,FALSE))","v":""},null,null,null,null,null,null,null,null,null,null,null,{"$f":"IF(U182=\"\",\"\",VLOOKUP(U182,'Country & Delivery'!$N$1:$O$8,2,0))","v":""},"",0,"GG","GGY","Y",null,null,{"$f":"IFERROR(INDEX('Country & Delivery'!N171:N177,MATCH(BD182,'Country & Delivery'!O171:O177,0),1),\"\")","v":""},null,null,{"$f":"IFERROR(INDEX('Country & Delivery'!A171:A420,MATCH(BG182,'Country & Delivery'!B171:B420,0),1),\"\")","v":""}]
[170,null,null,null,null,null,null,null,null,null,null,null,null,null,null,{"$f":"IF(O183=\"\",\"\",VLOOKUP(O183,Products!A:C,2,FALSE))","v":""},{"$f":"IF(O183=\"\",\"\",VLOOKUP(O183,Products!A:C,3,FALSE))","v":""},null,"",{"$f":"IF(Y183=\"\",\"\",VLOOKUP(Y183,'Country & Delivery'!B:C,2,FALSE))","v":""},null,{"$f":"IF(U183=\"\",\"\",VLOOKUP(U183,'Country & Delivery'!N:O,2,FALSE))","v":""},null,null,{"$f":"IF(L183=\"\",\"\",VLOOKUP(L183,'Country & Delivery'!A:B,2,FALSE))","v":""},null,null,null,null,null,null,null,null,null,null,null,{"$f":"IF(M183=\"\",\"\",VLOOKUP(M183,'Country & Delivery'!AB:AC,2,FALSE))","v":""},null,null,null,null,null,null,null,null,null,null,null,{"$f":"IF(U183=\"\",\"\",VLOOKUP(U183,'Country & Delivery'!$N$1:$O$8,2,0))","v":""},"",0,"GH","GHA","N","dc",null,{"$f":"IFERROR(INDEX('Country & Delivery'!N172:N178,MATCH(BD183,'Country & Delivery'!O172:O178,0),1),\"\")","v":""},null,null,{"$f":"IFERROR(INDEX('Country & Delivery'!A172:A421,MATCH(BG183,'Country & Delivery'!B172:B421,0),1),\"\")","v":""}]
[171,null,null,null,null,null,null,null,null,null,null,null,null,null,null,{"$f":"IF(O184=\"\",\"\",VLOOKUP(O184,Products!A:C,2,FALSE))","v":""},{"$f":"IF(O184=\"\",\"\",VLOOKUP(O184,Products!A:C,3,FALSE))","v":""},null,"",{"$f":"IF(Y184=\"\",\"\",VLOOKUP(Y184,'Country & Delivery'!B:C,2,FALSE))","v":""},null,{"$f":"IF(U184=\"\",\"\",VLOOKUP(U184,'Country & Delivery'!N:O,2,FALSE))","v":""},null,null,{"$f":"IF(L184=\"\",\"\",VLOOKUP(L184,'Country & Delivery'!A:B,2,FALSE))","v":""},null,null,null,null,null,null,null,null,null,null,null,{"$f":"IF(M184=\"\",\"\",VLOOKUP(M184,'Country & Delivery'!AB:AC,2,FALSE))","v":""},null,null,null,null,null,null,null,null,null,null,null,{"$f":"IF(U184=\"\",\"\",VLOOKUP(U184,'Country & Delivery'!$N$1:$O$8,2,0))","v":""},"",0,"Ghana","GHA","N","dc",null,{"$f":"IFERROR(INDEX('Country & Delivery'!N173:N179,MATCH(BD184,'Country & Delivery'!O173:O179,0),1),\"\")","v":""},null,null,{"$f":"IFERROR(INDEX('Country & Delivery'!A173:A422,MATCH(BG184,'Country & Delivery'!B173:B422,0),1),\"\")","v":""}]
[172,null,null,null,null,null,null,null,null,null,null,null,null,null,null,{"$f":"IF(O185=\"\",\"\",VLOOKUP(O185,Products!A:C,2,FALSE))","v":""},{"$f":"IF(O185=\"\",\"\",VLOOKUP(O185,Products!A:C,3,FALSE))","v":""},null,"",{"$f":"IF(Y185=\"\",\"\",VLOOKUP(Y185,'Country & Delivery'!B:C,2,FALSE))","v":""},null,{"$f":"IF(U185=\"\",\"\",VLOOKUP(U185,'Country & Delivery'!N:O,2,FALSE))","v":""},null,null,{"$f":"IF(L185=\"\",\"\",VLOOKUP(L185,'Country & Delivery'!A:B,2,FALSE))","v":""},null,null,null,null,null,null,null,null,null,null,null,{"$f":"IF(M185=\"\",\"\",VLOOKUP(M185,'Country & Delivery'!AB:AC,2,FALSE))","v":""},null,null,null,null,null,null,null,null,null,null,null,{"$f":"IF(U185=\"\",\"\",VLOOKUP(U185,'Country & Delivery'!$N$1:$O$8,2,0))","v":""},"",0,"GI","GIB","Y",null,null,{"$f":"IFERROR(INDEX('Country & Delivery'!N174:N180,MATCH(BD185,'Country & Delivery'!O174:O180,0),1),\"\")","v":""},null,null,{"$f":"IFERROR(INDEX('Country & Delivery'!A174:A423,MATCH(BG185,'Country & Delivery'!B174:B423,0),1),\"\")","v":""}]
[173,null,null,null,null,null,null,null,null,null,null,null,null,null,null,{"$f":"IF(O186=\"\",\"\",VLOOKUP(O186,Products!A:C,2,FALSE))","v":""},{"$f":"IF(O186=\"\",\"\",VLOOKUP(O186,Products!A:C,3,FALSE))","v":""},null,"",{"$f":"IF(Y186=\"\",\"\",VLOOKUP(Y186,'Country & Delivery'!B:C,2,FALSE))","v":""},null,{"$f":"IF(U186=\"\",\"\",VLOOKUP(U186,'Country & Delivery'!N:O,2,FALSE))","v":""},null,null,{"$f":"IF(L186=\"\",\"\",VLOOKUP(L186,'Country & Delivery'!A:B,2,FALSE))","v":""},null,null,null,null,null,null,null,null,null,null,null,{"$f":"IF(M186=\"\",\"\",VLOOKUP(M186,'Country & Delivery'!AB:AC,2,FALSE))","v":""},null,null,null,null,null,null,null,null,null,null,null,{"$f":"IF(U186=\"\",\"\",VLOOKUP(U186,'Country & Delivery'!$N$1:$O$8,2,0))","v":""},"",0,"Gibraltar","GIB","Y",null,null,{"$f":"IFERROR(INDEX('Country & Delivery'!N175:N181,MATCH(BD186,'Country & Delivery'!O175:O181,0),1),\"\")","v":""},null,null,{"$f":"IFERROR(INDEX('Country & Delivery'!A175:A424,MATCH(BG186,'Country & Delivery'!B175:B424,0),1),\"\")","v":""}]
[174,null,null,null,null,null,null,null,null,null,null,null,null,null,null,{"$f":"IF(O187=\"\",\"\",VLOOKUP(O187,Products!A:C,2,FALSE))","v":""},{"$f":"IF(O187=\"\",\"\",VLOOKUP(O187,Products!A:C,3,FALSE))","v":""},null,"",{"$f":"IF(Y187=\"\",\"\",VLOOKUP(Y187,'Country & Delivery'!B:C,2,FALSE))","v":""},null,{"$f":"IF(U187=\"\",\"\",VLOOKUP(U187,'Country & Delivery'!N:O,2,FALSE))","v":""},null,null,{"$f":"IF(L187=\"\",\"\",VLOOKUP(L187,'Country & Delivery'!A:B,2,FALSE))","v":""},null,null,null,null,null,null,null,null,null,null,null,{"$f":"IF(M187=\"\",\"\",VLOOKUP(M187,'Country & Delivery'!AB:AC,2,FALSE))","v":""},null,null,null,null,null,null,null,null,null,null,null,{"$f":"IF(U187=\"\",\"\",VLOOKUP(U187,'Country & Delivery'!$N$1:$O$8,2,0))","v":""},"",0,"GL","GRL","N","dc",null,{"$f":"IFERROR(INDEX('Country & Delivery'!N176:N182,MATCH(BD187,'Country & Delivery'!O176:O182,0),1),\"\")","v":""},null,null,{"$f":"IFERROR(INDEX('Country & Delivery'!A176:A425,MATCH(BG187,'Country & Delivery'!B176:B425,0),1),\"\")","v":""}]
[175,null,null,null,null,null,null,null,null,null,null,null,null,null,null,{"$f":"IF(O188=\"\",\"\",VLOOKUP(O188,Products!A:C,2,FALSE))","v":""},{"$f":"IF(O188=\"\",\"\",VLOOKUP(O188,Products!A:C,3,FALSE))","v":""},null,"",{"$f":"IF(Y188=\"\",\"\",VLOOKUP(Y188,'Country & Delivery'!B:C,2,FALSE))","v":""},null,{"$f":"IF(U188=\"\",\"\",VLOOKUP(U188,'Country & Delivery'!N:O,2,FALSE))","v":""},null,null,{"$f":"IF(L188=\"\",\"\",VLOOKUP(L188,'Country & Delivery'!A:B,2,FALSE))","v":""},null,null,null,null,null,null,null,null,null,null,null,{"$f":"IF(M188=\"\",\"\",VLOOKUP(M188,'Country & Delivery'!AB:AC,2,FALSE))","v":""},null,null,null,null,null,null,null,null,null,null,null,{"$f":"IF(U188=\"\",\"\",VLOOKUP(U188,'Country & Delivery'!$N$1:$O$8,2,0))","v":""},"",0,"GM","GMB","N","dc",null,{"$f":"IFERROR(INDEX('Country & Delivery'!N177:N183,MATCH(BD188,'Country & Delivery'!O177:O183,0),1),\"\")","v":""},null,null,{"$f":"IFERROR(INDEX('Country & Delivery'!A177:A426,MATCH(BG188,'Country & Delivery'!B177:B426,0),1),\"\")","v":""}]
[176,null,null,null,null,null,null,null,null,null,null,null,null,null,null,{"$f":"IF(O189=\"\",\"\",VLOOKUP(O189,Products!A:C,2,FALSE))","v":""},{"$f":"IF(O189=\"\",\"\",VLOOKUP(O189,Products!A:C,3,FALSE))","v":""},null,"",{"$f":"IF(Y189=\"\",\"\",VLOOKUP(Y189,'Country & Delivery'!B:C,2,FALSE))","v":""},null,{"$f":"IF(U189=\"\",\"\",VLOOKUP(U189,'Country & Delivery'!N:O,2,FALSE))","v":""},null,null,{"$f":"IF(L189=\"\",\"\",VLOOKUP(L189,'Country & Delivery'!A:B,2,FALSE))","v":""},null,null,null,null,null,null,null,null,null,null,null,{"$f":"IF(M189=\"\",\"\",VLOOKUP(M189,'Country & Delivery'!AB:AC,2,FALSE))","v":""},null,null,null,null,null,null,null,null,null,null,null,{"$f":"IF(U189=\"\",\"\",VLOOKUP(U189,'Country & Delivery'!$N$1:$O$8,2,0))","v":""},"",0,"GN","GIN","N","dc",null,{"$f":"IFERROR(INDEX('Country & Delivery'!N178:N184,MATCH(BD189,'Country & Delivery'!O178:O184,0),1),\"\")","v":""},null,null,{"$f":"IFERROR(INDEX('Country & Delivery'!A178:A427,MATCH(BG189,'Country & Delivery'!B178:B427,0),1),\"\")","v":""}]
[177,null,null,null,null,null,null,null,null,null,null,null,null,null,null,{"$f":"IF(O190=\"\",\"\",VLOOKUP(O190,Products!A:C,2,FALSE))","v":""},{"$f":"IF(O190=\"\",\"\",VLOOKUP(O190,Products!A:C,3,FALSE))","v":""},null,"",{"$f":"IF(Y190=\"\",\"\",VLOOKUP(Y190,'Country & Delivery'!B:C,2,FALSE))","v":""},null,{"$f":"IF(U190=\"\",\"\",VLOOKUP(U190,'Country & Delivery'!N:O,2,FALSE))","v":""},null,null,{"$f":"IF(L190=\"\",\"\",VLOOKUP(L190,'Country & Delivery'!A:B,2,FALSE))","v":""},null,null,null,null,null,null,null,null,null,null,null,{"$f":"IF(M190=\"\",\"\",VLOOKUP(M190,'Country & Delivery'!AB:AC,2,FALSE))","v":""},null,null,null,null,null,null,null,null,null,null,null,{"$f":"IF(U190=\"\",\"\",VLOOKUP(U190,'Country & Delivery'!$N$1:$O$8,2,0))","v":""},"",0,"GP","GLP","Y",null,null,{"$f":"IFERROR(INDEX('Country & Delivery'!N179:N185,MATCH(BD190,'Country & Delivery'!O179:O185,0),1),\"\")","v":""},null,null,{"$f":"IFERROR(INDEX('Country & Delivery'!A179:A428,MATCH(BG190,'Country & Delivery'!B179:B428,0),1),\"\")","v":""}]
[178,null,null,null,null,null,null,null,null,null,null,null,null,null,null,{"$f":"IF(O191=\"\",\"\",VLOOKUP(O191,Products!A:C,2,FALSE))","v":""},{"$f":"IF(O191=\"\",\"\",VLOOKUP(O191,Products!A:C,3,FALSE))","v":""},null,"",{"$f":"IF(Y191=\"\",\"\",VLOOKUP(Y191,'Country & Delivery'!B:C,2,FALSE))","v":""},null,{"$f":"IF(U191=\"\",\"\",VLOOKUP(U191,'Country & Delivery'!N:O,2,FALSE))","v":""},null,null,{"$f":"IF(L191=\"\",\"\",VLOOKUP(L191,'Country & Delivery'!A:B,2,FALSE))","v":""},null,null,null,null,null,null,null,null,null,null,null,{"$f":"IF(M191=\"\",\"\",VLOOKUP(M191,'Country & Delivery'!AB:AC,2,FALSE))","v":""},null,null,null,null,null,null,null,null,null,null,null,{"$f":"IF(U191=\"\",\"\",VLOOKUP(U191,'Country & Delivery'!$N$1:$O$8,2,0))","v":""},"",0,"GQ","GNQ","N","dc",null,{"$f":"IFERROR(INDEX('Country & Delivery'!N180:N186,MATCH(BD191,'Country & Delivery'!O180:O186,0),1),\"\")","v":""},null,null,{"$f":"IFERROR(INDEX('Country & Delivery'!A180:A429,MATCH(BG191,'Country & Delivery'!B180:B429,0),1),\"\")","v":""}]
[179,null,null,null,null,null,null,null,null,null,null,null,null,null,null,{"$f":"IF(O192=\"\",\"\",VLOOKUP(O192,Products!A:C,2,FALSE))","v":""},{"$f":"IF(O192=\"\",\"\",VLOOKUP(O192,Products!A:C,3,FALSE))","v":""},null,"",{"$f":"IF(Y192=\"\",\"\",VLOOKUP(Y192,'Country & Delivery'!B:C,2,FALSE))","v":""},null,{"$f":"IF(U192=\"\",\"\",VLOOKUP(U192,'Country & Delivery'!N:O,2,FALSE))","v":""},null,null,{"$f":"IF(L192=\"\",\"\",VLOOKUP(L192,'Country & Delivery'!A:B,2,FALSE))","v":""},null,null,null,null,null,null,null,null,null,null,null,{"$f":"IF(M192=\"\",\"\",VLOOKUP(M192,'Country & Delivery'!AB:AC,2,FALSE))","v":""},null,null,null,null,null,null,null,null,null,null,null,{"$f":"IF(U192=\"\",\"\",VLOOKUP(U192,'Country & Delivery'!$N$1:$O$8,2,0))","v":""},"",0,"GR","GRC","Y",null,null,{"$f":"IFERROR(INDEX('Country & Delivery'!N181:N187,MATCH(BD192,'Country & Delivery'!O181:O187,0),1),\"\")","v":""},null,null,{"$f":"IFERROR(INDEX('Country & Delivery'!A181:A430,MATCH(BG192,'Country & Delivery'!B181:B430,0),1),\"\")","v":""}]
[180,null,null,null,null,null,null,null,null,null,null,null,null,null,null,{"$f":"IF(O193=\"\",\"\",VLOOKUP(O193,Products!A:C,2,FALSE))","v":""},{"$f":"IF(O193=\"\",\"\",VLOOKUP(O193,Products!A:C,3,FALSE))","v":""},null,"",{"$f":"IF(Y193=\"\",\"\",VLOOKUP(Y193,'Country & Delivery'!B:C,2,FALSE))","v":""},null,{"$f":"IF(U193=\"\",\"\",VLOOKUP(U193,'Country & Delivery'!N:O,2,FALSE))","v":""},null,null,{"$f":"IF(L193=\"\",\"\",VLOOKUP(L193,'Country & Delivery'!A:B,2,FALSE))","v":""},null,null,null,null,null,null,null,null,null,null,null,{"$f":"IF(M193=\"\",\"\",VLOOKUP(M193,'Country & Delivery'!AB:AC,2,FALSE))","v":""},null,null,null,null,null,null,null,null,null,null,null,{"$f":"IF(U193=\"\",\"\",VLOOKUP(U193,'Country & Delivery'!$N$1:$O$8,2,0))","v":""},"",0,"Great Britain","GBR","Y",null,null,{"$f":"IFERROR(INDEX('Country & Delivery'!N182:N188,MATCH(BD193,'Country & Delivery'!O182:O188,0),1),\"\")","v":""},null,null,{"$f":"IFERROR(INDEX('Country & Delivery'!A182:A431,MATCH(BG193,'Country & Delivery'!B182:B431,0),1),\"\")","v":""}]
[181,null,null,null,null,null,null,null,null,null,null,null,null,null,null,{"$f":"IF(O194=\"\",\"\",VLOOKUP(O194,Products!A:C,2,FALSE))","v":""},{"$f":"IF(O194=\"\",\"\",VLOOKUP(O194,Products!A:C,3,FALSE))","v":""},null,"",{"$f":"IF(Y194=\"\",\"\",VLOOKUP(Y194,'Country & Delivery'!B:C,2,FALSE))","v":""},null,{"$f":"IF(U194=\"\",\"\",VLOOKUP(U194,'Country & Delivery'!N:O,2,FALSE))","v":""},null,null,{"$f":"IF(L194=\"\",\"\",VLOOKUP(L194,'Country & Delivery'!A:B,2,FALSE))","v":""},null,null,null,null,null,null,null,null,null,null,null,{"$f":"IF(M194=\"\",\"\",VLOOKUP(M194,'Country & Delivery'!AB:AC,2,FALSE))","v":""},null,null,null,null,null,null,null,null,null,null,null,{"$f":"IF(U194=\"\",\"\",VLOOKUP(U194,'Country & Delivery'!$N$1:$O$8,2,0))","v":""},"",0,"Greece","GRC","Y",null,null,{"$f":"IFERROR(INDEX('Country & Delivery'!N183:N189,MATCH(BD194,'Country & Delivery'!O183:O189,0),1),\"\")","v":""},null,null,{"$f":"IFERROR(INDEX('Country & Delivery'!A183:A432,MATCH(BG194,'Country & Delivery'!B183:B432,0),1),\"\")","v":""}]
[182,null,null,null,null,null,null,null,null,null,null,null,null,null,null,{"$f":"IF(O195=\"\",\"\",VLOOKUP(O195,Products!A:C,2,FALSE))","v":""},{"$f":"IF(O195=\"\",\"\",VLOOKUP(O195,Products!A:C,3,FALSE))","v":""},null,"",{"$f":"IF(Y195=\"\",\"\",VLOOKUP(Y195,'Country & Delivery'!B:C,2,FALSE))","v":""},null,{"$f":"IF(U195=\"\",\"\",VLOOKUP(U195,'Country & Delivery'!N:O,2,FALSE))","v":""},null,null,{"$f":"IF(L195=\"\",\"\",VLOOKUP(L195,'Country & Delivery'!A:B,2,FALSE))","v":""},null,null,null,null,null,null,null,null,null,null,null,{"$f":"IF(M195=\"\",\"\",VLOOKUP(M195,'Country & Delivery'!AB:AC,2,FALSE))","v":""},null,null,null,null,null,null,null,null,null,null,null,{"$f":"IF(U195=\"\",\"\",VLOOKUP(U195,'Country & Delivery'!$N$1:$O$8,2,0))","v":""},"",0,"Greenland","GRL","N","dc",null,{"$f":"IFERROR(INDEX('Country & Delivery'!N184:N190,MATCH(BD195,'Country & Delivery'!O184:O190,0),1),\"\")","v":""},null,null,{"$f":"IFERROR(INDEX('Country & Delivery'!A184:A433,MATCH(BG195,'Country & Delivery'!B184:B433,0),1),\"\")","v":""}]
[183,null,null,null,null,null,null,null,null,null,null,null,null,null,null,{"$f":"IF(O196=\"\",\"\",VLOOKUP(O196,Products!A:C,2,FALSE))","v":""},{"$f":"IF(O196=\"\",\"\",VLOOKUP(O196,Products!A:C,3,FALSE))","v":""},null,"",{"$f":"IF(Y196=\"\",\"\",VLOOKUP(Y196,'Country & Delivery'!B:C,2,FALSE))","v":""},null,{"$f":"IF(U196=\"\",\"\",VLOOKUP(U196,'Country & Delivery'!N:O,2,FALSE))","v":""},null,null,{"$f":"IF(L196=\"\",\"\",VLOOKUP(L196,'Country & Delivery'!A:B,2,FALSE))","v":""},null,null,null,null,null,null,null,null,null,null,null,{"$f":"IF(M196=\"\",\"\",VLOOKUP(M196,'Country & Delivery'!AB:AC,2,FALSE))","v":""},null,null,null,null,null,null,null,null,null,null,null,{"$f":"IF(U196=\"\",\"\",VLOOKUP(U196,'Country & Delivery'!$N$1:$O$8,2,0))","v":""},"",0,"Grenada","GRD","N",null,null,{"$f":"IFERROR(INDEX('Country & Delivery'!N185:N191,MATCH(BD196,'Country & Delivery'!O185:O191,0),1),\"\")","v":""},null,null,{"$f":"IFERROR(INDEX('Country & Delivery'!A185:A434,MATCH(BG196,'Country & Delivery'!B185:B434,0),1),\"\")","v":""}]
[184,null,null,null,null,null,null,null,null,null,null,null,null,null,null,{"$f":"IF(O197=\"\",\"\",VLOOKUP(O197,Products!A:C,2,FALSE))","v":""},{"$f":"IF(O197=\"\",\"\",VLOOKUP(O197,Products!A:C,3,FALSE))","v":""},null,"",{"$f":"IF(Y197=\"\",\"\",VLOOKUP(Y197,'Country & Delivery'!B:C,2,FALSE))","v":""},null,{"$f":"IF(U197=\"\",\"\",VLOOKUP(U197,'Country & Delivery'!N:O,2,FALSE))","v":""},null,null,{"$f":"IF(L197=\"\",\"\",VLOOKUP(L197,'Country & Delivery'!A:B,2,FALSE))","v":""},null,null,null,null,null,null,null,null,null,null,null,{"$f":"IF(M197=\"\",\"\",VLOOKUP(M197,'Country & Delivery'!AB:AC,2,FALSE))","v":""},null,null,null,null,null,null,null,null,null,null,null,{"$f":"IF(U197=\"\",\"\",VLOOKUP(U197,'Country & Delivery'!$N$1:$O$8,2,0))","v":""},"",0,"GS","SGS","N","dc",null,{"$f":"IFERROR(INDEX('Country & Delivery'!N186:N192,MATCH(BD197,'Country & Delivery'!O186:O192,0),1),\"\")","v":""},null,null,{"$f":"IFERROR(INDEX('Country & Delivery'!A186:A435,MATCH(BG197,'Country & Delivery'!B186:B435,0),1),\"\")","v":""}]
[185,null,null,null,null,null,null,null,null,null,null,null,null,null,null,{"$f":"IF(O198=\"\",\"\",VLOOKUP(O198,Products!A:C,2,FALSE))","v":""},{"$f":"IF(O198=\"\",\"\",VLOOKUP(O198,Products!A:C,3,FALSE))","v":""},null,"",{"$f":"IF(Y198=\"\",\"\",VLOOKUP(Y198,'Country & Delivery'!B:C,2,FALSE))","v":""},null,{"$f":"IF(U198=\"\",\"\",VLOOKUP(U198,'Country & Delivery'!N:O,2,FALSE))","v":""},null,null,{"$f":"IF(L198=\"\",\"\",VLOOKUP(L198,'Country & Delivery'!A:B,2,FALSE))","v":""},null,null,null,null,null,null,null,null,null,null,null,{"$f":"IF(M198=\"\",\"\",VLOOKUP(M198,'Country & Delivery'!AB:AC,2,FALSE))","v":""},null,null,null,null,null,null,null,null,null,null,null,{"$f":"IF(U198=\"\",\"\",VLOOKUP(U198,'Country & Delivery'!$N$1:$O$8,2,0))","v":""},"",0,"GT","GTM","N",null,null,{"$f":"IFERROR(INDEX('Country & Delivery'!N187:N193,MATCH(BD198,'Country & Delivery'!O187:O193,0),1),\"\")","v":""},null,null,{"$f":"IFERROR(INDEX('Country & Delivery'!A187:A436,MATCH(BG198,'Country & Delivery'!B187:B436,0),1),\"\")","v":""}]
[186,null,null,null,null,null,null,null,null,null,null,null,null,null,null,{"$f":"IF(O199=\"\",\"\",VLOOKUP(O199,Products!A:C,2,FALSE))","v":""},{"$f":"IF(O199=\"\",\"\",VLOOKUP(O199,Products!A:C,3,FALSE))","v":""},null,"",{"$f":"IF(Y199=\"\",\"\",VLOOKUP(Y199,'Country & Delivery'!B:C,2,FALSE))","v":""},null,{"$f":"IF(U199=\"\",\"\",VLOOKUP(U199,'Country & Delivery'!N:O,2,FALSE))","v":""},null,null,{"$f":"IF(L199=\"\",\"\",VLOOKUP(L199,'Country & Delivery'!A:B,2,FALSE))","v":""},null,null,null,null,null,null,null,null,null,null,null,{"$f":"IF(M199=\"\",\"\",VLOOKUP(M199,'Country & Delivery'!AB:AC,2,FALSE))","v":""},null,null,null,null,null,null,null,null,null,null,null,{"$f":"IF(U199=\"\",\"\",VLOOKUP(U199,'Country & Delivery'!$N$1:$O$8,2,0))","v":""},"",0,"GU","GUM","N","dc",null,{"$f":"IFERROR(INDEX('Country & Delivery'!N188:N194,MATCH(BD199,'Country & Delivery'!O188:O194,0),1),\"\")","v":""},null,null,{"$f":"IFERROR(INDEX('Country & Delivery'!A188:A437,MATCH(BG199,'Country & Delivery'!B188:B437,0),1),\"\")","v":""}]
[187,null,null,null,null,null,null,null,null,null,null,null,null,null,null,{"$f":"IF(O200=\"\",\"\",VLOOKUP(O200,Products!A:C,2,FALSE))","v":""},{"$f":"IF(O200=\"\",\"\",VLOOKUP(O200,Products!A:C,3,FALSE))","v":""},null,"",{"$f":"IF(Y200=\"\",\"\",VLOOKUP(Y200,'Country & Delivery'!B:C,2,FALSE))","v":""},null,{"$f":"IF(U200=\"\",\"\",VLOOKUP(U200,'Country & Delivery'!N:O,2,FALSE))","v":""},null,null,{"$f":"IF(L200=\"\",\"\",VLOOKUP(L200,'Country & Delivery'!A:B,2,FALSE))","v":""},null,null,null,null,null,null,null,null,null,null,null,{"$f":"IF(M200=\"\",\"\",VLOOKUP(M200,'Country & Delivery'!AB:AC,2,FALSE))","v":""},null,null,null,null,null,null,null,null,null,null,null,{"$f":"IF(U200=\"\",\"\",VLOOKUP(U200,'Country & Delivery'!$N$1:$O$8,2,0))","v":""},"",0,"Guadeloupe","GLP","Y",null,null,{"$f":"IFERROR(INDEX('Country & Delivery'!N189:N195,MATCH(BD200,'Country & Delivery'!O189:O195,0),1),\"\")","v":""},null,null,{"$f":"IFERROR(INDEX('Country & Delivery'!A189:A438,MATCH(BG200,'Country & Delivery'!B189:B438,0),1),\"\")","v":""}]
[188,null,null,null,null,null,null,null,null,null,null,null,null,null,null,{"$f":"IF(O201=\"\",\"\",VLOOKUP(O201,Products!A:C,2,FALSE))","v":""},{"$f":"IF(O201=\"\",\"\",VLOOKUP(O201,Products!A:C,3,FALSE))","v":""},null,"",{"$f":"IF(Y201=\"\",\"\",VLOOKUP(Y201,'Country & Delivery'!B:C,2,FALSE))","v":""},null,{"$f":"IF(U201=\"\",\"\",VLOOKUP(U201,'Country & Delivery'!N:O,2,FALSE))","v":""},null,null,{"$f":"IF(L201=\"\",\"\",VLOOKUP(L201,'Country & Delivery'!A:B,2,FALSE))","v":""},null,null,null,null,null,null,null,null,null,null,null,{"$f":"IF(M201=\"\",\"\",VLOOKUP(M201,'Country & Delivery'!AB:AC,2,FALSE))","v":""},null,null,null,null,null,null,null,null,null,null,null,{"$f":"IF(U201=\"\",\"\",VLOOKUP(U201,'Country & Delivery'!$N$1:$O$8,2,0))","v":""},"",0,"Guam","GUM","N","dc",null,{"$f":"IFERROR(INDEX('Country & Delivery'!N190:N196,MATCH(BD201,'Country & Delivery'!O190:O196,0),1),\"\")","v":""},null,null,{"$f":"IFERROR(INDEX('Country & Delivery'!A190:A439,MATCH(BG201,'Country & Delivery'!B190:B439,0),1),\"\")","v":""}]
[189,null,null,null,null,null,null,null,null,null,null,null,null,null,null,{"$f":"IF(O202=\"\",\"\",VLOOKUP(O202,Products!A:C,2,FALSE))","v":""},{"$f":"IF(O202=\"\",\"\",VLOOKUP(O202,Products!A:C,3,FALSE))","v":""},null,"",{"$f":"IF(Y202=\"\",\"\",VLOOKUP(Y202,'Country & Delivery'!B:C,2,FALSE))","v":""},null,{"$f":"IF(U202=\"\",\"\",VLOOKUP(U202,'Country & Delivery'!N:O,2,FALSE))","v":""},null,null,{"$f":"IF(L202=\"\",\"\",VLOOKUP(L202,'Country & Delivery'!A:B,2,FALSE))","v":""},null,null,null,null,null,null,null,null,null,null,null,{"$f":"IF(M202=\"\",\"\",VLOOKUP(M202,'Country & Delivery'!AB:AC,2,FALSE))","v":""},null,null,null,null,null,null,null,null,null,null,null,{"$f":"IF(U202=\"\",\"\",VLOOKUP(U202,'Country & Delivery'!$N$1:$O$8,2,0))","v":""},"",0,"Guatemala","GTM","N",null,null,{"$f":"IFERROR(INDEX('Country & Delivery'!N191:N197,MATCH(BD202,'Country & Delivery'!O191:O197,0),1),\"\")","v":""},null,null,{"$f":"IFERROR(INDEX('Country & Delivery'!A191:A440,MATCH(BG202,'Country & Delivery'!B191:B440,0),1),\"\")","v":""}]
[190,null,null,null,null,null,null,null,null,null,null,null,null,null,null,{"$f":"IF(O203=\"\",\"\",VLOOKUP(O203,Products!A:C,2,FALSE))","v":""},{"$f":"IF(O203=\"\",\"\",VLOOKUP(O203,Products!A:C,3,FALSE))","v":""},null,"",{"$f":"IF(Y203=\"\",\"\",VLOOKUP(Y203,'Country & Delivery'!B:C,2,FALSE))","v":""},null,{"$f":"IF(U203=\"\",\"\",VLOOKUP(U203,'Country & Delivery'!N:O,2,FALSE))","v":""},null,null,{"$f":"IF(L203=\"\",\"\",VLOOKUP(L203,'Country & Delivery'!A:B,2,FALSE))","v":""},null,null,null,null,null,null,null,null,null,null,null,{"$f":"IF(M203=\"\",\"\",VLOOKUP(M203,'Country & Delivery'!AB:AC,2,FALSE))","v":""},null,null,null,null,null,null,null,null,null,null,null,{"$f":"IF(U203=\"\",\"\",VLOOKUP(U203,'Country & Delivery'!$N$1:$O$8,2,0))","v":""},"",0,"Guernsey","GGY","Y",null,null,{"$f":"IFERROR(INDEX('Country & Delivery'!N192:N198,MATCH(BD203,'Country & Delivery'!O192:O198,0),1),\"\")","v":""},null,null,{"$f":"IFERROR(INDEX('Country & Delivery'!A192:A441,MATCH(BG203,'Country & Delivery'!B192:B441,0),1),\"\")","v":""}]
[191,null,null,null,null,null,null,null,null,null,null,null,null,null,null,{"$f":"IF(O204=\"\",\"\",VLOOKUP(O204,Products!A:C,2,FALSE))","v":""},{"$f":"IF(O204=\"\",\"\",VLOOKUP(O204,Products!A:C,3,FALSE))","v":""},null,"",{"$f":"IF(Y204=\"\",\"\",VLOOKUP(Y204,'Country & Delivery'!B:C,2,FALSE))","v":""},null,{"$f":"IF(U204=\"\",\"\",VLOOKUP(U204,'Country & Delivery'!N:O,2,FALSE))","v":""},null,null,{"$f":"IF(L204=\"\",\"\",VLOOKUP(L204,'Country & Delivery'!A:B,2,FALSE))","v":""},null,null,null,null,null,null,null,null,null,null,null,{"$f":"IF(M204=\"\",\"\",VLOOKUP(M204,'Country & Delivery'!AB:AC,2,FALSE))","v":""},null,null,null,null,null,null,null,null,null,null,null,{"$f":"IF(U204=\"\",\"\",VLOOKUP(U204,'Country & Delivery'!$N$1:$O$8,2,0))","v":""},{"$f":"IF(O204<>\"\",COUNTIFS(D204:D204,\"\")+COUNTIFS(E204:E204,\"\")+COUNTIFS(I204:I204,\"\")+COUNTIFS(N204:N204,\"\")+COUNTIFS(O204:O204,\"\")+COUNTIFS(R204:R204,\"\")+COUNTIFS(U204:U204,\"\"),\"\")","v":""},0,"Guinea","GIN","N","dc",null,{"$f":"IFERROR(INDEX('Country & Delivery'!N193:N199,MATCH(BD204,'Country & Delivery'!O193:O199,0),1),\"\")","v":""},null,null,{"$f":"IFERROR(INDEX('Country & Delivery'!A193:A442,MATCH(BG204,'Country & Delivery'!B193:B442,0),1),\"\")","v":""}]
[192,null,null,null,null,null,null,null,null,null,null,null,null,null,null,{"$f":"IF(O205=\"\",\"\",VLOOKUP(O205,Products!A:C,2,FALSE))","v":""},{"$f":"IF(O205=\"\",\"\",VLOOKUP(O205,Products!A:C,3,FALSE))","v":""},null,"",{"$f":"IF(Y205=\"\",\"\",VLOOKUP(Y205,'Country & Delivery'!B:C,2,FALSE))","v":""},null,{"$f":"IF(U205=\"\",\"\",VLOOKUP(U205,'Country & Delivery'!N:O,2,FALSE))","v":""},null,null,{"$f":"IF(L205=\"\",\"\",VLOOKUP(L205,'Country & Delivery'!A:B,2,FALSE))","v":""},null,null,null,null,null,null,null,null,null,null,null,{"$f":"IF(M205=\"\",\"\",VLOOKUP(M205,'Country & Delivery'!AB:AC,2,FALSE))","v":""},null,null,null,null,null,null,null,null,null,null,null,{"$f":"IF(U205=\"\",\"\",VLOOKUP(U205,'Country & Delivery'!$N$1:$O$8,2,0))","v":""},"",{"$f":"+$L$10","v":0},"Guinea-Bissau","GNB","N","dc",null,{"$f":"IFERROR(INDEX('Country & Delivery'!N194:N200,MATCH(BD205,'Country & Delivery'!O194:O200,0),1),\"\")","v":""},null,null,{"$f":"IFERROR(INDEX('Country & Delivery'!A194:A443,MATCH(BG205,'Country & Delivery'!B194:B443,0),1),\"\")","v":""}]
[193,null,null,null,null,null,null,null,null,null,null,null,null,null,null,{"$f":"IF(O206=\"\",\"\",VLOOKUP(O206,Products!A:C,2,FALSE))","v":""},{"$f":"IF(O206=\"\",\"\",VLOOKUP(O206,Products!A:C,3,FALSE))","v":""},null,"",{"$f":"IF(Y206=\"\",\"\",VLOOKUP(Y206,'Country & Delivery'!B:C,2,FALSE))","v":""},null,{"$f":"IF(U206=\"\",\"\",VLOOKUP(U206,'Country & Delivery'!N:O,2,FALSE))","v":""},null,null,{"$f":"IF(L206=\"\",\"\",VLOOKUP(L206,'Country & Delivery'!A:B,2,FALSE))","v":""},null,null,null,null,null,null,null,null,null,null,null,{"$f":"IF(M206=\"\",\"\",VLOOKUP(M206,'Country & Delivery'!AB:AC,2,FALSE))","v":""},null,null,null,null,null,null,null,null,null,null,null,{"$f":"IF(U206=\"\",\"\",VLOOKUP(U206,'Country & Delivery'!$N$1:$O$8,2,0))","v":""},"",0,"Guyana","GUY","N",null,null,{"$f":"IFERROR(INDEX('Country & Delivery'!N195:N201,MATCH(BD206,'Country & Delivery'!O195:O201,0),1),\"\")","v":""},null,null,{"$f":"IFERROR(INDEX('Country & Delivery'!A195:A444,MATCH(BG206,'Country & Delivery'!B195:B444,0),1),\"\")","v":""}]
[194,null,null,null,null,null,null,null,null,null,null,null,null,null,null,{"$f":"IF(O207=\"\",\"\",VLOOKUP(O207,Products!A:C,2,FALSE))","v":""},{"$f":"IF(O207=\"\",\"\",VLOOKUP(O207,Products!A:C,3,FALSE))","v":""},null,"",{"$f":"IF(Y207=\"\",\"\",VLOOKUP(Y207,'Country & Delivery'!B:C,2,FALSE))","v":""},null,{"$f":"IF(U207=\"\",\"\",VLOOKUP(U207,'Country & Delivery'!N:O,2,FALSE))","v":""},null,null,{"$f":"IF(L207=\"\",\"\",VLOOKUP(L207,'Country & Delivery'!A:B,2,FALSE))","v":""},null,null,null,null,null,null,null,null,null,null,null,{"$f":"IF(M207=\"\",\"\",VLOOKUP(M207,'Country & Delivery'!AB:AC,2,FALSE))","v":""},null,null,null,null,null,null,null,null,null,null,null,{"$f":"IF(U207=\"\",\"\",VLOOKUP(U207,'Country & Delivery'!$N$1:$O$8,2,0))","v":""},"",0,"GW","GNB","N","dc",null,{"$f":"IFERROR(INDEX('Country & Delivery'!N196:N202,MATCH(BD207,'Country & Delivery'!O196:O202,0),1),\"\")","v":""},null,null,{"$f":"IFERROR(INDEX('Country & Delivery'!A196:A445,MATCH(BG207,'Country & Delivery'!B196:B445,0),1),\"\")","v":""}]
[195,null,null,null,null,null,null,null,null,null,null,null,null,null,null,{"$f":"IF(O208=\"\",\"\",VLOOKUP(O208,Products!A:C,2,FALSE))","v":""},{"$f":"IF(O208=\"\",\"\",VLOOKUP(O208,Products!A:C,3,FALSE))","v":""},null,"",{"$f":"IF(Y208=\"\",\"\",VLOOKUP(Y208,'Country & Delivery'!B:C,2,FALSE))","v":""},null,{"$f":"IF(U208=\"\",\"\",VLOOKUP(U208,'Country & Delivery'!N:O,2,FALSE))","v":""},null,null,{"$f":"IF(L208=\"\",\"\",VLOOKUP(L208,'Country & Delivery'!A:B,2,FALSE))","v":""},null,null,null,null,null,null,null,null,null,null,null,{"$f":"IF(M208=\"\",\"\",VLOOKUP(M208,'Country & Delivery'!AB:AC,2,FALSE))","v":""},null,null,null,null,null,null,null,null,null,null,null,{"$f":"IF(U208=\"\",\"\",VLOOKUP(U208,'Country & Delivery'!$N$1:$O$8,2,0))","v":""},"",0,"GY","GUY","N",null,null,{"$f":"IFERROR(INDEX('Country & Delivery'!N197:N203,MATCH(BD208,'Country & Delivery'!O197:O203,0),1),\"\")","v":""},null,null,{"$f":"IFERROR(INDEX('Country & Delivery'!A197:A446,MATCH(BG208,'Country & Delivery'!B197:B446,0),1),\"\")","v":""}]
[196,null,null,null,null,null,null,null,null,null,null,null,null,null,null,{"$f":"IF(O209=\"\",\"\",VLOOKUP(O209,Products!A:C,2,FALSE))","v":""},{"$f":"IF(O209=\"\",\"\",VLOOKUP(O209,Products!A:C,3,FALSE))","v":""},null,"",{"$f":"IF(Y209=\"\",\"\",VLOOKUP(Y209,'Country & Delivery'!B:C,2,FALSE))","v":""},null,{"$f":"IF(U209=\"\",\"\",VLOOKUP(U209,'Country & Delivery'!N:O,2,FALSE))","v":""},null,null,{"$f":"IF(L209=\"\",\"\",VLOOKUP(L209,'Country & Delivery'!A:B,2,FALSE))","v":""},null,null,null,null,null,null,null,null,null,null,null,{"$f":"IF(M209=\"\",\"\",VLOOKUP(M209,'Country & Delivery'!AB:AC,2,FALSE))","v":""},null,null,null,null,null,null,null,null,null,null,null,{"$f":"IF(U209=\"\",\"\",VLOOKUP(U209,'Country & Delivery'!$N$1:$O$8,2,0))","v":""},"",0,"Haiti","HTI","N","dc",null,{"$f":"IFERROR(INDEX('Country & Delivery'!N198:N204,MATCH(BD209,'Country & Delivery'!O198:O204,0),1),\"\")","v":""},null,null,{"$f":"IFERROR(INDEX('Country & Delivery'!A198:A447,MATCH(BG209,'Country & Delivery'!B198:B447,0),1),\"\")","v":""}]
[197,null,null,null,null,null,null,null,null,null,null,null,null,null,null,{"$f":"IF(O210=\"\",\"\",VLOOKUP(O210,Products!A:C,2,FALSE))","v":""},{"$f":"IF(O210=\"\",\"\",VLOOKUP(O210,Products!A:C,3,FALSE))","v":""},null,"",{"$f":"IF(Y210=\"\",\"\",VLOOKUP(Y210,'Country & Delivery'!B:C,2,FALSE))","v":""},null,{"$f":"IF(U210=\"\",\"\",VLOOKUP(U210,'Country & Delivery'!N:O,2,FALSE))","v":""},null,null,{"$f":"IF(L210=\"\",\"\",VLOOKUP(L210,'Country & Delivery'!A:B,2,FALSE))","v":""},null,null,null,null,null,null,null,null,null,null,null,{"$f":"IF(M210=\"\",\"\",VLOOKUP(M210,'Country & Delivery'!AB:AC,2,FALSE))","v":""},null,null,null,null,null,null,null,null,null,null,null,{"$f":"IF(U210=\"\",\"\",VLOOKUP(U210,'Country & Delivery'!$N$1:$O$8,2,0))","v":""},"",0,"Heard Island and McDonald Islands","HMD","N","dc",null,{"$f":"IFERROR(INDEX('Country & Delivery'!N199:N205,MATCH(BD210,'Country & Delivery'!O199:O205,0),1),\"\")","v":""},null,null,{"$f":"IFERROR(INDEX('Country & Delivery'!A199:A448,MATCH(BG210,'Country & Delivery'!B199:B448,0),1),\"\")","v":""}]
[198,null,null,null,null,null,null,null,null,null,null,null,null,null,null,{"$f":"IF(O211=\"\",\"\",VLOOKUP(O211,Products!A:C,2,FALSE))","v":""},{"$f":"IF(O211=\"\",\"\",VLOOKUP(O211,Products!A:C,3,FALSE))","v":""},null,"",{"$f":"IF(Y211=\"\",\"\",VLOOKUP(Y211,'Country & Delivery'!B:C,2,FALSE))","v":""},null,{"$f":"IF(U211=\"\",\"\",VLOOKUP(U211,'Country & Delivery'!N:O,2,FALSE))","v":""},null,null,{"$f":"IF(L211=\"\",\"\",VLOOKUP(L211,'Country & Delivery'!A:B,2,FALSE))","v":""},null,null,null,null,null,null,null,null,null,null,null,{"$f":"IF(M211=\"\",\"\",VLOOKUP(M211,'Country & Delivery'!AB:AC,2,FALSE))","v":""},null,null,null,null,null,null,null,null,null,null,null,{"$f":"IF(U211=\"\",\"\",VLOOKUP(U211,'Country & Delivery'!$N$1:$O$8,2,0))","v":""},"",0,"HK","HKG","N",null,null,{"$f":"IFERROR(INDEX('Country & Delivery'!N200:N206,MATCH(BD211,'Country & Delivery'!O200:O206,0),1),\"\")","v":""},null,null,{"$f":"IFERROR(INDEX('Country & Delivery'!A200:A449,MATCH(BG211,'Country & Delivery'!B200:B449,0),1),\"\")","v":""}]
[199,null,null,null,null,null,null,null,null,null,null,null,null,null,null,{"$f":"IF(O212=\"\",\"\",VLOOKUP(O212,Products!A:C,2,FALSE))","v":""},{"$f":"IF(O212=\"\",\"\",VLOOKUP(O212,Products!A:C,3,FALSE))","v":""},null,"",{"$f":"IF(Y212=\"\",\"\",VLOOKUP(Y212,'Country & Delivery'!B:C,2,FALSE))","v":""},null,{"$f":"IF(U212=\"\",\"\",VLOOKUP(U212,'Country & Delivery'!N:O,2,FALSE))","v":""},null,null,{"$f":"IF(L212=\"\",\"\",VLOOKUP(L212,'Country & Delivery'!A:B,2,FALSE))","v":""},null,null,null,null,null,null,null,null,null,null,null,{"$f":"IF(M212=\"\",\"\",VLOOKUP(M212,'Country & Delivery'!AB:AC,2,FALSE))","v":""},null,null,null,null,null,null,null,null,null,null,null,{"$f":"IF(U212=\"\",\"\",VLOOKUP(U212,'Country & Delivery'!$N$1:$O$8,2,0))","v":""},"",0,"HM","HMD","N","dc",null,{"$f":"IFERROR(INDEX('Country & Delivery'!N201:N207,MATCH(BD212,'Country & Delivery'!O201:O207,0),1),\"\")","v":""},null,null,{"$f":"IFERROR(INDEX('Country & Delivery'!A201:A450,MATCH(BG212,'Country & Delivery'!B201:B450,0),1),\"\")","v":""}]
[200,null,null,null,null,null,null,null,null,null,null,null,null,null,null,{"$f":"IF(O213=\"\",\"\",VLOOKUP(O213,Products!A:C,2,FALSE))","v":""},{"$f":"IF(O213=\"\",\"\",VLOOKUP(O213,Products!A:C,3,FALSE))","v":""},null,"",{"$f":"IF(Y213=\"\",\"\",VLOOKUP(Y213,'Country & Delivery'!B:C,2,FALSE))","v":""},null,{"$f":"IF(U213=\"\",\"\",VLOOKUP(U213,'Country & Delivery'!N:O,2,FALSE))","v":""},null,null,{"$f":"IF(L213=\"\",\"\",VLOOKUP(L213,'Country & Delivery'!A:B,2,FALSE))","v":""},null,null,null,null,null,null,null,null,null,null,null,{"$f":"IF(M213=\"\",\"\",VLOOKUP(M213,'Country & Delivery'!AB:AC,2,FALSE))","v":""},null,null,null,null,null,null,null,null,null,null,null,{"$f":"IF(U213=\"\",\"\",VLOOKUP(U213,'Country & Delivery'!$N$1:$O$8,2,0))","v":""},"",0,"HN","HND","N",null,null,{"$f":"IFERROR(INDEX('Country & Delivery'!N202:N208,MATCH(BD213,'Country & Delivery'!O202:O208,0),1),\"\")","v":""},null,null,{"$f":"IFERROR(INDEX('Country & Delivery'!A202:A451,MATCH(BG213,'Country & Delivery'!B202:B451,0),1),\"\")","v":""}]
[201,null,null,null,null,null,null,null,null,null,null,null,null,null,null,{"$f":"IF(O214=\"\",\"\",VLOOKUP(O214,Products!A:C,2,FALSE))","v":""},{"$f":"IF(O214=\"\",\"\",VLOOKUP(O214,Products!A:C,3,FALSE))","v":""},null,"",{"$f":"IF(Y214=\"\",\"\",VLOOKUP(Y214,'Country & Delivery'!B:C,2,FALSE))","v":""},null,{"$f":"IF(U214=\"\",\"\",VLOOKUP(U214,'Country & Delivery'!N:O,2,FALSE))","v":""},null,null,{"$f":"IF(L214=\"\",\"\",VLOOKUP(L214,'Country & Delivery'!A:B,2,FALSE))","v":""},null,null,null,null,null,null,null,null,null,null,null,{"$f":"IF(M214=\"\",\"\",VLOOKUP(M214,'Country & Delivery'!AB:AC,2,FALSE))","v":""},null,null,null,null,null,null,null,null,null,null,null,{"$f":"IF(U214=\"\",\"\",VLOOKUP(U214,'Country & Delivery'!$N$1:$O$8,2,0))","v":""},"",0,"Holy See","VAT","N","dc",null,{"$f":"IFERROR(INDEX('Country & Delivery'!N203:N209,MATCH(BD214,'Country & Delivery'!O203:O209,0),1),\"\")","v":""},null,null,{"$f":"IFERROR(INDEX('Country & Delivery'!A203:A452,MATCH(BG214,'Country & Delivery'!B203:B452,0),1),\"\")","v":""}]
[202,null,null,null,null,null,null,null,null,null,null,null,null,null,null,{"$f":"IF(O215=\"\",\"\",VLOOKUP(O215,Products!A:C,2,FALSE))","v":""},{"$f":"IF(O215=\"\",\"\",VLOOKUP(O215,Products!A:C,3,FALSE))","v":""},null,"",{"$f":"IF(Y215=\"\",\"\",VLOOKUP(Y215,'Country & Delivery'!B:C,2,FALSE))","v":""},null,{"$f":"IF(U215=\"\",\"\",VLOOKUP(U215,'Country & Delivery'!N:O,2,FALSE))","v":""},null,null,{"$f":"IF(L215=\"\",\"\",VLOOKUP(L215,'Country & Delivery'!A:B,2,FALSE))","v":""},null,null,null,null,null,null,null,null,null,null,null,{"$f":"IF(M215=\"\",\"\",VLOOKUP(M215,'Country & Delivery'!AB:AC,2,FALSE))","v":""},null,null,null,null,null,null,null,null,null,null,null,{"$f":"IF(U215=\"\",\"\",VLOOKUP(U215,'Country & Delivery'!$N$1:$O$8,2,0))","v":""},"",0,"Honduras","HND","N",null,null,{"$f":"IFERROR(INDEX('Country & Delivery'!N204:N210,MATCH(BD215,'Country & Delivery'!O204:O210,0),1),\"\")","v":""},null,null,{"$f":"IFERROR(INDEX('Country & Delivery'!A204:A453,MATCH(BG215,'Country & Delivery'!B204:B453,0),1),\"\")","v":""}]
[203,null,null,null,null,null,null,null,null,null,null,null,null,null,null,{"$f":"IF(O216=\"\",\"\",VLOOKUP(O216,Products!A:C,2,FALSE))","v":""},{"$f":"IF(O216=\"\",\"\",VLOOKUP(O216,Products!A:C,3,FALSE))","v":""},null,"",{"$f":"IF(Y216=\"\",\"\",VLOOKUP(Y216,'Country & Delivery'!B:C,2,FALSE))","v":""},null,{"$f":"IF(U216=\"\",\"\",VLOOKUP(U216,'Country & Delivery'!N:O,2,FALSE))","v":""},null,null,{"$f":"IF(L216=\"\",\"\",VLOOKUP(L216,'Country & Delivery'!A:B,2,FALSE))","v":""},null,null,null,null,null,null,null,null,null,null,null,{"$f":"IF(M216=\"\",\"\",VLOOKUP(M216,'Country & Delivery'!AB:AC,2,FALSE))","v":""},null,null,null,null,null,null,null,null,null,null,null,{"$f":"IF(U216=\"\",\"\",VLOOKUP(U216,'Country & Delivery'!$N$1:$O$8,2,0))","v":""},"",0,"Hong Kong","HKG","N",null,null,{"$f":"IFERROR(INDEX('Country & Delivery'!N205:N211,MATCH(BD216,'Country & Delivery'!O205:O211,0),1),\"\")","v":""},null,null,{"$f":"IFERROR(INDEX('Country & Delivery'!A205:A454,MATCH(BG216,'Country & Delivery'!B205:B454,0),1),\"\")","v":""}]
[204,null,null,null,null,null,null,null,null,null,null,null,null,null,null,{"$f":"IF(O217=\"\",\"\",VLOOKUP(O217,Products!A:C,2,FALSE))","v":""},{"$f":"IF(O217=\"\",\"\",VLOOKUP(O217,Products!A:C,3,FALSE))","v":""},null,"",{"$f":"IF(Y217=\"\",\"\",VLOOKUP(Y217,'Country & Delivery'!B:C,2,FALSE))","v":""},null,{"$f":"IF(U217=\"\",\"\",VLOOKUP(U217,'Country & Delivery'!N:O,2,FALSE))","v":""},null,null,{"$f":"IF(L217=\"\",\"\",VLOOKUP(L217,'Country & Delivery'!A:B,2,FALSE))","v":""},null,null,null,null,null,null,null,null,null,null,null,{"$f":"IF(M217=\"\",\"\",VLOOKUP(M217,'Country & Delivery'!AB:AC,2,FALSE))","v":""},null,null,null,null,null,null,null,null,null,null,null,{"$f":"IF(U217=\"\",\"\",VLOOKUP(U217,'Country & Delivery'!$N$1:$O$8,2,0))","v":""},"",0,"HR","HRV","Y",null,null,{"$f":"IFERROR(INDEX('Country & Delivery'!N206:N212,MATCH(BD217,'Country & Delivery'!O206:O212,0),1),\"\")","v":""},null,null,{"$f":"IFERROR(INDEX('Country & Delivery'!A206:A455,MATCH(BG217,'Country & Delivery'!B206:B455,0),1),\"\")","v":""}]
[205,null,null,null,null,null,null,null,null,null,null,null,null,null,null,{"$f":"IF(O218=\"\",\"\",VLOOKUP(O218,Products!A:C,2,FALSE))","v":""},{"$f":"IF(O218=\"\",\"\",VLOOKUP(O218,Products!A:C,3,FALSE))","v":""},null,"",{"$f":"IF(Y218=\"\",\"\",VLOOKUP(Y218,'Country & Delivery'!B:C,2,FALSE))","v":""},null,{"$f":"IF(U218=\"\",\"\",VLOOKUP(U218,'Country & Delivery'!N:O,2,FALSE))","v":""},null,null,{"$f":"IF(L218=\"\",\"\",VLOOKUP(L218,'Country & Delivery'!A:B,2,FALSE))","v":""},null,null,null,null,null,null,null,null,null,null,null,{"$f":"IF(M218=\"\",\"\",VLOOKUP(M218,'Country & Delivery'!AB:AC,2,FALSE))","v":""},null,null,null,null,null,null,null,null,null,null,null,{"$f":"IF(U218=\"\",\"\",VLOOKUP(U218,'Country & Delivery'!$N$1:$O$8,2,0))","v":""},"",0,"HT","HTI","N","dc",null,{"$f":"IFERROR(INDEX('Country & Delivery'!N207:N213,MATCH(BD218,'Country & Delivery'!O207:O213,0),1),\"\")","v":""},null,null,{"$f":"IFERROR(INDEX('Country & Delivery'!A207:A456,MATCH(BG218,'Country & Delivery'!B207:B456,0),1),\"\")","v":""}]
[206,null,null,null,null,null,null,null,null,null,null,null,null,null,null,{"$f":"IF(O219=\"\",\"\",VLOOKUP(O219,Products!A:C,2,FALSE))","v":""},{"$f":"IF(O219=\"\",\"\",VLOOKUP(O219,Products!A:C,3,FALSE))","v":""},null,"",{"$f":"IF(Y219=\"\",\"\",VLOOKUP(Y219,'Country & Delivery'!B:C,2,FALSE))","v":""},null,{"$f":"IF(U219=\"\",\"\",VLOOKUP(U219,'Country & Delivery'!N:O,2,FALSE))","v":""},null,null,{"$f":"IF(L219=\"\",\"\",VLOOKUP(L219,'Country & Delivery'!A:B,2,FALSE))","v":""},null,null,null,null,null,null,null,null,null,null,null,{"$f":"IF(M219=\"\",\"\",VLOOKUP(M219,'Country & Delivery'!AB:AC,2,FALSE))","v":""},null,null,null,null,null,null,null,null,null,null,null,{"$f":"IF(U219=\"\",\"\",VLOOKUP(U219,'Country & Delivery'!$N$1:$O$8,2,0))","v":""},"",0,"HU","HUN","Y",null,null,{"$f":"IFERROR(INDEX('Country & Delivery'!N208:N214,MATCH(BD219,'Country & Delivery'!O208:O214,0),1),\"\")","v":""},null,null,{"$f":"IFERROR(INDEX('Country & Delivery'!A208:A457,MATCH(BG219,'Country & Delivery'!B208:B457,0),1),\"\")","v":""}]
[207,null,null,null,null,null,null,null,null,null,null,null,null,null,null,{"$f":"IF(O220=\"\",\"\",VLOOKUP(O220,Products!A:C,2,FALSE))","v":""},{"$f":"IF(O220=\"\",\"\",VLOOKUP(O220,Products!A:C,3,FALSE))","v":""},null,"",{"$f":"IF(Y220=\"\",\"\",VLOOKUP(Y220,'Country & Delivery'!B:C,2,FALSE))","v":""},null,{"$f":"IF(U220=\"\",\"\",VLOOKUP(U220,'Country & Delivery'!N:O,2,FALSE))","v":""},null,null,{"$f":"IF(L220=\"\",\"\",VLOOKUP(L220,'Country & Delivery'!A:B,2,FALSE))","v":""},null,null,null,null,null,null,null,null,null,null,null,{"$f":"IF(M220=\"\",\"\",VLOOKUP(M220,'Country & Delivery'!AB:AC,2,FALSE))","v":""},null,null,null,null,null,null,null,null,null,null,null,{"$f":"IF(U220=\"\",\"\",VLOOKUP(U220,'Country & Delivery'!$N$1:$O$8,2,0))","v":""},"",0,"Hungary","HUN","Y",null,null,{"$f":"IFERROR(INDEX('Country & Delivery'!N209:N215,MATCH(BD220,'Country & Delivery'!O209:O215,0),1),\"\")","v":""},null,null,{"$f":"IFERROR(INDEX('Country & Delivery'!A209:A458,MATCH(BG220,'Country & Delivery'!B209:B458,0),1),\"\")","v":""}]
[208,null,null,null,null,null,null,null,null,null,null,null,null,null,null,{"$f":"IF(O221=\"\",\"\",VLOOKUP(O221,Products!A:C,2,FALSE))","v":""},{"$f":"IF(O221=\"\",\"\",VLOOKUP(O221,Products!A:C,3,FALSE))","v":""},null,"",{"$f":"IF(Y221=\"\",\"\",VLOOKUP(Y221,'Country & Delivery'!B:C,2,FALSE))","v":""},null,{"$f":"IF(U221=\"\",\"\",VLOOKUP(U221,'Country & Delivery'!N:O,2,FALSE))","v":""},null,null,{"$f":"IF(L221=\"\",\"\",VLOOKUP(L221,'Country & Delivery'!A:B,2,FALSE))","v":""},null,null,null,null,null,null,null,null,null,null,null,{"$f":"IF(M221=\"\",\"\",VLOOKUP(M221,'Country & Delivery'!AB:AC,2,FALSE))","v":""},null,null,null,null,null,null,null,null,null,null,null,{"$f":"IF(U221=\"\",\"\",VLOOKUP(U221,'Country & Delivery'!$N$1:$O$8,2,0))","v":""},"",0,"IC","ICN","Y",null,null,{"$f":"IFERROR(INDEX('Country & Delivery'!N210:N216,MATCH(BD221,'Country & Delivery'!O210:O216,0),1),\"\")","v":""},null,null,{"$f":"IFERROR(INDEX('Country & Delivery'!A210:A459,MATCH(BG221,'Country & Delivery'!B210:B459,0),1),\"\")","v":""}]
[209,null,null,null,null,null,null,null,null,null,null,null,null,null,null,{"$f":"IF(O222=\"\",\"\",VLOOKUP(O222,Products!A:C,2,FALSE))","v":""},{"$f":"IF(O222=\"\",\"\",VLOOKUP(O222,Products!A:C,3,FALSE))","v":""},null,"",{"$f":"IF(Y222=\"\",\"\",VLOOKUP(Y222,'Country & Delivery'!B:C,2,FALSE))","v":""},null,{"$f":"IF(U222=\"\",\"\",VLOOKUP(U222,'Country & Delivery'!N:O,2,FALSE))","v":""},null,null,{"$f":"IF(L222=\"\",\"\",VLOOKUP(L222,'Country & Delivery'!A:B,2,FALSE))","v":""},null,null,null,null,null,null,null,null,null,null,null,{"$f":"IF(M222=\"\",\"\",VLOOKUP(M222,'Country & Delivery'!AB:AC,2,FALSE))","v":""},null,null,null,null,null,null,null,null,null,null,null,{"$f":"IF(U222=\"\",\"\",VLOOKUP(U222,'Country & Delivery'!$N$1:$O$8,2,0))","v":""},"",0,"Iceland","ISL","N","EU?",null,{"$f":"IFERROR(INDEX('Country & Delivery'!N211:N217,MATCH(BD222,'Country & Delivery'!O211:O217,0),1),\"\")","v":""},null,null,{"$f":"IFERROR(INDEX('Country & Delivery'!A211:A460,MATCH(BG222,'Country & Delivery'!B211:B460,0),1),\"\")","v":""}]
[210,null,null,null,null,null,null,null,null,null,null,null,null,null,null,{"$f":"IF(O223=\"\",\"\",VLOOKUP(O223,Products!A:C,2,FALSE))","v":""},{"$f":"IF(O223=\"\",\"\",VLOOKUP(O223,Products!A:C,3,FALSE))","v":""},null,"",{"$f":"IF(Y223=\"\",\"\",VLOOKUP(Y223,'Country & Delivery'!B:C,2,FALSE))","v":""},null,{"$f":"IF(U223=\"\",\"\",VLOOKUP(U223,'Country & Delivery'!N:O,2,FALSE))","v":""},null,null,{"$f":"IF(L223=\"\",\"\",VLOOKUP(L223,'Country & Delivery'!A:B,2,FALSE))","v":""},null,null,null,null,null,null,null,null,null,null,null,{"$f":"IF(M223=\"\",\"\",VLOOKUP(M223,'Country & Delivery'!AB:AC,2,FALSE))","v":""},null,null,null,null,null,null,null,null,null,null,null,{"$f":"IF(U223=\"\",\"\",VLOOKUP(U223,'Country & Delivery'!$N$1:$O$8,2,0))","v":""},"",0,"ID","IDN","N",null,null,{"$f":"IFERROR(INDEX('Country & Delivery'!N212:N218,MATCH(BD223,'Country & Delivery'!O212:O218,0),1),\"\")","v":""},null,null,{"$f":"IFERROR(INDEX('Country & Delivery'!A212:A461,MATCH(BG223,'Country & Delivery'!B212:B461,0),1),\"\")","v":""}]
[211,null,null,null,null,null,null,null,null,null,null,null,null,null,null,{"$f":"IF(O224=\"\",\"\",VLOOKUP(O224,Products!A:C,2,FALSE))","v":""},{"$f":"IF(O224=\"\",\"\",VLOOKUP(O224,Products!A:C,3,FALSE))","v":""},null,"",{"$f":"IF(Y224=\"\",\"\",VLOOKUP(Y224,'Country & Delivery'!B:C,2,FALSE))","v":""},null,{"$f":"IF(U224=\"\",\"\",VLOOKUP(U224,'Country & Delivery'!N:O,2,FALSE))","v":""},null,null,{"$f":"IF(L224=\"\",\"\",VLOOKUP(L224,'Country & Delivery'!A:B,2,FALSE))","v":""},null,null,null,null,null,null,null,null,null,null,null,{"$f":"IF(M224=\"\",\"\",VLOOKUP(M224,'Country & Delivery'!AB:AC,2,FALSE))","v":""},null,null,null,null,null,null,null,null,null,null,null,{"$f":"IF(U224=\"\",\"\",VLOOKUP(U224,'Country & Delivery'!$N$1:$O$8,2,0))","v":""},"",0,"IE","IRL","Y",null,null,{"$f":"IFERROR(INDEX('Country & Delivery'!N213:N219,MATCH(BD224,'Country & Delivery'!O213:O219,0),1),\"\")","v":""},null,null,{"$f":"IFERROR(INDEX('Country & Delivery'!A213:A462,MATCH(BG224,'Country & Delivery'!B213:B462,0),1),\"\")","v":""}]
[212,null,null,null,null,null,null,null,null,null,null,null,null,null,null,{"$f":"IF(O225=\"\",\"\",VLOOKUP(O225,Products!A:C,2,FALSE))","v":""},{"$f":"IF(O225=\"\",\"\",VLOOKUP(O225,Products!A:C,3,FALSE))","v":""},null,"",{"$f":"IF(Y225=\"\",\"\",VLOOKUP(Y225,'Country & Delivery'!B:C,2,FALSE))","v":""},null,{"$f":"IF(U225=\"\",\"\",VLOOKUP(U225,'Country & Delivery'!N:O,2,FALSE))","v":""},null,null,{"$f":"IF(L225=\"\",\"\",VLOOKUP(L225,'Country & Delivery'!A:B,2,FALSE))","v":""},null,null,null,null,null,null,null,null,null,null,null,{"$f":"IF(M225=\"\",\"\",VLOOKUP(M225,'Country & Delivery'!AB:AC,2,FALSE))","v":""},null,null,null,null,null,null,null,null,null,null,null,{"$f":"IF(U225=\"\",\"\",VLOOKUP(U225,'Country & Delivery'!$N$1:$O$8,2,0))","v":""},"",0,"IL","ISR","N","dc",null,{"$f":"IFERROR(INDEX('Country & Delivery'!N214:N220,MATCH(BD225,'Country & Delivery'!O214:O220,0),1),\"\")","v":""},null,null,{"$f":"IFERROR(INDEX('Country & Delivery'!A214:A463,MATCH(BG225,'Country & Delivery'!B214:B463,0),1),\"\")","v":""}]
[213,null,null,null,null,null,null,null,null,null,null,null,null,null,null,{"$f":"IF(O226=\"\",\"\",VLOOKUP(O226,Products!A:C,2,FALSE))","v":""},{"$f":"IF(O226=\"\",\"\",VLOOKUP(O226,Products!A:C,3,FALSE))","v":""},null,"",{"$f":"IF(Y226=\"\",\"\",VLOOKUP(Y226,'Country & Delivery'!B:C,2,FALSE))","v":""},null,{"$f":"IF(U226=\"\",\"\",VLOOKUP(U226,'Country & Delivery'!N:O,2,FALSE))","v":""},null,null,{"$f":"IF(L226=\"\",\"\",VLOOKUP(L226,'Country & Delivery'!A:B,2,FALSE))","v":""},null,null,null,null,null,null,null,null,null,null,null,{"$f":"IF(M226=\"\",\"\",VLOOKUP(M226,'Country & Delivery'!AB:AC,2,FALSE))","v":""},null,null,null,null,null,null,null,null,null,null,null,{"$f":"IF(U226=\"\",\"\",VLOOKUP(U226,'Country & Delivery'!$N$1:$O$8,2,0))","v":""},"",0,"IM","IMN","Y",null,null,{"$f":"IFERROR(INDEX('Country & Delivery'!N215:N221,MATCH(BD226,'Country & Delivery'!O215:O221,0),1),\"\")","v":""},null,null,{"$f":"IFERROR(INDEX('Country & Delivery'!A215:A464,MATCH(BG226,'Country & Delivery'!B215:B464,0),1),\"\")","v":""}]
[214,null,null,null,null,null,null,null,null,null,null,null,null,null,null,{"$f":"IF(O227=\"\",\"\",VLOOKUP(O227,Products!A:C,2,FALSE))","v":""},{"$f":"IF(O227=\"\",\"\",VLOOKUP(O227,Products!A:C,3,FALSE))","v":""},null,"",{"$f":"IF(Y227=\"\",\"\",VLOOKUP(Y227,'Country & Delivery'!B:C,2,FALSE))","v":""},null,{"$f":"IF(U227=\"\",\"\",VLOOKUP(U227,'Country & Delivery'!N:O,2,FALSE))","v":""},null,null,{"$f":"IF(L227=\"\",\"\",VLOOKUP(L227,'Country & Delivery'!A:B,2,FALSE))","v":""},null,null,null,null,null,null,null,null,null,null,null,{"$f":"IF(M227=\"\",\"\",VLOOKUP(M227,'Country & Delivery'!AB:AC,2,FALSE))","v":""},null,null,null,null,null,null,null,null,null,null,null,{"$f":"IF(U227=\"\",\"\",VLOOKUP(U227,'Country & Delivery'!$N$1:$O$8,2,0))","v":""},"",0,"IN","IND","N",null,null,{"$f":"IFERROR(INDEX('Country & Delivery'!N216:N222,MATCH(BD227,'Country & Delivery'!O216:O222,0),1),\"\")","v":""},null,null,{"$f":"IFERROR(INDEX('Country & Delivery'!A216:A465,MATCH(BG227,'Country & Delivery'!B216:B465,0),1),\"\")","v":""}]
[215,null,null,null,null,null,null,null,null,null,null,null,null,null,null,{"$f":"IF(O228=\"\",\"\",VLOOKUP(O228,Products!A:C,2,FALSE))","v":""},{"$f":"IF(O228=\"\",\"\",VLOOKUP(O228,Products!A:C,3,FALSE))","v":""},null,"",{"$f":"IF(Y228=\"\",\"\",VLOOKUP(Y228,'Country & Delivery'!B:C,2,FALSE))","v":""},null,{"$f":"IF(U228=\"\",\"\",VLOOKUP(U228,'Country & Delivery'!N:O,2,FALSE))","v":""},null,null,{"$f":"IF(L228=\"\",\"\",VLOOKUP(L228,'Country & Delivery'!A:B,2,FALSE))","v":""},null,null,null,null,null,null,null,null,null,null,null,{"$f":"IF(M228=\"\",\"\",VLOOKUP(M228,'Country & Delivery'!AB:AC,2,FALSE))","v":""},null,null,null,null,null,null,null,null,null,null,null,{"$f":"IF(U228=\"\",\"\",VLOOKUP(U228,'Country & Delivery'!$N$1:$O$8,2,0))","v":""},"",0,"India","IND","N",null,null,{"$f":"IFERROR(INDEX('Country & Delivery'!N217:N223,MATCH(BD228,'Country & Delivery'!O217:O223,0),1),\"\")","v":""},null,null,{"$f":"IFERROR(INDEX('Country & Delivery'!A217:A466,MATCH(BG228,'Country & Delivery'!B217:B466,0),1),\"\")","v":""}]
[216,null,null,null,null,null,null,null,null,null,null,null,null,null,null,{"$f":"IF(O229=\"\",\"\",VLOOKUP(O229,Products!A:C,2,FALSE))","v":""},{"$f":"IF(O229=\"\",\"\",VLOOKUP(O229,Products!A:C,3,FALSE))","v":""},null,"",{"$f":"IF(Y229=\"\",\"\",VLOOKUP(Y229,'Country & Delivery'!B:C,2,FALSE))","v":""},null,{"$f":"IF(U229=\"\",\"\",VLOOKUP(U229,'Country & Delivery'!N:O,2,FALSE))","v":""},null,null,{"$f":"IF(L229=\"\",\"\",VLOOKUP(L229,'Country & Delivery'!A:B,2,FALSE))","v":""},null,null,null,null,null,null,null,null,null,null,null,{"$f":"IF(M229=\"\",\"\",VLOOKUP(M229,'Country & Delivery'!AB:AC,2,FALSE))","v":""},null,null,null,null,null,null,null,null,null,null,null,{"$f":"IF(U229=\"\",\"\",VLOOKUP(U229,'Country & Delivery'!$N$1:$O$8,2,0))","v":""},"",0,"Indonesia","IDN","N",null,null,{"$f":"IFERROR(INDEX('Country & Delivery'!N218:N224,MATCH(BD229,'Country & Delivery'!O218:O224,0),1),\"\")","v":""},null,null,{"$f":"IFERROR(INDEX('Country & Delivery'!A218:A467,MATCH(BG229,'Country & Delivery'!B218:B467,0),1),\"\")","v":""}]
[217,null,null,null,null,null,null,null,null,null,null,null,null,null,null,{"$f":"IF(O230=\"\",\"\",VLOOKUP(O230,Products!A:C,2,FALSE))","v":""},{"$f":"IF(O230=\"\",\"\",VLOOKUP(O230,Products!A:C,3,FALSE))","v":""},null,"",{"$f":"IF(Y230=\"\",\"\",VLOOKUP(Y230,'Country & Delivery'!B:C,2,FALSE))","v":""},null,{"$f":"IF(U230=\"\",\"\",VLOOKUP(U230,'Country & Delivery'!N:O,2,FALSE))","v":""},null,null,{"$f":"IF(L230=\"\",\"\",VLOOKUP(L230,'Country & Delivery'!A:B,2,FALSE))","v":""},null,null,null,null,null,null,null,null,null,null,null,{"$f":"IF(M230=\"\",\"\",VLOOKUP(M230,'Country & Delivery'!AB:AC,2,FALSE))","v":""},null,null,null,null,null,null,null,null,null,null,null,{"$f":"IF(U230=\"\",\"\",VLOOKUP(U230,'Country & Delivery'!$N$1:$O$8,2,0))","v":""},"",0,"IO","IOT","N","dc",null,{"$f":"IFERROR(INDEX('Country & Delivery'!N219:N225,MATCH(BD230,'Country & Delivery'!O219:O225,0),1),\"\")","v":""},null,null,{"$f":"IFERROR(INDEX('Country & Delivery'!A219:A468,MATCH(BG230,'Country & Delivery'!B219:B468,0),1),\"\")","v":""}]
[218,null,null,null,null,null,null,null,null,null,null,null,null,null,null,{"$f":"IF(O231=\"\",\"\",VLOOKUP(O231,Products!A:C,2,FALSE))","v":""},{"$f":"IF(O231=\"\",\"\",VLOOKUP(O231,Products!A:C,3,FALSE))","v":""},null,"",{"$f":"IF(Y231=\"\",\"\",VLOOKUP(Y231,'Country & Delivery'!B:C,2,FALSE))","v":""},null,{"$f":"IF(U231=\"\",\"\",VLOOKUP(U231,'Country & Delivery'!N:O,2,FALSE))","v":""},null,null,{"$f":"IF(L231=\"\",\"\",VLOOKUP(L231,'Country & Delivery'!A:B,2,FALSE))","v":""},null,null,null,null,null,null,null,null,null,null,null,{"$f":"IF(M231=\"\",\"\",VLOOKUP(M231,'Country & Delivery'!AB:AC,2,FALSE))","v":""},null,null,null,null,null,null,null,null,null,null,null,{"$f":"IF(U231=\"\",\"\",VLOOKUP(U231,'Country & Delivery'!$N$1:$O$8,2,0))","v":""},"",0,"IQ","IRQ","N","dc",null,{"$f":"IFERROR(INDEX('Country & Delivery'!N220:N226,MATCH(BD231,'Country & Delivery'!O220:O226,0),1),\"\")","v":""},null,null,{"$f":"IFERROR(INDEX('Country & Delivery'!A220:A469,MATCH(BG231,'Country & Delivery'!B220:B469,0),1),\"\")","v":""}]
[219,null,null,null,null,null,null,null,null,null,null,null,null,null,null,{"$f":"IF(O232=\"\",\"\",VLOOKUP(O232,Products!A:C,2,FALSE))","v":""},{"$f":"IF(O232=\"\",\"\",VLOOKUP(O232,Products!A:C,3,FALSE))","v":""},null,"",{"$f":"IF(Y232=\"\",\"\",VLOOKUP(Y232,'Country & Delivery'!B:C,2,FALSE))","v":""},null,{"$f":"IF(U232=\"\",\"\",VLOOKUP(U232,'Country & Delivery'!N:O,2,FALSE))","v":""},null,null,{"$f":"IF(L232=\"\",\"\",VLOOKUP(L232,'Country & Delivery'!A:B,2,FALSE))","v":""},null,null,null,null,null,null,null,null,null,null,null,{"$f":"IF(M232=\"\",\"\",VLOOKUP(M232,'Country & Delivery'!AB:AC,2,FALSE))","v":""},null,null,null,null,null,null,null,null,null,null,null,{"$f":"IF(U232=\"\",\"\",VLOOKUP(U232,'Country & Delivery'!$N$1:$O$8,2,0))","v":""},"",0,"IR","IRN","N",null,null,{"$f":"IFERROR(INDEX('Country & Delivery'!N221:N227,MATCH(BD232,'Country & Delivery'!O221:O227,0),1),\"\")","v":""},null,null,{"$f":"IFERROR(INDEX('Country & Delivery'!A221:A470,MATCH(BG232,'Country & Delivery'!B221:B470,0),1),\"\")","v":""}]
[220,null,null,null,null,null,null,null,null,null,null,null,null,null,null,{"$f":"IF(O233=\"\",\"\",VLOOKUP(O233,Products!A:C,2,FALSE))","v":""},{"$f":"IF(O233=\"\",\"\",VLOOKUP(O233,Products!A:C,3,FALSE))","v":""},null,"",{"$f":"IF(Y233=\"\",\"\",VLOOKUP(Y233,'Country & Delivery'!B:C,2,FALSE))","v":""},null,{"$f":"IF(U233=\"\",\"\",VLOOKUP(U233,'Country & Delivery'!N:O,2,FALSE))","v":""},null,null,{"$f":"IF(L233=\"\",\"\",VLOOKUP(L233,'Country & Delivery'!A:B,2,FALSE))","v":""},null,null,null,null,null,null,null,null,null,null,null,{"$f":"IF(M233=\"\",\"\",VLOOKUP(M233,'Country & Delivery'!AB:AC,2,FALSE))","v":""},null,null,null,null,null,null,null,null,null,null,null,{"$f":"IF(U233=\"\",\"\",VLOOKUP(U233,'Country & Delivery'!$N$1:$O$8,2,0))","v":""},"",0,"Iran","IRN","N",null,null,{"$f":"IFERROR(INDEX('Country & Delivery'!N222:N228,MATCH(BD233,'Country & Delivery'!O222:O228,0),1),\"\")","v":""},null,null,{"$f":"IFERROR(INDEX('Country & Delivery'!A222:A471,MATCH(BG233,'Country & Delivery'!B222:B471,0),1),\"\")","v":""}]
[221,null,null,null,null,null,null,null,null,null,null,null,null,null,null,{"$f":"IF(O234=\"\",\"\",VLOOKUP(O234,Products!A:C,2,FALSE))","v":""},{"$f":"IF(O234=\"\",\"\",VLOOKUP(O234,Products!A:C,3,FALSE))","v":""},null,"",{"$f":"IF(Y234=\"\",\"\",VLOOKUP(Y234,'Country & Delivery'!B:C,2,FALSE))","v":""},null,{"$f":"IF(U234=\"\",\"\",VLOOKUP(U234,'Country & Delivery'!N:O,2,FALSE))","v":""},null,null,{"$f":"IF(L234=\"\",\"\",VLOOKUP(L234,'Country & Delivery'!A:B,2,FALSE))","v":""},null,null,null,null,null,null,null,null,null,null,null,{"$f":"IF(M234=\"\",\"\",VLOOKUP(M234,'Country & Delivery'!AB:AC,2,FALSE))","v":""},null,null,null,null,null,null,null,null,null,null,null,{"$f":"IF(U234=\"\",\"\",VLOOKUP(U234,'Country & Delivery'!$N$1:$O$8,2,0))","v":""},"",0,"Iran (Islamic Republic of)","IRN","N","dc",null,{"$f":"IFERROR(INDEX('Country & Delivery'!N223:N229,MATCH(BD234,'Country & Delivery'!O223:O229,0),1),\"\")","v":""},null,null,{"$f":"IFERROR(INDEX('Country & Delivery'!A223:A472,MATCH(BG234,'Country & Delivery'!B223:B472,0),1),\"\")","v":""}]
[222,null,null,null,null,null,null,null,null,null,null,null,null,null,null,{"$f":"IF(O235=\"\",\"\",VLOOKUP(O235,Products!A:C,2,FALSE))","v":""},{"$f":"IF(O235=\"\",\"\",VLOOKUP(O235,Products!A:C,3,FALSE))","v":""},null,"",{"$f":"IF(Y235=\"\",\"\",VLOOKUP(Y235,'Country & Delivery'!B:C,2,FALSE))","v":""},null,{"$f":"IF(U235=\"\",\"\",VLOOKUP(U235,'Country & Delivery'!N:O,2,FALSE))","v":""},null,null,{"$f":"IF(L235=\"\",\"\",VLOOKUP(L235,'Country & Delivery'!A:B,2,FALSE))","v":""},null,null,null,null,null,null,null,null,null,null,null,{"$f":"IF(M235=\"\",\"\",VLOOKUP(M235,'Country & Delivery'!AB:AC,2,FALSE))","v":""},null,null,null,null,null,null,null,null,null,null,null,{"$f":"IF(U235=\"\",\"\",VLOOKUP(U235,'Country & Delivery'!$N$1:$O$8,2,0))","v":""},"",0,"IRAN, ISLAMIC REPUBLIC OF","IRN","N","del meth",null,{"$f":"IFERROR(INDEX('Country & Delivery'!N224:N230,MATCH(BD235,'Country & Delivery'!O224:O230,0),1),\"\")","v":""},null,null,{"$f":"IFERROR(INDEX('Country & Delivery'!A224:A473,MATCH(BG235,'Country & Delivery'!B224:B473,0),1),\"\")","v":""}]
[223,null,null,null,null,null,null,null,null,null,null,null,null,null,null,{"$f":"IF(O236=\"\",\"\",VLOOKUP(O236,Products!A:C,2,FALSE))","v":""},{"$f":"IF(O236=\"\",\"\",VLOOKUP(O236,Products!A:C,3,FALSE))","v":""},null,"",{"$f":"IF(Y236=\"\",\"\",VLOOKUP(Y236,'Country & Delivery'!B:C,2,FALSE))","v":""},null,{"$f":"IF(U236=\"\",\"\",VLOOKUP(U236,'Country & Delivery'!N:O,2,FALSE))","v":""},null,null,{"$f":"IF(L236=\"\",\"\",VLOOKUP(L236,'Country & Delivery'!A:B,2,FALSE))","v":""},null,null,null,null,null,null,null,null,null,null,null,{"$f":"IF(M236=\"\",\"\",VLOOKUP(M236,'Country & Delivery'!AB:AC,2,FALSE))","v":""},null,null,null,null,null,null,null,null,null,null,null,{"$f":"IF(U236=\"\",\"\",VLOOKUP(U236,'Country & Delivery'!$N$1:$O$8,2,0))","v":""},"",0,"Iraq","IRQ","N","dc",null,{"$f":"IFERROR(INDEX('Country & Delivery'!N225:N231,MATCH(BD236,'Country & Delivery'!O225:O231,0),1),\"\")","v":""},null,null,{"$f":"IFERROR(INDEX('Country & Delivery'!A225:A474,MATCH(BG236,'Country & Delivery'!B225:B474,0),1),\"\")","v":""}]
[224,null,null,null,null,null,null,null,null,null,null,null,null,null,null,{"$f":"IF(O237=\"\",\"\",VLOOKUP(O237,Products!A:C,2,FALSE))","v":""},{"$f":"IF(O237=\"\",\"\",VLOOKUP(O237,Products!A:C,3,FALSE))","v":""},null,"",{"$f":"IF(Y237=\"\",\"\",VLOOKUP(Y237,'Country & Delivery'!B:C,2,FALSE))","v":""},null,{"$f":"IF(U237=\"\",\"\",VLOOKUP(U237,'Country & Delivery'!N:O,2,FALSE))","v":""},null,null,{"$f":"IF(L237=\"\",\"\",VLOOKUP(L237,'Country & Delivery'!A:B,2,FALSE))","v":""},null,null,null,null,null,null,null,null,null,null,null,{"$f":"IF(M237=\"\",\"\",VLOOKUP(M237,'Country & Delivery'!AB:AC,2,FALSE))","v":""},null,null,null,null,null,null,null,null,null,null,null,{"$f":"IF(U237=\"\",\"\",VLOOKUP(U237,'Country & Delivery'!$N$1:$O$8,2,0))","v":""},"",0,"Ireland","IRL","Y",null,null,{"$f":"IFERROR(INDEX('Country & Delivery'!N226:N232,MATCH(BD237,'Country & Delivery'!O226:O232,0),1),\"\")","v":""},null,null,{"$f":"IFERROR(INDEX('Country & Delivery'!A226:A475,MATCH(BG237,'Country & Delivery'!B226:B475,0),1),\"\")","v":""}]
[225,null,null,null,null,null,null,null,null,null,null,null,null,null,null,{"$f":"IF(O238=\"\",\"\",VLOOKUP(O238,Products!A:C,2,FALSE))","v":""},{"$f":"IF(O238=\"\",\"\",VLOOKUP(O238,Products!A:C,3,FALSE))","v":""},null,"",{"$f":"IF(Y238=\"\",\"\",VLOOKUP(Y238,'Country & Delivery'!B:C,2,FALSE))","v":""},null,{"$f":"IF(U238=\"\",\"\",VLOOKUP(U238,'Country & Delivery'!N:O,2,FALSE))","v":""},null,null,{"$f":"IF(L238=\"\",\"\",VLOOKUP(L238,'Country & Delivery'!A:B,2,FALSE))","v":""},null,null,null,null,null,null,null,null,null,null,null,{"$f":"IF(M238=\"\",\"\",VLOOKUP(M238,'Country & Delivery'!AB:AC,2,FALSE))","v":""},null,null,null,null,null,null,null,null,null,null,null,{"$f":"IF(U238=\"\",\"\",VLOOKUP(U238,'Country & Delivery'!$N$1:$O$8,2,0))","v":""},"",0,"IS","ISL","N",null,null,{"$f":"IFERROR(INDEX('Country & Delivery'!N227:N233,MATCH(BD238,'Country & Delivery'!O227:O233,0),1),\"\")","v":""},null,null,{"$f":"IFERROR(INDEX('Country & Delivery'!A227:A476,MATCH(BG238,'Country & Delivery'!B227:B476,0),1),\"\")","v":""}]
[226,null,null,null,null,null,null,null,null,null,null,null,null,null,null,{"$f":"IF(O239=\"\",\"\",VLOOKUP(O239,Products!A:C,2,FALSE))","v":""},{"$f":"IF(O239=\"\",\"\",VLOOKUP(O239,Products!A:C,3,FALSE))","v":""},null,"",{"$f":"IF(Y239=\"\",\"\",VLOOKUP(Y239,'Country & Delivery'!B:C,2,FALSE))","v":""},null,{"$f":"IF(U239=\"\",\"\",VLOOKUP(U239,'Country & Delivery'!N:O,2,FALSE))","v":""},null,null,{"$f":"IF(L239=\"\",\"\",VLOOKUP(L239,'Country & Delivery'!A:B,2,FALSE))","v":""},null,null,null,null,null,null,null,null,null,null,null,{"$f":"IF(M239=\"\",\"\",VLOOKUP(M239,'Country & Delivery'!AB:AC,2,FALSE))","v":""},null,null,null,null,null,null,null,null,null,null,null,{"$f":"IF(U239=\"\",\"\",VLOOKUP(U239,'Country & Delivery'!$N$1:$O$8,2,0))","v":""},"",0,"Isle of Man","IMN","Y",null,null,{"$f":"IFERROR(INDEX('Country & Delivery'!N228:N234,MATCH(BD239,'Country & Delivery'!O228:O234,0),1),\"\")","v":""},null,null,{"$f":"IFERROR(INDEX('Country & Delivery'!A228:A477,MATCH(BG239,'Country & Delivery'!B228:B477,0),1),\"\")","v":""}]
[227,null,null,null,null,null,null,null,null,null,null,null,null,null,null,{"$f":"IF(O240=\"\",\"\",VLOOKUP(O240,Products!A:C,2,FALSE))","v":""},{"$f":"IF(O240=\"\",\"\",VLOOKUP(O240,Products!A:C,3,FALSE))","v":""},null,"",{"$f":"IF(Y240=\"\",\"\",VLOOKUP(Y240,'Country & Delivery'!B:C,2,FALSE))","v":""},null,{"$f":"IF(U240=\"\",\"\",VLOOKUP(U240,'Country & Delivery'!N:O,2,FALSE))","v":""},null,null,{"$f":"IF(L240=\"\",\"\",VLOOKUP(L240,'Country & Delivery'!A:B,2,FALSE))","v":""},null,null,null,null,null,null,null,null,null,null,null,{"$f":"IF(M240=\"\",\"\",VLOOKUP(M240,'Country & Delivery'!AB:AC,2,FALSE))","v":""},null,null,null,null,null,null,null,null,null,null,null,{"$f":"IF(U240=\"\",\"\",VLOOKUP(U240,'Country & Delivery'!$N$1:$O$8,2,0))","v":""},"",0,"Israel","ISR","N",null,null,{"$f":"IFERROR(INDEX('Country & Delivery'!N229:N235,MATCH(BD240,'Country & Delivery'!O229:O235,0),1),\"\")","v":""},null,null,{"$f":"IFERROR(INDEX('Country & Delivery'!A229:A478,MATCH(BG240,'Country & Delivery'!B229:B478,0),1),\"\")","v":""}]
[228,null,null,null,null,null,null,null,null,null,null,null,null,null,null,{"$f":"IF(O241=\"\",\"\",VLOOKUP(O241,Products!A:C,2,FALSE))","v":""},{"$f":"IF(O241=\"\",\"\",VLOOKUP(O241,Products!A:C,3,FALSE))","v":""},null,"",{"$f":"IF(Y241=\"\",\"\",VLOOKUP(Y241,'Country & Delivery'!B:C,2,FALSE))","v":""},null,{"$f":"IF(U241=\"\",\"\",VLOOKUP(U241,'Country & Delivery'!N:O,2,FALSE))","v":""},null,null,{"$f":"IF(L241=\"\",\"\",VLOOKUP(L241,'Country & Delivery'!A:B,2,FALSE))","v":""},null,null,null,null,null,null,null,null,null,null,null,{"$f":"IF(M241=\"\",\"\",VLOOKUP(M241,'Country & Delivery'!AB:AC,2,FALSE))","v":""},null,null,null,null,null,null,null,null,null,null,null,{"$f":"IF(U241=\"\",\"\",VLOOKUP(U241,'Country & Delivery'!$N$1:$O$8,2,0))","v":""},"",0,"IT","ITA","Y",null,null,{"$f":"IFERROR(INDEX('Country & Delivery'!N230:N236,MATCH(BD241,'Country & Delivery'!O230:O236,0),1),\"\")","v":""},null,null,{"$f":"IFERROR(INDEX('Country & Delivery'!A230:A479,MATCH(BG241,'Country & Delivery'!B230:B479,0),1),\"\")","v":""}]
[229,null,null,null,null,null,null,null,null,null,null,null,null,null,null,{"$f":"IF(O242=\"\",\"\",VLOOKUP(O242,Products!A:C,2,FALSE))","v":""},{"$f":"IF(O242=\"\",\"\",VLOOKUP(O242,Products!A:C,3,FALSE))","v":""},null,"",{"$f":"IF(Y242=\"\",\"\",VLOOKUP(Y242,'Country & Delivery'!B:C,2,FALSE))","v":""},null,{"$f":"IF(U242=\"\",\"\",VLOOKUP(U242,'Country & Delivery'!N:O,2,FALSE))","v":""},null,null,{"$f":"IF(L242=\"\",\"\",VLOOKUP(L242,'Country & Delivery'!A:B,2,FALSE))","v":""},null,null,null,null,null,null,null,null,null,null,null,{"$f":"IF(M242=\"\",\"\",VLOOKUP(M242,'Country & Delivery'!AB:AC,2,FALSE))","v":""},null,null,null,null,null,null,null,null,null,null,null,{"$f":"IF(U242=\"\",\"\",VLOOKUP(U242,'Country & Delivery'!$N$1:$O$8,2,0))","v":""},"",0,"Italy","ITA","Y",null,null,{"$f":"IFERROR(INDEX('Country & Delivery'!N231:N237,MATCH(BD242,'Country & Delivery'!O231:O237,0),1),\"\")","v":""},null,null,{"$f":"IFERROR(INDEX('Country & Delivery'!A231:A480,MATCH(BG242,'Country & Delivery'!B231:B480,0),1),\"\")","v":""}]
[230,null,null,null,null,null,null,null,null,null,null,null,null,null,null,{"$f":"IF(O243=\"\",\"\",VLOOKUP(O243,Products!A:C,2,FALSE))","v":""},{"$f":"IF(O243=\"\",\"\",VLOOKUP(O243,Products!A:C,3,FALSE))","v":""},null,"",{"$f":"IF(Y243=\"\",\"\",VLOOKUP(Y243,'Country & Delivery'!B:C,2,FALSE))","v":""},null,{"$f":"IF(U243=\"\",\"\",VLOOKUP(U243,'Country & Delivery'!N:O,2,FALSE))","v":""},null,null,{"$f":"IF(L243=\"\",\"\",VLOOKUP(L243,'Country & Delivery'!A:B,2,FALSE))","v":""},null,null,null,null,null,null,null,null,null,null,null,{"$f":"IF(M243=\"\",\"\",VLOOKUP(M243,'Country & Delivery'!AB:AC,2,FALSE))","v":""},null,null,null,null,null,null,null,null,null,null,null,{"$f":"IF(U243=\"\",\"\",VLOOKUP(U243,'Country & Delivery'!$N$1:$O$8,2,0))","v":""},"",0,"Jamaica","JAM","N",null,null,{"$f":"IFERROR(INDEX('Country & Delivery'!N232:N238,MATCH(BD243,'Country & Delivery'!O232:O238,0),1),\"\")","v":""},null,null,{"$f":"IFERROR(INDEX('Country & Delivery'!A232:A481,MATCH(BG243,'Country & Delivery'!B232:B481,0),1),\"\")","v":""}]
[231,null,null,null,null,null,null,null,null,null,null,null,null,null,null,{"$f":"IF(O244=\"\",\"\",VLOOKUP(O244,Products!A:C,2,FALSE))","v":""},{"$f":"IF(O244=\"\",\"\",VLOOKUP(O244,Products!A:C,3,FALSE))","v":""},null,{"$f":"IFERROR((Q244*R244),\"\")","v":""},{"$f":"IF(Y244=\"\",\"\",VLOOKUP(Y244,'Country & Delivery'!B:C,2,FALSE))","v":""},null,{"$f":"IF(U244=\"\",\"\",VLOOKUP(U244,'Country & Delivery'!N:O,2,FALSE))","v":""},null,null,{"$f":"IF(L244=\"\",\"\",VLOOKUP(L244,'Country & Delivery'!A:B,2,FALSE))","v":""},null,null,null,null,null,null,null,null,null,null,null,{"$f":"IF(M244=\"\",\"\",VLOOKUP(M244,'Country & Delivery'!AB:AC,2,FALSE))","v":""},null,null,null,null,null,null,null,null,null,null,null,{"$f":"IF(U244=\"\",\"\",VLOOKUP(U244,'Country & Delivery'!$N$1:$O$8,2,0))","v":""},"",0,"Japan","JPN","N",null,null,{"$f":"IFERROR(INDEX('Country & Delivery'!N233:N239,MATCH(BD244,'Country & Delivery'!O233:O239,0),1),\"\")","v":""},null,null,{"$f":"IFERROR(INDEX('Country & Delivery'!A233:A482,MATCH(BG244,'Country & Delivery'!B233:B482,0),1),\"\")","v":""}]
[232,null,null,null,null,null,null,null,null,null,null,null,null,null,null,{"$f":"IF(O245=\"\",\"\",VLOOKUP(O245,Products!A:C,2,FALSE))","v":""},{"$f":"IF(O245=\"\",\"\",VLOOKUP(O245,Products!A:C,3,FALSE))","v":""},null,"",{"$f":"IF(Y245=\"\",\"\",VLOOKUP(Y245,'Country & Delivery'!B:C,2,FALSE))","v":""},null,{"$f":"IF(U245=\"\",\"\",VLOOKUP(U245,'Country & Delivery'!N:O,2,FALSE))","v":""},null,null,{"$f":"IF(L245=\"\",\"\",VLOOKUP(L245,'Country & Delivery'!A:B,2,FALSE))","v":""},null,null,null,null,null,null,null,null,null,null,null,{"$f":"IF(M245=\"\",\"\",VLOOKUP(M245,'Country & Delivery'!AB:AC,2,FALSE))","v":""},null,null,null,null,null,null,null,null,null,null,null,{"$f":"IF(U245=\"\",\"\",VLOOKUP(U245,'Country & Delivery'!$N$1:$O$8,2,0))","v":""},"",0,"JE","JEY","Y",null,null,{"$f":"IFERROR(INDEX('Country & Delivery'!N234:N240,MATCH(BD245,'Country & Delivery'!O234:O240,0),1),\"\")","v":""},null,null,{"$f":"IFERROR(INDEX('Country & Delivery'!A234:A483,MATCH(BG245,'Country & Delivery'!B234:B483,0),1),\"\")","v":""}]
[233,null,null,null,null,null,null,null,null,null,null,null,null,null,null,{"$f":"IF(O246=\"\",\"\",VLOOKUP(O246,Products!A:C,2,FALSE))","v":""},{"$f":"IF(O246=\"\",\"\",VLOOKUP(O246,Products!A:C,3,FALSE))","v":""},null,"",{"$f":"IF(Y246=\"\",\"\",VLOOKUP(Y246,'Country & Delivery'!B:C,2,FALSE))","v":""},null,{"$f":"IF(U246=\"\",\"\",VLOOKUP(U246,'Country & Delivery'!N:O,2,FALSE))","v":""},null,null,{"$f":"IF(L246=\"\",\"\",VLOOKUP(L246,'Country & Delivery'!A:B,2,FALSE))","v":""},null,null,null,null,null,null,null,null,null,null,null,{"$f":"IF(M246=\"\",\"\",VLOOKUP(M246,'Country & Delivery'!AB:AC,2,FALSE))","v":""},null,null,null,null,null,null,null,null,null,null,null,{"$f":"IF(U246=\"\",\"\",VLOOKUP(U246,'Country & Delivery'!$N$1:$O$8,2,0))","v":""},"",0,"Jersey","JEY","Y",null,null,{"$f":"IFERROR(INDEX('Country & Delivery'!N235:N241,MATCH(BD246,'Country & Delivery'!O235:O241,0),1),\"\")","v":""},null,null,{"$f":"IFERROR(INDEX('Country & Delivery'!A235:A484,MATCH(BG246,'Country & Delivery'!B235:B484,0),1),\"\")","v":""}]
[234,null,null,null,null,null,null,null,null,null,null,null,null,null,null,{"$f":"IF(O247=\"\",\"\",VLOOKUP(O247,Products!A:C,2,FALSE))","v":""},{"$f":"IF(O247=\"\",\"\",VLOOKUP(O247,Products!A:C,3,FALSE))","v":""},null,"",{"$f":"IF(Y247=\"\",\"\",VLOOKUP(Y247,'Country & Delivery'!B:C,2,FALSE))","v":""},null,{"$f":"IF(U247=\"\",\"\",VLOOKUP(U247,'Country & Delivery'!N:O,2,FALSE))","v":""},null,null,{"$f":"IF(L247=\"\",\"\",VLOOKUP(L247,'Country & Delivery'!A:B,2,FALSE))","v":""},null,null,null,null,null,null,null,null,null,null,null,{"$f":"IF(M247=\"\",\"\",VLOOKUP(M247,'Country & Delivery'!AB:AC,2,FALSE))","v":""},null,null,null,null,null,null,null,null,null,null,null,{"$f":"IF(U247=\"\",\"\",VLOOKUP(U247,'Country & Delivery'!$N$1:$O$8,2,0))","v":""},"",0,"JM","JAM","N",null,null,{"$f":"IFERROR(INDEX('Country & Delivery'!N236:N242,MATCH(BD247,'Country & Delivery'!O236:O242,0),1),\"\")","v":""},null,null,{"$f":"IFERROR(INDEX('Country & Delivery'!A236:A485,MATCH(BG247,'Country & Delivery'!B236:B485,0),1),\"\")","v":""}]
[235,null,null,null,null,null,null,null,null,null,null,null,null,null,null,{"$f":"IF(O248=\"\",\"\",VLOOKUP(O248,Products!A:C,2,FALSE))","v":""},{"$f":"IF(O248=\"\",\"\",VLOOKUP(O248,Products!A:C,3,FALSE))","v":""},null,"",{"$f":"IF(Y248=\"\",\"\",VLOOKUP(Y248,'Country & Delivery'!B:C,2,FALSE))","v":""},null,{"$f":"IF(U248=\"\",\"\",VLOOKUP(U248,'Country & Delivery'!N:O,2,FALSE))","v":""},null,null,{"$f":"IF(L248=\"\",\"\",VLOOKUP(L248,'Country & Delivery'!A:B,2,FALSE))","v":""},null,null,null,null,null,null,null,null,null,null,null,{"$f":"IF(M248=\"\",\"\",VLOOKUP(M248,'Country & Delivery'!AB:AC,2,FALSE))","v":""},null,null,null,null,null,null,null,null,null,null,null,{"$f":"IF(U248=\"\",\"\",VLOOKUP(U248,'Country & Delivery'!$N$1:$O$8,2,0))","v":""},"",0,"JO","JOR","N",null,null,{"$f":"IFERROR(INDEX('Country & Delivery'!N237:N243,MATCH(BD248,'Country & Delivery'!O237:O243,0),1),\"\")","v":""},null,null,{"$f":"IFERROR(INDEX('Country & Delivery'!A237:A486,MATCH(BG248,'Country & Delivery'!B237:B486,0),1),\"\")","v":""}]
[236,null,null,null,null,null,null,null,null,null,null,null,null,null,null,{"$f":"IF(O249=\"\",\"\",VLOOKUP(O249,Products!A:C,2,FALSE))","v":""},{"$f":"IF(O249=\"\",\"\",VLOOKUP(O249,Products!A:C,3,FALSE))","v":""},null,"",{"$f":"IF(Y249=\"\",\"\",VLOOKUP(Y249,'Country & Delivery'!B:C,2,FALSE))","v":""},null,{"$f":"IF(U249=\"\",\"\",VLOOKUP(U249,'Country & Delivery'!N:O,2,FALSE))","v":""},null,null,{"$f":"IF(L249=\"\",\"\",VLOOKUP(L249,'Country & Delivery'!A:B,2,FALSE))","v":""},null,null,null,null,null,null,null,null,null,null,null,{"$f":"IF(M249=\"\",\"\",VLOOKUP(M249,'Country & Delivery'!AB:AC,2,FALSE))","v":""},null,null,null,null,null,null,null,null,null,null,null,{"$f":"IF(U249=\"\",\"\",VLOOKUP(U249,'Country & Delivery'!$N$1:$O$8,2,0))","v":""},"",0,"Jordan","JOR","N",null,null,{"$f":"IFERROR(INDEX('Country & Delivery'!N238:N244,MATCH(BD249,'Country & Delivery'!O238:O244,0),1),\"\")","v":""},null,null,{"$f":"IFERROR(INDEX('Country & Delivery'!A238:A487,MATCH(BG249,'Country & Delivery'!B238:B487,0),1),\"\")","v":""}]
[237,null,null,null,null,null,null,null,null,null,null,null,null,null,null,{"$f":"IF(O250=\"\",\"\",VLOOKUP(O250,Products!A:C,2,FALSE))","v":""},{"$f":"IF(O250=\"\",\"\",VLOOKUP(O250,Products!A:C,3,FALSE))","v":""},null,"",{"$f":"IF(Y250=\"\",\"\",VLOOKUP(Y250,'Country & Delivery'!B:C,2,FALSE))","v":""},null,{"$f":"IF(U250=\"\",\"\",VLOOKUP(U250,'Country & Delivery'!N:O,2,FALSE))","v":""},null,null,{"$f":"IF(L250=\"\",\"\",VLOOKUP(L250,'Country & Delivery'!A:B,2,FALSE))","v":""},null,null,null,null,null,null,null,null,null,null,null,{"$f":"IF(M250=\"\",\"\",VLOOKUP(M250,'Country & Delivery'!AB:AC,2,FALSE))","v":""},null,null,null,null,null,null,null,null,null,null,null,{"$f":"IF(U250=\"\",\"\",VLOOKUP(U250,'Country & Delivery'!$N$1:$O$8,2,0))","v":""},"",0,"JP","JPN","N",null,null,{"$f":"IFERROR(INDEX('Country & Delivery'!N239:N245,MATCH(BD250,'Country & Delivery'!O239:O245,0),1),\"\")","v":""},null,null,{"$f":"IFERROR(INDEX('Country & Delivery'!A239:A488,MATCH(BG250,'Country & Delivery'!B239:B488,0),1),\"\")","v":""}]
[238,null,null,null,null,null,null,null,null,null,null,null,null,null,null,{"$f":"IF(O251=\"\",\"\",VLOOKUP(O251,Products!A:C,2,FALSE))","v":""},{"$f":"IF(O251=\"\",\"\",VLOOKUP(O251,Products!A:C,3,FALSE))","v":""},null,"",{"$f":"IF(Y251=\"\",\"\",VLOOKUP(Y251,'Country & Delivery'!B:C,2,FALSE))","v":""},null,{"$f":"IF(U251=\"\",\"\",VLOOKUP(U251,'Country & Delivery'!N:O,2,FALSE))","v":""},null,null,{"$f":"IF(L251=\"\",\"\",VLOOKUP(L251,'Country & Delivery'!A:B,2,FALSE))","v":""},null,null,null,null,null,null,null,null,null,null,null,{"$f":"IF(M251=\"\",\"\",VLOOKUP(M251,'Country & Delivery'!AB:AC,2,FALSE))","v":""},null,null,null,null,null,null,null,null,null,null,null,{"$f":"IF(U251=\"\",\"\",VLOOKUP(U251,'Country & Delivery'!$N$1:$O$8,2,0))","v":""},"",0,"Kazakhstan","KAZ","N",null,null,{"$f":"IFERROR(INDEX('Country & Delivery'!N240:N246,MATCH(BD251,'Country & Delivery'!O240:O246,0),1),\"\")","v":""},null,null,{"$f":"IFERROR(INDEX('Country & Delivery'!A240:A489,MATCH(BG251,'Country & Delivery'!B240:B489,0),1),\"\")","v":""}]
[239,null,null,null,null,null,null,null,null,null,null,null,null,null,null,{"$f":"IF(O252=\"\",\"\",VLOOKUP(O252,Products!A:C,2,FALSE))","v":""},{"$f":"IF(O252=\"\",\"\",VLOOKUP(O252,Products!A:C,3,FALSE))","v":""},null,"",{"$f":"IF(Y252=\"\",\"\",VLOOKUP(Y252,'Country & Delivery'!B:C,2,FALSE))","v":""},null,{"$f":"IF(U252=\"\",\"\",VLOOKUP(U252,'Country & Delivery'!N:O,2,FALSE))","v":""},null,null,{"$f":"IF(L252=\"\",\"\",VLOOKUP(L252,'Country & Delivery'!A:B,2,FALSE))","v":""},null,null,null,null,null,null,null,null,null,null,null,{"$f":"IF(M252=\"\",\"\",VLOOKUP(M252,'Country & Delivery'!AB:AC,2,FALSE))","v":""},null,null,null,null,null,null,null,null,null,null,null,{"$f":"IF(U252=\"\",\"\",VLOOKUP(U252,'Country & Delivery'!$N$1:$O$8,2,0))","v":""},"",0,"KE","KEN","N","dc",null,{"$f":"IFERROR(INDEX('Country & Delivery'!N241:N247,MATCH(BD252,'Country & Delivery'!O241:O247,0),1),\"\")","v":""},null,null,{"$f":"IFERROR(INDEX('Country & Delivery'!A241:A490,MATCH(BG252,'Country & Delivery'!B241:B490,0),1),\"\")","v":""}]
[240,null,null,null,null,null,null,null,null,null,null,null,null,null,null,{"$f":"IF(O253=\"\",\"\",VLOOKUP(O253,Products!A:C,2,FALSE))","v":""},{"$f":"IF(O253=\"\",\"\",VLOOKUP(O253,Products!A:C,3,FALSE))","v":""},null,"",{"$f":"IF(Y253=\"\",\"\",VLOOKUP(Y253,'Country & Delivery'!B:C,2,FALSE))","v":""},null,{"$f":"IF(U253=\"\",\"\",VLOOKUP(U253,'Country & Delivery'!N:O,2,FALSE))","v":""},null,null,{"$f":"IF(L253=\"\",\"\",VLOOKUP(L253,'Country & Delivery'!A:B,2,FALSE))","v":""},null,null,null,null,null,null,null,null,null,null,null,{"$f":"IF(M253=\"\",\"\",VLOOKUP(M253,'Country & Delivery'!AB:AC,2,FALSE))","v":""},null,null,null,null,null,null,null,null,null,null,null,{"$f":"IF(U253=\"\",\"\",VLOOKUP(U253,'Country & Delivery'!$N$1:$O$8,2,0))","v":""},"",0,"Kenya","KEN","N",null,null,{"$f":"IFERROR(INDEX('Country & Delivery'!N242:N248,MATCH(BD253,'Country & Delivery'!O242:O248,0),1),\"\")","v":""},null,null,{"$f":"IFERROR(INDEX('Country & Delivery'!A242:A491,MATCH(BG253,'Country & Delivery'!B242:B491,0),1),\"\")","v":""}]
[241,null,null,null,null,null,null,null,null,null,null,null,null,null,null,{"$f":"IF(O254=\"\",\"\",VLOOKUP(O254,Products!A:C,2,FALSE))","v":""},{"$f":"IF(O254=\"\",\"\",VLOOKUP(O254,Products!A:C,3,FALSE))","v":""},null,"",{"$f":"IF(Y254=\"\",\"\",VLOOKUP(Y254,'Country & Delivery'!B:C,2,FALSE))","v":""},null,{"$f":"IF(U254=\"\",\"\",VLOOKUP(U254,'Country & Delivery'!N:O,2,FALSE))","v":""},null,null,{"$f":"IF(L254=\"\",\"\",VLOOKUP(L254,'Country & Delivery'!A:B,2,FALSE))","v":""},null,null,null,null,null,null,null,null,null,null,null,{"$f":"IF(M254=\"\",\"\",VLOOKUP(M254,'Country & Delivery'!AB:AC,2,FALSE))","v":""},null,null,null,null,null,null,null,null,null,null,null,{"$f":"IF(U254=\"\",\"\",VLOOKUP(U254,'Country & Delivery'!$N$1:$O$8,2,0))","v":""},"",0,"KG","KGZ","N","dc",null,{"$f":"IFERROR(INDEX('Country & Delivery'!N243:N249,MATCH(BD254,'Country & Delivery'!O243:O249,0),1),\"\")","v":""},null,null,{"$f":"IFERROR(INDEX('Country & Delivery'!A243:A492,MATCH(BG254,'Country & Delivery'!B243:B492,0),1),\"\")","v":""}]
[242,null,null,null,null,null,null,null,null,null,null,null,null,null,null,{"$f":"IF(O255=\"\",\"\",VLOOKUP(O255,Products!A:C,2,FALSE))","v":""},{"$f":"IF(O255=\"\",\"\",VLOOKUP(O255,Products!A:C,3,FALSE))","v":""},null,"",{"$f":"IF(Y255=\"\",\"\",VLOOKUP(Y255,'Country & Delivery'!B:C,2,FALSE))","v":""},null,{"$f":"IF(U255=\"\",\"\",VLOOKUP(U255,'Country & Delivery'!N:O,2,FALSE))","v":""},null,null,{"$f":"IF(L255=\"\",\"\",VLOOKUP(L255,'Country & Delivery'!A:B,2,FALSE))","v":""},null,null,null,null,null,null,null,null,null,null,null,{"$f":"IF(M255=\"\",\"\",VLOOKUP(M255,'Country & Delivery'!AB:AC,2,FALSE))","v":""},null,null,null,null,null,null,null,null,null,null,null,{"$f":"IF(U255=\"\",\"\",VLOOKUP(U255,'Country & Delivery'!$N$1:$O$8,2,0))","v":""},"",0,"KH","KHM","N",null,null,{"$f":"IFERROR(INDEX('Country & Delivery'!N244:N250,MATCH(BD255,'Country & Delivery'!O244:O250,0),1),\"\")","v":""},null,null,{"$f":"IFERROR(INDEX('Country & Delivery'!A244:A493,MATCH(BG255,'Country & Delivery'!B244:B493,0),1),\"\")","v":""}]
[243,null,null,null,null,null,null,null,null,null,null,null,null,null,null,{"$f":"IF(O256=\"\",\"\",VLOOKUP(O256,Products!A:C,2,FALSE))","v":""},{"$f":"IF(O256=\"\",\"\",VLOOKUP(O256,Products!A:C,3,FALSE))","v":""},null,"",{"$f":"IF(Y256=\"\",\"\",VLOOKUP(Y256,'Country & Delivery'!B:C,2,FALSE))","v":""},null,{"$f":"IF(U256=\"\",\"\",VLOOKUP(U256,'Country & Delivery'!N:O,2,FALSE))","v":""},null,null,{"$f":"IF(L256=\"\",\"\",VLOOKUP(L256,'Country & Delivery'!A:B,2,FALSE))","v":""},null,null,null,null,null,null,null,null,null,null,null,{"$f":"IF(M256=\"\",\"\",VLOOKUP(M256,'Country & Delivery'!AB:AC,2,FALSE))","v":""},null,null,null,null,null,null,null,null,null,null,null,{"$f":"IF(U256=\"\",\"\",VLOOKUP(U256,'Country & Delivery'!$N$1:$O$8,2,0))","v":""},"",0,"KI","KIR","N","dc",null,{"$f":"IFERROR(INDEX('Country & Delivery'!N245:N251,MATCH(BD256,'Country & Delivery'!O245:O251,0),1),\"\")","v":""},null,null,{"$f":"IFERROR(INDEX('Country & Delivery'!A245:A494,MATCH(BG256,'Country & Delivery'!B245:B494,0),1),\"\")","v":""}]
[244,null,null,null,null,null,null,null,null,null,null,null,null,null,null,{"$f":"IF(O257=\"\",\"\",VLOOKUP(O257,Products!A:C,2,FALSE))","v":""},{"$f":"IF(O257=\"\",\"\",VLOOKUP(O257,Products!A:C,3,FALSE))","v":""},null,"",{"$f":"IF(Y257=\"\",\"\",VLOOKUP(Y257,'Country & Delivery'!B:C,2,FALSE))","v":""},null,{"$f":"IF(U257=\"\",\"\",VLOOKUP(U257,'Country & Delivery'!N:O,2,FALSE))","v":""},null,null,{"$f":"IF(L257=\"\",\"\",VLOOKUP(L257,'Country & Delivery'!A:B,2,FALSE))","v":""},null,null,null,null,null,null,null,null,null,null,null,{"$f":"IF(M257=\"\",\"\",VLOOKUP(M257,'Country & Delivery'!AB:AC,2,FALSE))","v":""},null,null,null,null,null,null,null,null,null,null,null,{"$f":"IF(U257=\"\",\"\",VLOOKUP(U257,'Country & Delivery'!$N$1:$O$8,2,0))","v":""},"",0,"Kiribati","KIR","N","dc",null,{"$f":"IFERROR(INDEX('Country & Delivery'!N246:N252,MATCH(BD257,'Country & Delivery'!O246:O252,0),1),\"\")","v":""},null,null,{"$f":"IFERROR(INDEX('Country & Delivery'!A246:A495,MATCH(BG257,'Country & Delivery'!B246:B495,0),1),\"\")","v":""}]
[245,null,null,null,null,null,null,null,null,null,null,null,null,null,null,{"$f":"IF(O258=\"\",\"\",VLOOKUP(O258,Products!A:C,2,FALSE))","v":""},{"$f":"IF(O258=\"\",\"\",VLOOKUP(O258,Products!A:C,3,FALSE))","v":""},null,"",{"$f":"IF(Y258=\"\",\"\",VLOOKUP(Y258,'Country & Delivery'!B:C,2,FALSE))","v":""},null,{"$f":"IF(U258=\"\",\"\",VLOOKUP(U258,'Country & Delivery'!N:O,2,FALSE))","v":""},null,null,{"$f":"IF(L258=\"\",\"\",VLOOKUP(L258,'Country & Delivery'!A:B,2,FALSE))","v":""},null,null,null,null,null,null,null,null,null,null,null,{"$f":"IF(M258=\"\",\"\",VLOOKUP(M258,'Country & Delivery'!AB:AC,2,FALSE))","v":""},null,null,null,null,null,null,null,null,null,null,null,{"$f":"IF(U258=\"\",\"\",VLOOKUP(U258,'Country & Delivery'!$N$1:$O$8,2,0))","v":""},"",0,"KM","COM","N","dc",null,{"$f":"IFERROR(INDEX('Country & Delivery'!N247:N253,MATCH(BD258,'Country & Delivery'!O247:O253,0),1),\"\")","v":""},null,null,{"$f":"IFERROR(INDEX('Country & Delivery'!A247:A496,MATCH(BG258,'Country & Delivery'!B247:B496,0),1),\"\")","v":""}]
[246,null,null,null,null,null,null,null,null,null,null,null,null,null,null,{"$f":"IF(O259=\"\",\"\",VLOOKUP(O259,Products!A:C,2,FALSE))","v":""},{"$f":"IF(O259=\"\",\"\",VLOOKUP(O259,Products!A:C,3,FALSE))","v":""},null,"",{"$f":"IF(Y259=\"\",\"\",VLOOKUP(Y259,'Country & Delivery'!B:C,2,FALSE))","v":""},null,{"$f":"IF(U259=\"\",\"\",VLOOKUP(U259,'Country & Delivery'!N:O,2,FALSE))","v":""},null,null,{"$f":"IF(L259=\"\",\"\",VLOOKUP(L259,'Country & Delivery'!A:B,2,FALSE))","v":""},null,null,null,null,null,null,null,null,null,null,null,{"$f":"IF(M259=\"\",\"\",VLOOKUP(M259,'Country & Delivery'!AB:AC,2,FALSE))","v":""},null,null,null,null,null,null,null,null,null,null,null,{"$f":"IF(U259=\"\",\"\",VLOOKUP(U259,'Country & Delivery'!$N$1:$O$8,2,0))","v":""},"",0,"KN","KNA","N",null,null,{"$f":"IFERROR(INDEX('Country & Delivery'!N248:N254,MATCH(BD259,'Country & Delivery'!O248:O254,0),1),\"\")","v":""},null,null,{"$f":"IFERROR(INDEX('Country & Delivery'!A248:A497,MATCH(BG259,'Country & Delivery'!B248:B497,0),1),\"\")","v":""}]
[247,null,null,null,null,null,null,null,null,null,null,null,null,null,null,{"$f":"IF(O260=\"\",\"\",VLOOKUP(O260,Products!A:C,2,FALSE))","v":""},{"$f":"IF(O260=\"\",\"\",VLOOKUP(O260,Products!A:C,3,FALSE))","v":""},null,"",{"$f":"IF(Y260=\"\",\"\",VLOOKUP(Y260,'Country & Delivery'!B:C,2,FALSE))","v":""},null,{"$f":"IF(U260=\"\",\"\",VLOOKUP(U260,'Country & Delivery'!N:O,2,FALSE))","v":""},null,null,{"$f":"IF(L260=\"\",\"\",VLOOKUP(L260,'Country & Delivery'!A:B,2,FALSE))","v":""},null,null,null,null,null,null,null,null,null,null,null,{"$f":"IF(M260=\"\",\"\",VLOOKUP(M260,'Country & Delivery'!AB:AC,2,FALSE))","v":""},null,null,null,null,null,null,null,null,null,null,null,{"$f":"IF(U260=\"\",\"\",VLOOKUP(U260,'Country & Delivery'!$N$1:$O$8,2,0))","v":""},"",0,"Korea (Democratic People's Republic of)","PRK","N","dc",null,{"$f":"IFERROR(INDEX('Country & Delivery'!N249:N255,MATCH(BD260,'Country & Delivery'!O249:O255,0),1),\"\")","v":""},null,null,{"$f":"IFERROR(INDEX('Country & Delivery'!A249:A498,MATCH(BG260,'Country & Delivery'!B249:B498,0),1),\"\")","v":""}]
[248,null,null,null,null,null,null,null,null,null,null,null,null,null,null,{"$f":"IF(O261=\"\",\"\",VLOOKUP(O261,Products!A:C,2,FALSE))","v":""},{"$f":"IF(O261=\"\",\"\",VLOOKUP(O261,Products!A:C,3,FALSE))","v":""},null,"",{"$f":"IF(Y261=\"\",\"\",VLOOKUP(Y261,'Country & Delivery'!B:C,2,FALSE))","v":""},null,{"$f":"IF(U261=\"\",\"\",VLOOKUP(U261,'Country & Delivery'!N:O,2,FALSE))","v":""},null,null,{"$f":"IF(L261=\"\",\"\",VLOOKUP(L261,'Country & Delivery'!A:B,2,FALSE))","v":""},null,null,null,null,null,null,null,null,null,null,null,{"$f":"IF(M261=\"\",\"\",VLOOKUP(M261,'Country & Delivery'!AB:AC,2,FALSE))","v":""},null,null,null,null,null,null,null,null,null,null,null,{"$f":"IF(U261=\"\",\"\",VLOOKUP(U261,'Country & Delivery'!$N$1:$O$8,2,0))","v":""},"",0,"Korea (Republic of)","KOR","N","dc",null,{"$f":"IFERROR(INDEX('Country & Delivery'!N250:N256,MATCH(BD261,'Country & Delivery'!O250:O256,0),1),\"\")","v":""},null,null,{"$f":"IFERROR(INDEX('Country & Delivery'!A250:A499,MATCH(BG261,'Country & Delivery'!B250:B499,0),1),\"\")","v":""}]
[249,null,null,null,null,null,null,null,null,null,null,null,null,null,null,{"$f":"IF(O262=\"\",\"\",VLOOKUP(O262,Products!A:C,2,FALSE))","v":""},{"$f":"IF(O262=\"\",\"\",VLOOKUP(O262,Products!A:C,3,FALSE))","v":""},null,"",{"$f":"IF(Y262=\"\",\"\",VLOOKUP(Y262,'Country & Delivery'!B:C,2,FALSE))","v":""},null,{"$f":"IF(U262=\"\",\"\",VLOOKUP(U262,'Country & Delivery'!N:O,2,FALSE))","v":""},null,null,{"$f":"IF(L262=\"\",\"\",VLOOKUP(L262,'Country & Delivery'!A:B,2,FALSE))","v":""},null,null,null,null,null,null,null,null,null,null,null,{"$f":"IF(M262=\"\",\"\",VLOOKUP(M262,'Country & Delivery'!AB:AC,2,FALSE))","v":""},null,null,null,null,null,null,null,null,null,null,null,{"$f":"IF(U262=\"\",\"\",VLOOKUP(U262,'Country & Delivery'!$N$1:$O$8,2,0))","v":""},"",0,"KOREA, DEMOCRATIC PEOPLE'S REPUBLIC OF","PRK","N","del meth",null,{"$f":"IFERROR(INDEX('Country & Delivery'!N251:N257,MATCH(BD262,'Country & Delivery'!O251:O257,0),1),\"\")","v":""},null,null,{"$f":"IFERROR(INDEX('Country & Delivery'!A251:A500,MATCH(BG262,'Country & Delivery'!B251:B500,0),1),\"\")","v":""}]
[250,null,null,null,null,null,null,null,null,null,null,null,null,null,null,{"$f":"IF(O263=\"\",\"\",VLOOKUP(O263,Products!A:C,2,FALSE))","v":""},{"$f":"IF(O263=\"\",\"\",VLOOKUP(O263,Products!A:C,3,FALSE))","v":""},null,"",{"$f":"IF(Y263=\"\",\"\",VLOOKUP(Y263,'Country & Delivery'!B:C,2,FALSE))","v":""},null,{"$f":"IF(U263=\"\",\"\",VLOOKUP(U263,'Country & Delivery'!N:O,2,FALSE))","v":""},null,null,{"$f":"IF(L263=\"\",\"\",VLOOKUP(L263,'Country & Delivery'!A:B,2,FALSE))","v":""},null,null,null,null,null,null,null,null,null,null,null,{"$f":"IF(M263=\"\",\"\",VLOOKUP(M263,'Country & Delivery'!AB:AC,2,FALSE))","v":""},null,null,null,null,null,null,null,null,null,null,null,{"$f":"IF(U263=\"\",\"\",VLOOKUP(U263,'Country & Delivery'!$N$1:$O$8,2,0))","v":""},"",0,"KP","PRK","N","dc",null,{"$f":"IFERROR(INDEX('Country & Delivery'!N252:N258,MATCH(BD263,'Country & Delivery'!O252:O258,0),1),\"\")","v":""},null,null,{"$f":"IFERROR(INDEX('Country & Delivery'!A252:A501,MATCH(BG263,'Country & Delivery'!B252:B501,0),1),\"\")","v":""}]
[251,null,null,null,null,null,null,null,null,null,null,null,null,null,null,{"$f":"IF(O264=\"\",\"\",VLOOKUP(O264,Products!A:C,2,FALSE))","v":""},{"$f":"IF(O264=\"\",\"\",VLOOKUP(O264,Products!A:C,3,FALSE))","v":""},null,"",{"$f":"IF(Y264=\"\",\"\",VLOOKUP(Y264,'Country & Delivery'!B:C,2,FALSE))","v":""},null,{"$f":"IF(U264=\"\",\"\",VLOOKUP(U264,'Country & Delivery'!N:O,2,FALSE))","v":""},null,null,{"$f":"IF(L264=\"\",\"\",VLOOKUP(L264,'Country & Delivery'!A:B,2,FALSE))","v":""},null,null,null,null,null,null,null,null,null,null,null,{"$f":"IF(M264=\"\",\"\",VLOOKUP(M264,'Country & Delivery'!AB:AC,2,FALSE))","v":""},null,null,null,null,null,null,null,null,null,null,null,{"$f":"IF(U264=\"\",\"\",VLOOKUP(U264,'Country & Delivery'!$N$1:$O$8,2,0))","v":""},"",0,"KR","KOR","N","dc",null,{"$f":"IFERROR(INDEX('Country & Delivery'!N253:N259,MATCH(BD264,'Country & Delivery'!O253:O259,0),1),\"\")","v":""},null,null,{"$f":"IFERROR(INDEX('Country & Delivery'!A253:A502,MATCH(BG264,'Country & Delivery'!B253:B502,0),1),\"\")","v":""}]
[252,null,null,null,null,null,null,null,null,null,null,null,null,null,null,{"$f":"IF(O265=\"\",\"\",VLOOKUP(O265,Products!A:C,2,FALSE))","v":""},{"$f":"IF(O265=\"\",\"\",VLOOKUP(O265,Products!A:C,3,FALSE))","v":""},null,"",{"$f":"IF(Y265=\"\",\"\",VLOOKUP(Y265,'Country & Delivery'!B:C,2,FALSE))","v":""},null,{"$f":"IF(U265=\"\",\"\",VLOOKUP(U265,'Country & Delivery'!N:O,2,FALSE))","v":""},null,null,{"$f":"IF(L265=\"\",\"\",VLOOKUP(L265,'Country & Delivery'!A:B,2,FALSE))","v":""},null,null,null,null,null,null,null,null,null,null,null,{"$f":"IF(M265=\"\",\"\",VLOOKUP(M265,'Country & Delivery'!AB:AC,2,FALSE))","v":""},null,null,null,null,null,null,null,null,null,null,null,{"$f":"IF(U265=\"\",\"\",VLOOKUP(U265,'Country & Delivery'!$N$1:$O$8,2,0))","v":""},"",0,"Kuwait","KWT","N",null,null,{"$f":"IFERROR(INDEX('Country & Delivery'!N254:N260,MATCH(BD265,'Country & Delivery'!O254:O260,0),1),\"\")","v":""},null,null,{"$f":"IFERROR(INDEX('Country & Delivery'!A254:A503,MATCH(BG265,'Country & Delivery'!B254:B503,0),1),\"\")","v":""}]
[253,null,null,null,null,null,null,null,null,null,null,null,null,null,null,{"$f":"IF(O266=\"\",\"\",VLOOKUP(O266,Products!A:C,2,FALSE))","v":""},{"$f":"IF(O266=\"\",\"\",VLOOKUP(O266,Products!A:C,3,FALSE))","v":""},null,"",{"$f":"IF(Y266=\"\",\"\",VLOOKUP(Y266,'Country & Delivery'!B:C,2,FALSE))","v":""},null,{"$f":"IF(U266=\"\",\"\",VLOOKUP(U266,'Country & Delivery'!N:O,2,FALSE))","v":""},null,null,{"$f":"IF(L266=\"\",\"\",VLOOKUP(L266,'Country & Delivery'!A:B,2,FALSE))","v":""},null,null,null,null,null,null,null,null,null,null,null,{"$f":"IF(M266=\"\",\"\",VLOOKUP(M266,'Country & Delivery'!AB:AC,2,FALSE))","v":""},null,null,null,null,null,null,null,null,null,null,null,{"$f":"IF(U266=\"\",\"\",VLOOKUP(U266,'Country & Delivery'!$N$1:$O$8,2,0))","v":""},"",0,"KW","KWT","N",null,null,{"$f":"IFERROR(INDEX('Country & Delivery'!N255:N261,MATCH(BD266,'Country & Delivery'!O255:O261,0),1),\"\")","v":""},null,null,{"$f":"IFERROR(INDEX('Country & Delivery'!A255:A504,MATCH(BG266,'Country & Delivery'!B255:B504,0),1),\"\")","v":""}]
[254,null,null,null,null,null,null,null,null,null,null,null,null,null,null,{"$f":"IF(O267=\"\",\"\",VLOOKUP(O267,Products!A:C,2,FALSE))","v":""},{"$f":"IF(O267=\"\",\"\",VLOOKUP(O267,Products!A:C,3,FALSE))","v":""},null,"",{"$f":"IF(Y267=\"\",\"\",VLOOKUP(Y267,'Country & Delivery'!B:C,2,FALSE))","v":""},null,{"$f":"IF(U267=\"\",\"\",VLOOKUP(U267,'Country & Delivery'!N:O,2,FALSE))","v":""},null,null,{"$f":"IF(L267=\"\",\"\",VLOOKUP(L267,'Country & Delivery'!A:B,2,FALSE))","v":""},null,null,null,null,null,null,null,null,null,null,null,{"$f":"IF(M267=\"\",\"\",VLOOKUP(M267,'Country & Delivery'!AB:AC,2,FALSE))","v":""},null,null,null,null,null,null,null,null,null,null,null,{"$f":"IF(U267=\"\",\"\",VLOOKUP(U267,'Country & Delivery'!$N$1:$O$8,2,0))","v":""},"",0,"KY","CYM","N",null,null,{"$f":"IFERROR(INDEX('Country & Delivery'!N256:N262,MATCH(BD267,'Country & Delivery'!O256:O262,0),1),\"\")","v":""},null,null,{"$f":"IFERROR(INDEX('Country & Delivery'!A256:A505,MATCH(BG267,'Country & Delivery'!B256:B505,0),1),\"\")","v":""}]
[255,null,null,null,null,null,null,null,null,null,null,null,null,null,null,{"$f":"IF(O268=\"\",\"\",VLOOKUP(O268,Products!A:C,2,FALSE))","v":""},{"$f":"IF(O268=\"\",\"\",VLOOKUP(O268,Products!A:C,3,FALSE))","v":""},null,"",{"$f":"IF(Y268=\"\",\"\",VLOOKUP(Y268,'Country & Delivery'!B:C,2,FALSE))","v":""},null,{"$f":"IF(U268=\"\",\"\",VLOOKUP(U268,'Country & Delivery'!N:O,2,FALSE))","v":""},null,null,{"$f":"IF(L268=\"\",\"\",VLOOKUP(L268,'Country & Delivery'!A:B,2,FALSE))","v":""},null,null,null,null,null,null,null,null,null,null,null,{"$f":"IF(M268=\"\",\"\",VLOOKUP(M268,'Country & Delivery'!AB:AC,2,FALSE))","v":""},null,null,null,null,null,null,null,null,null,null,null,{"$f":"IF(U268=\"\",\"\",VLOOKUP(U268,'Country & Delivery'!$N$1:$O$8,2,0))","v":""},{"$f":"IF(O268<>\"\",COUNTIFS(D268:D268,\"\")+COUNTIFS(E268:E268,\"\")+COUNTIFS(I268:I268,\"\")+COUNTIFS(N268:N268,\"\")+COUNTIFS(O268:O268,\"\")+COUNTIFS(R268:R268,\"\")+COUNTIFS(U268:U268,\"\"),\"\")","v":""},0,"Kyrgyzstan","KGZ","N","dc",null,{"$f":"IFERROR(INDEX('Country & Delivery'!N257:N263,MATCH(BD268,'Country & Delivery'!O257:O263,0),1),\"\")","v":""},null,null,{"$f":"IFERROR(INDEX('Country & Delivery'!A257:A506,MATCH(BG268,'Country & Delivery'!B257:B506,0),1),\"\")","v":""}]
[256,null,null,null,null,null,null,null,null,null,null,null,null,null,null,{"$f":"IF(O269=\"\",\"\",VLOOKUP(O269,Products!A:C,2,FALSE))","v":""},{"$f":"IF(O269=\"\",\"\",VLOOKUP(O269,Products!A:C,3,FALSE))","v":""},null,"",{"$f":"IF(Y269=\"\",\"\",VLOOKUP(Y269,'Country & Delivery'!B:C,2,FALSE))","v":""},null,{"$f":"IF(U269=\"\",\"\",VLOOKUP(U269,'Country & Delivery'!N:O,2,FALSE))","v":""},null,null,{"$f":"IF(L269=\"\",\"\",VLOOKUP(L269,'Country & Delivery'!A:B,2,FALSE))","v":""},null,null,null,null,null,null,null,null,null,null,null,{"$f":"IF(M269=\"\",\"\",VLOOKUP(M269,'Country & Delivery'!AB:AC,2,FALSE))","v":""},null,null,null,null,null,null,null,null,null,null,null,{"$f":"IF(U269=\"\",\"\",VLOOKUP(U269,'Country & Delivery'!$N$1:$O$8,2,0))","v":""},"",{"$f":"+$L$10","v":0},"KZ","KAZ","N",null,null,{"$f":"IFERROR(INDEX('Country & Delivery'!N258:N264,MATCH(BD269,'Country & Delivery'!O258:O264,0),1),\"\")","v":""},null,null,{"$f":"IFERROR(INDEX('Country & Delivery'!A258:A507,MATCH(BG269,'Country & Delivery'!B258:B507,0),1),\"\")","v":""}]
[257,null,null,null,null,null,null,null,null,null,null,null,null,null,null,{"$f":"IF(O270=\"\",\"\",VLOOKUP(O270,Products!A:C,2,FALSE))","v":""},{"$f":"IF(O270=\"\",\"\",VLOOKUP(O270,Products!A:C,3,FALSE))","v":""},null,"",{"$f":"IF(Y270=\"\",\"\",VLOOKUP(Y270,'Country & Delivery'!B:C,2,FALSE))","v":""},null,{"$f":"IF(U270=\"\",\"\",VLOOKUP(U270,'Country & Delivery'!N:O,2,FALSE))","v":""},null,null,{"$f":"IF(L270=\"\",\"\",VLOOKUP(L270,'Country & Delivery'!A:B,2,FALSE))","v":""},null,null,null,null,null,null,null,null,null,null,null,{"$f":"IF(M270=\"\",\"\",VLOOKUP(M270,'Country & Delivery'!AB:AC,2,FALSE))","v":""},null,null,null,null,null,null,null,null,null,null,null,{"$f":"IF(U270=\"\",\"\",VLOOKUP(U270,'Country & Delivery'!$N$1:$O$8,2,0))","v":""},"",0,"LA","LAO","N",null,null,{"$f":"IFERROR(INDEX('Country & Delivery'!N259:N265,MATCH(BD270,'Country & Delivery'!O259:O265,0),1),\"\")","v":""},null,null,{"$f":"IFERROR(INDEX('Country & Delivery'!A259:A508,MATCH(BG270,'Country & Delivery'!B259:B508,0),1),\"\")","v":""}]
[258,null,null,null,null,null,null,null,null,null,null,null,null,null,null,{"$f":"IF(O271=\"\",\"\",VLOOKUP(O271,Products!A:C,2,FALSE))","v":""},{"$f":"IF(O271=\"\",\"\",VLOOKUP(O271,Products!A:C,3,FALSE))","v":""},null,"",{"$f":"IF(Y271=\"\",\"\",VLOOKUP(Y271,'Country & Delivery'!B:C,2,FALSE))","v":""},null,{"$f":"IF(U271=\"\",\"\",VLOOKUP(U271,'Country & Delivery'!N:O,2,FALSE))","v":""},null,null,{"$f":"IF(L271=\"\",\"\",VLOOKUP(L271,'Country & Delivery'!A:B,2,FALSE))","v":""},null,null,null,null,null,null,null,null,null,null,null,{"$f":"IF(M271=\"\",\"\",VLOOKUP(M271,'Country & Delivery'!AB:AC,2,FALSE))","v":""},null,null,null,null,null,null,null,null,null,null,null,{"$f":"IF(U271=\"\",\"\",VLOOKUP(U271,'Country & Delivery'!$N$1:$O$8,2,0))","v":""},"",0,"Lao People's Democratic Republic","LAO","N",null,null,{"$f":"IFERROR(INDEX('Country & Delivery'!N260:N266,MATCH(BD271,'Country & Delivery'!O260:O266,0),1),\"\")","v":""},null,null,{"$f":"IFERROR(INDEX('Country & Delivery'!A260:A509,MATCH(BG271,'Country & Delivery'!B260:B509,0),1),\"\")","v":""}]
[259,null,null,null,null,null,null,null,null,null,null,null,null,null,null,{"$f":"IF(O272=\"\",\"\",VLOOKUP(O272,Products!A:C,2,FALSE))","v":""},{"$f":"IF(O272=\"\",\"\",VLOOKUP(O272,Products!A:C,3,FALSE))","v":""},null,"",{"$f":"IF(Y272=\"\",\"\",VLOOKUP(Y272,'Country & Delivery'!B:C,2,FALSE))","v":""},null,{"$f":"IF(U272=\"\",\"\",VLOOKUP(U272,'Country & Delivery'!N:O,2,FALSE))","v":""},null,null,{"$f":"IF(L272=\"\",\"\",VLOOKUP(L272,'Country & Delivery'!A:B,2,FALSE))","v":""},null,null,null,null,null,null,null,null,null,null,null,{"$f":"IF(M272=\"\",\"\",VLOOKUP(M272,'Country & Delivery'!AB:AC,2,FALSE))","v":""},null,null,null,null,null,null,null,null,null,null,null,{"$f":"IF(U272=\"\",\"\",VLOOKUP(U272,'Country & Delivery'!$N$1:$O$8,2,0))","v":""},"",0,"Latvia","LVA","Y",null,null,{"$f":"IFERROR(INDEX('Country & Delivery'!N261:N267,MATCH(BD272,'Country & Delivery'!O261:O267,0),1),\"\")","v":""},null,null,{"$f":"IFERROR(INDEX('Country & Delivery'!A261:A510,MATCH(BG272,'Country & Delivery'!B261:B510,0),1),\"\")","v":""}]
[260,null,null,null,null,null,null,null,null,null,null,null,null,null,null,{"$f":"IF(O273=\"\",\"\",VLOOKUP(O273,Products!A:C,2,FALSE))","v":""},{"$f":"IF(O273=\"\",\"\",VLOOKUP(O273,Products!A:C,3,FALSE))","v":""},null,"",{"$f":"IF(Y273=\"\",\"\",VLOOKUP(Y273,'Country & Delivery'!B:C,2,FALSE))","v":""},null,{"$f":"IF(U273=\"\",\"\",VLOOKUP(U273,'Country & Delivery'!N:O,2,FALSE))","v":""},null,null,{"$f":"IF(L273=\"\",\"\",VLOOKUP(L273,'Country & Delivery'!A:B,2,FALSE))","v":""},null,null,null,null,null,null,null,null,null,null,null,{"$f":"IF(M273=\"\",\"\",VLOOKUP(M273,'Country & Delivery'!AB:AC,2,FALSE))","v":""},null,null,null,null,null,null,null,null,null,null,null,{"$f":"IF(U273=\"\",\"\",VLOOKUP(U273,'Country & Delivery'!$N$1:$O$8,2,0))","v":""},"",0,"LB","LBN","N",null,null,{"$f":"IFERROR(INDEX('Country & Delivery'!N262:N268,MATCH(BD273,'Country & Delivery'!O262:O268,0),1),\"\")","v":""},null,null,{"$f":"IFERROR(INDEX('Country & Delivery'!A262:A511,MATCH(BG273,'Country & Delivery'!B262:B511,0),1),\"\")","v":""}]
[261,null,null,null,null,null,null,null,null,null,null,null,null,null,null,{"$f":"IF(O274=\"\",\"\",VLOOKUP(O274,Products!A:C,2,FALSE))","v":""},{"$f":"IF(O274=\"\",\"\",VLOOKUP(O274,Products!A:C,3,FALSE))","v":""},null,"",{"$f":"IF(Y274=\"\",\"\",VLOOKUP(Y274,'Country & Delivery'!B:C,2,FALSE))","v":""},null,{"$f":"IF(U274=\"\",\"\",VLOOKUP(U274,'Country & Delivery'!N:O,2,FALSE))","v":""},null,null,{"$f":"IF(L274=\"\",\"\",VLOOKUP(L274,'Country & Delivery'!A:B,2,FALSE))","v":""},null,null,null,null,null,null,null,null,null,null,null,{"$f":"IF(M274=\"\",\"\",VLOOKUP(M274,'Country & Delivery'!AB:AC,2,FALSE))","v":""},null,null,null,null,null,null,null,null,null,null,null,{"$f":"IF(U274=\"\",\"\",VLOOKUP(U274,'Country & Delivery'!$N$1:$O$8,2,0))","v":""},"",0,"LC","LCA","N",null,null,{"$f":"IFERROR(INDEX('Country & Delivery'!N263:N269,MATCH(BD274,'Country & Delivery'!O263:O269,0),1),\"\")","v":""},null,null,{"$f":"IFERROR(INDEX('Country & Delivery'!A263:A512,MATCH(BG274,'Country & Delivery'!B263:B512,0),1),\"\")","v":""}]
[262,null,null,null,null,null,null,null,null,null,null,null,null,null,null,{"$f":"IF(O275=\"\",\"\",VLOOKUP(O275,Products!A:C,2,FALSE))","v":""},{"$f":"IF(O275=\"\",\"\",VLOOKUP(O275,Products!A:C,3,FALSE))","v":""},null,"",{"$f":"IF(Y275=\"\",\"\",VLOOKUP(Y275,'Country & Delivery'!B:C,2,FALSE))","v":""},null,{"$f":"IF(U275=\"\",\"\",VLOOKUP(U275,'Country & Delivery'!N:O,2,FALSE))","v":""},null,null,{"$f":"IF(L275=\"\",\"\",VLOOKUP(L275,'Country & Delivery'!A:B,2,FALSE))","v":""},null,null,null,null,null,null,null,null,null,null,null,{"$f":"IF(M275=\"\",\"\",VLOOKUP(M275,'Country & Delivery'!AB:AC,2,FALSE))","v":""},null,null,null,null,null,null,null,null,null,null,null,{"$f":"IF(U275=\"\",\"\",VLOOKUP(U275,'Country & Delivery'!$N$1:$O$8,2,0))","v":""},"",0,"Lebanon","LBN","N",null,null,{"$f":"IFERROR(INDEX('Country & Delivery'!N264:N270,MATCH(BD275,'Country & Delivery'!O264:O270,0),1),\"\")","v":""},null,null,{"$f":"IFERROR(INDEX('Country & Delivery'!A264:A513,MATCH(BG275,'Country & Delivery'!B264:B513,0),1),\"\")","v":""}]
[263,null,null,null,null,null,null,null,null,null,null,null,null,null,null,{"$f":"IF(O276=\"\",\"\",VLOOKUP(O276,Products!A:C,2,FALSE))","v":""},{"$f":"IF(O276=\"\",\"\",VLOOKUP(O276,Products!A:C,3,FALSE))","v":""},null,"",{"$f":"IF(Y276=\"\",\"\",VLOOKUP(Y276,'Country & Delivery'!B:C,2,FALSE))","v":""},null,{"$f":"IF(U276=\"\",\"\",VLOOKUP(U276,'Country & Delivery'!N:O,2,FALSE))","v":""},null,null,{"$f":"IF(L276=\"\",\"\",VLOOKUP(L276,'Country & Delivery'!A:B,2,FALSE))","v":""},null,null,null,null,null,null,null,null,null,null,null,{"$f":"IF(M276=\"\",\"\",VLOOKUP(M276,'Country & Delivery'!AB:AC,2,FALSE))","v":""},null,null,null,null,null,null,null,null,null,null,null,{"$f":"IF(U276=\"\",\"\",VLOOKUP(U276,'Country & Delivery'!$N$1:$O$8,2,0))","v":""},"",0,"Lesotho","LSO","N",null,null,{"$f":"IFERROR(INDEX('Country & Delivery'!N265:N271,MATCH(BD276,'Country & Delivery'!O265:O271,0),1),\"\")","v":""},null,null,{"$f":"IFERROR(INDEX('Country & Delivery'!A265:A514,MATCH(BG276,'Country & Delivery'!B265:B514,0),1),\"\")","v":""}]
[264,null,null,null,null,null,null,null,null,null,null,null,null,null,null,{"$f":"IF(O277=\"\",\"\",VLOOKUP(O277,Products!A:C,2,FALSE))","v":""},{"$f":"IF(O277=\"\",\"\",VLOOKUP(O277,Products!A:C,3,FALSE))","v":""},null,"",{"$f":"IF(Y277=\"\",\"\",VLOOKUP(Y277,'Country & Delivery'!B:C,2,FALSE))","v":""},null,{"$f":"IF(U277=\"\",\"\",VLOOKUP(U277,'Country & Delivery'!N:O,2,FALSE))","v":""},null,null,{"$f":"IF(L277=\"\",\"\",VLOOKUP(L277,'Country & Delivery'!A:B,2,FALSE))","v":""},null,null,null,null,null,null,null,null,null,null,null,{"$f":"IF(M277=\"\",\"\",VLOOKUP(M277,'Country & Delivery'!AB:AC,2,FALSE))","v":""},null,null,null,null,null,null,null,null,null,null,null,{"$f":"IF(U277=\"\",\"\",VLOOKUP(U277,'Country & Delivery'!$N$1:$O$8,2,0))","v":""},"",0,"LI","LIE","N",null,null,{"$f":"IFERROR(INDEX('Country & Delivery'!N266:N272,MATCH(BD277,'Country & Delivery'!O266:O272,0),1),\"\")","v":""},null,null,{"$f":"IFERROR(INDEX('Country & Delivery'!A266:A515,MATCH(BG277,'Country & Delivery'!B266:B515,0),1),\"\")","v":""}]
[265,null,null,null,null,null,null,null,null,null,null,null,null,null,null,{"$f":"IF(O278=\"\",\"\",VLOOKUP(O278,Products!A:C,2,FALSE))","v":""},{"$f":"IF(O278=\"\",\"\",VLOOKUP(O278,Products!A:C,3,FALSE))","v":""},null,"",{"$f":"IF(Y278=\"\",\"\",VLOOKUP(Y278,'Country & Delivery'!B:C,2,FALSE))","v":""},null,{"$f":"IF(U278=\"\",\"\",VLOOKUP(U278,'Country & Delivery'!N:O,2,FALSE))","v":""},null,null,{"$f":"IF(L278=\"\",\"\",VLOOKUP(L278,'Country & Delivery'!A:B,2,FALSE))","v":""},null,null,null,null,null,null,null,null,null,null,null,{"$f":"IF(M278=\"\",\"\",VLOOKUP(M278,'Country & Delivery'!AB:AC,2,FALSE))","v":""},null,null,null,null,null,null,null,null,null,null,null,{"$f":"IF(U278=\"\",\"\",VLOOKUP(U278,'Country & Delivery'!$N$1:$O$8,2,0))","v":""},"",0,"Liberia","LBR","N","dc",null,{"$f":"IFERROR(INDEX('Country & Delivery'!N267:N273,MATCH(BD278,'Country & Delivery'!O267:O273,0),1),\"\")","v":""},null,null,{"$f":"IFERROR(INDEX('Country & Delivery'!A267:A516,MATCH(BG278,'Country & Delivery'!B267:B516,0),1),\"\")","v":""}]
[266,null,null,null,null,null,null,null,null,null,null,null,null,null,null,{"$f":"IF(O279=\"\",\"\",VLOOKUP(O279,Products!A:C,2,FALSE))","v":""},{"$f":"IF(O279=\"\",\"\",VLOOKUP(O279,Products!A:C,3,FALSE))","v":""},null,"",{"$f":"IF(Y279=\"\",\"\",VLOOKUP(Y279,'Country & Delivery'!B:C,2,FALSE))","v":""},null,{"$f":"IF(U279=\"\",\"\",VLOOKUP(U279,'Country & Delivery'!N:O,2,FALSE))","v":""},null,null,{"$f":"IF(L279=\"\",\"\",VLOOKUP(L279,'Country & Delivery'!A:B,2,FALSE))","v":""},null,null,null,null,null,null,null,null,null,null,null,{"$f":"IF(M279=\"\",\"\",VLOOKUP(M279,'Country & Delivery'!AB:AC,2,FALSE))","v":""},null,null,null,null,null,null,null,null,null,null,null,{"$f":"IF(U279=\"\",\"\",VLOOKUP(U279,'Country & Delivery'!$N$1:$O$8,2,0))","v":""},"",0,"Libya","LBY","N","dc",null,{"$f":"IFERROR(INDEX('Country & Delivery'!N268:N274,MATCH(BD279,'Country & Delivery'!O268:O274,0),1),\"\")","v":""},null,null,{"$f":"IFERROR(INDEX('Country & Delivery'!A268:A517,MATCH(BG279,'Country & Delivery'!B268:B517,0),1),\"\")","v":""}]
[267,null,null,null,null,null,null,null,null,null,null,null,null,null,null,{"$f":"IF(O280=\"\",\"\",VLOOKUP(O280,Products!A:C,2,FALSE))","v":""},{"$f":"IF(O280=\"\",\"\",VLOOKUP(O280,Products!A:C,3,FALSE))","v":""},null,"",{"$f":"IF(Y280=\"\",\"\",VLOOKUP(Y280,'Country & Delivery'!B:C,2,FALSE))","v":""},null,{"$f":"IF(U280=\"\",\"\",VLOOKUP(U280,'Country & Delivery'!N:O,2,FALSE))","v":""},null,null,{"$f":"IF(L280=\"\",\"\",VLOOKUP(L280,'Country & Delivery'!A:B,2,FALSE))","v":""},null,null,null,null,null,null,null,null,null,null,null,{"$f":"IF(M280=\"\",\"\",VLOOKUP(M280,'Country & Delivery'!AB:AC,2,FALSE))","v":""},null,null,null,null,null,null,null,null,null,null,null,{"$f":"IF(U280=\"\",\"\",VLOOKUP(U280,'Country & Delivery'!$N$1:$O$8,2,0))","v":""},"",0,"Liechtenstein","LIE","N","EU?",null,{"$f":"IFERROR(INDEX('Country & Delivery'!N269:N275,MATCH(BD280,'Country & Delivery'!O269:O275,0),1),\"\")","v":""},null,null,{"$f":"IFERROR(INDEX('Country & Delivery'!A269:A518,MATCH(BG280,'Country & Delivery'!B269:B518,0),1),\"\")","v":""}]
[268,null,null,null,null,null,null,null,null,null,null,null,null,null,null,{"$f":"IF(O281=\"\",\"\",VLOOKUP(O281,Products!A:C,2,FALSE))","v":""},{"$f":"IF(O281=\"\",\"\",VLOOKUP(O281,Products!A:C,3,FALSE))","v":""},null,"",{"$f":"IF(Y281=\"\",\"\",VLOOKUP(Y281,'Country & Delivery'!B:C,2,FALSE))","v":""},null,{"$f":"IF(U281=\"\",\"\",VLOOKUP(U281,'Country & Delivery'!N:O,2,FALSE))","v":""},null,null,{"$f":"IF(L281=\"\",\"\",VLOOKUP(L281,'Country & Delivery'!A:B,2,FALSE))","v":""},null,null,null,null,null,null,null,null,null,null,null,{"$f":"IF(M281=\"\",\"\",VLOOKUP(M281,'Country & Delivery'!AB:AC,2,FALSE))","v":""},null,null,null,null,null,null,null,null,null,null,null,{"$f":"IF(U281=\"\",\"\",VLOOKUP(U281,'Country & Delivery'!$N$1:$O$8,2,0))","v":""},"",0,"Lithuania","LTU","Y",null,null,{"$f":"IFERROR(INDEX('Country & Delivery'!N270:N276,MATCH(BD281,'Country & Delivery'!O270:O276,0),1),\"\")","v":""},null,null,{"$f":"IFERROR(INDEX('Country & Delivery'!A270:A519,MATCH(BG281,'Country & Delivery'!B270:B519,0),1),\"\")","v":""}]
[269,null,null,null,null,null,null,null,null,null,null,null,null,null,null,{"$f":"IF(O282=\"\",\"\",VLOOKUP(O282,Products!A:C,2,FALSE))","v":""},{"$f":"IF(O282=\"\",\"\",VLOOKUP(O282,Products!A:C,3,FALSE))","v":""},null,"",{"$f":"IF(Y282=\"\",\"\",VLOOKUP(Y282,'Country & Delivery'!B:C,2,FALSE))","v":""},null,{"$f":"IF(U282=\"\",\"\",VLOOKUP(U282,'Country & Delivery'!N:O,2,FALSE))","v":""},null,null,{"$f":"IF(L282=\"\",\"\",VLOOKUP(L282,'Country & Delivery'!A:B,2,FALSE))","v":""},null,null,null,null,null,null,null,null,null,null,null,{"$f":"IF(M282=\"\",\"\",VLOOKUP(M282,'Country & Delivery'!AB:AC,2,FALSE))","v":""},null,null,null,null,null,null,null,null,null,null,null,{"$f":"IF(U282=\"\",\"\",VLOOKUP(U282,'Country & Delivery'!$N$1:$O$8,2,0))","v":""},"",0,"LK","LKA","N",null,null,{"$f":"IFERROR(INDEX('Country & Delivery'!N271:N277,MATCH(BD282,'Country & Delivery'!O271:O277,0),1),\"\")","v":""},null,null,{"$f":"IFERROR(INDEX('Country & Delivery'!A271:A520,MATCH(BG282,'Country & Delivery'!B271:B520,0),1),\"\")","v":""}]
[270,null,null,null,null,null,null,null,null,null,null,null,null,null,null,{"$f":"IF(O283=\"\",\"\",VLOOKUP(O283,Products!A:C,2,FALSE))","v":""},{"$f":"IF(O283=\"\",\"\",VLOOKUP(O283,Products!A:C,3,FALSE))","v":""},null,"",{"$f":"IF(Y283=\"\",\"\",VLOOKUP(Y283,'Country & Delivery'!B:C,2,FALSE))","v":""},null,{"$f":"IF(U283=\"\",\"\",VLOOKUP(U283,'Country & Delivery'!N:O,2,FALSE))","v":""},null,null,{"$f":"IF(L283=\"\",\"\",VLOOKUP(L283,'Country & Delivery'!A:B,2,FALSE))","v":""},null,null,null,null,null,null,null,null,null,null,null,{"$f":"IF(M283=\"\",\"\",VLOOKUP(M283,'Country & Delivery'!AB:AC,2,FALSE))","v":""},null,null,null,null,null,null,null,null,null,null,null,{"$f":"IF(U283=\"\",\"\",VLOOKUP(U283,'Country & Delivery'!$N$1:$O$8,2,0))","v":""},"",0,"LR","LBR","N","dc",null,{"$f":"IFERROR(INDEX('Country & Delivery'!N272:N278,MATCH(BD283,'Country & Delivery'!O272:O278,0),1),\"\")","v":""},null,null,{"$f":"IFERROR(INDEX('Country & Delivery'!A272:A521,MATCH(BG283,'Country & Delivery'!B272:B521,0),1),\"\")","v":""}]
[271,null,null,null,null,null,null,null,null,null,null,null,null,null,null,{"$f":"IF(O284=\"\",\"\",VLOOKUP(O284,Products!A:C,2,FALSE))","v":""},{"$f":"IF(O284=\"\",\"\",VLOOKUP(O284,Products!A:C,3,FALSE))","v":""},null,"",{"$f":"IF(Y284=\"\",\"\",VLOOKUP(Y284,'Country & Delivery'!B:C,2,FALSE))","v":""},null,{"$f":"IF(U284=\"\",\"\",VLOOKUP(U284,'Country & Delivery'!N:O,2,FALSE))","v":""},null,null,{"$f":"IF(L284=\"\",\"\",VLOOKUP(L284,'Country & Delivery'!A:B,2,FALSE))","v":""},null,null,null,null,null,null,null,null,null,null,null,{"$f":"IF(M284=\"\",\"\",VLOOKUP(M284,'Country & Delivery'!AB:AC,2,FALSE))","v":""},null,null,null,null,null,null,null,null,null,null,null,{"$f":"IF(U284=\"\",\"\",VLOOKUP(U284,'Country & Delivery'!$N$1:$O$8,2,0))","v":""},"",0,"LS","LSO","N",null,null,{"$f":"IFERROR(INDEX('Country & Delivery'!N273:N279,MATCH(BD284,'Country & Delivery'!O273:O279,0),1),\"\")","v":""},null,null,{"$f":"IFERROR(INDEX('Country & Delivery'!A273:A522,MATCH(BG284,'Country & Delivery'!B273:B522,0),1),\"\")","v":""}]
[272,null,null,null,null,null,null,null,null,null,null,null,null,null,null,{"$f":"IF(O285=\"\",\"\",VLOOKUP(O285,Products!A:C,2,FALSE))","v":""},{"$f":"IF(O285=\"\",\"\",VLOOKUP(O285,Products!A:C,3,FALSE))","v":""},null,"",{"$f":"IF(Y285=\"\",\"\",VLOOKUP(Y285,'Country & Delivery'!B:C,2,FALSE))","v":""},null,{"$f":"IF(U285=\"\",\"\",VLOOKUP(U285,'Country & Delivery'!N:O,2,FALSE))","v":""},null,null,{"$f":"IF(L285=\"\",\"\",VLOOKUP(L285,'Country & Delivery'!A:B,2,FALSE))","v":""},null,null,null,null,null,null,null,null,null,null,null,{"$f":"IF(M285=\"\",\"\",VLOOKUP(M285,'Country & Delivery'!AB:AC,2,FALSE))","v":""},null,null,null,null,null,null,null,null,null,null,null,{"$f":"IF(U285=\"\",\"\",VLOOKUP(U285,'Country & Delivery'!$N$1:$O$8,2,0))","v":""},"",0,"LT","LTU","Y",null,null,{"$f":"IFERROR(INDEX('Country & Delivery'!N274:N280,MATCH(BD285,'Country & Delivery'!O274:O280,0),1),\"\")","v":""},null,null,{"$f":"IFERROR(INDEX('Country & Delivery'!A274:A523,MATCH(BG285,'Country & Delivery'!B274:B523,0),1),\"\")","v":""}]
[273,null,null,null,null,null,null,null,null,null,null,null,null,null,null,{"$f":"IF(O286=\"\",\"\",VLOOKUP(O286,Products!A:C,2,FALSE))","v":""},{"$f":"IF(O286=\"\",\"\",VLOOKUP(O286,Products!A:C,3,FALSE))","v":""},null,"",{"$f":"IF(Y286=\"\",\"\",VLOOKUP(Y286,'Country & Delivery'!B:C,2,FALSE))","v":""},null,{"$f":"IF(U286=\"\",\"\",VLOOKUP(U286,'Country & Delivery'!N:O,2,FALSE))","v":""},null,null,{"$f":"IF(L286=\"\",\"\",VLOOKUP(L286,'Country & Delivery'!A:B,2,FALSE))","v":""},null,null,null,null,null,null,null,null,null,null,null,{"$f":"IF(M286=\"\",\"\",VLOOKUP(M286,'Country & Delivery'!AB:AC,2,FALSE))","v":""},null,null,null,null,null,null,null,null,null,null,null,{"$f":"IF(U286=\"\",\"\",VLOOKUP(U286,'Country & Delivery'!$N$1:$O$8,2,0))","v":""},"",0,"LU","LUX","Y",null,null,{"$f":"IFERROR(INDEX('Country & Delivery'!N275:N281,MATCH(BD286,'Country & Delivery'!O275:O281,0),1),\"\")","v":""},null,null,{"$f":"IFERROR(INDEX('Country & Delivery'!A275:A524,MATCH(BG286,'Country & Delivery'!B275:B524,0),1),\"\")","v":""}]
[274,null,null,null,null,null,null,null,null,null,null,null,null,null,null,{"$f":"IF(O287=\"\",\"\",VLOOKUP(O287,Products!A:C,2,FALSE))","v":""},{"$f":"IF(O287=\"\",\"\",VLOOKUP(O287,Products!A:C,3,FALSE))","v":""},null,"",{"$f":"IF(Y287=\"\",\"\",VLOOKUP(Y287,'Country & Delivery'!B:C,2,FALSE))","v":""},null,{"$f":"IF(U287=\"\",\"\",VLOOKUP(U287,'Country & Delivery'!N:O,2,FALSE))","v":""},null,null,{"$f":"IF(L287=\"\",\"\",VLOOKUP(L287,'Country & Delivery'!A:B,2,FALSE))","v":""},null,null,null,null,null,null,null,null,null,null,null,{"$f":"IF(M287=\"\",\"\",VLOOKUP(M287,'Country & Delivery'!AB:AC,2,FALSE))","v":""},null,null,null,null,null,null,null,null,null,null,null,{"$f":"IF(U287=\"\",\"\",VLOOKUP(U287,'Country & Delivery'!$N$1:$O$8,2,0))","v":""},"",0,"Luxembourg","LUX","Y",null,null,{"$f":"IFERROR(INDEX('Country & Delivery'!N276:N282,MATCH(BD287,'Country & Delivery'!O276:O282,0),1),\"\")","v":""},null,null,{"$f":"IFERROR(INDEX('Country & Delivery'!A276:A525,MATCH(BG287,'Country & Delivery'!B276:B525,0),1),\"\")","v":""}]
[275,null,null,null,null,null,null,null,null,null,null,null,null,null,null,{"$f":"IF(O288=\"\",\"\",VLOOKUP(O288,Products!A:C,2,FALSE))","v":""},{"$f":"IF(O288=\"\",\"\",VLOOKUP(O288,Products!A:C,3,FALSE))","v":""},null,"",{"$f":"IF(Y288=\"\",\"\",VLOOKUP(Y288,'Country & Delivery'!B:C,2,FALSE))","v":""},null,{"$f":"IF(U288=\"\",\"\",VLOOKUP(U288,'Country & Delivery'!N:O,2,FALSE))","v":""},null,null,{"$f":"IF(L288=\"\",\"\",VLOOKUP(L288,'Country & Delivery'!A:B,2,FALSE))","v":""},null,null,null,null,null,null,null,null,null,null,null,{"$f":"IF(M288=\"\",\"\",VLOOKUP(M288,'Country & Delivery'!AB:AC,2,FALSE))","v":""},null,null,null,null,null,null,null,null,null,null,null,{"$f":"IF(U288=\"\",\"\",VLOOKUP(U288,'Country & Delivery'!$N$1:$O$8,2,0))","v":""},"",0,"LV","LVA","Y",null,null,{"$f":"IFERROR(INDEX('Country & Delivery'!N277:N283,MATCH(BD288,'Country & Delivery'!O277:O283,0),1),\"\")","v":""},null,null,{"$f":"IFERROR(INDEX('Country & Delivery'!A277:A526,MATCH(BG288,'Country & Delivery'!B277:B526,0),1),\"\")","v":""}]
[276,null,null,null,null,null,null,null,null,null,null,null,null,null,null,{"$f":"IF(O289=\"\",\"\",VLOOKUP(O289,Products!A:C,2,FALSE))","v":""},{"$f":"IF(O289=\"\",\"\",VLOOKUP(O289,Products!A:C,3,FALSE))","v":""},null,"",{"$f":"IF(Y289=\"\",\"\",VLOOKUP(Y289,'Country & Delivery'!B:C,2,FALSE))","v":""},null,{"$f":"IF(U289=\"\",\"\",VLOOKUP(U289,'Country & Delivery'!N:O,2,FALSE))","v":""},null,null,{"$f":"IF(L289=\"\",\"\",VLOOKUP(L289,'Country & Delivery'!A:B,2,FALSE))","v":""},null,null,null,null,null,null,null,null,null,null,null,{"$f":"IF(M289=\"\",\"\",VLOOKUP(M289,'Country & Delivery'!AB:AC,2,FALSE))","v":""},null,null,null,null,null,null,null,null,null,null,null,{"$f":"IF(U289=\"\",\"\",VLOOKUP(U289,'Country & Delivery'!$N$1:$O$8,2,0))","v":""},"",0,"LY","LBY","N","dc",null,{"$f":"IFERROR(INDEX('Country & Delivery'!N278:N284,MATCH(BD289,'Country & Delivery'!O278:O284,0),1),\"\")","v":""},null,null,{"$f":"IFERROR(INDEX('Country & Delivery'!A278:A527,MATCH(BG289,'Country & Delivery'!B278:B527,0),1),\"\")","v":""}]
[277,null,null,null,null,null,null,null,null,null,null,null,null,null,null,{"$f":"IF(O290=\"\",\"\",VLOOKUP(O290,Products!A:C,2,FALSE))","v":""},{"$f":"IF(O290=\"\",\"\",VLOOKUP(O290,Products!A:C,3,FALSE))","v":""},null,"",{"$f":"IF(Y290=\"\",\"\",VLOOKUP(Y290,'Country & Delivery'!B:C,2,FALSE))","v":""},null,{"$f":"IF(U290=\"\",\"\",VLOOKUP(U290,'Country & Delivery'!N:O,2,FALSE))","v":""},null,null,{"$f":"IF(L290=\"\",\"\",VLOOKUP(L290,'Country & Delivery'!A:B,2,FALSE))","v":""},null,null,null,null,null,null,null,null,null,null,null,{"$f":"IF(M290=\"\",\"\",VLOOKUP(M290,'Country & Delivery'!AB:AC,2,FALSE))","v":""},null,null,null,null,null,null,null,null,null,null,null,{"$f":"IF(U290=\"\",\"\",VLOOKUP(U290,'Country & Delivery'!$N$1:$O$8,2,0))","v":""},"",0,"MA","MAR","N",null,null,{"$f":"IFERROR(INDEX('Country & Delivery'!N279:N285,MATCH(BD290,'Country & Delivery'!O279:O285,0),1),\"\")","v":""},null,null,{"$f":"IFERROR(INDEX('Country & Delivery'!A279:A528,MATCH(BG290,'Country & Delivery'!B279:B528,0),1),\"\")","v":""}]
[278,null,null,null,null,null,null,null,null,null,null,null,null,null,null,{"$f":"IF(O291=\"\",\"\",VLOOKUP(O291,Products!A:C,2,FALSE))","v":""},{"$f":"IF(O291=\"\",\"\",VLOOKUP(O291,Products!A:C,3,FALSE))","v":""},null,"",{"$f":"IF(Y291=\"\",\"\",VLOOKUP(Y291,'Country & Delivery'!B:C,2,FALSE))","v":""},null,{"$f":"IF(U291=\"\",\"\",VLOOKUP(U291,'Country & Delivery'!N:O,2,FALSE))","v":""},null,null,{"$f":"IF(L291=\"\",\"\",VLOOKUP(L291,'Country & Delivery'!A:B,2,FALSE))","v":""},null,null,null,null,null,null,null,null,null,null,null,{"$f":"IF(M291=\"\",\"\",VLOOKUP(M291,'Country & Delivery'!AB:AC,2,FALSE))","v":""},null,null,null,null,null,null,null,null,null,null,null,{"$f":"IF(U291=\"\",\"\",VLOOKUP(U291,'Country & Delivery'!$N$1:$O$8,2,0))","v":""},"",0,"Macao","MAC","N","dc",null,{"$f":"IFERROR(INDEX('Country & Delivery'!N280:N286,MATCH(BD291,'Country & Delivery'!O280:O286,0),1),\"\")","v":""},null,null,{"$f":"IFERROR(INDEX('Country & Delivery'!A280:A529,MATCH(BG291,'Country & Delivery'!B280:B529,0),1),\"\")","v":""}]
[279,null,null,null,null,null,null,null,null,null,null,null,null,null,null,{"$f":"IF(O292=\"\",\"\",VLOOKUP(O292,Products!A:C,2,FALSE))","v":""},{"$f":"IF(O292=\"\",\"\",VLOOKUP(O292,Products!A:C,3,FALSE))","v":""},null,"",{"$f":"IF(Y292=\"\",\"\",VLOOKUP(Y292,'Country & Delivery'!B:C,2,FALSE))","v":""},null,{"$f":"IF(U292=\"\",\"\",VLOOKUP(U292,'Country & Delivery'!N:O,2,FALSE))","v":""},null,null,{"$f":"IF(L292=\"\",\"\",VLOOKUP(L292,'Country & Delivery'!A:B,2,FALSE))","v":""},null,null,null,null,null,null,null,null,null,null,null,{"$f":"IF(M292=\"\",\"\",VLOOKUP(M292,'Country & Delivery'!AB:AC,2,FALSE))","v":""},null,null,null,null,null,null,null,null,null,null,null,{"$f":"IF(U292=\"\",\"\",VLOOKUP(U292,'Country & Delivery'!$N$1:$O$8,2,0))","v":""},"",0,"Macau","MAC","N",null,null,{"$f":"IFERROR(INDEX('Country & Delivery'!N281:N287,MATCH(BD292,'Country & Delivery'!O281:O287,0),1),\"\")","v":""},null,null,{"$f":"IFERROR(INDEX('Country & Delivery'!A281:A530,MATCH(BG292,'Country & Delivery'!B281:B530,0),1),\"\")","v":""}]
[280,null,null,null,null,null,null,null,null,null,null,null,null,null,null,{"$f":"IF(O293=\"\",\"\",VLOOKUP(O293,Products!A:C,2,FALSE))","v":""},{"$f":"IF(O293=\"\",\"\",VLOOKUP(O293,Products!A:C,3,FALSE))","v":""},null,"",{"$f":"IF(Y293=\"\",\"\",VLOOKUP(Y293,'Country & Delivery'!B:C,2,FALSE))","v":""},null,{"$f":"IF(U293=\"\",\"\",VLOOKUP(U293,'Country & Delivery'!N:O,2,FALSE))","v":""},null,null,{"$f":"IF(L293=\"\",\"\",VLOOKUP(L293,'Country & Delivery'!A:B,2,FALSE))","v":""},null,null,null,null,null,null,null,null,null,null,null,{"$f":"IF(M293=\"\",\"\",VLOOKUP(M293,'Country & Delivery'!AB:AC,2,FALSE))","v":""},null,null,null,null,null,null,null,null,null,null,null,{"$f":"IF(U293=\"\",\"\",VLOOKUP(U293,'Country & Delivery'!$N$1:$O$8,2,0))","v":""},"",0,"Macedonia (the former Yugoslav Republic of)","MKD","N","dc",null,{"$f":"IFERROR(INDEX('Country & Delivery'!N282:N288,MATCH(BD293,'Country & Delivery'!O282:O288,0),1),\"\")","v":""},null,null,{"$f":"IFERROR(INDEX('Country & Delivery'!A282:A531,MATCH(BG293,'Country & Delivery'!B282:B531,0),1),\"\")","v":""}]
[281,null,null,null,null,null,null,null,null,null,null,null,null,null,null,{"$f":"IF(O294=\"\",\"\",VLOOKUP(O294,Products!A:C,2,FALSE))","v":""},{"$f":"IF(O294=\"\",\"\",VLOOKUP(O294,Products!A:C,3,FALSE))","v":""},null,"",{"$f":"IF(Y294=\"\",\"\",VLOOKUP(Y294,'Country & Delivery'!B:C,2,FALSE))","v":""},null,{"$f":"IF(U294=\"\",\"\",VLOOKUP(U294,'Country & Delivery'!N:O,2,FALSE))","v":""},null,null,{"$f":"IF(L294=\"\",\"\",VLOOKUP(L294,'Country & Delivery'!A:B,2,FALSE))","v":""},null,null,null,null,null,null,null,null,null,null,null,{"$f":"IF(M294=\"\",\"\",VLOOKUP(M294,'Country & Delivery'!AB:AC,2,FALSE))","v":""},null,null,null,null,null,null,null,null,null,null,null,{"$f":"IF(U294=\"\",\"\",VLOOKUP(U294,'Country & Delivery'!$N$1:$O$8,2,0))","v":""},"",0,"MACEDONIA, THE FORMER YUGOSLAV REPUBLIC OF","MKD","N","del meth",null,{"$f":"IFERROR(INDEX('Country & Delivery'!N283:N289,MATCH(BD294,'Country & Delivery'!O283:O289,0),1),\"\")","v":""},null,null,{"$f":"IFERROR(INDEX('Country & Delivery'!A283:A532,MATCH(BG294,'Country & Delivery'!B283:B532,0),1),\"\")","v":""}]
[282,null,null,null,null,null,null,null,null,null,null,null,null,null,null,{"$f":"IF(O295=\"\",\"\",VLOOKUP(O295,Products!A:C,2,FALSE))","v":""},{"$f":"IF(O295=\"\",\"\",VLOOKUP(O295,Products!A:C,3,FALSE))","v":""},null,"",{"$f":"IF(Y295=\"\",\"\",VLOOKUP(Y295,'Country & Delivery'!B:C,2,FALSE))","v":""},null,{"$f":"IF(U295=\"\",\"\",VLOOKUP(U295,'Country & Delivery'!N:O,2,FALSE))","v":""},null,null,{"$f":"IF(L295=\"\",\"\",VLOOKUP(L295,'Country & Delivery'!A:B,2,FALSE))","v":""},null,null,null,null,null,null,null,null,null,null,null,{"$f":"IF(M295=\"\",\"\",VLOOKUP(M295,'Country & Delivery'!AB:AC,2,FALSE))","v":""},null,null,null,null,null,null,null,null,null,null,null,{"$f":"IF(U295=\"\",\"\",VLOOKUP(U295,'Country & Delivery'!$N$1:$O$8,2,0))","v":""},"",0,"Madagascar","MDG","N","dc",null,{"$f":"IFERROR(INDEX('Country & Delivery'!N284:N290,MATCH(BD295,'Country & Delivery'!O284:O290,0),1),\"\")","v":""},null,null,{"$f":"IFERROR(INDEX('Country & Delivery'!A284:A533,MATCH(BG295,'Country & Delivery'!B284:B533,0),1),\"\")","v":""}]
[283,null,null,null,null,null,null,null,null,null,null,null,null,null,null,{"$f":"IF(O296=\"\",\"\",VLOOKUP(O296,Products!A:C,2,FALSE))","v":""},{"$f":"IF(O296=\"\",\"\",VLOOKUP(O296,Products!A:C,3,FALSE))","v":""},null,"",{"$f":"IF(Y296=\"\",\"\",VLOOKUP(Y296,'Country & Delivery'!B:C,2,FALSE))","v":""},null,{"$f":"IF(U296=\"\",\"\",VLOOKUP(U296,'Country & Delivery'!N:O,2,FALSE))","v":""},null,null,{"$f":"IF(L296=\"\",\"\",VLOOKUP(L296,'Country & Delivery'!A:B,2,FALSE))","v":""},null,null,null,null,null,null,null,null,null,null,null,{"$f":"IF(M296=\"\",\"\",VLOOKUP(M296,'Country & Delivery'!AB:AC,2,FALSE))","v":""},null,null,null,null,null,null,null,null,null,null,null,{"$f":"IF(U296=\"\",\"\",VLOOKUP(U296,'Country & Delivery'!$N$1:$O$8,2,0))","v":""},"",0,"Madeira","MAD","Y",null,null,{"$f":"IFERROR(INDEX('Country & Delivery'!N285:N291,MATCH(BD296,'Country & Delivery'!O285:O291,0),1),\"\")","v":""},null,null,{"$f":"IFERROR(INDEX('Country & Delivery'!A285:A534,MATCH(BG296,'Country & Delivery'!B285:B534,0),1),\"\")","v":""}]
[284,null,null,null,null,null,null,null,null,null,null,null,null,null,null,{"$f":"IF(O297=\"\",\"\",VLOOKUP(O297,Products!A:C,2,FALSE))","v":""},{"$f":"IF(O297=\"\",\"\",VLOOKUP(O297,Products!A:C,3,FALSE))","v":""},null,"",{"$f":"IF(Y297=\"\",\"\",VLOOKUP(Y297,'Country & Delivery'!B:C,2,FALSE))","v":""},null,{"$f":"IF(U297=\"\",\"\",VLOOKUP(U297,'Country & Delivery'!N:O,2,FALSE))","v":""},null,null,{"$f":"IF(L297=\"\",\"\",VLOOKUP(L297,'Country & Delivery'!A:B,2,FALSE))","v":""},null,null,null,null,null,null,null,null,null,null,null,{"$f":"IF(M297=\"\",\"\",VLOOKUP(M297,'Country & Delivery'!AB:AC,2,FALSE))","v":""},null,null,null,null,null,null,null,null,null,null,null,{"$f":"IF(U297=\"\",\"\",VLOOKUP(U297,'Country & Delivery'!$N$1:$O$8,2,0))","v":""},"",0,"Malawi","MWI","N","dc",null,{"$f":"IFERROR(INDEX('Country & Delivery'!N286:N292,MATCH(BD297,'Country & Delivery'!O286:O292,0),1),\"\")","v":""},null,null,{"$f":"IFERROR(INDEX('Country & Delivery'!A286:A535,MATCH(BG297,'Country & Delivery'!B286:B535,0),1),\"\")","v":""}]
[285,null,null,null,null,null,null,null,null,null,null,null,null,null,null,{"$f":"IF(O298=\"\",\"\",VLOOKUP(O298,Products!A:C,2,FALSE))","v":""},{"$f":"IF(O298=\"\",\"\",VLOOKUP(O298,Products!A:C,3,FALSE))","v":""},null,"",{"$f":"IF(Y298=\"\",\"\",VLOOKUP(Y298,'Country & Delivery'!B:C,2,FALSE))","v":""},null,{"$f":"IF(U298=\"\",\"\",VLOOKUP(U298,'Country & Delivery'!N:O,2,FALSE))","v":""},null,null,{"$f":"IF(L298=\"\",\"\",VLOOKUP(L298,'Country & Delivery'!A:B,2,FALSE))","v":""},null,null,null,null,null,null,null,null,null,null,null,{"$f":"IF(M298=\"\",\"\",VLOOKUP(M298,'Country & Delivery'!AB:AC,2,FALSE))","v":""},null,null,null,null,null,null,null,null,null,null,null,{"$f":"IF(U298=\"\",\"\",VLOOKUP(U298,'Country & Delivery'!$N$1:$O$8,2,0))","v":""},"",0,"Malaysia","MYS","N",null,null,{"$f":"IFERROR(INDEX('Country & Delivery'!N287:N293,MATCH(BD298,'Country & Delivery'!O287:O293,0),1),\"\")","v":""},null,null,{"$f":"IFERROR(INDEX('Country & Delivery'!A287:A536,MATCH(BG298,'Country & Delivery'!B287:B536,0),1),\"\")","v":""}]
[286,null,null,null,null,null,null,null,null,null,null,null,null,null,null,{"$f":"IF(O299=\"\",\"\",VLOOKUP(O299,Products!A:C,2,FALSE))","v":""},{"$f":"IF(O299=\"\",\"\",VLOOKUP(O299,Products!A:C,3,FALSE))","v":""},null,"",{"$f":"IF(Y299=\"\",\"\",VLOOKUP(Y299,'Country & Delivery'!B:C,2,FALSE))","v":""},null,{"$f":"IF(U299=\"\",\"\",VLOOKUP(U299,'Country & Delivery'!N:O,2,FALSE))","v":""},null,null,{"$f":"IF(L299=\"\",\"\",VLOOKUP(L299,'Country & Delivery'!A:B,2,FALSE))","v":""},null,null,null,null,null,null,null,null,null,null,null,{"$f":"IF(M299=\"\",\"\",VLOOKUP(M299,'Country & Delivery'!AB:AC,2,FALSE))","v":""},null,null,null,null,null,null,null,null,null,null,null,{"$f":"IF(U299=\"\",\"\",VLOOKUP(U299,'Country & Delivery'!$N$1:$O$8,2,0))","v":""},"",0,"Maldives","MDV","N",null,null,{"$f":"IFERROR(INDEX('Country & Delivery'!N288:N294,MATCH(BD299,'Country & Delivery'!O288:O294,0),1),\"\")","v":""},null,null,{"$f":"IFERROR(INDEX('Country & Delivery'!A288:A537,MATCH(BG299,'Country & Delivery'!B288:B537,0),1),\"\")","v":""}]
[287,null,null,null,null,null,null,null,null,null,null,null,null,null,null,{"$f":"IF(O300=\"\",\"\",VLOOKUP(O300,Products!A:C,2,FALSE))","v":""},{"$f":"IF(O300=\"\",\"\",VLOOKUP(O300,Products!A:C,3,FALSE))","v":""},null,"",{"$f":"IF(Y300=\"\",\"\",VLOOKUP(Y300,'Country & Delivery'!B:C,2,FALSE))","v":""},null,{"$f":"IF(U300=\"\",\"\",VLOOKUP(U300,'Country & Delivery'!N:O,2,FALSE))","v":""},null,null,{"$f":"IF(L300=\"\",\"\",VLOOKUP(L300,'Country & Delivery'!A:B,2,FALSE))","v":""},null,null,null,null,null,null,null,null,null,null,null,{"$f":"IF(M300=\"\",\"\",VLOOKUP(M300,'Country & Delivery'!AB:AC,2,FALSE))","v":""},null,null,null,null,null,null,null,null,null,null,null,{"$f":"IF(U300=\"\",\"\",VLOOKUP(U300,'Country & Delivery'!$N$1:$O$8,2,0))","v":""},"",0,"Mali","MLI","N","dc",null,{"$f":"IFERROR(INDEX('Country & Delivery'!N289:N295,MATCH(BD300,'Country & Delivery'!O289:O295,0),1),\"\")","v":""},null,null,{"$f":"IFERROR(INDEX('Country & Delivery'!A289:A538,MATCH(BG300,'Country & Delivery'!B289:B538,0),1),\"\")","v":""}]
[288,null,null,null,null,null,null,null,null,null,null,null,null,null,null,{"$f":"IF(O301=\"\",\"\",VLOOKUP(O301,Products!A:C,2,FALSE))","v":""},{"$f":"IF(O301=\"\",\"\",VLOOKUP(O301,Products!A:C,3,FALSE))","v":""},null,"",{"$f":"IF(Y301=\"\",\"\",VLOOKUP(Y301,'Country & Delivery'!B:C,2,FALSE))","v":""},null,{"$f":"IF(U301=\"\",\"\",VLOOKUP(U301,'Country & Delivery'!N:O,2,FALSE))","v":""},null,null,{"$f":"IF(L301=\"\",\"\",VLOOKUP(L301,'Country & Delivery'!A:B,2,FALSE))","v":""},null,null,null,null,null,null,null,null,null,null,null,{"$f":"IF(M301=\"\",\"\",VLOOKUP(M301,'Country & Delivery'!AB:AC,2,FALSE))","v":""},null,null,null,null,null,null,null,null,null,null,null,{"$f":"IF(U301=\"\",\"\",VLOOKUP(U301,'Country & Delivery'!$N$1:$O$8,2,0))","v":""},"",0,"Malta","MLT","Y",null,null,{"$f":"IFERROR(INDEX('Country & Delivery'!N290:N296,MATCH(BD301,'Country & Delivery'!O290:O296,0),1),\"\")","v":""},null,null,{"$f":"IFERROR(INDEX('Country & Delivery'!A290:A539,MATCH(BG301,'Country & Delivery'!B290:B539,0),1),\"\")","v":""}]
[289,null,null,null,null,null,null,null,null,null,null,null,null,null,null,{"$f":"IF(O302=\"\",\"\",VLOOKUP(O302,Products!A:C,2,FALSE))","v":""},{"$f":"IF(O302=\"\",\"\",VLOOKUP(O302,Products!A:C,3,FALSE))","v":""},null,"",{"$f":"IF(Y302=\"\",\"\",VLOOKUP(Y302,'Country & Delivery'!B:C,2,FALSE))","v":""},null,{"$f":"IF(U302=\"\",\"\",VLOOKUP(U302,'Country & Delivery'!N:O,2,FALSE))","v":""},null,null,{"$f":"IF(L302=\"\",\"\",VLOOKUP(L302,'Country & Delivery'!A:B,2,FALSE))","v":""},null,null,null,null,null,null,null,null,null,null,null,{"$f":"IF(M302=\"\",\"\",VLOOKUP(M302,'Country & Delivery'!AB:AC,2,FALSE))","v":""},null,null,null,null,null,null,null,null,null,null,null,{"$f":"IF(U302=\"\",\"\",VLOOKUP(U302,'Country & Delivery'!$N$1:$O$8,2,0))","v":""},"",0,"Marshall Islands","MHL","N","dc",null,{"$f":"IFERROR(INDEX('Country & Delivery'!N291:N297,MATCH(BD302,'Country & Delivery'!O291:O297,0),1),\"\")","v":""},null,null,{"$f":"IFERROR(INDEX('Country & Delivery'!A291:A540,MATCH(BG302,'Country & Delivery'!B291:B540,0),1),\"\")","v":""}]
[290,null,null,null,null,null,null,null,null,null,null,null,null,null,null,{"$f":"IF(O303=\"\",\"\",VLOOKUP(O303,Products!A:C,2,FALSE))","v":""},{"$f":"IF(O303=\"\",\"\",VLOOKUP(O303,Products!A:C,3,FALSE))","v":""},null,"",{"$f":"IF(Y303=\"\",\"\",VLOOKUP(Y303,'Country & Delivery'!B:C,2,FALSE))","v":""},null,{"$f":"IF(U303=\"\",\"\",VLOOKUP(U303,'Country & Delivery'!N:O,2,FALSE))","v":""},null,null,{"$f":"IF(L303=\"\",\"\",VLOOKUP(L303,'Country & Delivery'!A:B,2,FALSE))","v":""},null,null,null,null,null,null,null,null,null,null,null,{"$f":"IF(M303=\"\",\"\",VLOOKUP(M303,'Country & Delivery'!AB:AC,2,FALSE))","v":""},null,null,null,null,null,null,null,null,null,null,null,{"$f":"IF(U303=\"\",\"\",VLOOKUP(U303,'Country & Delivery'!$N$1:$O$8,2,0))","v":""},"",0,"Martinique","MTQ","Y",null,null,{"$f":"IFERROR(INDEX('Country & Delivery'!N292:N298,MATCH(BD303,'Country & Delivery'!O292:O298,0),1),\"\")","v":""},null,null,{"$f":"IFERROR(INDEX('Country & Delivery'!A292:A541,MATCH(BG303,'Country & Delivery'!B292:B541,0),1),\"\")","v":""}]
[291,null,null,null,null,null,null,null,null,null,null,null,null,null,null,{"$f":"IF(O304=\"\",\"\",VLOOKUP(O304,Products!A:C,2,FALSE))","v":""},{"$f":"IF(O304=\"\",\"\",VLOOKUP(O304,Products!A:C,3,FALSE))","v":""},null,"",{"$f":"IF(Y304=\"\",\"\",VLOOKUP(Y304,'Country & Delivery'!B:C,2,FALSE))","v":""},null,{"$f":"IF(U304=\"\",\"\",VLOOKUP(U304,'Country & Delivery'!N:O,2,FALSE))","v":""},null,null,{"$f":"IF(L304=\"\",\"\",VLOOKUP(L304,'Country & Delivery'!A:B,2,FALSE))","v":""},null,null,null,null,null,null,null,null,null,null,null,{"$f":"IF(M304=\"\",\"\",VLOOKUP(M304,'Country & Delivery'!AB:AC,2,FALSE))","v":""},null,null,null,null,null,null,null,null,null,null,null,{"$f":"IF(U304=\"\",\"\",VLOOKUP(U304,'Country & Delivery'!$N$1:$O$8,2,0))","v":""},"",0,"Mauritania","MRT","N","dc",null,{"$f":"IFERROR(INDEX('Country & Delivery'!N293:N299,MATCH(BD304,'Country & Delivery'!O293:O299,0),1),\"\")","v":""},null,null,{"$f":"IFERROR(INDEX('Country & Delivery'!A293:A542,MATCH(BG304,'Country & Delivery'!B293:B542,0),1),\"\")","v":""}]
[292,null,null,null,null,null,null,null,null,null,null,null,null,null,null,{"$f":"IF(O305=\"\",\"\",VLOOKUP(O305,Products!A:C,2,FALSE))","v":""},{"$f":"IF(O305=\"\",\"\",VLOOKUP(O305,Products!A:C,3,FALSE))","v":""},null,"",{"$f":"IF(Y305=\"\",\"\",VLOOKUP(Y305,'Country & Delivery'!B:C,2,FALSE))","v":""},null,{"$f":"IF(U305=\"\",\"\",VLOOKUP(U305,'Country & Delivery'!N:O,2,FALSE))","v":""},null,null,{"$f":"IF(L305=\"\",\"\",VLOOKUP(L305,'Country & Delivery'!A:B,2,FALSE))","v":""},null,null,null,null,null,null,null,null,null,null,null,{"$f":"IF(M305=\"\",\"\",VLOOKUP(M305,'Country & Delivery'!AB:AC,2,FALSE))","v":""},null,null,null,null,null,null,null,null,null,null,null,{"$f":"IF(U305=\"\",\"\",VLOOKUP(U305,'Country & Delivery'!$N$1:$O$8,2,0))","v":""},"",0,"Mauritius","MUS","N","dc",null,{"$f":"IFERROR(INDEX('Country & Delivery'!N294:N300,MATCH(BD305,'Country & Delivery'!O294:O300,0),1),\"\")","v":""},null,null,{"$f":"IFERROR(INDEX('Country & Delivery'!A294:A543,MATCH(BG305,'Country & Delivery'!B294:B543,0),1),\"\")","v":""}]
[293,null,null,null,null,null,null,null,null,null,null,null,null,null,null,{"$f":"IF(O306=\"\",\"\",VLOOKUP(O306,Products!A:C,2,FALSE))","v":""},{"$f":"IF(O306=\"\",\"\",VLOOKUP(O306,Products!A:C,3,FALSE))","v":""},null,"",{"$f":"IF(Y306=\"\",\"\",VLOOKUP(Y306,'Country & Delivery'!B:C,2,FALSE))","v":""},null,{"$f":"IF(U306=\"\",\"\",VLOOKUP(U306,'Country & Delivery'!N:O,2,FALSE))","v":""},null,null,{"$f":"IF(L306=\"\",\"\",VLOOKUP(L306,'Country & Delivery'!A:B,2,FALSE))","v":""},null,null,null,null,null,null,null,null,null,null,null,{"$f":"IF(M306=\"\",\"\",VLOOKUP(M306,'Country & Delivery'!AB:AC,2,FALSE))","v":""},null,null,null,null,null,null,null,null,null,null,null,{"$f":"IF(U306=\"\",\"\",VLOOKUP(U306,'Country & Delivery'!$N$1:$O$8,2,0))","v":""},"",0,"Mayotte","MYT","Y",null,null,{"$f":"IFERROR(INDEX('Country & Delivery'!N295:N301,MATCH(BD306,'Country & Delivery'!O295:O301,0),1),\"\")","v":""},null,null,{"$f":"IFERROR(INDEX('Country & Delivery'!A295:A544,MATCH(BG306,'Country & Delivery'!B295:B544,0),1),\"\")","v":""}]
[294,null,null,null,null,null,null,null,null,null,null,null,null,null,null,{"$f":"IF(O307=\"\",\"\",VLOOKUP(O307,Products!A:C,2,FALSE))","v":""},{"$f":"IF(O307=\"\",\"\",VLOOKUP(O307,Products!A:C,3,FALSE))","v":""},null,"",{"$f":"IF(Y307=\"\",\"\",VLOOKUP(Y307,'Country & Delivery'!B:C,2,FALSE))","v":""},null,{"$f":"IF(U307=\"\",\"\",VLOOKUP(U307,'Country & Delivery'!N:O,2,FALSE))","v":""},null,null,{"$f":"IF(L307=\"\",\"\",VLOOKUP(L307,'Country & Delivery'!A:B,2,FALSE))","v":""},null,null,null,null,null,null,null,null,null,null,null,{"$f":"IF(M307=\"\",\"\",VLOOKUP(M307,'Country & Delivery'!AB:AC,2,FALSE))","v":""},null,null,null,null,null,null,null,null,null,null,null,{"$f":"IF(U307=\"\",\"\",VLOOKUP(U307,'Country & Delivery'!$N$1:$O$8,2,0))","v":""},"",0,"MC","MCO","Y",null,null,{"$f":"IFERROR(INDEX('Country & Delivery'!N296:N302,MATCH(BD307,'Country & Delivery'!O296:O302,0),1),\"\")","v":""},null,null,{"$f":"IFERROR(INDEX('Country & Delivery'!A296:A545,MATCH(BG307,'Country & Delivery'!B296:B545,0),1),\"\")","v":""}]
[295,null,null,null,null,null,null,null,null,null,null,null,null,null,null,{"$f":"IF(O308=\"\",\"\",VLOOKUP(O308,Products!A:C,2,FALSE))","v":""},{"$f":"IF(O308=\"\",\"\",VLOOKUP(O308,Products!A:C,3,FALSE))","v":""},null,{"$f":"IFERROR((Q308*R308),\"\")","v":""},{"$f":"IF(Y308=\"\",\"\",VLOOKUP(Y308,'Country & Delivery'!B:C,2,FALSE))","v":""},null,{"$f":"IF(U308=\"\",\"\",VLOOKUP(U308,'Country & Delivery'!N:O,2,FALSE))","v":""},null,null,{"$f":"IF(L308=\"\",\"\",VLOOKUP(L308,'Country & Delivery'!A:B,2,FALSE))","v":""},null,null,null,null,null,null,null,null,null,null,null,{"$f":"IF(M308=\"\",\"\",VLOOKUP(M308,'Country & Delivery'!AB:AC,2,FALSE))","v":""},null,null,null,null,null,null,null,null,null,null,null,{"$f":"IF(U308=\"\",\"\",VLOOKUP(U308,'Country & Delivery'!$N$1:$O$8,2,0))","v":""},"",0,"MD","MDA","N","dc",null,{"$f":"IFERROR(INDEX('Country & Delivery'!N297:N303,MATCH(BD308,'Country & Delivery'!O297:O303,0),1),\"\")","v":""},null,null,{"$f":"IFERROR(INDEX('Country & Delivery'!A297:A546,MATCH(BG308,'Country & Delivery'!B297:B546,0),1),\"\")","v":""}]
[296,null,null,null,null,null,null,null,null,null,null,null,null,null,null,{"$f":"IF(O309=\"\",\"\",VLOOKUP(O309,Products!A:C,2,FALSE))","v":""},{"$f":"IF(O309=\"\",\"\",VLOOKUP(O309,Products!A:C,3,FALSE))","v":""},null,"",{"$f":"IF(Y309=\"\",\"\",VLOOKUP(Y309,'Country & Delivery'!B:C,2,FALSE))","v":""},null,{"$f":"IF(U309=\"\",\"\",VLOOKUP(U309,'Country & Delivery'!N:O,2,FALSE))","v":""},null,null,{"$f":"IF(L309=\"\",\"\",VLOOKUP(L309,'Country & Delivery'!A:B,2,FALSE))","v":""},null,null,null,null,null,null,null,null,null,null,null,{"$f":"IF(M309=\"\",\"\",VLOOKUP(M309,'Country & Delivery'!AB:AC,2,FALSE))","v":""},null,null,null,null,null,null,null,null,null,null,null,{"$f":"IF(U309=\"\",\"\",VLOOKUP(U309,'Country & Delivery'!$N$1:$O$8,2,0))","v":""},"",0,"ME","MNE","N","dc",null,{"$f":"IFERROR(INDEX('Country & Delivery'!N298:N304,MATCH(BD309,'Country & Delivery'!O298:O304,0),1),\"\")","v":""},null,null,{"$f":"IFERROR(INDEX('Country & Delivery'!A298:A547,MATCH(BG309,'Country & Delivery'!B298:B547,0),1),\"\")","v":""}]
[297,null,null,null,null,null,null,null,null,null,null,null,null,null,null,{"$f":"IF(O310=\"\",\"\",VLOOKUP(O310,Products!A:C,2,FALSE))","v":""},{"$f":"IF(O310=\"\",\"\",VLOOKUP(O310,Products!A:C,3,FALSE))","v":""},null,"",{"$f":"IF(Y310=\"\",\"\",VLOOKUP(Y310,'Country & Delivery'!B:C,2,FALSE))","v":""},null,{"$f":"IF(U310=\"\",\"\",VLOOKUP(U310,'Country & Delivery'!N:O,2,FALSE))","v":""},null,null,{"$f":"IF(L310=\"\",\"\",VLOOKUP(L310,'Country & Delivery'!A:B,2,FALSE))","v":""},null,null,null,null,null,null,null,null,null,null,null,{"$f":"IF(M310=\"\",\"\",VLOOKUP(M310,'Country & Delivery'!AB:AC,2,FALSE))","v":""},null,null,null,null,null,null,null,null,null,null,null,{"$f":"IF(U310=\"\",\"\",VLOOKUP(U310,'Country & Delivery'!$N$1:$O$8,2,0))","v":""},"",0,"Mexico","MEX","N",null,null,{"$f":"IFERROR(INDEX('Country & Delivery'!N299:N305,MATCH(BD310,'Country & Delivery'!O299:O305,0),1),\"\")","v":""},null,null,{"$f":"IFERROR(INDEX('Country & Delivery'!A299:A548,MATCH(BG310,'Country & Delivery'!B299:B548,0),1),\"\")","v":""}]
[298,null,null,null,null,null,null,null,null,null,null,null,null,null,null,{"$f":"IF(O311=\"\",\"\",VLOOKUP(O311,Products!A:C,2,FALSE))","v":""},{"$f":"IF(O311=\"\",\"\",VLOOKUP(O311,Products!A:C,3,FALSE))","v":""},null,"",{"$f":"IF(Y311=\"\",\"\",VLOOKUP(Y311,'Country & Delivery'!B:C,2,FALSE))","v":""},null,{"$f":"IF(U311=\"\",\"\",VLOOKUP(U311,'Country & Delivery'!N:O,2,FALSE))","v":""},null,null,{"$f":"IF(L311=\"\",\"\",VLOOKUP(L311,'Country & Delivery'!A:B,2,FALSE))","v":""},null,null,null,null,null,null,null,null,null,null,null,{"$f":"IF(M311=\"\",\"\",VLOOKUP(M311,'Country & Delivery'!AB:AC,2,FALSE))","v":""},null,null,null,null,null,null,null,null,null,null,null,{"$f":"IF(U311=\"\",\"\",VLOOKUP(U311,'Country & Delivery'!$N$1:$O$8,2,0))","v":""},"",0,"MF","MAF","Y",null,null,{"$f":"IFERROR(INDEX('Country & Delivery'!N300:N306,MATCH(BD311,'Country & Delivery'!O300:O306,0),1),\"\")","v":""},null,null,{"$f":"IFERROR(INDEX('Country & Delivery'!A300:A549,MATCH(BG311,'Country & Delivery'!B300:B549,0),1),\"\")","v":""}]
[299,null,null,null,null,null,null,null,null,null,null,null,null,null,null,{"$f":"IF(O312=\"\",\"\",VLOOKUP(O312,Products!A:C,2,FALSE))","v":""},{"$f":"IF(O312=\"\",\"\",VLOOKUP(O312,Products!A:C,3,FALSE))","v":""},null,"",{"$f":"IF(Y312=\"\",\"\",VLOOKUP(Y312,'Country & Delivery'!B:C,2,FALSE))","v":""},null,{"$f":"IF(U312=\"\",\"\",VLOOKUP(U312,'Country & Delivery'!N:O,2,FALSE))","v":""},null,null,{"$f":"IF(L312=\"\",\"\",VLOOKUP(L312,'Country & Delivery'!A:B,2,FALSE))","v":""},null,null,null,null,null,null,null,null,null,null,null,{"$f":"IF(M312=\"\",\"\",VLOOKUP(M312,'Country & Delivery'!AB:AC,2,FALSE))","v":""},null,null,null,null,null,null,null,null,null,null,null,{"$f":"IF(U312=\"\",\"\",VLOOKUP(U312,'Country & Delivery'!$N$1:$O$8,2,0))","v":""},"",0,"MG","MDG","N","dc",null,{"$f":"IFERROR(INDEX('Country & Delivery'!N301:N307,MATCH(BD312,'Country & Delivery'!O301:O307,0),1),\"\")","v":""},null,null,{"$f":"IFERROR(INDEX('Country & Delivery'!A301:A550,MATCH(BG312,'Country & Delivery'!B301:B550,0),1),\"\")","v":""}]
[300,null,null,null,null,null,null,null,null,null,null,null,null,null,null,{"$f":"IF(O313=\"\",\"\",VLOOKUP(O313,Products!A:C,2,FALSE))","v":""},{"$f":"IF(O313=\"\",\"\",VLOOKUP(O313,Products!A:C,3,FALSE))","v":""},null,"",{"$f":"IF(Y313=\"\",\"\",VLOOKUP(Y313,'Country & Delivery'!B:C,2,FALSE))","v":""},null,{"$f":"IF(U313=\"\",\"\",VLOOKUP(U313,'Country & Delivery'!N:O,2,FALSE))","v":""},null,null,{"$f":"IF(L313=\"\",\"\",VLOOKUP(L313,'Country & Delivery'!A:B,2,FALSE))","v":""},null,null,null,null,null,null,null,null,null,null,null,{"$f":"IF(M313=\"\",\"\",VLOOKUP(M313,'Country & Delivery'!AB:AC,2,FALSE))","v":""},null,null,null,null,null,null,null,null,null,null,null,{"$f":"IF(U313=\"\",\"\",VLOOKUP(U313,'Country & Delivery'!$N$1:$O$8,2,0))","v":""},"",0,"MH","MHL","N","dc",null,{"$f":"IFERROR(INDEX('Country & Delivery'!N302:N308,MATCH(BD313,'Country & Delivery'!O302:O308,0),1),\"\")","v":""},null,null,{"$f":"IFERROR(INDEX('Country & Delivery'!A302:A551,MATCH(BG313,'Country & Delivery'!B302:B551,0),1),\"\")","v":""}]
[301,null,null,null,null,null,null,null,null,null,null,null,null,null,null,{"$f":"IF(O314=\"\",\"\",VLOOKUP(O314,Products!A:C,2,FALSE))","v":""},{"$f":"IF(O314=\"\",\"\",VLOOKUP(O314,Products!A:C,3,FALSE))","v":""},null,"",{"$f":"IF(Y314=\"\",\"\",VLOOKUP(Y314,'Country & Delivery'!B:C,2,FALSE))","v":""},null,{"$f":"IF(U314=\"\",\"\",VLOOKUP(U314,'Country & Delivery'!N:O,2,FALSE))","v":""},null,null,{"$f":"IF(L314=\"\",\"\",VLOOKUP(L314,'Country & Delivery'!A:B,2,FALSE))","v":""},null,null,null,null,null,null,null,null,null,null,null,{"$f":"IF(M314=\"\",\"\",VLOOKUP(M314,'Country & Delivery'!AB:AC,2,FALSE))","v":""},null,null,null,null,null,null,null,null,null,null,null,{"$f":"IF(U314=\"\",\"\",VLOOKUP(U314,'Country & Delivery'!$N$1:$O$8,2,0))","v":""},"",0,"Micronesia (Federated States of)","FSM","N","dc",null,{"$f":"IFERROR(INDEX('Country & Delivery'!N303:N309,MATCH(BD314,'Country & Delivery'!O303:O309,0),1),\"\")","v":""},null,null,{"$f":"IFERROR(INDEX('Country & Delivery'!A303:A552,MATCH(BG314,'Country & Delivery'!B303:B552,0),1),\"\")","v":""}]
[302,null,null,null,null,null,null,null,null,null,null,null,null,null,null,{"$f":"IF(O315=\"\",\"\",VLOOKUP(O315,Products!A:C,2,FALSE))","v":""},{"$f":"IF(O315=\"\",\"\",VLOOKUP(O315,Products!A:C,3,FALSE))","v":""},null,"",{"$f":"IF(Y315=\"\",\"\",VLOOKUP(Y315,'Country & Delivery'!B:C,2,FALSE))","v":""},null,{"$f":"IF(U315=\"\",\"\",VLOOKUP(U315,'Country & Delivery'!N:O,2,FALSE))","v":""},null,null,{"$f":"IF(L315=\"\",\"\",VLOOKUP(L315,'Country & Delivery'!A:B,2,FALSE))","v":""},null,null,null,null,null,null,null,null,null,null,null,{"$f":"IF(M315=\"\",\"\",VLOOKUP(M315,'Country & Delivery'!AB:AC,2,FALSE))","v":""},null,null,null,null,null,null,null,null,null,null,null,{"$f":"IF(U315=\"\",\"\",VLOOKUP(U315,'Country & Delivery'!$N$1:$O$8,2,0))","v":""},"",0,"MK","MKD","N","dc",null,{"$f":"IFERROR(INDEX('Country & Delivery'!N304:N310,MATCH(BD315,'Country & Delivery'!O304:O310,0),1),\"\")","v":""},null,null,{"$f":"IFERROR(INDEX('Country & Delivery'!A304:A553,MATCH(BG315,'Country & Delivery'!B304:B553,0),1),\"\")","v":""}]
[303,null,null,null,null,null,null,null,null,null,null,null,null,null,null,{"$f":"IF(O316=\"\",\"\",VLOOKUP(O316,Products!A:C,2,FALSE))","v":""},{"$f":"IF(O316=\"\",\"\",VLOOKUP(O316,Products!A:C,3,FALSE))","v":""},null,"",{"$f":"IF(Y316=\"\",\"\",VLOOKUP(Y316,'Country & Delivery'!B:C,2,FALSE))","v":""},null,{"$f":"IF(U316=\"\",\"\",VLOOKUP(U316,'Country & Delivery'!N:O,2,FALSE))","v":""},null,null,{"$f":"IF(L316=\"\",\"\",VLOOKUP(L316,'Country & Delivery'!A:B,2,FALSE))","v":""},null,null,null,null,null,null,null,null,null,null,null,{"$f":"IF(M316=\"\",\"\",VLOOKUP(M316,'Country & Delivery'!AB:AC,2,FALSE))","v":""},null,null,null,null,null,null,null,null,null,null,null,{"$f":"IF(U316=\"\",\"\",VLOOKUP(U316,'Country & Delivery'!$N$1:$O$8,2,0))","v":""},"",0,"ML","MLI","N","dc",null,{"$f":"IFERROR(INDEX('Country & Delivery'!N305:N311,MATCH(BD316,'Country & Delivery'!O305:O311,0),1),\"\")","v":""},null,null,{"$f":"IFERROR(INDEX('Country & Delivery'!A305:A554,MATCH(BG316,'Country & Delivery'!B305:B554,0),1),\"\")","v":""}]
[304,null,null,null,null,null,null,null,null,null,null,null,null,null,null,{"$f":"IF(O317=\"\",\"\",VLOOKUP(O317,Products!A:C,2,FALSE))","v":""},{"$f":"IF(O317=\"\",\"\",VLOOKUP(O317,Products!A:C,3,FALSE))","v":""},null,"",{"$f":"IF(Y317=\"\",\"\",VLOOKUP(Y317,'Country & Delivery'!B:C,2,FALSE))","v":""},null,{"$f":"IF(U317=\"\",\"\",VLOOKUP(U317,'Country & Delivery'!N:O,2,FALSE))","v":""},null,null,{"$f":"IF(L317=\"\",\"\",VLOOKUP(L317,'Country & Delivery'!A:B,2,FALSE))","v":""},null,null,null,null,null,null,null,null,null,null,null,{"$f":"IF(M317=\"\",\"\",VLOOKUP(M317,'Country & Delivery'!AB:AC,2,FALSE))","v":""},null,null,null,null,null,null,null,null,null,null,null,{"$f":"IF(U317=\"\",\"\",VLOOKUP(U317,'Country & Delivery'!$N$1:$O$8,2,0))","v":""},"",0,"MM","MMR","N",null,null,{"$f":"IFERROR(INDEX('Country & Delivery'!N306:N312,MATCH(BD317,'Country & Delivery'!O306:O312,0),1),\"\")","v":""},null,null,{"$f":"IFERROR(INDEX('Country & Delivery'!A306:A555,MATCH(BG317,'Country & Delivery'!B306:B555,0),1),\"\")","v":""}]
[305,null,null,null,null,null,null,null,null,null,null,null,null,null,null,{"$f":"IF(O318=\"\",\"\",VLOOKUP(O318,Products!A:C,2,FALSE))","v":""},{"$f":"IF(O318=\"\",\"\",VLOOKUP(O318,Products!A:C,3,FALSE))","v":""},null,"",{"$f":"IF(Y318=\"\",\"\",VLOOKUP(Y318,'Country & Delivery'!B:C,2,FALSE))","v":""},null,{"$f":"IF(U318=\"\",\"\",VLOOKUP(U318,'Country & Delivery'!N:O,2,FALSE))","v":""},null,null,{"$f":"IF(L318=\"\",\"\",VLOOKUP(L318,'Country & Delivery'!A:B,2,FALSE))","v":""},null,null,null,null,null,null,null,null,null,null,null,{"$f":"IF(M318=\"\",\"\",VLOOKUP(M318,'Country & Delivery'!AB:AC,2,FALSE))","v":""},null,null,null,null,null,null,null,null,null,null,null,{"$f":"IF(U318=\"\",\"\",VLOOKUP(U318,'Country & Delivery'!$N$1:$O$8,2,0))","v":""},"",0,"MN","MNG","N","dc",null,{"$f":"IFERROR(INDEX('Country & Delivery'!N307:N313,MATCH(BD318,'Country & Delivery'!O307:O313,0),1),\"\")","v":""},null,null,{"$f":"IFERROR(INDEX('Country & Delivery'!A307:A556,MATCH(BG318,'Country & Delivery'!B307:B556,0),1),\"\")","v":""}]
[306,null,null,null,null,null,null,null,null,null,null,null,null,null,null,{"$f":"IF(O319=\"\",\"\",VLOOKUP(O319,Products!A:C,2,FALSE))","v":""},{"$f":"IF(O319=\"\",\"\",VLOOKUP(O319,Products!A:C,3,FALSE))","v":""},null,"",{"$f":"IF(Y319=\"\",\"\",VLOOKUP(Y319,'Country & Delivery'!B:C,2,FALSE))","v":""},null,{"$f":"IF(U319=\"\",\"\",VLOOKUP(U319,'Country & Delivery'!N:O,2,FALSE))","v":""},null,null,{"$f":"IF(L319=\"\",\"\",VLOOKUP(L319,'Country & Delivery'!A:B,2,FALSE))","v":""},null,null,null,null,null,null,null,null,null,null,null,{"$f":"IF(M319=\"\",\"\",VLOOKUP(M319,'Country & Delivery'!AB:AC,2,FALSE))","v":""},null,null,null,null,null,null,null,null,null,null,null,{"$f":"IF(U319=\"\",\"\",VLOOKUP(U319,'Country & Delivery'!$N$1:$O$8,2,0))","v":""},"",0,"MO","MAC","N",null,null,{"$f":"IFERROR(INDEX('Country & Delivery'!N308:N314,MATCH(BD319,'Country & Delivery'!O308:O314,0),1),\"\")","v":""},null,null,{"$f":"IFERROR(INDEX('Country & Delivery'!A308:A557,MATCH(BG319,'Country & Delivery'!B308:B557,0),1),\"\")","v":""}]
[307,null,null,null,null,null,null,null,null,null,null,null,null,null,null,{"$f":"IF(O320=\"\",\"\",VLOOKUP(O320,Products!A:C,2,FALSE))","v":""},{"$f":"IF(O320=\"\",\"\",VLOOKUP(O320,Products!A:C,3,FALSE))","v":""},null,"",{"$f":"IF(Y320=\"\",\"\",VLOOKUP(Y320,'Country & Delivery'!B:C,2,FALSE))","v":""},null,{"$f":"IF(U320=\"\",\"\",VLOOKUP(U320,'Country & Delivery'!N:O,2,FALSE))","v":""},null,null,{"$f":"IF(L320=\"\",\"\",VLOOKUP(L320,'Country & Delivery'!A:B,2,FALSE))","v":""},null,null,null,null,null,null,null,null,null,null,null,{"$f":"IF(M320=\"\",\"\",VLOOKUP(M320,'Country & Delivery'!AB:AC,2,FALSE))","v":""},null,null,null,null,null,null,null,null,null,null,null,{"$f":"IF(U320=\"\",\"\",VLOOKUP(U320,'Country & Delivery'!$N$1:$O$8,2,0))","v":""},"",0,"MOLDOVA","MDA","N","del meth",null,{"$f":"IFERROR(INDEX('Country & Delivery'!N309:N315,MATCH(BD320,'Country & Delivery'!O309:O315,0),1),\"\")","v":""},null,null,{"$f":"IFERROR(INDEX('Country & Delivery'!A309:A558,MATCH(BG320,'Country & Delivery'!B309:B558,0),1),\"\")","v":""}]
[308,null,null,null,null,null,null,null,null,null,null,null,null,null,null,{"$f":"IF(O321=\"\",\"\",VLOOKUP(O321,Products!A:C,2,FALSE))","v":""},{"$f":"IF(O321=\"\",\"\",VLOOKUP(O321,Products!A:C,3,FALSE))","v":""},null,"",{"$f":"IF(Y321=\"\",\"\",VLOOKUP(Y321,'Country & Delivery'!B:C,2,FALSE))","v":""},null,{"$f":"IF(U321=\"\",\"\",VLOOKUP(U321,'Country & Delivery'!N:O,2,FALSE))","v":""},null,null,{"$f":"IF(L321=\"\",\"\",VLOOKUP(L321,'Country & Delivery'!A:B,2,FALSE))","v":""},null,null,null,null,null,null,null,null,null,null,null,{"$f":"IF(M321=\"\",\"\",VLOOKUP(M321,'Country & Delivery'!AB:AC,2,FALSE))","v":""},null,null,null,null,null,null,null,null,null,null,null,{"$f":"IF(U321=\"\",\"\",VLOOKUP(U321,'Country & Delivery'!$N$1:$O$8,2,0))","v":""},"",0,"Moldova (Republic of)","MDA","N","dc",null,{"$f":"IFERROR(INDEX('Country & Delivery'!N310:N316,MATCH(BD321,'Country & Delivery'!O310:O316,0),1),\"\")","v":""},null,null,{"$f":"IFERROR(INDEX('Country & Delivery'!A310:A559,MATCH(BG321,'Country & Delivery'!B310:B559,0),1),\"\")","v":""}]
[309,null,null,null,null,null,null,null,null,null,null,null,null,null,null,{"$f":"IF(O322=\"\",\"\",VLOOKUP(O322,Products!A:C,2,FALSE))","v":""},{"$f":"IF(O322=\"\",\"\",VLOOKUP(O322,Products!A:C,3,FALSE))","v":""},null,"",{"$f":"IF(Y322=\"\",\"\",VLOOKUP(Y322,'Country & Delivery'!B:C,2,FALSE))","v":""},null,{"$f":"IF(U322=\"\",\"\",VLOOKUP(U322,'Country & Delivery'!N:O,2,FALSE))","v":""},null,null,{"$f":"IF(L322=\"\",\"\",VLOOKUP(L322,'Country & Delivery'!A:B,2,FALSE))","v":""},null,null,null,null,null,null,null,null,null,null,null,{"$f":"IF(M322=\"\",\"\",VLOOKUP(M322,'Country & Delivery'!AB:AC,2,FALSE))","v":""},null,null,null,null,null,null,null,null,null,null,null,{"$f":"IF(U322=\"\",\"\",VLOOKUP(U322,'Country & Delivery'!$N$1:$O$8,2,0))","v":""},"",0,"Monaco","MCO","Y",null,null,{"$f":"IFERROR(INDEX('Country & Delivery'!N311:N317,MATCH(BD322,'Country & Delivery'!O311:O317,0),1),\"\")","v":""},null,null,{"$f":"IFERROR(INDEX('Country & Delivery'!A311:A560,MATCH(BG322,'Country & Delivery'!B311:B560,0),1),\"\")","v":""}]
[310,null,null,null,null,null,null,null,null,null,null,null,null,null,null,{"$f":"IF(O323=\"\",\"\",VLOOKUP(O323,Products!A:C,2,FALSE))","v":""},{"$f":"IF(O323=\"\",\"\",VLOOKUP(O323,Products!A:C,3,FALSE))","v":""},null,"",{"$f":"IF(Y323=\"\",\"\",VLOOKUP(Y323,'Country & Delivery'!B:C,2,FALSE))","v":""},null,{"$f":"IF(U323=\"\",\"\",VLOOKUP(U323,'Country & Delivery'!N:O,2,FALSE))","v":""},null,null,{"$f":"IF(L323=\"\",\"\",VLOOKUP(L323,'Country & Delivery'!A:B,2,FALSE))","v":""},null,null,null,null,null,null,null,null,null,null,null,{"$f":"IF(M323=\"\",\"\",VLOOKUP(M323,'Country & Delivery'!AB:AC,2,FALSE))","v":""},null,null,null,null,null,null,null,null,null,null,null,{"$f":"IF(U323=\"\",\"\",VLOOKUP(U323,'Country & Delivery'!$N$1:$O$8,2,0))","v":""},"",0,"Mongolia","MNG","N","dc",null,{"$f":"IFERROR(INDEX('Country & Delivery'!N312:N318,MATCH(BD323,'Country & Delivery'!O312:O318,0),1),\"\")","v":""},null,null,{"$f":"IFERROR(INDEX('Country & Delivery'!A312:A561,MATCH(BG323,'Country & Delivery'!B312:B561,0),1),\"\")","v":""}]
[311,null,null,null,null,null,null,null,null,null,null,null,null,null,null,{"$f":"IF(O324=\"\",\"\",VLOOKUP(O324,Products!A:C,2,FALSE))","v":""},{"$f":"IF(O324=\"\",\"\",VLOOKUP(O324,Products!A:C,3,FALSE))","v":""},null,"",{"$f":"IF(Y324=\"\",\"\",VLOOKUP(Y324,'Country & Delivery'!B:C,2,FALSE))","v":""},null,{"$f":"IF(U324=\"\",\"\",VLOOKUP(U324,'Country & Delivery'!N:O,2,FALSE))","v":""},null,null,{"$f":"IF(L324=\"\",\"\",VLOOKUP(L324,'Country & Delivery'!A:B,2,FALSE))","v":""},null,null,null,null,null,null,null,null,null,null,null,{"$f":"IF(M324=\"\",\"\",VLOOKUP(M324,'Country & Delivery'!AB:AC,2,FALSE))","v":""},null,null,null,null,null,null,null,null,null,null,null,{"$f":"IF(U324=\"\",\"\",VLOOKUP(U324,'Country & Delivery'!$N$1:$O$8,2,0))","v":""},"",0,"Montenegro","MNE","N","dc",null,{"$f":"IFERROR(INDEX('Country & Delivery'!N313:N319,MATCH(BD324,'Country & Delivery'!O313:O319,0),1),\"\")","v":""},null,null,{"$f":"IFERROR(INDEX('Country & Delivery'!A313:A562,MATCH(BG324,'Country & Delivery'!B313:B562,0),1),\"\")","v":""}]
[312,null,null,null,null,null,null,null,null,null,null,null,null,null,null,{"$f":"IF(O325=\"\",\"\",VLOOKUP(O325,Products!A:C,2,FALSE))","v":""},{"$f":"IF(O325=\"\",\"\",VLOOKUP(O325,Products!A:C,3,FALSE))","v":""},null,"",{"$f":"IF(Y325=\"\",\"\",VLOOKUP(Y325,'Country & Delivery'!B:C,2,FALSE))","v":""},null,{"$f":"IF(U325=\"\",\"\",VLOOKUP(U325,'Country & Delivery'!N:O,2,FALSE))","v":""},null,null,{"$f":"IF(L325=\"\",\"\",VLOOKUP(L325,'Country & Delivery'!A:B,2,FALSE))","v":""},null,null,null,null,null,null,null,null,null,null,null,{"$f":"IF(M325=\"\",\"\",VLOOKUP(M325,'Country & Delivery'!AB:AC,2,FALSE))","v":""},null,null,null,null,null,null,null,null,null,null,null,{"$f":"IF(U325=\"\",\"\",VLOOKUP(U325,'Country & Delivery'!$N$1:$O$8,2,0))","v":""},"",0,"Montserrat","MSR","N",null,null,{"$f":"IFERROR(INDEX('Country & Delivery'!N314:N320,MATCH(BD325,'Country & Delivery'!O314:O320,0),1),\"\")","v":""},null,null,{"$f":"IFERROR(INDEX('Country & Delivery'!A314:A563,MATCH(BG325,'Country & Delivery'!B314:B563,0),1),\"\")","v":""}]
[313,null,null,null,null,null,null,null,null,null,null,null,null,null,null,{"$f":"IF(O326=\"\",\"\",VLOOKUP(O326,Products!A:C,2,FALSE))","v":""},{"$f":"IF(O326=\"\",\"\",VLOOKUP(O326,Products!A:C,3,FALSE))","v":""},null,"",{"$f":"IF(Y326=\"\",\"\",VLOOKUP(Y326,'Country & Delivery'!B:C,2,FALSE))","v":""},null,{"$f":"IF(U326=\"\",\"\",VLOOKUP(U326,'Country & Delivery'!N:O,2,FALSE))","v":""},null,null,{"$f":"IF(L326=\"\",\"\",VLOOKUP(L326,'Country & Delivery'!A:B,2,FALSE))","v":""},null,null,null,null,null,null,null,null,null,null,null,{"$f":"IF(M326=\"\",\"\",VLOOKUP(M326,'Country & Delivery'!AB:AC,2,FALSE))","v":""},null,null,null,null,null,null,null,null,null,null,null,{"$f":"IF(U326=\"\",\"\",VLOOKUP(U326,'Country & Delivery'!$N$1:$O$8,2,0))","v":""},"",0,"Morocco","MAR","N",null,null,{"$f":"IFERROR(INDEX('Country & Delivery'!N315:N321,MATCH(BD326,'Country & Delivery'!O315:O321,0),1),\"\")","v":""},null,null,{"$f":"IFERROR(INDEX('Country & Delivery'!A315:A564,MATCH(BG326,'Country & Delivery'!B315:B564,0),1),\"\")","v":""}]
[314,null,null,null,null,null,null,null,null,null,null,null,null,null,null,{"$f":"IF(O327=\"\",\"\",VLOOKUP(O327,Products!A:C,2,FALSE))","v":""},{"$f":"IF(O327=\"\",\"\",VLOOKUP(O327,Products!A:C,3,FALSE))","v":""},null,"",{"$f":"IF(Y327=\"\",\"\",VLOOKUP(Y327,'Country & Delivery'!B:C,2,FALSE))","v":""},null,{"$f":"IF(U327=\"\",\"\",VLOOKUP(U327,'Country & Delivery'!N:O,2,FALSE))","v":""},null,null,{"$f":"IF(L327=\"\",\"\",VLOOKUP(L327,'Country & Delivery'!A:B,2,FALSE))","v":""},null,null,null,null,null,null,null,null,null,null,null,{"$f":"IF(M327=\"\",\"\",VLOOKUP(M327,'Country & Delivery'!AB:AC,2,FALSE))","v":""},null,null,null,null,null,null,null,null,null,null,null,{"$f":"IF(U327=\"\",\"\",VLOOKUP(U327,'Country & Delivery'!$N$1:$O$8,2,0))","v":""},"",0,"Mozambique","MOZ","N","dc",null,{"$f":"IFERROR(INDEX('Country & Delivery'!N316:N322,MATCH(BD327,'Country & Delivery'!O316:O322,0),1),\"\")","v":""},null,null,{"$f":"IFERROR(INDEX('Country & Delivery'!A316:A565,MATCH(BG327,'Country & Delivery'!B316:B565,0),1),\"\")","v":""}]
[315,null,null,null,null,null,null,null,null,null,null,null,null,null,null,{"$f":"IF(O328=\"\",\"\",VLOOKUP(O328,Products!A:C,2,FALSE))","v":""},{"$f":"IF(O328=\"\",\"\",VLOOKUP(O328,Products!A:C,3,FALSE))","v":""},null,"",{"$f":"IF(Y328=\"\",\"\",VLOOKUP(Y328,'Country & Delivery'!B:C,2,FALSE))","v":""},null,{"$f":"IF(U328=\"\",\"\",VLOOKUP(U328,'Country & Delivery'!N:O,2,FALSE))","v":""},null,null,{"$f":"IF(L328=\"\",\"\",VLOOKUP(L328,'Country & Delivery'!A:B,2,FALSE))","v":""},null,null,null,null,null,null,null,null,null,null,null,{"$f":"IF(M328=\"\",\"\",VLOOKUP(M328,'Country & Delivery'!AB:AC,2,FALSE))","v":""},null,null,null,null,null,null,null,null,null,null,null,{"$f":"IF(U328=\"\",\"\",VLOOKUP(U328,'Country & Delivery'!$N$1:$O$8,2,0))","v":""},"",0,"MP","MNP","N","dc",null,{"$f":"IFERROR(INDEX('Country & Delivery'!N317:N323,MATCH(BD328,'Country & Delivery'!O317:O323,0),1),\"\")","v":""},null,null,{"$f":"IFERROR(INDEX('Country & Delivery'!A317:A566,MATCH(BG328,'Country & Delivery'!B317:B566,0),1),\"\")","v":""}]
[316,null,null,null,null,null,null,null,null,null,null,null,null,null,null,{"$f":"IF(O329=\"\",\"\",VLOOKUP(O329,Products!A:C,2,FALSE))","v":""},{"$f":"IF(O329=\"\",\"\",VLOOKUP(O329,Products!A:C,3,FALSE))","v":""},null,"",{"$f":"IF(Y329=\"\",\"\",VLOOKUP(Y329,'Country & Delivery'!B:C,2,FALSE))","v":""},null,{"$f":"IF(U329=\"\",\"\",VLOOKUP(U329,'Country & Delivery'!N:O,2,FALSE))","v":""},null,null,{"$f":"IF(L329=\"\",\"\",VLOOKUP(L329,'Country & Delivery'!A:B,2,FALSE))","v":""},null,null,null,null,null,null,null,null,null,null,null,{"$f":"IF(M329=\"\",\"\",VLOOKUP(M329,'Country & Delivery'!AB:AC,2,FALSE))","v":""},null,null,null,null,null,null,null,null,null,null,null,{"$f":"IF(U329=\"\",\"\",VLOOKUP(U329,'Country & Delivery'!$N$1:$O$8,2,0))","v":""},"",0,"MQ","MTQ","Y",null,null,{"$f":"IFERROR(INDEX('Country & Delivery'!N318:N324,MATCH(BD329,'Country & Delivery'!O318:O324,0),1),\"\")","v":""},null,null,{"$f":"IFERROR(INDEX('Country & Delivery'!A318:A567,MATCH(BG329,'Country & Delivery'!B318:B567,0),1),\"\")","v":""}]
[317,null,null,null,null,null,null,null,null,null,null,null,null,null,null,{"$f":"IF(O330=\"\",\"\",VLOOKUP(O330,Products!A:C,2,FALSE))","v":""},{"$f":"IF(O330=\"\",\"\",VLOOKUP(O330,Products!A:C,3,FALSE))","v":""},null,"",{"$f":"IF(Y330=\"\",\"\",VLOOKUP(Y330,'Country & Delivery'!B:C,2,FALSE))","v":""},null,{"$f":"IF(U330=\"\",\"\",VLOOKUP(U330,'Country & Delivery'!N:O,2,FALSE))","v":""},null,null,{"$f":"IF(L330=\"\",\"\",VLOOKUP(L330,'Country & Delivery'!A:B,2,FALSE))","v":""},null,null,null,null,null,null,null,null,null,null,null,{"$f":"IF(M330=\"\",\"\",VLOOKUP(M330,'Country & Delivery'!AB:AC,2,FALSE))","v":""},null,null,null,null,null,null,null,null,null,null,null,{"$f":"IF(U330=\"\",\"\",VLOOKUP(U330,'Country & Delivery'!$N$1:$O$8,2,0))","v":""},"",0,"MR","MRT","N","dc",null,{"$f":"IFERROR(INDEX('Country & Delivery'!N319:N325,MATCH(BD330,'Country & Delivery'!O319:O325,0),1),\"\")","v":""},null,null,{"$f":"IFERROR(INDEX('Country & Delivery'!A319:A568,MATCH(BG330,'Country & Delivery'!B319:B568,0),1),\"\")","v":""}]
[318,null,null,null,null,null,null,null,null,null,null,null,null,null,null,{"$f":"IF(O331=\"\",\"\",VLOOKUP(O331,Products!A:C,2,FALSE))","v":""},{"$f":"IF(O331=\"\",\"\",VLOOKUP(O331,Products!A:C,3,FALSE))","v":""},null,"",{"$f":"IF(Y331=\"\",\"\",VLOOKUP(Y331,'Country & Delivery'!B:C,2,FALSE))","v":""},null,{"$f":"IF(U331=\"\",\"\",VLOOKUP(U331,'Country & Delivery'!N:O,2,FALSE))","v":""},null,null,{"$f":"IF(L331=\"\",\"\",VLOOKUP(L331,'Country & Delivery'!A:B,2,FALSE))","v":""},null,null,null,null,null,null,null,null,null,null,null,{"$f":"IF(M331=\"\",\"\",VLOOKUP(M331,'Country & Delivery'!AB:AC,2,FALSE))","v":""},null,null,null,null,null,null,null,null,null,null,null,{"$f":"IF(U331=\"\",\"\",VLOOKUP(U331,'Country & Delivery'!$N$1:$O$8,2,0))","v":""},"",0,"MS","MSR","N",null,null,{"$f":"IFERROR(INDEX('Country & Delivery'!N320:N326,MATCH(BD331,'Country & Delivery'!O320:O326,0),1),\"\")","v":""},null,null,{"$f":"IFERROR(INDEX('Country & Delivery'!A320:A569,MATCH(BG331,'Country & Delivery'!B320:B569,0),1),\"\")","v":""}]
[319,null,null,null,null,null,null,null,null,null,null,null,null,null,null,{"$f":"IF(O332=\"\",\"\",VLOOKUP(O332,Products!A:C,2,FALSE))","v":""},{"$f":"IF(O332=\"\",\"\",VLOOKUP(O332,Products!A:C,3,FALSE))","v":""},null,"",{"$f":"IF(Y332=\"\",\"\",VLOOKUP(Y332,'Country & Delivery'!B:C,2,FALSE))","v":""},null,{"$f":"IF(U332=\"\",\"\",VLOOKUP(U332,'Country & Delivery'!N:O,2,FALSE))","v":""},null,null,{"$f":"IF(L332=\"\",\"\",VLOOKUP(L332,'Country & Delivery'!A:B,2,FALSE))","v":""},null,null,null,null,null,null,null,null,null,null,null,{"$f":"IF(M332=\"\",\"\",VLOOKUP(M332,'Country & Delivery'!AB:AC,2,FALSE))","v":""},null,null,null,null,null,null,null,null,null,null,null,{"$f":"IF(U332=\"\",\"\",VLOOKUP(U332,'Country & Delivery'!$N$1:$O$8,2,0))","v":""},{"$f":"IF(O332<>\"\",COUNTIFS(D332:D332,\"\")+COUNTIFS(E332:E332,\"\")+COUNTIFS(I332:I332,\"\")+COUNTIFS(N332:N332,\"\")+COUNTIFS(O332:O332,\"\")+COUNTIFS(R332:R332,\"\")+COUNTIFS(U332:U332,\"\"),\"\")","v":""},0,"MT","MLT","Y",null,null,{"$f":"IFERROR(INDEX('Country & Delivery'!N321:N327,MATCH(BD332,'Country & Delivery'!O321:O327,0),1),\"\")","v":""},null,null,{"$f":"IFERROR(INDEX('Country & Delivery'!A321:A570,MATCH(BG332,'Country & Delivery'!B321:B570,0),1),\"\")","v":""}]
[320,null,null,null,null,null,null,null,null,null,null,null,null,null,null,{"$f":"IF(O333=\"\",\"\",VLOOKUP(O333,Products!A:C,2,FALSE))","v":""},{"$f":"IF(O333=\"\",\"\",VLOOKUP(O333,Products!A:C,3,FALSE))","v":""},null,"",{"$f":"IF(Y333=\"\",\"\",VLOOKUP(Y333,'Country & Delivery'!B:C,2,FALSE))","v":""},null,{"$f":"IF(U333=\"\",\"\",VLOOKUP(U333,'Country & Delivery'!N:O,2,FALSE))","v":""},null,null,{"$f":"IF(L333=\"\",\"\",VLOOKUP(L333,'Country & Delivery'!A:B,2,FALSE))","v":""},null,null,null,null,null,null,null,null,null,null,null,{"$f":"IF(M333=\"\",\"\",VLOOKUP(M333,'Country & Delivery'!AB:AC,2,FALSE))","v":""},null,null,null,null,null,null,null,null,null,null,null,{"$f":"IF(U333=\"\",\"\",VLOOKUP(U333,'Country & Delivery'!$N$1:$O$8,2,0))","v":""},"",{"$f":"+$L$10","v":0},"MU","MUS","N","dc",null,{"$f":"IFERROR(INDEX('Country & Delivery'!N322:N328,MATCH(BD333,'Country & Delivery'!O322:O328,0),1),\"\")","v":""},null,null,{"$f":"IFERROR(INDEX('Country & Delivery'!A322:A571,MATCH(BG333,'Country & Delivery'!B322:B571,0),1),\"\")","v":""}]
[321,null,null,null,null,null,null,null,null,null,null,null,null,null,null,{"$f":"IF(O334=\"\",\"\",VLOOKUP(O334,Products!A:C,2,FALSE))","v":""},{"$f":"IF(O334=\"\",\"\",VLOOKUP(O334,Products!A:C,3,FALSE))","v":""},null,"",{"$f":"IF(Y334=\"\",\"\",VLOOKUP(Y334,'Country & Delivery'!B:C,2,FALSE))","v":""},null,{"$f":"IF(U334=\"\",\"\",VLOOKUP(U334,'Country & Delivery'!N:O,2,FALSE))","v":""},null,null,{"$f":"IF(L334=\"\",\"\",VLOOKUP(L334,'Country & Delivery'!A:B,2,FALSE))","v":""},null,null,null,null,null,null,null,null,null,null,null,{"$f":"IF(M334=\"\",\"\",VLOOKUP(M334,'Country & Delivery'!AB:AC,2,FALSE))","v":""},null,null,null,null,null,null,null,null,null,null,null,{"$f":"IF(U334=\"\",\"\",VLOOKUP(U334,'Country & Delivery'!$N$1:$O$8,2,0))","v":""},"",0,"MV","MDV","N",null,null,{"$f":"IFERROR(INDEX('Country & Delivery'!N323:N329,MATCH(BD334,'Country & Delivery'!O323:O329,0),1),\"\")","v":""},null,null,{"$f":"IFERROR(INDEX('Country & Delivery'!A323:A572,MATCH(BG334,'Country & Delivery'!B323:B572,0),1),\"\")","v":""}]
[322,null,null,null,null,null,null,null,null,null,null,null,null,null,null,{"$f":"IF(O335=\"\",\"\",VLOOKUP(O335,Products!A:C,2,FALSE))","v":""},{"$f":"IF(O335=\"\",\"\",VLOOKUP(O335,Products!A:C,3,FALSE))","v":""},null,"",{"$f":"IF(Y335=\"\",\"\",VLOOKUP(Y335,'Country & Delivery'!B:C,2,FALSE))","v":""},null,{"$f":"IF(U335=\"\",\"\",VLOOKUP(U335,'Country & Delivery'!N:O,2,FALSE))","v":""},null,null,{"$f":"IF(L335=\"\",\"\",VLOOKUP(L335,'Country & Delivery'!A:B,2,FALSE))","v":""},null,null,null,null,null,null,null,null,null,null,null,{"$f":"IF(M335=\"\",\"\",VLOOKUP(M335,'Country & Delivery'!AB:AC,2,FALSE))","v":""},null,null,null,null,null,null,null,null,null,null,null,{"$f":"IF(U335=\"\",\"\",VLOOKUP(U335,'Country & Delivery'!$N$1:$O$8,2,0))","v":""},"",0,"MW","MWI","N","dc",null,{"$f":"IFERROR(INDEX('Country & Delivery'!N324:N330,MATCH(BD335,'Country & Delivery'!O324:O330,0),1),\"\")","v":""},null,null,{"$f":"IFERROR(INDEX('Country & Delivery'!A324:A573,MATCH(BG335,'Country & Delivery'!B324:B573,0),1),\"\")","v":""}]
[323,null,null,null,null,null,null,null,null,null,null,null,null,null,null,{"$f":"IF(O336=\"\",\"\",VLOOKUP(O336,Products!A:C,2,FALSE))","v":""},{"$f":"IF(O336=\"\",\"\",VLOOKUP(O336,Products!A:C,3,FALSE))","v":""},null,"",{"$f":"IF(Y336=\"\",\"\",VLOOKUP(Y336,'Country & Delivery'!B:C,2,FALSE))","v":""},null,{"$f":"IF(U336=\"\",\"\",VLOOKUP(U336,'Country & Delivery'!N:O,2,FALSE))","v":""},null,null,{"$f":"IF(L336=\"\",\"\",VLOOKUP(L336,'Country & Delivery'!A:B,2,FALSE))","v":""},null,null,null,null,null,null,null,null,null,null,null,{"$f":"IF(M336=\"\",\"\",VLOOKUP(M336,'Country & Delivery'!AB:AC,2,FALSE))","v":""},null,null,null,null,null,null,null,null,null,null,null,{"$f":"IF(U336=\"\",\"\",VLOOKUP(U336,'Country & Delivery'!$N$1:$O$8,2,0))","v":""},"",0,"MX","MEX","N","dc",null,{"$f":"IFERROR(INDEX('Country & Delivery'!N325:N331,MATCH(BD336,'Country & Delivery'!O325:O331,0),1),\"\")","v":""},null,null,{"$f":"IFERROR(INDEX('Country & Delivery'!A325:A574,MATCH(BG336,'Country & Delivery'!B325:B574,0),1),\"\")","v":""}]
[324,null,null,null,null,null,null,null,null,null,null,null,null,null,null,{"$f":"IF(O337=\"\",\"\",VLOOKUP(O337,Products!A:C,2,FALSE))","v":""},{"$f":"IF(O337=\"\",\"\",VLOOKUP(O337,Products!A:C,3,FALSE))","v":""},null,"",{"$f":"IF(Y337=\"\",\"\",VLOOKUP(Y337,'Country & Delivery'!B:C,2,FALSE))","v":""},null,{"$f":"IF(U337=\"\",\"\",VLOOKUP(U337,'Country & Delivery'!N:O,2,FALSE))","v":""},null,null,{"$f":"IF(L337=\"\",\"\",VLOOKUP(L337,'Country & Delivery'!A:B,2,FALSE))","v":""},null,null,null,null,null,null,null,null,null,null,null,{"$f":"IF(M337=\"\",\"\",VLOOKUP(M337,'Country & Delivery'!AB:AC,2,FALSE))","v":""},null,null,null,null,null,null,null,null,null,null,null,{"$f":"IF(U337=\"\",\"\",VLOOKUP(U337,'Country & Delivery'!$N$1:$O$8,2,0))","v":""},"",0,"MY","MYS","N",null,null,{"$f":"IFERROR(INDEX('Country & Delivery'!N326:N332,MATCH(BD337,'Country & Delivery'!O326:O332,0),1),\"\")","v":""},null,null,{"$f":"IFERROR(INDEX('Country & Delivery'!A326:A575,MATCH(BG337,'Country & Delivery'!B326:B575,0),1),\"\")","v":""}]
[325,null,null,null,null,null,null,null,null,null,null,null,null,null,null,{"$f":"IF(O338=\"\",\"\",VLOOKUP(O338,Products!A:C,2,FALSE))","v":""},{"$f":"IF(O338=\"\",\"\",VLOOKUP(O338,Products!A:C,3,FALSE))","v":""},null,"",{"$f":"IF(Y338=\"\",\"\",VLOOKUP(Y338,'Country & Delivery'!B:C,2,FALSE))","v":""},null,{"$f":"IF(U338=\"\",\"\",VLOOKUP(U338,'Country & Delivery'!N:O,2,FALSE))","v":""},null,null,{"$f":"IF(L338=\"\",\"\",VLOOKUP(L338,'Country & Delivery'!A:B,2,FALSE))","v":""},null,null,null,null,null,null,null,null,null,null,null,{"$f":"IF(M338=\"\",\"\",VLOOKUP(M338,'Country & Delivery'!AB:AC,2,FALSE))","v":""},null,null,null,null,null,null,null,null,null,null,null,{"$f":"IF(U338=\"\",\"\",VLOOKUP(U338,'Country & Delivery'!$N$1:$O$8,2,0))","v":""},"",0,"Myanmar","MMR","N",null,null,{"$f":"IFERROR(INDEX('Country & Delivery'!N327:N333,MATCH(BD338,'Country & Delivery'!O327:O333,0),1),\"\")","v":""},null,null,{"$f":"IFERROR(INDEX('Country & Delivery'!A327:A576,MATCH(BG338,'Country & Delivery'!B327:B576,0),1),\"\")","v":""}]
[326,null,null,null,null,null,null,null,null,null,null,null,null,null,null,{"$f":"IF(O339=\"\",\"\",VLOOKUP(O339,Products!A:C,2,FALSE))","v":""},{"$f":"IF(O339=\"\",\"\",VLOOKUP(O339,Products!A:C,3,FALSE))","v":""},null,"",{"$f":"IF(Y339=\"\",\"\",VLOOKUP(Y339,'Country & Delivery'!B:C,2,FALSE))","v":""},null,{"$f":"IF(U339=\"\",\"\",VLOOKUP(U339,'Country & Delivery'!N:O,2,FALSE))","v":""},null,null,{"$f":"IF(L339=\"\",\"\",VLOOKUP(L339,'Country & Delivery'!A:B,2,FALSE))","v":""},null,null,null,null,null,null,null,null,null,null,null,{"$f":"IF(M339=\"\",\"\",VLOOKUP(M339,'Country & Delivery'!AB:AC,2,FALSE))","v":""},null,null,null,null,null,null,null,null,null,null,null,{"$f":"IF(U339=\"\",\"\",VLOOKUP(U339,'Country & Delivery'!$N$1:$O$8,2,0))","v":""},"",0,"MZ","MOZ","N","dc",null,{"$f":"IFERROR(INDEX('Country & Delivery'!N328:N334,MATCH(BD339,'Country & Delivery'!O328:O334,0),1),\"\")","v":""},null,null,{"$f":"IFERROR(INDEX('Country & Delivery'!A328:A577,MATCH(BG339,'Country & Delivery'!B328:B577,0),1),\"\")","v":""}]
[327,null,null,null,null,null,null,null,null,null,null,null,null,null,null,{"$f":"IF(O340=\"\",\"\",VLOOKUP(O340,Products!A:C,2,FALSE))","v":""},{"$f":"IF(O340=\"\",\"\",VLOOKUP(O340,Products!A:C,3,FALSE))","v":""},null,"",{"$f":"IF(Y340=\"\",\"\",VLOOKUP(Y340,'Country & Delivery'!B:C,2,FALSE))","v":""},null,{"$f":"IF(U340=\"\",\"\",VLOOKUP(U340,'Country & Delivery'!N:O,2,FALSE))","v":""},null,null,{"$f":"IF(L340=\"\",\"\",VLOOKUP(L340,'Country & Delivery'!A:B,2,FALSE))","v":""},null,null,null,null,null,null,null,null,null,null,null,{"$f":"IF(M340=\"\",\"\",VLOOKUP(M340,'Country & Delivery'!AB:AC,2,FALSE))","v":""},null,null,null,null,null,null,null,null,null,null,null,{"$f":"IF(U340=\"\",\"\",VLOOKUP(U340,'Country & Delivery'!$N$1:$O$8,2,0))","v":""},"",0,"NA","NAM","N",null,null,{"$f":"IFERROR(INDEX('Country & Delivery'!N329:N335,MATCH(BD340,'Country & Delivery'!O329:O335,0),1),\"\")","v":""},null,null,{"$f":"IFERROR(INDEX('Country & Delivery'!A329:A578,MATCH(BG340,'Country & Delivery'!B329:B578,0),1),\"\")","v":""}]
[328,null,null,null,null,null,null,null,null,null,null,null,null,null,null,{"$f":"IF(O341=\"\",\"\",VLOOKUP(O341,Products!A:C,2,FALSE))","v":""},{"$f":"IF(O341=\"\",\"\",VLOOKUP(O341,Products!A:C,3,FALSE))","v":""},null,"",{"$f":"IF(Y341=\"\",\"\",VLOOKUP(Y341,'Country & Delivery'!B:C,2,FALSE))","v":""},null,{"$f":"IF(U341=\"\",\"\",VLOOKUP(U341,'Country & Delivery'!N:O,2,FALSE))","v":""},null,null,{"$f":"IF(L341=\"\",\"\",VLOOKUP(L341,'Country & Delivery'!A:B,2,FALSE))","v":""},null,null,null,null,null,null,null,null,null,null,null,{"$f":"IF(M341=\"\",\"\",VLOOKUP(M341,'Country & Delivery'!AB:AC,2,FALSE))","v":""},null,null,null,null,null,null,null,null,null,null,null,{"$f":"IF(U341=\"\",\"\",VLOOKUP(U341,'Country & Delivery'!$N$1:$O$8,2,0))","v":""},"",0,"Namibia","NAM","N",null,null,{"$f":"IFERROR(INDEX('Country & Delivery'!N330:N336,MATCH(BD341,'Country & Delivery'!O330:O336,0),1),\"\")","v":""},null,null,{"$f":"IFERROR(INDEX('Country & Delivery'!A330:A579,MATCH(BG341,'Country & Delivery'!B330:B579,0),1),\"\")","v":""}]
[329,null,null,null,null,null,null,null,null,null,null,null,null,null,null,{"$f":"IF(O342=\"\",\"\",VLOOKUP(O342,Products!A:C,2,FALSE))","v":""},{"$f":"IF(O342=\"\",\"\",VLOOKUP(O342,Products!A:C,3,FALSE))","v":""},null,"",{"$f":"IF(Y342=\"\",\"\",VLOOKUP(Y342,'Country & Delivery'!B:C,2,FALSE))","v":""},null,{"$f":"IF(U342=\"\",\"\",VLOOKUP(U342,'Country & Delivery'!N:O,2,FALSE))","v":""},null,null,{"$f":"IF(L342=\"\",\"\",VLOOKUP(L342,'Country & Delivery'!A:B,2,FALSE))","v":""},null,null,null,null,null,null,null,null,null,null,null,{"$f":"IF(M342=\"\",\"\",VLOOKUP(M342,'Country & Delivery'!AB:AC,2,FALSE))","v":""},null,null,null,null,null,null,null,null,null,null,null,{"$f":"IF(U342=\"\",\"\",VLOOKUP(U342,'Country & Delivery'!$N$1:$O$8,2,0))","v":""},"",0,"Nauru","NRU","N","dc",null,{"$f":"IFERROR(INDEX('Country & Delivery'!N331:N337,MATCH(BD342,'Country & Delivery'!O331:O337,0),1),\"\")","v":""},null,null,{"$f":"IFERROR(INDEX('Country & Delivery'!A331:A580,MATCH(BG342,'Country & Delivery'!B331:B580,0),1),\"\")","v":""}]
[330,null,null,null,null,null,null,null,null,null,null,null,null,null,null,{"$f":"IF(O343=\"\",\"\",VLOOKUP(O343,Products!A:C,2,FALSE))","v":""},{"$f":"IF(O343=\"\",\"\",VLOOKUP(O343,Products!A:C,3,FALSE))","v":""},null,"",{"$f":"IF(Y343=\"\",\"\",VLOOKUP(Y343,'Country & Delivery'!B:C,2,FALSE))","v":""},null,{"$f":"IF(U343=\"\",\"\",VLOOKUP(U343,'Country & Delivery'!N:O,2,FALSE))","v":""},null,null,{"$f":"IF(L343=\"\",\"\",VLOOKUP(L343,'Country & Delivery'!A:B,2,FALSE))","v":""},null,null,null,null,null,null,null,null,null,null,null,{"$f":"IF(M343=\"\",\"\",VLOOKUP(M343,'Country & Delivery'!AB:AC,2,FALSE))","v":""},null,null,null,null,null,null,null,null,null,null,null,{"$f":"IF(U343=\"\",\"\",VLOOKUP(U343,'Country & Delivery'!$N$1:$O$8,2,0))","v":""},"",0,"NC","NCL","N","dc",null,{"$f":"IFERROR(INDEX('Country & Delivery'!N332:N338,MATCH(BD343,'Country & Delivery'!O332:O338,0),1),\"\")","v":""},null,null,{"$f":"IFERROR(INDEX('Country & Delivery'!A332:A581,MATCH(BG343,'Country & Delivery'!B332:B581,0),1),\"\")","v":""}]
[331,null,null,null,null,null,null,null,null,null,null,null,null,null,null,{"$f":"IF(O344=\"\",\"\",VLOOKUP(O344,Products!A:C,2,FALSE))","v":""},{"$f":"IF(O344=\"\",\"\",VLOOKUP(O344,Products!A:C,3,FALSE))","v":""},null,"",{"$f":"IF(Y344=\"\",\"\",VLOOKUP(Y344,'Country & Delivery'!B:C,2,FALSE))","v":""},null,{"$f":"IF(U344=\"\",\"\",VLOOKUP(U344,'Country & Delivery'!N:O,2,FALSE))","v":""},null,null,{"$f":"IF(L344=\"\",\"\",VLOOKUP(L344,'Country & Delivery'!A:B,2,FALSE))","v":""},null,null,null,null,null,null,null,null,null,null,null,{"$f":"IF(M344=\"\",\"\",VLOOKUP(M344,'Country & Delivery'!AB:AC,2,FALSE))","v":""},null,null,null,null,null,null,null,null,null,null,null,{"$f":"IF(U344=\"\",\"\",VLOOKUP(U344,'Country & Delivery'!$N$1:$O$8,2,0))","v":""},"",0,"NE","NER","N","dc",null,{"$f":"IFERROR(INDEX('Country & Delivery'!N333:N339,MATCH(BD344,'Country & Delivery'!O333:O339,0),1),\"\")","v":""},null,null,{"$f":"IFERROR(INDEX('Country & Delivery'!A333:A582,MATCH(BG344,'Country & Delivery'!B333:B582,0),1),\"\")","v":""}]
[332,null,null,null,null,null,null,null,null,null,null,null,null,null,null,{"$f":"IF(O345=\"\",\"\",VLOOKUP(O345,Products!A:C,2,FALSE))","v":""},{"$f":"IF(O345=\"\",\"\",VLOOKUP(O345,Products!A:C,3,FALSE))","v":""},null,"",{"$f":"IF(Y345=\"\",\"\",VLOOKUP(Y345,'Country & Delivery'!B:C,2,FALSE))","v":""},null,{"$f":"IF(U345=\"\",\"\",VLOOKUP(U345,'Country & Delivery'!N:O,2,FALSE))","v":""},null,null,{"$f":"IF(L345=\"\",\"\",VLOOKUP(L345,'Country & Delivery'!A:B,2,FALSE))","v":""},null,null,null,null,null,null,null,null,null,null,null,{"$f":"IF(M345=\"\",\"\",VLOOKUP(M345,'Country & Delivery'!AB:AC,2,FALSE))","v":""},null,null,null,null,null,null,null,null,null,null,null,{"$f":"IF(U345=\"\",\"\",VLOOKUP(U345,'Country & Delivery'!$N$1:$O$8,2,0))","v":""},"",0,"Nepal","NPL","N","dc",null,{"$f":"IFERROR(INDEX('Country & Delivery'!N334:N340,MATCH(BD345,'Country & Delivery'!O334:O340,0),1),\"\")","v":""},null,null,{"$f":"IFERROR(INDEX('Country & Delivery'!A334:A583,MATCH(BG345,'Country & Delivery'!B334:B583,0),1),\"\")","v":""}]
[333,null,null,null,null,null,null,null,null,null,null,null,null,null,null,{"$f":"IF(O346=\"\",\"\",VLOOKUP(O346,Products!A:C,2,FALSE))","v":""},{"$f":"IF(O346=\"\",\"\",VLOOKUP(O346,Products!A:C,3,FALSE))","v":""},null,"",{"$f":"IF(Y346=\"\",\"\",VLOOKUP(Y346,'Country & Delivery'!B:C,2,FALSE))","v":""},null,{"$f":"IF(U346=\"\",\"\",VLOOKUP(U346,'Country & Delivery'!N:O,2,FALSE))","v":""},null,null,{"$f":"IF(L346=\"\",\"\",VLOOKUP(L346,'Country & Delivery'!A:B,2,FALSE))","v":""},null,null,null,null,null,null,null,null,null,null,null,{"$f":"IF(M346=\"\",\"\",VLOOKUP(M346,'Country & Delivery'!AB:AC,2,FALSE))","v":""},null,null,null,null,null,null,null,null,null,null,null,{"$f":"IF(U346=\"\",\"\",VLOOKUP(U346,'Country & Delivery'!$N$1:$O$8,2,0))","v":""},"",0,"Netherlands","NLD","Y",null,null,{"$f":"IFERROR(INDEX('Country & Delivery'!N335:N341,MATCH(BD346,'Country & Delivery'!O335:O341,0),1),\"\")","v":""},null,null,{"$f":"IFERROR(INDEX('Country & Delivery'!A335:A584,MATCH(BG346,'Country & Delivery'!B335:B584,0),1),\"\")","v":""}]
[334,null,null,null,null,null,null,null,null,null,null,null,null,null,null,{"$f":"IF(O347=\"\",\"\",VLOOKUP(O347,Products!A:C,2,FALSE))","v":""},{"$f":"IF(O347=\"\",\"\",VLOOKUP(O347,Products!A:C,3,FALSE))","v":""},null,"",{"$f":"IF(Y347=\"\",\"\",VLOOKUP(Y347,'Country & Delivery'!B:C,2,FALSE))","v":""},null,{"$f":"IF(U347=\"\",\"\",VLOOKUP(U347,'Country & Delivery'!N:O,2,FALSE))","v":""},null,null,{"$f":"IF(L347=\"\",\"\",VLOOKUP(L347,'Country & Delivery'!A:B,2,FALSE))","v":""},null,null,null,null,null,null,null,null,null,null,null,{"$f":"IF(M347=\"\",\"\",VLOOKUP(M347,'Country & Delivery'!AB:AC,2,FALSE))","v":""},null,null,null,null,null,null,null,null,null,null,null,{"$f":"IF(U347=\"\",\"\",VLOOKUP(U347,'Country & Delivery'!$N$1:$O$8,2,0))","v":""},"",0,"NETHERLANDS ANTILLES","ANT","N","del meth",null,{"$f":"IFERROR(INDEX('Country & Delivery'!N336:N342,MATCH(BD347,'Country & Delivery'!O336:O342,0),1),\"\")","v":""},null,null,{"$f":"IFERROR(INDEX('Country & Delivery'!A336:A585,MATCH(BG347,'Country & Delivery'!B336:B585,0),1),\"\")","v":""}]
[335,null,null,null,null,null,null,null,null,null,null,null,null,null,null,{"$f":"IF(O348=\"\",\"\",VLOOKUP(O348,Products!A:C,2,FALSE))","v":""},{"$f":"IF(O348=\"\",\"\",VLOOKUP(O348,Products!A:C,3,FALSE))","v":""},null,"",{"$f":"IF(Y348=\"\",\"\",VLOOKUP(Y348,'Country & Delivery'!B:C,2,FALSE))","v":""},null,{"$f":"IF(U348=\"\",\"\",VLOOKUP(U348,'Country & Delivery'!N:O,2,FALSE))","v":""},null,null,{"$f":"IF(L348=\"\",\"\",VLOOKUP(L348,'Country & Delivery'!A:B,2,FALSE))","v":""},null,null,null,null,null,null,null,null,null,null,null,{"$f":"IF(M348=\"\",\"\",VLOOKUP(M348,'Country & Delivery'!AB:AC,2,FALSE))","v":""},null,null,null,null,null,null,null,null,null,null,null,{"$f":"IF(U348=\"\",\"\",VLOOKUP(U348,'Country & Delivery'!$N$1:$O$8,2,0))","v":""},"",0,"New Caledonia","NCL","N","dc",null,{"$f":"IFERROR(INDEX('Country & Delivery'!N337:N343,MATCH(BD348,'Country & Delivery'!O337:O343,0),1),\"\")","v":""},null,null,{"$f":"IFERROR(INDEX('Country & Delivery'!A337:A586,MATCH(BG348,'Country & Delivery'!B337:B586,0),1),\"\")","v":""}]
[336,null,null,null,null,null,null,null,null,null,null,null,null,null,null,{"$f":"IF(O349=\"\",\"\",VLOOKUP(O349,Products!A:C,2,FALSE))","v":""},{"$f":"IF(O349=\"\",\"\",VLOOKUP(O349,Products!A:C,3,FALSE))","v":""},null,"",{"$f":"IF(Y349=\"\",\"\",VLOOKUP(Y349,'Country & Delivery'!B:C,2,FALSE))","v":""},null,{"$f":"IF(U349=\"\",\"\",VLOOKUP(U349,'Country & Delivery'!N:O,2,FALSE))","v":""},null,null,{"$f":"IF(L349=\"\",\"\",VLOOKUP(L349,'Country & Delivery'!A:B,2,FALSE))","v":""},null,null,null,null,null,null,null,null,null,null,null,{"$f":"IF(M349=\"\",\"\",VLOOKUP(M349,'Country & Delivery'!AB:AC,2,FALSE))","v":""},null,null,null,null,null,null,null,null,null,null,null,{"$f":"IF(U349=\"\",\"\",VLOOKUP(U349,'Country & Delivery'!$N$1:$O$8,2,0))","v":""},"",0,"New Zealand","NZL","N",null,null,{"$f":"IFERROR(INDEX('Country & Delivery'!N338:N344,MATCH(BD349,'Country & Delivery'!O338:O344,0),1),\"\")","v":""},null,null,{"$f":"IFERROR(INDEX('Country & Delivery'!A338:A587,MATCH(BG349,'Country & Delivery'!B338:B587,0),1),\"\")","v":""}]
[337,null,null,null,null,null,null,null,null,null,null,null,null,null,null,{"$f":"IF(O350=\"\",\"\",VLOOKUP(O350,Products!A:C,2,FALSE))","v":""},{"$f":"IF(O350=\"\",\"\",VLOOKUP(O350,Products!A:C,3,FALSE))","v":""},null,"",{"$f":"IF(Y350=\"\",\"\",VLOOKUP(Y350,'Country & Delivery'!B:C,2,FALSE))","v":""},null,{"$f":"IF(U350=\"\",\"\",VLOOKUP(U350,'Country & Delivery'!N:O,2,FALSE))","v":""},null,null,{"$f":"IF(L350=\"\",\"\",VLOOKUP(L350,'Country & Delivery'!A:B,2,FALSE))","v":""},null,null,null,null,null,null,null,null,null,null,null,{"$f":"IF(M350=\"\",\"\",VLOOKUP(M350,'Country & Delivery'!AB:AC,2,FALSE))","v":""},null,null,null,null,null,null,null,null,null,null,null,{"$f":"IF(U350=\"\",\"\",VLOOKUP(U350,'Country & Delivery'!$N$1:$O$8,2,0))","v":""},"",0,"NF","NFK","N","dc",null,{"$f":"IFERROR(INDEX('Country & Delivery'!N339:N345,MATCH(BD350,'Country & Delivery'!O339:O345,0),1),\"\")","v":""},null,null,{"$f":"IFERROR(INDEX('Country & Delivery'!A339:A588,MATCH(BG350,'Country & Delivery'!B339:B588,0),1),\"\")","v":""}]
[338,null,null,null,null,null,null,null,null,null,null,null,null,null,null,{"$f":"IF(O351=\"\",\"\",VLOOKUP(O351,Products!A:C,2,FALSE))","v":""},{"$f":"IF(O351=\"\",\"\",VLOOKUP(O351,Products!A:C,3,FALSE))","v":""},null,"",{"$f":"IF(Y351=\"\",\"\",VLOOKUP(Y351,'Country & Delivery'!B:C,2,FALSE))","v":""},null,{"$f":"IF(U351=\"\",\"\",VLOOKUP(U351,'Country & Delivery'!N:O,2,FALSE))","v":""},null,null,{"$f":"IF(L351=\"\",\"\",VLOOKUP(L351,'Country & Delivery'!A:B,2,FALSE))","v":""},null,null,null,null,null,null,null,null,null,null,null,{"$f":"IF(M351=\"\",\"\",VLOOKUP(M351,'Country & Delivery'!AB:AC,2,FALSE))","v":""},null,null,null,null,null,null,null,null,null,null,null,{"$f":"IF(U351=\"\",\"\",VLOOKUP(U351,'Country & Delivery'!$N$1:$O$8,2,0))","v":""},"",0,"NG","NGA","N",null,null,{"$f":"IFERROR(INDEX('Country & Delivery'!N340:N346,MATCH(BD351,'Country & Delivery'!O340:O346,0),1),\"\")","v":""},null,null,{"$f":"IFERROR(INDEX('Country & Delivery'!A340:A589,MATCH(BG351,'Country & Delivery'!B340:B589,0),1),\"\")","v":""}]
[339,null,null,null,null,null,null,null,null,null,null,null,null,null,null,{"$f":"IF(O352=\"\",\"\",VLOOKUP(O352,Products!A:C,2,FALSE))","v":""},{"$f":"IF(O352=\"\",\"\",VLOOKUP(O352,Products!A:C,3,FALSE))","v":""},null,"",{"$f":"IF(Y352=\"\",\"\",VLOOKUP(Y352,'Country & Delivery'!B:C,2,FALSE))","v":""},null,{"$f":"IF(U352=\"\",\"\",VLOOKUP(U352,'Country & Delivery'!N:O,2,FALSE))","v":""},null,null,{"$f":"IF(L352=\"\",\"\",VLOOKUP(L352,'Country & Delivery'!A:B,2,FALSE))","v":""},null,null,null,null,null,null,null,null,null,null,null,{"$f":"IF(M352=\"\",\"\",VLOOKUP(M352,'Country & Delivery'!AB:AC,2,FALSE))","v":""},null,null,null,null,null,null,null,null,null,null,null,{"$f":"IF(U352=\"\",\"\",VLOOKUP(U352,'Country & Delivery'!$N$1:$O$8,2,0))","v":""},"",0,"NI","NIC","N",null,null,{"$f":"IFERROR(INDEX('Country & Delivery'!N341:N347,MATCH(BD352,'Country & Delivery'!O341:O347,0),1),\"\")","v":""},null,null,{"$f":"IFERROR(INDEX('Country & Delivery'!A341:A590,MATCH(BG352,'Country & Delivery'!B341:B590,0),1),\"\")","v":""}]
[340,null,null,null,null,null,null,null,null,null,null,null,null,null,null,{"$f":"IF(O353=\"\",\"\",VLOOKUP(O353,Products!A:C,2,FALSE))","v":""},{"$f":"IF(O353=\"\",\"\",VLOOKUP(O353,Products!A:C,3,FALSE))","v":""},null,"",{"$f":"IF(Y353=\"\",\"\",VLOOKUP(Y353,'Country & Delivery'!B:C,2,FALSE))","v":""},null,{"$f":"IF(U353=\"\",\"\",VLOOKUP(U353,'Country & Delivery'!N:O,2,FALSE))","v":""},null,null,{"$f":"IF(L353=\"\",\"\",VLOOKUP(L353,'Country & Delivery'!A:B,2,FALSE))","v":""},null,null,null,null,null,null,null,null,null,null,null,{"$f":"IF(M353=\"\",\"\",VLOOKUP(M353,'Country & Delivery'!AB:AC,2,FALSE))","v":""},null,null,null,null,null,null,null,null,null,null,null,{"$f":"IF(U353=\"\",\"\",VLOOKUP(U353,'Country & Delivery'!$N$1:$O$8,2,0))","v":""},"",0,"Nicaragua","NIC","N",null,null,{"$f":"IFERROR(INDEX('Country & Delivery'!N342:N348,MATCH(BD353,'Country & Delivery'!O342:O348,0),1),\"\")","v":""},null,null,{"$f":"IFERROR(INDEX('Country & Delivery'!A342:A591,MATCH(BG353,'Country & Delivery'!B342:B591,0),1),\"\")","v":""}]
[341,null,null,null,null,null,null,null,null,null,null,null,null,null,null,{"$f":"IF(O354=\"\",\"\",VLOOKUP(O354,Products!A:C,2,FALSE))","v":""},{"$f":"IF(O354=\"\",\"\",VLOOKUP(O354,Products!A:C,3,FALSE))","v":""},null,"",{"$f":"IF(Y354=\"\",\"\",VLOOKUP(Y354,'Country & Delivery'!B:C,2,FALSE))","v":""},null,{"$f":"IF(U354=\"\",\"\",VLOOKUP(U354,'Country & Delivery'!N:O,2,FALSE))","v":""},null,null,{"$f":"IF(L354=\"\",\"\",VLOOKUP(L354,'Country & Delivery'!A:B,2,FALSE))","v":""},null,null,null,null,null,null,null,null,null,null,null,{"$f":"IF(M354=\"\",\"\",VLOOKUP(M354,'Country & Delivery'!AB:AC,2,FALSE))","v":""},null,null,null,null,null,null,null,null,null,null,null,{"$f":"IF(U354=\"\",\"\",VLOOKUP(U354,'Country & Delivery'!$N$1:$O$8,2,0))","v":""},"",0,"Niger","NER","N","dc",null,{"$f":"IFERROR(INDEX('Country & Delivery'!N343:N349,MATCH(BD354,'Country & Delivery'!O343:O349,0),1),\"\")","v":""},null,null,{"$f":"IFERROR(INDEX('Country & Delivery'!A343:A592,MATCH(BG354,'Country & Delivery'!B343:B592,0),1),\"\")","v":""}]
[342,null,null,null,null,null,null,null,null,null,null,null,null,null,null,{"$f":"IF(O355=\"\",\"\",VLOOKUP(O355,Products!A:C,2,FALSE))","v":""},{"$f":"IF(O355=\"\",\"\",VLOOKUP(O355,Products!A:C,3,FALSE))","v":""},null,"",{"$f":"IF(Y355=\"\",\"\",VLOOKUP(Y355,'Country & Delivery'!B:C,2,FALSE))","v":""},null,{"$f":"IF(U355=\"\",\"\",VLOOKUP(U355,'Country & Delivery'!N:O,2,FALSE))","v":""},null,null,{"$f":"IF(L355=\"\",\"\",VLOOKUP(L355,'Country & Delivery'!A:B,2,FALSE))","v":""},null,null,null,null,null,null,null,null,null,null,null,{"$f":"IF(M355=\"\",\"\",VLOOKUP(M355,'Country & Delivery'!AB:AC,2,FALSE))","v":""},null,null,null,null,null,null,null,null,null,null,null,{"$f":"IF(U355=\"\",\"\",VLOOKUP(U355,'Country & Delivery'!$N$1:$O$8,2,0))","v":""},"",0,"Nigeria","NGA","N",null,null,{"$f":"IFERROR(INDEX('Country & Delivery'!N344:N350,MATCH(BD355,'Country & Delivery'!O344:O350,0),1),\"\")","v":""},null,null,{"$f":"IFERROR(INDEX('Country & Delivery'!A344:A593,MATCH(BG355,'Country & Delivery'!B344:B593,0),1),\"\")","v":""}]
[343,null,null,null,null,null,null,null,null,null,null,null,null,null,null,{"$f":"IF(O356=\"\",\"\",VLOOKUP(O356,Products!A:C,2,FALSE))","v":""},{"$f":"IF(O356=\"\",\"\",VLOOKUP(O356,Products!A:C,3,FALSE))","v":""},null,"",{"$f":"IF(Y356=\"\",\"\",VLOOKUP(Y356,'Country & Delivery'!B:C,2,FALSE))","v":""},null,{"$f":"IF(U356=\"\",\"\",VLOOKUP(U356,'Country & Delivery'!N:O,2,FALSE))","v":""},null,null,{"$f":"IF(L356=\"\",\"\",VLOOKUP(L356,'Country & Delivery'!A:B,2,FALSE))","v":""},null,null,null,null,null,null,null,null,null,null,null,{"$f":"IF(M356=\"\",\"\",VLOOKUP(M356,'Country & Delivery'!AB:AC,2,FALSE))","v":""},null,null,null,null,null,null,null,null,null,null,null,{"$f":"IF(U356=\"\",\"\",VLOOKUP(U356,'Country & Delivery'!$N$1:$O$8,2,0))","v":""},"",0,"Niue","NIU","N","dc",null,{"$f":"IFERROR(INDEX('Country & Delivery'!N345:N351,MATCH(BD356,'Country & Delivery'!O345:O351,0),1),\"\")","v":""},null,null,{"$f":"IFERROR(INDEX('Country & Delivery'!A345:A594,MATCH(BG356,'Country & Delivery'!B345:B594,0),1),\"\")","v":""}]
[344,null,null,null,null,null,null,null,null,null,null,null,null,null,null,{"$f":"IF(O357=\"\",\"\",VLOOKUP(O357,Products!A:C,2,FALSE))","v":""},{"$f":"IF(O357=\"\",\"\",VLOOKUP(O357,Products!A:C,3,FALSE))","v":""},null,"",{"$f":"IF(Y357=\"\",\"\",VLOOKUP(Y357,'Country & Delivery'!B:C,2,FALSE))","v":""},null,{"$f":"IF(U357=\"\",\"\",VLOOKUP(U357,'Country & Delivery'!N:O,2,FALSE))","v":""},null,null,{"$f":"IF(L357=\"\",\"\",VLOOKUP(L357,'Country & Delivery'!A:B,2,FALSE))","v":""},null,null,null,null,null,null,null,null,null,null,null,{"$f":"IF(M357=\"\",\"\",VLOOKUP(M357,'Country & Delivery'!AB:AC,2,FALSE))","v":""},null,null,null,null,null,null,null,null,null,null,null,{"$f":"IF(U357=\"\",\"\",VLOOKUP(U357,'Country & Delivery'!$N$1:$O$8,2,0))","v":""},"",0,"NL","NLD","Y",null,null,{"$f":"IFERROR(INDEX('Country & Delivery'!N346:N352,MATCH(BD357,'Country & Delivery'!O346:O352,0),1),\"\")","v":""},null,null,{"$f":"IFERROR(INDEX('Country & Delivery'!A346:A595,MATCH(BG357,'Country & Delivery'!B346:B595,0),1),\"\")","v":""}]
[345,null,null,null,null,null,null,null,null,null,null,null,null,null,null,{"$f":"IF(O358=\"\",\"\",VLOOKUP(O358,Products!A:C,2,FALSE))","v":""},{"$f":"IF(O358=\"\",\"\",VLOOKUP(O358,Products!A:C,3,FALSE))","v":""},null,"",{"$f":"IF(Y358=\"\",\"\",VLOOKUP(Y358,'Country & Delivery'!B:C,2,FALSE))","v":""},null,{"$f":"IF(U358=\"\",\"\",VLOOKUP(U358,'Country & Delivery'!N:O,2,FALSE))","v":""},null,null,{"$f":"IF(L358=\"\",\"\",VLOOKUP(L358,'Country & Delivery'!A:B,2,FALSE))","v":""},null,null,null,null,null,null,null,null,null,null,null,{"$f":"IF(M358=\"\",\"\",VLOOKUP(M358,'Country & Delivery'!AB:AC,2,FALSE))","v":""},null,null,null,null,null,null,null,null,null,null,null,{"$f":"IF(U358=\"\",\"\",VLOOKUP(U358,'Country & Delivery'!$N$1:$O$8,2,0))","v":""},"",0,"NO","NOR","N",null,null,{"$f":"IFERROR(INDEX('Country & Delivery'!N347:N353,MATCH(BD358,'Country & Delivery'!O347:O353,0),1),\"\")","v":""},null,null,{"$f":"IFERROR(INDEX('Country & Delivery'!A347:A596,MATCH(BG358,'Country & Delivery'!B347:B596,0),1),\"\")","v":""}]
[346,null,null,null,null,null,null,null,null,null,null,null,null,null,null,{"$f":"IF(O359=\"\",\"\",VLOOKUP(O359,Products!A:C,2,FALSE))","v":""},{"$f":"IF(O359=\"\",\"\",VLOOKUP(O359,Products!A:C,3,FALSE))","v":""},null,"",{"$f":"IF(Y359=\"\",\"\",VLOOKUP(Y359,'Country & Delivery'!B:C,2,FALSE))","v":""},null,{"$f":"IF(U359=\"\",\"\",VLOOKUP(U359,'Country & Delivery'!N:O,2,FALSE))","v":""},null,null,{"$f":"IF(L359=\"\",\"\",VLOOKUP(L359,'Country & Delivery'!A:B,2,FALSE))","v":""},null,null,null,null,null,null,null,null,null,null,null,{"$f":"IF(M359=\"\",\"\",VLOOKUP(M359,'Country & Delivery'!AB:AC,2,FALSE))","v":""},null,null,null,null,null,null,null,null,null,null,null,{"$f":"IF(U359=\"\",\"\",VLOOKUP(U359,'Country & Delivery'!$N$1:$O$8,2,0))","v":""},"",0,"Norfolk Island","NFK","N","dc",null,{"$f":"IFERROR(INDEX('Country & Delivery'!N348:N354,MATCH(BD359,'Country & Delivery'!O348:O354,0),1),\"\")","v":""},null,null,{"$f":"IFERROR(INDEX('Country & Delivery'!A348:A597,MATCH(BG359,'Country & Delivery'!B348:B597,0),1),\"\")","v":""}]
[347,null,null,null,null,null,null,null,null,null,null,null,null,null,null,{"$f":"IF(O360=\"\",\"\",VLOOKUP(O360,Products!A:C,2,FALSE))","v":""},{"$f":"IF(O360=\"\",\"\",VLOOKUP(O360,Products!A:C,3,FALSE))","v":""},null,"",{"$f":"IF(Y360=\"\",\"\",VLOOKUP(Y360,'Country & Delivery'!B:C,2,FALSE))","v":""},null,{"$f":"IF(U360=\"\",\"\",VLOOKUP(U360,'Country & Delivery'!N:O,2,FALSE))","v":""},null,null,{"$f":"IF(L360=\"\",\"\",VLOOKUP(L360,'Country & Delivery'!A:B,2,FALSE))","v":""},null,null,null,null,null,null,null,null,null,null,null,{"$f":"IF(M360=\"\",\"\",VLOOKUP(M360,'Country & Delivery'!AB:AC,2,FALSE))","v":""},null,null,null,null,null,null,null,null,null,null,null,{"$f":"IF(U360=\"\",\"\",VLOOKUP(U360,'Country & Delivery'!$N$1:$O$8,2,0))","v":""},"",0,"North Korea","PRK","N",null,null,{"$f":"IFERROR(INDEX('Country & Delivery'!N349:N355,MATCH(BD360,'Country & Delivery'!O349:O355,0),1),\"\")","v":""},null,null,{"$f":"IFERROR(INDEX('Country & Delivery'!A349:A598,MATCH(BG360,'Country & Delivery'!B349:B598,0),1),\"\")","v":""}]
[348,null,null,null,null,null,null,null,null,null,null,null,null,null,null,{"$f":"IF(O361=\"\",\"\",VLOOKUP(O361,Products!A:C,2,FALSE))","v":""},{"$f":"IF(O361=\"\",\"\",VLOOKUP(O361,Products!A:C,3,FALSE))","v":""},null,"",{"$f":"IF(Y361=\"\",\"\",VLOOKUP(Y361,'Country & Delivery'!B:C,2,FALSE))","v":""},null,{"$f":"IF(U361=\"\",\"\",VLOOKUP(U361,'Country & Delivery'!N:O,2,FALSE))","v":""},null,null,{"$f":"IF(L361=\"\",\"\",VLOOKUP(L361,'Country & Delivery'!A:B,2,FALSE))","v":""},null,null,null,null,null,null,null,null,null,null,null,{"$f":"IF(M361=\"\",\"\",VLOOKUP(M361,'Country & Delivery'!AB:AC,2,FALSE))","v":""},null,null,null,null,null,null,null,null,null,null,null,{"$f":"IF(U361=\"\",\"\",VLOOKUP(U361,'Country & Delivery'!$N$1:$O$8,2,0))","v":""},"",0,"Northern Mariana Islands","MNP","N","dc",null,{"$f":"IFERROR(INDEX('Country & Delivery'!N350:N356,MATCH(BD361,'Country & Delivery'!O350:O356,0),1),\"\")","v":""},null,null,{"$f":"IFERROR(INDEX('Country & Delivery'!A350:A599,MATCH(BG361,'Country & Delivery'!B350:B599,0),1),\"\")","v":""}]
[349,null,null,null,null,null,null,null,null,null,null,null,null,null,null,{"$f":"IF(O362=\"\",\"\",VLOOKUP(O362,Products!A:C,2,FALSE))","v":""},{"$f":"IF(O362=\"\",\"\",VLOOKUP(O362,Products!A:C,3,FALSE))","v":""},null,"",{"$f":"IF(Y362=\"\",\"\",VLOOKUP(Y362,'Country & Delivery'!B:C,2,FALSE))","v":""},null,{"$f":"IF(U362=\"\",\"\",VLOOKUP(U362,'Country & Delivery'!N:O,2,FALSE))","v":""},null,null,{"$f":"IF(L362=\"\",\"\",VLOOKUP(L362,'Country & Delivery'!A:B,2,FALSE))","v":""},null,null,null,null,null,null,null,null,null,null,null,{"$f":"IF(M362=\"\",\"\",VLOOKUP(M362,'Country & Delivery'!AB:AC,2,FALSE))","v":""},null,null,null,null,null,null,null,null,null,null,null,{"$f":"IF(U362=\"\",\"\",VLOOKUP(U362,'Country & Delivery'!$N$1:$O$8,2,0))","v":""},"",0,"Norway","NOR","N","EU?",null,{"$f":"IFERROR(INDEX('Country & Delivery'!N351:N357,MATCH(BD362,'Country & Delivery'!O351:O357,0),1),\"\")","v":""},null,null,{"$f":"IFERROR(INDEX('Country & Delivery'!A351:A600,MATCH(BG362,'Country & Delivery'!B351:B600,0),1),\"\")","v":""}]
[350,null,null,null,null,null,null,null,null,null,null,null,null,null,null,{"$f":"IF(O363=\"\",\"\",VLOOKUP(O363,Products!A:C,2,FALSE))","v":""},{"$f":"IF(O363=\"\",\"\",VLOOKUP(O363,Products!A:C,3,FALSE))","v":""},null,"",{"$f":"IF(Y363=\"\",\"\",VLOOKUP(Y363,'Country & Delivery'!B:C,2,FALSE))","v":""},null,{"$f":"IF(U363=\"\",\"\",VLOOKUP(U363,'Country & Delivery'!N:O,2,FALSE))","v":""},null,null,{"$f":"IF(L363=\"\",\"\",VLOOKUP(L363,'Country & Delivery'!A:B,2,FALSE))","v":""},null,null,null,null,null,null,null,null,null,null,null,{"$f":"IF(M363=\"\",\"\",VLOOKUP(M363,'Country & Delivery'!AB:AC,2,FALSE))","v":""},null,null,null,null,null,null,null,null,null,null,null,{"$f":"IF(U363=\"\",\"\",VLOOKUP(U363,'Country & Delivery'!$N$1:$O$8,2,0))","v":""},"",0,"NP","NPL","N","dc",null,{"$f":"IFERROR(INDEX('Country & Delivery'!N352:N358,MATCH(BD363,'Country & Delivery'!O352:O358,0),1),\"\")","v":""},null,null,{"$f":"IFERROR(INDEX('Country & Delivery'!A352:A601,MATCH(BG363,'Country & Delivery'!B352:B601,0),1),\"\")","v":""}]
[351,null,null,null,null,null,null,null,null,null,null,null,null,null,null,{"$f":"IF(O364=\"\",\"\",VLOOKUP(O364,Products!A:C,2,FALSE))","v":""},{"$f":"IF(O364=\"\",\"\",VLOOKUP(O364,Products!A:C,3,FALSE))","v":""},null,"",{"$f":"IF(Y364=\"\",\"\",VLOOKUP(Y364,'Country & Delivery'!B:C,2,FALSE))","v":""},null,{"$f":"IF(U364=\"\",\"\",VLOOKUP(U364,'Country & Delivery'!N:O,2,FALSE))","v":""},null,null,{"$f":"IF(L364=\"\",\"\",VLOOKUP(L364,'Country & Delivery'!A:B,2,FALSE))","v":""},null,null,null,null,null,null,null,null,null,null,null,{"$f":"IF(M364=\"\",\"\",VLOOKUP(M364,'Country & Delivery'!AB:AC,2,FALSE))","v":""},null,null,null,null,null,null,null,null,null,null,null,{"$f":"IF(U364=\"\",\"\",VLOOKUP(U364,'Country & Delivery'!$N$1:$O$8,2,0))","v":""},"",0,"NR","NRU","N","dc",null,{"$f":"IFERROR(INDEX('Country & Delivery'!N353:N359,MATCH(BD364,'Country & Delivery'!O353:O359,0),1),\"\")","v":""},null,null,{"$f":"IFERROR(INDEX('Country & Delivery'!A353:A602,MATCH(BG364,'Country & Delivery'!B353:B602,0),1),\"\")","v":""}]
[352,null,null,null,null,null,null,null,null,null,null,null,null,null,null,{"$f":"IF(O365=\"\",\"\",VLOOKUP(O365,Products!A:C,2,FALSE))","v":""},{"$f":"IF(O365=\"\",\"\",VLOOKUP(O365,Products!A:C,3,FALSE))","v":""},null,"",{"$f":"IF(Y365=\"\",\"\",VLOOKUP(Y365,'Country & Delivery'!B:C,2,FALSE))","v":""},null,{"$f":"IF(U365=\"\",\"\",VLOOKUP(U365,'Country & Delivery'!N:O,2,FALSE))","v":""},null,null,{"$f":"IF(L365=\"\",\"\",VLOOKUP(L365,'Country & Delivery'!A:B,2,FALSE))","v":""},null,null,null,null,null,null,null,null,null,null,null,{"$f":"IF(M365=\"\",\"\",VLOOKUP(M365,'Country & Delivery'!AB:AC,2,FALSE))","v":""},null,null,null,null,null,null,null,null,null,null,null,{"$f":"IF(U365=\"\",\"\",VLOOKUP(U365,'Country & Delivery'!$N$1:$O$8,2,0))","v":""},"",0,"NU","NIU","N","dc",null,{"$f":"IFERROR(INDEX('Country & Delivery'!N354:N360,MATCH(BD365,'Country & Delivery'!O354:O360,0),1),\"\")","v":""},null,null,{"$f":"IFERROR(INDEX('Country & Delivery'!A354:A603,MATCH(BG365,'Country & Delivery'!B354:B603,0),1),\"\")","v":""}]
[353,null,null,null,null,null,null,null,null,null,null,null,null,null,null,{"$f":"IF(O366=\"\",\"\",VLOOKUP(O366,Products!A:C,2,FALSE))","v":""},{"$f":"IF(O366=\"\",\"\",VLOOKUP(O366,Products!A:C,3,FALSE))","v":""},null,"",{"$f":"IF(Y366=\"\",\"\",VLOOKUP(Y366,'Country & Delivery'!B:C,2,FALSE))","v":""},null,{"$f":"IF(U366=\"\",\"\",VLOOKUP(U366,'Country & Delivery'!N:O,2,FALSE))","v":""},null,null,{"$f":"IF(L366=\"\",\"\",VLOOKUP(L366,'Country & Delivery'!A:B,2,FALSE))","v":""},null,null,null,null,null,null,null,null,null,null,null,{"$f":"IF(M366=\"\",\"\",VLOOKUP(M366,'Country & Delivery'!AB:AC,2,FALSE))","v":""},null,null,null,null,null,null,null,null,null,null,null,{"$f":"IF(U366=\"\",\"\",VLOOKUP(U366,'Country & Delivery'!$N$1:$O$8,2,0))","v":""},"",0,"NZ","NZL","N",null,null,{"$f":"IFERROR(INDEX('Country & Delivery'!N355:N361,MATCH(BD366,'Country & Delivery'!O355:O361,0),1),\"\")","v":""},null,null,{"$f":"IFERROR(INDEX('Country & Delivery'!A355:A604,MATCH(BG366,'Country & Delivery'!B355:B604,0),1),\"\")","v":""}]
[354,null,null,null,null,null,null,null,null,null,null,null,null,null,null,{"$f":"IF(O367=\"\",\"\",VLOOKUP(O367,Products!A:C,2,FALSE))","v":""},{"$f":"IF(O367=\"\",\"\",VLOOKUP(O367,Products!A:C,3,FALSE))","v":""},null,"",{"$f":"IF(Y367=\"\",\"\",VLOOKUP(Y367,'Country & Delivery'!B:C,2,FALSE))","v":""},null,{"$f":"IF(U367=\"\",\"\",VLOOKUP(U367,'Country & Delivery'!N:O,2,FALSE))","v":""},null,null,{"$f":"IF(L367=\"\",\"\",VLOOKUP(L367,'Country & Delivery'!A:B,2,FALSE))","v":""},null,null,null,null,null,null,null,null,null,null,null,{"$f":"IF(M367=\"\",\"\",VLOOKUP(M367,'Country & Delivery'!AB:AC,2,FALSE))","v":""},null,null,null,null,null,null,null,null,null,null,null,{"$f":"IF(U367=\"\",\"\",VLOOKUP(U367,'Country & Delivery'!$N$1:$O$8,2,0))","v":""},"",0,"OM","OMN","N",null,null,{"$f":"IFERROR(INDEX('Country & Delivery'!N356:N362,MATCH(BD367,'Country & Delivery'!O356:O362,0),1),\"\")","v":""},null,null,{"$f":"IFERROR(INDEX('Country & Delivery'!A356:A605,MATCH(BG367,'Country & Delivery'!B356:B605,0),1),\"\")","v":""}]
[355,null,null,null,null,null,null,null,null,null,null,null,null,null,null,{"$f":"IF(O368=\"\",\"\",VLOOKUP(O368,Products!A:C,2,FALSE))","v":""},{"$f":"IF(O368=\"\",\"\",VLOOKUP(O368,Products!A:C,3,FALSE))","v":""},null,"",{"$f":"IF(Y368=\"\",\"\",VLOOKUP(Y368,'Country & Delivery'!B:C,2,FALSE))","v":""},null,{"$f":"IF(U368=\"\",\"\",VLOOKUP(U368,'Country & Delivery'!N:O,2,FALSE))","v":""},null,null,{"$f":"IF(L368=\"\",\"\",VLOOKUP(L368,'Country & Delivery'!A:B,2,FALSE))","v":""},null,null,null,null,null,null,null,null,null,null,null,{"$f":"IF(M368=\"\",\"\",VLOOKUP(M368,'Country & Delivery'!AB:AC,2,FALSE))","v":""},null,null,null,null,null,null,null,null,null,null,null,{"$f":"IF(U368=\"\",\"\",VLOOKUP(U368,'Country & Delivery'!$N$1:$O$8,2,0))","v":""},"",0,"Oman","OMN","N",null,null,{"$f":"IFERROR(INDEX('Country & Delivery'!N357:N363,MATCH(BD368,'Country & Delivery'!O357:O363,0),1),\"\")","v":""},null,null,{"$f":"IFERROR(INDEX('Country & Delivery'!A357:A606,MATCH(BG368,'Country & Delivery'!B357:B606,0),1),\"\")","v":""}]
[356,null,null,null,null,null,null,null,null,null,null,null,null,null,null,{"$f":"IF(O369=\"\",\"\",VLOOKUP(O369,Products!A:C,2,FALSE))","v":""},{"$f":"IF(O369=\"\",\"\",VLOOKUP(O369,Products!A:C,3,FALSE))","v":""},null,"",{"$f":"IF(Y369=\"\",\"\",VLOOKUP(Y369,'Country & Delivery'!B:C,2,FALSE))","v":""},null,{"$f":"IF(U369=\"\",\"\",VLOOKUP(U369,'Country & Delivery'!N:O,2,FALSE))","v":""},null,null,{"$f":"IF(L369=\"\",\"\",VLOOKUP(L369,'Country & Delivery'!A:B,2,FALSE))","v":""},null,null,null,null,null,null,null,null,null,null,null,{"$f":"IF(M369=\"\",\"\",VLOOKUP(M369,'Country & Delivery'!AB:AC,2,FALSE))","v":""},null,null,null,null,null,null,null,null,null,null,null,{"$f":"IF(U369=\"\",\"\",VLOOKUP(U369,'Country & Delivery'!$N$1:$O$8,2,0))","v":""},"",0,"PA","PAN","N",null,null,{"$f":"IFERROR(INDEX('Country & Delivery'!N358:N364,MATCH(BD369,'Country & Delivery'!O358:O364,0),1),\"\")","v":""},null,null,{"$f":"IFERROR(INDEX('Country & Delivery'!A358:A607,MATCH(BG369,'Country & Delivery'!B358:B607,0),1),\"\")","v":""}]
[357,null,null,null,null,null,null,null,null,null,null,null,null,null,null,{"$f":"IF(O370=\"\",\"\",VLOOKUP(O370,Products!A:C,2,FALSE))","v":""},{"$f":"IF(O370=\"\",\"\",VLOOKUP(O370,Products!A:C,3,FALSE))","v":""},null,"",{"$f":"IF(Y370=\"\",\"\",VLOOKUP(Y370,'Country & Delivery'!B:C,2,FALSE))","v":""},null,{"$f":"IF(U370=\"\",\"\",VLOOKUP(U370,'Country & Delivery'!N:O,2,FALSE))","v":""},null,null,{"$f":"IF(L370=\"\",\"\",VLOOKUP(L370,'Country & Delivery'!A:B,2,FALSE))","v":""},null,null,null,null,null,null,null,null,null,null,null,{"$f":"IF(M370=\"\",\"\",VLOOKUP(M370,'Country & Delivery'!AB:AC,2,FALSE))","v":""},null,null,null,null,null,null,null,null,null,null,null,{"$f":"IF(U370=\"\",\"\",VLOOKUP(U370,'Country & Delivery'!$N$1:$O$8,2,0))","v":""},"",0,"Pakistan","PAK","N",null,null,{"$f":"IFERROR(INDEX('Country & Delivery'!N359:N365,MATCH(BD370,'Country & Delivery'!O359:O365,0),1),\"\")","v":""},null,null,{"$f":"IFERROR(INDEX('Country & Delivery'!A359:A608,MATCH(BG370,'Country & Delivery'!B359:B608,0),1),\"\")","v":""}]
[358,null,null,null,null,null,null,null,null,null,null,null,null,null,null,{"$f":"IF(O371=\"\",\"\",VLOOKUP(O371,Products!A:C,2,FALSE))","v":""},{"$f":"IF(O371=\"\",\"\",VLOOKUP(O371,Products!A:C,3,FALSE))","v":""},null,"",{"$f":"IF(Y371=\"\",\"\",VLOOKUP(Y371,'Country & Delivery'!B:C,2,FALSE))","v":""},null,{"$f":"IF(U371=\"\",\"\",VLOOKUP(U371,'Country & Delivery'!N:O,2,FALSE))","v":""},null,null,{"$f":"IF(L371=\"\",\"\",VLOOKUP(L371,'Country & Delivery'!A:B,2,FALSE))","v":""},null,null,null,null,null,null,null,null,null,null,null,{"$f":"IF(M371=\"\",\"\",VLOOKUP(M371,'Country & Delivery'!AB:AC,2,FALSE))","v":""},null,null,null,null,null,null,null,null,null,null,null,{"$f":"IF(U371=\"\",\"\",VLOOKUP(U371,'Country & Delivery'!$N$1:$O$8,2,0))","v":""},"",0,"Palau","PLW","N","dc",null,{"$f":"IFERROR(INDEX('Country & Delivery'!N360:N366,MATCH(BD371,'Country & Delivery'!O360:O366,0),1),\"\")","v":""},null,null,{"$f":"IFERROR(INDEX('Country & Delivery'!A360:A609,MATCH(BG371,'Country & Delivery'!B360:B609,0),1),\"\")","v":""}]
[359,null,null,null,null,null,null,null,null,null,null,null,null,null,null,{"$f":"IF(O372=\"\",\"\",VLOOKUP(O372,Products!A:C,2,FALSE))","v":""},{"$f":"IF(O372=\"\",\"\",VLOOKUP(O372,Products!A:C,3,FALSE))","v":""},null,{"$f":"IFERROR((Q372*R372),\"\")","v":""},{"$f":"IF(Y372=\"\",\"\",VLOOKUP(Y372,'Country & Delivery'!B:C,2,FALSE))","v":""},null,{"$f":"IF(U372=\"\",\"\",VLOOKUP(U372,'Country & Delivery'!N:O,2,FALSE))","v":""},null,null,{"$f":"IF(L372=\"\",\"\",VLOOKUP(L372,'Country & Delivery'!A:B,2,FALSE))","v":""},null,null,null,null,null,null,null,null,null,null,null,{"$f":"IF(M372=\"\",\"\",VLOOKUP(M372,'Country & Delivery'!AB:AC,2,FALSE))","v":""},null,null,null,null,null,null,null,null,null,null,null,{"$f":"IF(U372=\"\",\"\",VLOOKUP(U372,'Country & Delivery'!$N$1:$O$8,2,0))","v":""},"",0,"Palestine","PSE","N","dc",null,{"$f":"IFERROR(INDEX('Country & Delivery'!N361:N367,MATCH(BD372,'Country & Delivery'!O361:O367,0),1),\"\")","v":""},null,null,{"$f":"IFERROR(INDEX('Country & Delivery'!A361:A610,MATCH(BG372,'Country & Delivery'!B361:B610,0),1),\"\")","v":""}]
[360,null,null,null,null,null,null,null,null,null,null,null,null,null,null,{"$f":"IF(O373=\"\",\"\",VLOOKUP(O373,Products!A:C,2,FALSE))","v":""},{"$f":"IF(O373=\"\",\"\",VLOOKUP(O373,Products!A:C,3,FALSE))","v":""},null,"",{"$f":"IF(Y373=\"\",\"\",VLOOKUP(Y373,'Country & Delivery'!B:C,2,FALSE))","v":""},null,{"$f":"IF(U373=\"\",\"\",VLOOKUP(U373,'Country & Delivery'!N:O,2,FALSE))","v":""},null,null,{"$f":"IF(L373=\"\",\"\",VLOOKUP(L373,'Country & Delivery'!A:B,2,FALSE))","v":""},null,null,null,null,null,null,null,null,null,null,null,{"$f":"IF(M373=\"\",\"\",VLOOKUP(M373,'Country & Delivery'!AB:AC,2,FALSE))","v":""},null,null,null,null,null,null,null,null,null,null,null,{"$f":"IF(U373=\"\",\"\",VLOOKUP(U373,'Country & Delivery'!$N$1:$O$8,2,0))","v":""},"",0,"Panama","PAN","N",null,null,{"$f":"IFERROR(INDEX('Country & Delivery'!N362:N368,MATCH(BD373,'Country & Delivery'!O362:O368,0),1),\"\")","v":""},null,null,{"$f":"IFERROR(INDEX('Country & Delivery'!A362:A611,MATCH(BG373,'Country & Delivery'!B362:B611,0),1),\"\")","v":""}]
[361,null,null,null,null,null,null,null,null,null,null,null,null,null,null,{"$f":"IF(O374=\"\",\"\",VLOOKUP(O374,Products!A:C,2,FALSE))","v":""},{"$f":"IF(O374=\"\",\"\",VLOOKUP(O374,Products!A:C,3,FALSE))","v":""},null,"",{"$f":"IF(Y374=\"\",\"\",VLOOKUP(Y374,'Country & Delivery'!B:C,2,FALSE))","v":""},null,{"$f":"IF(U374=\"\",\"\",VLOOKUP(U374,'Country & Delivery'!N:O,2,FALSE))","v":""},null,null,{"$f":"IF(L374=\"\",\"\",VLOOKUP(L374,'Country & Delivery'!A:B,2,FALSE))","v":""},null,null,null,null,null,null,null,null,null,null,null,{"$f":"IF(M374=\"\",\"\",VLOOKUP(M374,'Country & Delivery'!AB:AC,2,FALSE))","v":""},null,null,null,null,null,null,null,null,null,null,null,{"$f":"IF(U374=\"\",\"\",VLOOKUP(U374,'Country & Delivery'!$N$1:$O$8,2,0))","v":""},"",0,"Papua New Guinea","PNG","N","dc",null,{"$f":"IFERROR(INDEX('Country & Delivery'!N363:N369,MATCH(BD374,'Country & Delivery'!O363:O369,0),1),\"\")","v":""},null,null,{"$f":"IFERROR(INDEX('Country & Delivery'!A363:A612,MATCH(BG374,'Country & Delivery'!B363:B612,0),1),\"\")","v":""}]
[362,null,null,null,null,null,null,null,null,null,null,null,null,null,null,{"$f":"IF(O375=\"\",\"\",VLOOKUP(O375,Products!A:C,2,FALSE))","v":""},{"$f":"IF(O375=\"\",\"\",VLOOKUP(O375,Products!A:C,3,FALSE))","v":""},null,"",{"$f":"IF(Y375=\"\",\"\",VLOOKUP(Y375,'Country & Delivery'!B:C,2,FALSE))","v":""},null,{"$f":"IF(U375=\"\",\"\",VLOOKUP(U375,'Country & Delivery'!N:O,2,FALSE))","v":""},null,null,{"$f":"IF(L375=\"\",\"\",VLOOKUP(L375,'Country & Delivery'!A:B,2,FALSE))","v":""},null,null,null,null,null,null,null,null,null,null,null,{"$f":"IF(M375=\"\",\"\",VLOOKUP(M375,'Country & Delivery'!AB:AC,2,FALSE))","v":""},null,null,null,null,null,null,null,null,null,null,null,{"$f":"IF(U375=\"\",\"\",VLOOKUP(U375,'Country & Delivery'!$N$1:$O$8,2,0))","v":""},"",0,"Paraguay","PRY","N",null,null,{"$f":"IFERROR(INDEX('Country & Delivery'!N364:N370,MATCH(BD375,'Country & Delivery'!O364:O370,0),1),\"\")","v":""},null,null,{"$f":"IFERROR(INDEX('Country & Delivery'!A364:A613,MATCH(BG375,'Country & Delivery'!B364:B613,0),1),\"\")","v":""}]
[363,null,null,null,null,null,null,null,null,null,null,null,null,null,null,{"$f":"IF(O376=\"\",\"\",VLOOKUP(O376,Products!A:C,2,FALSE))","v":""},{"$f":"IF(O376=\"\",\"\",VLOOKUP(O376,Products!A:C,3,FALSE))","v":""},null,"",{"$f":"IF(Y376=\"\",\"\",VLOOKUP(Y376,'Country & Delivery'!B:C,2,FALSE))","v":""},null,{"$f":"IF(U376=\"\",\"\",VLOOKUP(U376,'Country & Delivery'!N:O,2,FALSE))","v":""},null,null,{"$f":"IF(L376=\"\",\"\",VLOOKUP(L376,'Country & Delivery'!A:B,2,FALSE))","v":""},null,null,null,null,null,null,null,null,null,null,null,{"$f":"IF(M376=\"\",\"\",VLOOKUP(M376,'Country & Delivery'!AB:AC,2,FALSE))","v":""},null,null,null,null,null,null,null,null,null,null,null,{"$f":"IF(U376=\"\",\"\",VLOOKUP(U376,'Country & Delivery'!$N$1:$O$8,2,0))","v":""},"",0,"PE","PER","N",null,null,{"$f":"IFERROR(INDEX('Country & Delivery'!N365:N371,MATCH(BD376,'Country & Delivery'!O365:O371,0),1),\"\")","v":""},null,null,{"$f":"IFERROR(INDEX('Country & Delivery'!A365:A614,MATCH(BG376,'Country & Delivery'!B365:B614,0),1),\"\")","v":""}]
[364,null,null,null,null,null,null,null,null,null,null,null,null,null,null,{"$f":"IF(O377=\"\",\"\",VLOOKUP(O377,Products!A:C,2,FALSE))","v":""},{"$f":"IF(O377=\"\",\"\",VLOOKUP(O377,Products!A:C,3,FALSE))","v":""},null,"",{"$f":"IF(Y377=\"\",\"\",VLOOKUP(Y377,'Country & Delivery'!B:C,2,FALSE))","v":""},null,{"$f":"IF(U377=\"\",\"\",VLOOKUP(U377,'Country & Delivery'!N:O,2,FALSE))","v":""},null,null,{"$f":"IF(L377=\"\",\"\",VLOOKUP(L377,'Country & Delivery'!A:B,2,FALSE))","v":""},null,null,null,null,null,null,null,null,null,null,null,{"$f":"IF(M377=\"\",\"\",VLOOKUP(M377,'Country & Delivery'!AB:AC,2,FALSE))","v":""},null,null,null,null,null,null,null,null,null,null,null,{"$f":"IF(U377=\"\",\"\",VLOOKUP(U377,'Country & Delivery'!$N$1:$O$8,2,0))","v":""},"",0,"Peru","PER","N",null,null,{"$f":"IFERROR(INDEX('Country & Delivery'!N366:N372,MATCH(BD377,'Country & Delivery'!O366:O372,0),1),\"\")","v":""},null,null,{"$f":"IFERROR(INDEX('Country & Delivery'!A366:A615,MATCH(BG377,'Country & Delivery'!B366:B615,0),1),\"\")","v":""}]
[365,null,null,null,null,null,null,null,null,null,null,null,null,null,null,{"$f":"IF(O378=\"\",\"\",VLOOKUP(O378,Products!A:C,2,FALSE))","v":""},{"$f":"IF(O378=\"\",\"\",VLOOKUP(O378,Products!A:C,3,FALSE))","v":""},null,"",{"$f":"IF(Y378=\"\",\"\",VLOOKUP(Y378,'Country & Delivery'!B:C,2,FALSE))","v":""},null,{"$f":"IF(U378=\"\",\"\",VLOOKUP(U378,'Country & Delivery'!N:O,2,FALSE))","v":""},null,null,{"$f":"IF(L378=\"\",\"\",VLOOKUP(L378,'Country & Delivery'!A:B,2,FALSE))","v":""},null,null,null,null,null,null,null,null,null,null,null,{"$f":"IF(M378=\"\",\"\",VLOOKUP(M378,'Country & Delivery'!AB:AC,2,FALSE))","v":""},null,null,null,null,null,null,null,null,null,null,null,{"$f":"IF(U378=\"\",\"\",VLOOKUP(U378,'Country & Delivery'!$N$1:$O$8,2,0))","v":""},"",0,"PF","PYF","N","dc",null,{"$f":"IFERROR(INDEX('Country & Delivery'!N367:N373,MATCH(BD378,'Country & Delivery'!O367:O373,0),1),\"\")","v":""},null,null,{"$f":"IFERROR(INDEX('Country & Delivery'!A367:A616,MATCH(BG378,'Country & Delivery'!B367:B616,0),1),\"\")","v":""}]
[366,null,null,null,null,null,null,null,null,null,null,null,null,null,null,{"$f":"IF(O379=\"\",\"\",VLOOKUP(O379,Products!A:C,2,FALSE))","v":""},{"$f":"IF(O379=\"\",\"\",VLOOKUP(O379,Products!A:C,3,FALSE))","v":""},null,"",{"$f":"IF(Y379=\"\",\"\",VLOOKUP(Y379,'Country & Delivery'!B:C,2,FALSE))","v":""},null,{"$f":"IF(U379=\"\",\"\",VLOOKUP(U379,'Country & Delivery'!N:O,2,FALSE))","v":""},null,null,{"$f":"IF(L379=\"\",\"\",VLOOKUP(L379,'Country & Delivery'!A:B,2,FALSE))","v":""},null,null,null,null,null,null,null,null,null,null,null,{"$f":"IF(M379=\"\",\"\",VLOOKUP(M379,'Country & Delivery'!AB:AC,2,FALSE))","v":""},null,null,null,null,null,null,null,null,null,null,null,{"$f":"IF(U379=\"\",\"\",VLOOKUP(U379,'Country & Delivery'!$N$1:$O$8,2,0))","v":""},"",0,"PG","PNG","N","dc",null,{"$f":"IFERROR(INDEX('Country & Delivery'!N368:N374,MATCH(BD379,'Country & Delivery'!O368:O374,0),1),\"\")","v":""},null,null,{"$f":"IFERROR(INDEX('Country & Delivery'!A368:A617,MATCH(BG379,'Country & Delivery'!B368:B617,0),1),\"\")","v":""}]
[367,null,null,null,null,null,null,null,null,null,null,null,null,null,null,{"$f":"IF(O380=\"\",\"\",VLOOKUP(O380,Products!A:C,2,FALSE))","v":""},{"$f":"IF(O380=\"\",\"\",VLOOKUP(O380,Products!A:C,3,FALSE))","v":""},null,"",{"$f":"IF(Y380=\"\",\"\",VLOOKUP(Y380,'Country & Delivery'!B:C,2,FALSE))","v":""},null,{"$f":"IF(U380=\"\",\"\",VLOOKUP(U380,'Country & Delivery'!N:O,2,FALSE))","v":""},null,null,{"$f":"IF(L380=\"\",\"\",VLOOKUP(L380,'Country & Delivery'!A:B,2,FALSE))","v":""},null,null,null,null,null,null,null,null,null,null,null,{"$f":"IF(M380=\"\",\"\",VLOOKUP(M380,'Country & Delivery'!AB:AC,2,FALSE))","v":""},null,null,null,null,null,null,null,null,null,null,null,{"$f":"IF(U380=\"\",\"\",VLOOKUP(U380,'Country & Delivery'!$N$1:$O$8,2,0))","v":""},"",0,"PH","PHL","N",null,null,{"$f":"IFERROR(INDEX('Country & Delivery'!N369:N375,MATCH(BD380,'Country & Delivery'!O369:O375,0),1),\"\")","v":""},null,null,{"$f":"IFERROR(INDEX('Country & Delivery'!A369:A618,MATCH(BG380,'Country & Delivery'!B369:B618,0),1),\"\")","v":""}]
[368,null,null,null,null,null,null,null,null,null,null,null,null,null,null,{"$f":"IF(O381=\"\",\"\",VLOOKUP(O381,Products!A:C,2,FALSE))","v":""},{"$f":"IF(O381=\"\",\"\",VLOOKUP(O381,Products!A:C,3,FALSE))","v":""},null,"",{"$f":"IF(Y381=\"\",\"\",VLOOKUP(Y381,'Country & Delivery'!B:C,2,FALSE))","v":""},null,{"$f":"IF(U381=\"\",\"\",VLOOKUP(U381,'Country & Delivery'!N:O,2,FALSE))","v":""},null,null,{"$f":"IF(L381=\"\",\"\",VLOOKUP(L381,'Country & Delivery'!A:B,2,FALSE))","v":""},null,null,null,null,null,null,null,null,null,null,null,{"$f":"IF(M381=\"\",\"\",VLOOKUP(M381,'Country & Delivery'!AB:AC,2,FALSE))","v":""},null,null,null,null,null,null,null,null,null,null,null,{"$f":"IF(U381=\"\",\"\",VLOOKUP(U381,'Country & Delivery'!$N$1:$O$8,2,0))","v":""},"",0,"Philippines","PHL","N",null,null,{"$f":"IFERROR(INDEX('Country & Delivery'!N370:N376,MATCH(BD381,'Country & Delivery'!O370:O376,0),1),\"\")","v":""},null,null,{"$f":"IFERROR(INDEX('Country & Delivery'!A370:A619,MATCH(BG381,'Country & Delivery'!B370:B619,0),1),\"\")","v":""}]
[369,null,null,null,null,null,null,null,null,null,null,null,null,null,null,{"$f":"IF(O382=\"\",\"\",VLOOKUP(O382,Products!A:C,2,FALSE))","v":""},{"$f":"IF(O382=\"\",\"\",VLOOKUP(O382,Products!A:C,3,FALSE))","v":""},null,"",{"$f":"IF(Y382=\"\",\"\",VLOOKUP(Y382,'Country & Delivery'!B:C,2,FALSE))","v":""},null,{"$f":"IF(U382=\"\",\"\",VLOOKUP(U382,'Country & Delivery'!N:O,2,FALSE))","v":""},null,null,{"$f":"IF(L382=\"\",\"\",VLOOKUP(L382,'Country & Delivery'!A:B,2,FALSE))","v":""},null,null,null,null,null,null,null,null,null,null,null,{"$f":"IF(M382=\"\",\"\",VLOOKUP(M382,'Country & Delivery'!AB:AC,2,FALSE))","v":""},null,null,null,null,null,null,null,null,null,null,null,{"$f":"IF(U382=\"\",\"\",VLOOKUP(U382,'Country & Delivery'!$N$1:$O$8,2,0))","v":""},"",0,"Pitcairn","PCN","N","dc",null,{"$f":"IFERROR(INDEX('Country & Delivery'!N371:N377,MATCH(BD382,'Country & Delivery'!O371:O377,0),1),\"\")","v":""},null,null,{"$f":"IFERROR(INDEX('Country & Delivery'!A371:A620,MATCH(BG382,'Country & Delivery'!B371:B620,0),1),\"\")","v":""}]
[370,null,null,null,null,null,null,null,null,null,null,null,null,null,null,{"$f":"IF(O383=\"\",\"\",VLOOKUP(O383,Products!A:C,2,FALSE))","v":""},{"$f":"IF(O383=\"\",\"\",VLOOKUP(O383,Products!A:C,3,FALSE))","v":""},null,"",{"$f":"IF(Y383=\"\",\"\",VLOOKUP(Y383,'Country & Delivery'!B:C,2,FALSE))","v":""},null,{"$f":"IF(U383=\"\",\"\",VLOOKUP(U383,'Country & Delivery'!N:O,2,FALSE))","v":""},null,null,{"$f":"IF(L383=\"\",\"\",VLOOKUP(L383,'Country & Delivery'!A:B,2,FALSE))","v":""},null,null,null,null,null,null,null,null,null,null,null,{"$f":"IF(M383=\"\",\"\",VLOOKUP(M383,'Country & Delivery'!AB:AC,2,FALSE))","v":""},null,null,null,null,null,null,null,null,null,null,null,{"$f":"IF(U383=\"\",\"\",VLOOKUP(U383,'Country & Delivery'!$N$1:$O$8,2,0))","v":""},"",0,"PK","PAK","N",null,null,{"$f":"IFERROR(INDEX('Country & Delivery'!N372:N378,MATCH(BD383,'Country & Delivery'!O372:O378,0),1),\"\")","v":""},null,null,{"$f":"IFERROR(INDEX('Country & Delivery'!A372:A621,MATCH(BG383,'Country & Delivery'!B372:B621,0),1),\"\")","v":""}]
[371,null,null,null,null,null,null,null,null,null,null,null,null,null,null,{"$f":"IF(O384=\"\",\"\",VLOOKUP(O384,Products!A:C,2,FALSE))","v":""},{"$f":"IF(O384=\"\",\"\",VLOOKUP(O384,Products!A:C,3,FALSE))","v":""},null,"",{"$f":"IF(Y384=\"\",\"\",VLOOKUP(Y384,'Country & Delivery'!B:C,2,FALSE))","v":""},null,{"$f":"IF(U384=\"\",\"\",VLOOKUP(U384,'Country & Delivery'!N:O,2,FALSE))","v":""},null,null,{"$f":"IF(L384=\"\",\"\",VLOOKUP(L384,'Country & Delivery'!A:B,2,FALSE))","v":""},null,null,null,null,null,null,null,null,null,null,null,{"$f":"IF(M384=\"\",\"\",VLOOKUP(M384,'Country & Delivery'!AB:AC,2,FALSE))","v":""},null,null,null,null,null,null,null,null,null,null,null,{"$f":"IF(U384=\"\",\"\",VLOOKUP(U384,'Country & Delivery'!$N$1:$O$8,2,0))","v":""},"",0,"PL","POL","Y",null,null,{"$f":"IFERROR(INDEX('Country & Delivery'!N373:N379,MATCH(BD384,'Country & Delivery'!O373:O379,0),1),\"\")","v":""},null,null,{"$f":"IFERROR(INDEX('Country & Delivery'!A373:A622,MATCH(BG384,'Country & Delivery'!B373:B622,0),1),\"\")","v":""}]
[372,null,null,null,null,null,null,null,null,null,null,null,null,null,null,{"$f":"IF(O385=\"\",\"\",VLOOKUP(O385,Products!A:C,2,FALSE))","v":""},{"$f":"IF(O385=\"\",\"\",VLOOKUP(O385,Products!A:C,3,FALSE))","v":""},null,"",{"$f":"IF(Y385=\"\",\"\",VLOOKUP(Y385,'Country & Delivery'!B:C,2,FALSE))","v":""},null,{"$f":"IF(U385=\"\",\"\",VLOOKUP(U385,'Country & Delivery'!N:O,2,FALSE))","v":""},null,null,{"$f":"IF(L385=\"\",\"\",VLOOKUP(L385,'Country & Delivery'!A:B,2,FALSE))","v":""},null,null,null,null,null,null,null,null,null,null,null,{"$f":"IF(M385=\"\",\"\",VLOOKUP(M385,'Country & Delivery'!AB:AC,2,FALSE))","v":""},null,null,null,null,null,null,null,null,null,null,null,{"$f":"IF(U385=\"\",\"\",VLOOKUP(U385,'Country & Delivery'!$N$1:$O$8,2,0))","v":""},"",0,"PM","SPM","N","dc",null,{"$f":"IFERROR(INDEX('Country & Delivery'!N374:N380,MATCH(BD385,'Country & Delivery'!O374:O380,0),1),\"\")","v":""},null,null,{"$f":"IFERROR(INDEX('Country & Delivery'!A374:A623,MATCH(BG385,'Country & Delivery'!B374:B623,0),1),\"\")","v":""}]
[373,null,null,null,null,null,null,null,null,null,null,null,null,null,null,{"$f":"IF(O386=\"\",\"\",VLOOKUP(O386,Products!A:C,2,FALSE))","v":""},{"$f":"IF(O386=\"\",\"\",VLOOKUP(O386,Products!A:C,3,FALSE))","v":""},null,"",{"$f":"IF(Y386=\"\",\"\",VLOOKUP(Y386,'Country & Delivery'!B:C,2,FALSE))","v":""},null,{"$f":"IF(U386=\"\",\"\",VLOOKUP(U386,'Country & Delivery'!N:O,2,FALSE))","v":""},null,null,{"$f":"IF(L386=\"\",\"\",VLOOKUP(L386,'Country & Delivery'!A:B,2,FALSE))","v":""},null,null,null,null,null,null,null,null,null,null,null,{"$f":"IF(M386=\"\",\"\",VLOOKUP(M386,'Country & Delivery'!AB:AC,2,FALSE))","v":""},null,null,null,null,null,null,null,null,null,null,null,{"$f":"IF(U386=\"\",\"\",VLOOKUP(U386,'Country & Delivery'!$N$1:$O$8,2,0))","v":""},"",0,"PN","PCN","N","dc",null,{"$f":"IFERROR(INDEX('Country & Delivery'!N375:N381,MATCH(BD386,'Country & Delivery'!O375:O381,0),1),\"\")","v":""},null,null,{"$f":"IFERROR(INDEX('Country & Delivery'!A375:A624,MATCH(BG386,'Country & Delivery'!B375:B624,0),1),\"\")","v":""}]
[374,null,null,null,null,null,null,null,null,null,null,null,null,null,null,{"$f":"IF(O387=\"\",\"\",VLOOKUP(O387,Products!A:C,2,FALSE))","v":""},{"$f":"IF(O387=\"\",\"\",VLOOKUP(O387,Products!A:C,3,FALSE))","v":""},null,"",{"$f":"IF(Y387=\"\",\"\",VLOOKUP(Y387,'Country & Delivery'!B:C,2,FALSE))","v":""},null,{"$f":"IF(U387=\"\",\"\",VLOOKUP(U387,'Country & Delivery'!N:O,2,FALSE))","v":""},null,null,{"$f":"IF(L387=\"\",\"\",VLOOKUP(L387,'Country & Delivery'!A:B,2,FALSE))","v":""},null,null,null,null,null,null,null,null,null,null,null,{"$f":"IF(M387=\"\",\"\",VLOOKUP(M387,'Country & Delivery'!AB:AC,2,FALSE))","v":""},null,null,null,null,null,null,null,null,null,null,null,{"$f":"IF(U387=\"\",\"\",VLOOKUP(U387,'Country & Delivery'!$N$1:$O$8,2,0))","v":""},"",0,"Poland","POL","Y",null,null,{"$f":"IFERROR(INDEX('Country & Delivery'!N376:N382,MATCH(BD387,'Country & Delivery'!O376:O382,0),1),\"\")","v":""},null,null,{"$f":"IFERROR(INDEX('Country & Delivery'!A376:A625,MATCH(BG387,'Country & Delivery'!B376:B625,0),1),\"\")","v":""}]
[375,null,null,null,null,null,null,null,null,null,null,null,null,null,null,{"$f":"IF(O388=\"\",\"\",VLOOKUP(O388,Products!A:C,2,FALSE))","v":""},{"$f":"IF(O388=\"\",\"\",VLOOKUP(O388,Products!A:C,3,FALSE))","v":""},null,"",{"$f":"IF(Y388=\"\",\"\",VLOOKUP(Y388,'Country & Delivery'!B:C,2,FALSE))","v":""},null,{"$f":"IF(U388=\"\",\"\",VLOOKUP(U388,'Country & Delivery'!N:O,2,FALSE))","v":""},null,null,{"$f":"IF(L388=\"\",\"\",VLOOKUP(L388,'Country & Delivery'!A:B,2,FALSE))","v":""},null,null,null,null,null,null,null,null,null,null,null,{"$f":"IF(M388=\"\",\"\",VLOOKUP(M388,'Country & Delivery'!AB:AC,2,FALSE))","v":""},null,null,null,null,null,null,null,null,null,null,null,{"$f":"IF(U388=\"\",\"\",VLOOKUP(U388,'Country & Delivery'!$N$1:$O$8,2,0))","v":""},"",0,"Portugal","PRT","Y",null,null,{"$f":"IFERROR(INDEX('Country & Delivery'!N377:N383,MATCH(BD388,'Country & Delivery'!O377:O383,0),1),\"\")","v":""},null,null,{"$f":"IFERROR(INDEX('Country & Delivery'!A377:A626,MATCH(BG388,'Country & Delivery'!B377:B626,0),1),\"\")","v":""}]
[376,null,null,null,null,null,null,null,null,null,null,null,null,null,null,{"$f":"IF(O389=\"\",\"\",VLOOKUP(O389,Products!A:C,2,FALSE))","v":""},{"$f":"IF(O389=\"\",\"\",VLOOKUP(O389,Products!A:C,3,FALSE))","v":""},null,"",{"$f":"IF(Y389=\"\",\"\",VLOOKUP(Y389,'Country & Delivery'!B:C,2,FALSE))","v":""},null,{"$f":"IF(U389=\"\",\"\",VLOOKUP(U389,'Country & Delivery'!N:O,2,FALSE))","v":""},null,null,{"$f":"IF(L389=\"\",\"\",VLOOKUP(L389,'Country & Delivery'!A:B,2,FALSE))","v":""},null,null,null,null,null,null,null,null,null,null,null,{"$f":"IF(M389=\"\",\"\",VLOOKUP(M389,'Country & Delivery'!AB:AC,2,FALSE))","v":""},null,null,null,null,null,null,null,null,null,null,null,{"$f":"IF(U389=\"\",\"\",VLOOKUP(U389,'Country & Delivery'!$N$1:$O$8,2,0))","v":""},"",0,"PR","PRI","N",null,null,{"$f":"IFERROR(INDEX('Country & Delivery'!N378:N384,MATCH(BD389,'Country & Delivery'!O378:O384,0),1),\"\")","v":""},null,null,{"$f":"IFERROR(INDEX('Country & Delivery'!A378:A627,MATCH(BG389,'Country & Delivery'!B378:B627,0),1),\"\")","v":""}]
[377,null,null,null,null,null,null,null,null,null,null,null,null,null,null,{"$f":"IF(O390=\"\",\"\",VLOOKUP(O390,Products!A:C,2,FALSE))","v":""},{"$f":"IF(O390=\"\",\"\",VLOOKUP(O390,Products!A:C,3,FALSE))","v":""},null,"",{"$f":"IF(Y390=\"\",\"\",VLOOKUP(Y390,'Country & Delivery'!B:C,2,FALSE))","v":""},null,{"$f":"IF(U390=\"\",\"\",VLOOKUP(U390,'Country & Delivery'!N:O,2,FALSE))","v":""},null,null,{"$f":"IF(L390=\"\",\"\",VLOOKUP(L390,'Country & Delivery'!A:B,2,FALSE))","v":""},null,null,null,null,null,null,null,null,null,null,null,{"$f":"IF(M390=\"\",\"\",VLOOKUP(M390,'Country & Delivery'!AB:AC,2,FALSE))","v":""},null,null,null,null,null,null,null,null,null,null,null,{"$f":"IF(U390=\"\",\"\",VLOOKUP(U390,'Country & Delivery'!$N$1:$O$8,2,0))","v":""},"",0,"PS","PSE","N","dc",null,{"$f":"IFERROR(INDEX('Country & Delivery'!N379:N385,MATCH(BD390,'Country & Delivery'!O379:O385,0),1),\"\")","v":""},null,null,{"$f":"IFERROR(INDEX('Country & Delivery'!A379:A628,MATCH(BG390,'Country & Delivery'!B379:B628,0),1),\"\")","v":""}]
[378,null,null,null,null,null,null,null,null,null,null,null,null,null,null,{"$f":"IF(O391=\"\",\"\",VLOOKUP(O391,Products!A:C,2,FALSE))","v":""},{"$f":"IF(O391=\"\",\"\",VLOOKUP(O391,Products!A:C,3,FALSE))","v":""},null,"",{"$f":"IF(Y391=\"\",\"\",VLOOKUP(Y391,'Country & Delivery'!B:C,2,FALSE))","v":""},null,{"$f":"IF(U391=\"\",\"\",VLOOKUP(U391,'Country & Delivery'!N:O,2,FALSE))","v":""},null,null,{"$f":"IF(L391=\"\",\"\",VLOOKUP(L391,'Country & Delivery'!A:B,2,FALSE))","v":""},null,null,null,null,null,null,null,null,null,null,null,{"$f":"IF(M391=\"\",\"\",VLOOKUP(M391,'Country & Delivery'!AB:AC,2,FALSE))","v":""},null,null,null,null,null,null,null,null,null,null,null,{"$f":"IF(U391=\"\",\"\",VLOOKUP(U391,'Country & Delivery'!$N$1:$O$8,2,0))","v":""},"",0,"PT","PRT","Y",null,null,{"$f":"IFERROR(INDEX('Country & Delivery'!N380:N386,MATCH(BD391,'Country & Delivery'!O380:O386,0),1),\"\")","v":""},null,null,{"$f":"IFERROR(INDEX('Country & Delivery'!A380:A629,MATCH(BG391,'Country & Delivery'!B380:B629,0),1),\"\")","v":""}]
[379,null,null,null,null,null,null,null,null,null,null,null,null,null,null,{"$f":"IF(O392=\"\",\"\",VLOOKUP(O392,Products!A:C,2,FALSE))","v":""},{"$f":"IF(O392=\"\",\"\",VLOOKUP(O392,Products!A:C,3,FALSE))","v":""},null,"",{"$f":"IF(Y392=\"\",\"\",VLOOKUP(Y392,'Country & Delivery'!B:C,2,FALSE))","v":""},null,{"$f":"IF(U392=\"\",\"\",VLOOKUP(U392,'Country & Delivery'!N:O,2,FALSE))","v":""},null,null,{"$f":"IF(L392=\"\",\"\",VLOOKUP(L392,'Country & Delivery'!A:B,2,FALSE))","v":""},null,null,null,null,null,null,null,null,null,null,null,{"$f":"IF(M392=\"\",\"\",VLOOKUP(M392,'Country & Delivery'!AB:AC,2,FALSE))","v":""},null,null,null,null,null,null,null,null,null,null,null,{"$f":"IF(U392=\"\",\"\",VLOOKUP(U392,'Country & Delivery'!$N$1:$O$8,2,0))","v":""},"",0,"Puerto Rico","PRI","N",null,null,{"$f":"IFERROR(INDEX('Country & Delivery'!N381:N387,MATCH(BD392,'Country & Delivery'!O381:O387,0),1),\"\")","v":""},null,null,{"$f":"IFERROR(INDEX('Country & Delivery'!A381:A630,MATCH(BG392,'Country & Delivery'!B381:B630,0),1),\"\")","v":""}]
[380,null,null,null,null,null,null,null,null,null,null,null,null,null,null,{"$f":"IF(O393=\"\",\"\",VLOOKUP(O393,Products!A:C,2,FALSE))","v":""},{"$f":"IF(O393=\"\",\"\",VLOOKUP(O393,Products!A:C,3,FALSE))","v":""},null,"",{"$f":"IF(Y393=\"\",\"\",VLOOKUP(Y393,'Country & Delivery'!B:C,2,FALSE))","v":""},null,{"$f":"IF(U393=\"\",\"\",VLOOKUP(U393,'Country & Delivery'!N:O,2,FALSE))","v":""},null,null,{"$f":"IF(L393=\"\",\"\",VLOOKUP(L393,'Country & Delivery'!A:B,2,FALSE))","v":""},null,null,null,null,null,null,null,null,null,null,null,{"$f":"IF(M393=\"\",\"\",VLOOKUP(M393,'Country & Delivery'!AB:AC,2,FALSE))","v":""},null,null,null,null,null,null,null,null,null,null,null,{"$f":"IF(U393=\"\",\"\",VLOOKUP(U393,'Country & Delivery'!$N$1:$O$8,2,0))","v":""},"",0,"PW","PLW","N","dc",null,{"$f":"IFERROR(INDEX('Country & Delivery'!N382:N388,MATCH(BD393,'Country & Delivery'!O382:O388,0),1),\"\")","v":""},null,null,{"$f":"IFERROR(INDEX('Country & Delivery'!A382:A631,MATCH(BG393,'Country & Delivery'!B382:B631,0),1),\"\")","v":""}]
[381,null,null,null,null,null,null,null,null,null,null,null,null,null,null,{"$f":"IF(O394=\"\",\"\",VLOOKUP(O394,Products!A:C,2,FALSE))","v":""},{"$f":"IF(O394=\"\",\"\",VLOOKUP(O394,Products!A:C,3,FALSE))","v":""},null,"",{"$f":"IF(Y394=\"\",\"\",VLOOKUP(Y394,'Country & Delivery'!B:C,2,FALSE))","v":""},null,{"$f":"IF(U394=\"\",\"\",VLOOKUP(U394,'Country & Delivery'!N:O,2,FALSE))","v":""},null,null,{"$f":"IF(L394=\"\",\"\",VLOOKUP(L394,'Country & Delivery'!A:B,2,FALSE))","v":""},null,null,null,null,null,null,null,null,null,null,null,{"$f":"IF(M394=\"\",\"\",VLOOKUP(M394,'Country & Delivery'!AB:AC,2,FALSE))","v":""},null,null,null,null,null,null,null,null,null,null,null,{"$f":"IF(U394=\"\",\"\",VLOOKUP(U394,'Country & Delivery'!$N$1:$O$8,2,0))","v":""},"",0,"PY","PRY","N",null,null,{"$f":"IFERROR(INDEX('Country & Delivery'!N383:N389,MATCH(BD394,'Country & Delivery'!O383:O389,0),1),\"\")","v":""},null,null,{"$f":"IFERROR(INDEX('Country & Delivery'!A383:A632,MATCH(BG394,'Country & Delivery'!B383:B632,0),1),\"\")","v":""}]
[382,null,null,null,null,null,null,null,null,null,null,null,null,null,null,{"$f":"IF(O395=\"\",\"\",VLOOKUP(O395,Products!A:C,2,FALSE))","v":""},{"$f":"IF(O395=\"\",\"\",VLOOKUP(O395,Products!A:C,3,FALSE))","v":""},null,"",{"$f":"IF(Y395=\"\",\"\",VLOOKUP(Y395,'Country & Delivery'!B:C,2,FALSE))","v":""},null,{"$f":"IF(U395=\"\",\"\",VLOOKUP(U395,'Country & Delivery'!N:O,2,FALSE))","v":""},null,null,{"$f":"IF(L395=\"\",\"\",VLOOKUP(L395,'Country & Delivery'!A:B,2,FALSE))","v":""},null,null,null,null,null,null,null,null,null,null,null,{"$f":"IF(M395=\"\",\"\",VLOOKUP(M395,'Country & Delivery'!AB:AC,2,FALSE))","v":""},null,null,null,null,null,null,null,null,null,null,null,{"$f":"IF(U395=\"\",\"\",VLOOKUP(U395,'Country & Delivery'!$N$1:$O$8,2,0))","v":""},"",0,"QA","QAT","N",null,null,{"$f":"IFERROR(INDEX('Country & Delivery'!N384:N390,MATCH(BD395,'Country & Delivery'!O384:O390,0),1),\"\")","v":""},null,null,{"$f":"IFERROR(INDEX('Country & Delivery'!A384:A633,MATCH(BG395,'Country & Delivery'!B384:B633,0),1),\"\")","v":""}]
[383,null,null,null,null,null,null,null,null,null,null,null,null,null,null,{"$f":"IF(O396=\"\",\"\",VLOOKUP(O396,Products!A:C,2,FALSE))","v":""},{"$f":"IF(O396=\"\",\"\",VLOOKUP(O396,Products!A:C,3,FALSE))","v":""},null,"",{"$f":"IF(Y396=\"\",\"\",VLOOKUP(Y396,'Country & Delivery'!B:C,2,FALSE))","v":""},null,{"$f":"IF(U396=\"\",\"\",VLOOKUP(U396,'Country & Delivery'!N:O,2,FALSE))","v":""},null,null,{"$f":"IF(L396=\"\",\"\",VLOOKUP(L396,'Country & Delivery'!A:B,2,FALSE))","v":""},null,null,null,null,null,null,null,null,null,null,null,{"$f":"IF(M396=\"\",\"\",VLOOKUP(M396,'Country & Delivery'!AB:AC,2,FALSE))","v":""},null,null,null,null,null,null,null,null,null,null,null,{"$f":"IF(U396=\"\",\"\",VLOOKUP(U396,'Country & Delivery'!$N$1:$O$8,2,0))","v":""},{"$f":"IF(O396<>\"\",COUNTIFS(D396:D396,\"\")+COUNTIFS(E396:E396,\"\")+COUNTIFS(I396:I396,\"\")+COUNTIFS(N396:N396,\"\")+COUNTIFS(O396:O396,\"\")+COUNTIFS(R396:R396,\"\")+COUNTIFS(U396:U396,\"\"),\"\")","v":""},0,"Qatar","QAT","N",null,null,{"$f":"IFERROR(INDEX('Country & Delivery'!N385:N391,MATCH(BD396,'Country & Delivery'!O385:O391,0),1),\"\")","v":""},null,null,{"$f":"IFERROR(INDEX('Country & Delivery'!A385:A634,MATCH(BG396,'Country & Delivery'!B385:B634,0),1),\"\")","v":""}]
[384,null,null,null,null,null,null,null,null,null,null,null,null,null,null,{"$f":"IF(O397=\"\",\"\",VLOOKUP(O397,Products!A:C,2,FALSE))","v":""},{"$f":"IF(O397=\"\",\"\",VLOOKUP(O397,Products!A:C,3,FALSE))","v":""},null,"",{"$f":"IF(Y397=\"\",\"\",VLOOKUP(Y397,'Country & Delivery'!B:C,2,FALSE))","v":""},null,{"$f":"IF(U397=\"\",\"\",VLOOKUP(U397,'Country & Delivery'!N:O,2,FALSE))","v":""},null,null,{"$f":"IF(L397=\"\",\"\",VLOOKUP(L397,'Country & Delivery'!A:B,2,FALSE))","v":""},null,null,null,null,null,null,null,null,null,null,null,{"$f":"IF(M397=\"\",\"\",VLOOKUP(M397,'Country & Delivery'!AB:AC,2,FALSE))","v":""},null,null,null,null,null,null,null,null,null,null,null,{"$f":"IF(U397=\"\",\"\",VLOOKUP(U397,'Country & Delivery'!$N$1:$O$8,2,0))","v":""},"",{"$f":"+$L$10","v":0},"RE","REU","Y",null,null,{"$f":"IFERROR(INDEX('Country & Delivery'!N386:N392,MATCH(BD397,'Country & Delivery'!O386:O392,0),1),\"\")","v":""},null,null,{"$f":"IFERROR(INDEX('Country & Delivery'!A386:A635,MATCH(BG397,'Country & Delivery'!B386:B635,0),1),\"\")","v":""}]
[385,null,null,null,null,null,null,null,null,null,null,null,null,null,null,{"$f":"IF(O398=\"\",\"\",VLOOKUP(O398,Products!A:C,2,FALSE))","v":""},{"$f":"IF(O398=\"\",\"\",VLOOKUP(O398,Products!A:C,3,FALSE))","v":""},null,"",{"$f":"IF(Y398=\"\",\"\",VLOOKUP(Y398,'Country & Delivery'!B:C,2,FALSE))","v":""},null,{"$f":"IF(U398=\"\",\"\",VLOOKUP(U398,'Country & Delivery'!N:O,2,FALSE))","v":""},null,null,{"$f":"IF(L398=\"\",\"\",VLOOKUP(L398,'Country & Delivery'!A:B,2,FALSE))","v":""},null,null,null,null,null,null,null,null,null,null,null,{"$f":"IF(M398=\"\",\"\",VLOOKUP(M398,'Country & Delivery'!AB:AC,2,FALSE))","v":""},null,null,null,null,null,null,null,null,null,null,null,{"$f":"IF(U398=\"\",\"\",VLOOKUP(U398,'Country & Delivery'!$N$1:$O$8,2,0))","v":""},"",0,"Republic of Ireland","IRL","Y",null,null,{"$f":"IFERROR(INDEX('Country & Delivery'!N387:N393,MATCH(BD398,'Country & Delivery'!O387:O393,0),1),\"\")","v":""},null,null,{"$f":"IFERROR(INDEX('Country & Delivery'!A387:A636,MATCH(BG398,'Country & Delivery'!B387:B636,0),1),\"\")","v":""}]
[386,null,null,null,null,null,null,null,null,null,null,null,null,null,null,{"$f":"IF(O399=\"\",\"\",VLOOKUP(O399,Products!A:C,2,FALSE))","v":""},{"$f":"IF(O399=\"\",\"\",VLOOKUP(O399,Products!A:C,3,FALSE))","v":""},null,"",{"$f":"IF(Y399=\"\",\"\",VLOOKUP(Y399,'Country & Delivery'!B:C,2,FALSE))","v":""},null,{"$f":"IF(U399=\"\",\"\",VLOOKUP(U399,'Country & Delivery'!N:O,2,FALSE))","v":""},null,null,{"$f":"IF(L399=\"\",\"\",VLOOKUP(L399,'Country & Delivery'!A:B,2,FALSE))","v":""},null,null,null,null,null,null,null,null,null,null,null,{"$f":"IF(M399=\"\",\"\",VLOOKUP(M399,'Country & Delivery'!AB:AC,2,FALSE))","v":""},null,null,null,null,null,null,null,null,null,null,null,{"$f":"IF(U399=\"\",\"\",VLOOKUP(U399,'Country & Delivery'!$N$1:$O$8,2,0))","v":""},"",0,"Reunion","REU","Y",null,null,{"$f":"IFERROR(INDEX('Country & Delivery'!N388:N394,MATCH(BD399,'Country & Delivery'!O388:O394,0),1),\"\")","v":""},null,null,{"$f":"IFERROR(INDEX('Country & Delivery'!A388:A637,MATCH(BG399,'Country & Delivery'!B388:B637,0),1),\"\")","v":""}]
[387,null,null,null,null,null,null,null,null,null,null,null,null,null,null,{"$f":"IF(O400=\"\",\"\",VLOOKUP(O400,Products!A:C,2,FALSE))","v":""},{"$f":"IF(O400=\"\",\"\",VLOOKUP(O400,Products!A:C,3,FALSE))","v":""},null,"",{"$f":"IF(Y400=\"\",\"\",VLOOKUP(Y400,'Country & Delivery'!B:C,2,FALSE))","v":""},null,{"$f":"IF(U400=\"\",\"\",VLOOKUP(U400,'Country & Delivery'!N:O,2,FALSE))","v":""},null,null,{"$f":"IF(L400=\"\",\"\",VLOOKUP(L400,'Country & Delivery'!A:B,2,FALSE))","v":""},null,null,null,null,null,null,null,null,null,null,null,{"$f":"IF(M400=\"\",\"\",VLOOKUP(M400,'Country & Delivery'!AB:AC,2,FALSE))","v":""},null,null,null,null,null,null,null,null,null,null,null,{"$f":"IF(U400=\"\",\"\",VLOOKUP(U400,'Country & Delivery'!$N$1:$O$8,2,0))","v":""},"",0,"RÉUNION","REU","Y","del meth",null,{"$f":"IFERROR(INDEX('Country & Delivery'!N389:N395,MATCH(BD400,'Country & Delivery'!O389:O395,0),1),\"\")","v":""},null,null,{"$f":"IFERROR(INDEX('Country & Delivery'!A389:A638,MATCH(BG400,'Country & Delivery'!B389:B638,0),1),\"\")","v":""}]
[388,null,null,null,null,null,null,null,null,null,null,null,null,null,null,{"$f":"IF(O401=\"\",\"\",VLOOKUP(O401,Products!A:C,2,FALSE))","v":""},{"$f":"IF(O401=\"\",\"\",VLOOKUP(O401,Products!A:C,3,FALSE))","v":""},null,"",{"$f":"IF(Y401=\"\",\"\",VLOOKUP(Y401,'Country & Delivery'!B:C,2,FALSE))","v":""},null,{"$f":"IF(U401=\"\",\"\",VLOOKUP(U401,'Country & Delivery'!N:O,2,FALSE))","v":""},null,null,{"$f":"IF(L401=\"\",\"\",VLOOKUP(L401,'Country & Delivery'!A:B,2,FALSE))","v":""},null,null,null,null,null,null,null,null,null,null,null,{"$f":"IF(M401=\"\",\"\",VLOOKUP(M401,'Country & Delivery'!AB:AC,2,FALSE))","v":""},null,null,null,null,null,null,null,null,null,null,null,{"$f":"IF(U401=\"\",\"\",VLOOKUP(U401,'Country & Delivery'!$N$1:$O$8,2,0))","v":""},"",0,"RO","ROU","Y",null,null,{"$f":"IFERROR(INDEX('Country & Delivery'!N390:N396,MATCH(BD401,'Country & Delivery'!O390:O396,0),1),\"\")","v":""},null,null,{"$f":"IFERROR(INDEX('Country & Delivery'!A390:A639,MATCH(BG401,'Country & Delivery'!B390:B639,0),1),\"\")","v":""}]
[389,null,null,null,null,null,null,null,null,null,null,null,null,null,null,{"$f":"IF(O402=\"\",\"\",VLOOKUP(O402,Products!A:C,2,FALSE))","v":""},{"$f":"IF(O402=\"\",\"\",VLOOKUP(O402,Products!A:C,3,FALSE))","v":""},null,"",{"$f":"IF(Y402=\"\",\"\",VLOOKUP(Y402,'Country & Delivery'!B:C,2,FALSE))","v":""},null,{"$f":"IF(U402=\"\",\"\",VLOOKUP(U402,'Country & Delivery'!N:O,2,FALSE))","v":""},null,null,{"$f":"IF(L402=\"\",\"\",VLOOKUP(L402,'Country & Delivery'!A:B,2,FALSE))","v":""},null,null,null,null,null,null,null,null,null,null,null,{"$f":"IF(M402=\"\",\"\",VLOOKUP(M402,'Country & Delivery'!AB:AC,2,FALSE))","v":""},null,null,null,null,null,null,null,null,null,null,null,{"$f":"IF(U402=\"\",\"\",VLOOKUP(U402,'Country & Delivery'!$N$1:$O$8,2,0))","v":""},"",0,"ROI","IRL","Y",null,null,{"$f":"IFERROR(INDEX('Country & Delivery'!N391:N397,MATCH(BD402,'Country & Delivery'!O391:O397,0),1),\"\")","v":""},null,null,{"$f":"IFERROR(INDEX('Country & Delivery'!A391:A640,MATCH(BG402,'Country & Delivery'!B391:B640,0),1),\"\")","v":""}]
[390,null,null,null,null,null,null,null,null,null,null,null,null,null,null,{"$f":"IF(O403=\"\",\"\",VLOOKUP(O403,Products!A:C,2,FALSE))","v":""},{"$f":"IF(O403=\"\",\"\",VLOOKUP(O403,Products!A:C,3,FALSE))","v":""},null,"",{"$f":"IF(Y403=\"\",\"\",VLOOKUP(Y403,'Country & Delivery'!B:C,2,FALSE))","v":""},null,{"$f":"IF(U403=\"\",\"\",VLOOKUP(U403,'Country & Delivery'!N:O,2,FALSE))","v":""},null,null,{"$f":"IF(L403=\"\",\"\",VLOOKUP(L403,'Country & Delivery'!A:B,2,FALSE))","v":""},null,null,null,null,null,null,null,null,null,null,null,{"$f":"IF(M403=\"\",\"\",VLOOKUP(M403,'Country & Delivery'!AB:AC,2,FALSE))","v":""},null,null,null,null,null,null,null,null,null,null,null,{"$f":"IF(U403=\"\",\"\",VLOOKUP(U403,'Country & Delivery'!$N$1:$O$8,2,0))","v":""},"",0,"Romania","ROU","Y",null,null,{"$f":"IFERROR(INDEX('Country & Delivery'!N392:N398,MATCH(BD403,'Country & Delivery'!O392:O398,0),1),\"\")","v":""},null,null,{"$f":"IFERROR(INDEX('Country & Delivery'!A392:A641,MATCH(BG403,'Country & Delivery'!B392:B641,0),1),\"\")","v":""}]
[391,null,null,null,null,null,null,null,null,null,null,null,null,null,null,{"$f":"IF(O404=\"\",\"\",VLOOKUP(O404,Products!A:C,2,FALSE))","v":""},{"$f":"IF(O404=\"\",\"\",VLOOKUP(O404,Products!A:C,3,FALSE))","v":""},null,"",{"$f":"IF(Y404=\"\",\"\",VLOOKUP(Y404,'Country & Delivery'!B:C,2,FALSE))","v":""},null,{"$f":"IF(U404=\"\",\"\",VLOOKUP(U404,'Country & Delivery'!N:O,2,FALSE))","v":""},null,null,{"$f":"IF(L404=\"\",\"\",VLOOKUP(L404,'Country & Delivery'!A:B,2,FALSE))","v":""},null,null,null,null,null,null,null,null,null,null,null,{"$f":"IF(M404=\"\",\"\",VLOOKUP(M404,'Country & Delivery'!AB:AC,2,FALSE))","v":""},null,null,null,null,null,null,null,null,null,null,null,{"$f":"IF(U404=\"\",\"\",VLOOKUP(U404,'Country & Delivery'!$N$1:$O$8,2,0))","v":""},"",0,"RS","SRB","N",null,null,{"$f":"IFERROR(INDEX('Country & Delivery'!N393:N399,MATCH(BD404,'Country & Delivery'!O393:O399,0),1),\"\")","v":""},null,null,{"$f":"IFERROR(INDEX('Country & Delivery'!A393:A642,MATCH(BG404,'Country & Delivery'!B393:B642,0),1),\"\")","v":""}]
[392,null,null,null,null,null,null,null,null,null,null,null,null,null,null,{"$f":"IF(O405=\"\",\"\",VLOOKUP(O405,Products!A:C,2,FALSE))","v":""},{"$f":"IF(O405=\"\",\"\",VLOOKUP(O405,Products!A:C,3,FALSE))","v":""},null,"",{"$f":"IF(Y405=\"\",\"\",VLOOKUP(Y405,'Country & Delivery'!B:C,2,FALSE))","v":""},null,{"$f":"IF(U405=\"\",\"\",VLOOKUP(U405,'Country & Delivery'!N:O,2,FALSE))","v":""},null,null,{"$f":"IF(L405=\"\",\"\",VLOOKUP(L405,'Country & Delivery'!A:B,2,FALSE))","v":""},null,null,null,null,null,null,null,null,null,null,null,{"$f":"IF(M405=\"\",\"\",VLOOKUP(M405,'Country & Delivery'!AB:AC,2,FALSE))","v":""},null,null,null,null,null,null,null,null,null,null,null,{"$f":"IF(U405=\"\",\"\",VLOOKUP(U405,'Country & Delivery'!$N$1:$O$8,2,0))","v":""},"",0,"RU","RUS","N","dc",null,{"$f":"IFERROR(INDEX('Country & Delivery'!N394:N400,MATCH(BD405,'Country & Delivery'!O394:O400,0),1),\"\")","v":""},null,null,{"$f":"IFERROR(INDEX('Country & Delivery'!A394:A643,MATCH(BG405,'Country & Delivery'!B394:B643,0),1),\"\")","v":""}]
[393,null,null,null,null,null,null,null,null,null,null,null,null,null,null,{"$f":"IF(O406=\"\",\"\",VLOOKUP(O406,Products!A:C,2,FALSE))","v":""},{"$f":"IF(O406=\"\",\"\",VLOOKUP(O406,Products!A:C,3,FALSE))","v":""},null,"",{"$f":"IF(Y406=\"\",\"\",VLOOKUP(Y406,'Country & Delivery'!B:C,2,FALSE))","v":""},null,{"$f":"IF(U406=\"\",\"\",VLOOKUP(U406,'Country & Delivery'!N:O,2,FALSE))","v":""},null,null,{"$f":"IF(L406=\"\",\"\",VLOOKUP(L406,'Country & Delivery'!A:B,2,FALSE))","v":""},null,null,null,null,null,null,null,null,null,null,null,{"$f":"IF(M406=\"\",\"\",VLOOKUP(M406,'Country & Delivery'!AB:AC,2,FALSE))","v":""},null,null,null,null,null,null,null,null,null,null,null,{"$f":"IF(U406=\"\",\"\",VLOOKUP(U406,'Country & Delivery'!$N$1:$O$8,2,0))","v":""},"",0,"Russian Federation","RUS","N",null,null,{"$f":"IFERROR(INDEX('Country & Delivery'!N395:N401,MATCH(BD406,'Country & Delivery'!O395:O401,0),1),\"\")","v":""},null,null,{"$f":"IFERROR(INDEX('Country & Delivery'!A395:A644,MATCH(BG406,'Country & Delivery'!B395:B644,0),1),\"\")","v":""}]
[394,null,null,null,null,null,null,null,null,null,null,null,null,null,null,{"$f":"IF(O407=\"\",\"\",VLOOKUP(O407,Products!A:C,2,FALSE))","v":""},{"$f":"IF(O407=\"\",\"\",VLOOKUP(O407,Products!A:C,3,FALSE))","v":""},null,"",{"$f":"IF(Y407=\"\",\"\",VLOOKUP(Y407,'Country & Delivery'!B:C,2,FALSE))","v":""},null,{"$f":"IF(U407=\"\",\"\",VLOOKUP(U407,'Country & Delivery'!N:O,2,FALSE))","v":""},null,null,{"$f":"IF(L407=\"\",\"\",VLOOKUP(L407,'Country & Delivery'!A:B,2,FALSE))","v":""},null,null,null,null,null,null,null,null,null,null,null,{"$f":"IF(M407=\"\",\"\",VLOOKUP(M407,'Country & Delivery'!AB:AC,2,FALSE))","v":""},null,null,null,null,null,null,null,null,null,null,null,{"$f":"IF(U407=\"\",\"\",VLOOKUP(U407,'Country & Delivery'!$N$1:$O$8,2,0))","v":""},"",0,"RW","RWA","N",null,null,{"$f":"IFERROR(INDEX('Country & Delivery'!N396:N402,MATCH(BD407,'Country & Delivery'!O396:O402,0),1),\"\")","v":""},null,null,{"$f":"IFERROR(INDEX('Country & Delivery'!A396:A645,MATCH(BG407,'Country & Delivery'!B396:B645,0),1),\"\")","v":""}]
[395,null,null,null,null,null,null,null,null,null,null,null,null,null,null,{"$f":"IF(O408=\"\",\"\",VLOOKUP(O408,Products!A:C,2,FALSE))","v":""},{"$f":"IF(O408=\"\",\"\",VLOOKUP(O408,Products!A:C,3,FALSE))","v":""},null,"",{"$f":"IF(Y408=\"\",\"\",VLOOKUP(Y408,'Country & Delivery'!B:C,2,FALSE))","v":""},null,{"$f":"IF(U408=\"\",\"\",VLOOKUP(U408,'Country & Delivery'!N:O,2,FALSE))","v":""},null,null,{"$f":"IF(L408=\"\",\"\",VLOOKUP(L408,'Country & Delivery'!A:B,2,FALSE))","v":""},null,null,null,null,null,null,null,null,null,null,null,{"$f":"IF(M408=\"\",\"\",VLOOKUP(M408,'Country & Delivery'!AB:AC,2,FALSE))","v":""},null,null,null,null,null,null,null,null,null,null,null,{"$f":"IF(U408=\"\",\"\",VLOOKUP(U408,'Country & Delivery'!$N$1:$O$8,2,0))","v":""},"",0,"Rwanda","RWA","N",null,null,{"$f":"IFERROR(INDEX('Country & Delivery'!N397:N403,MATCH(BD408,'Country & Delivery'!O397:O403,0),1),\"\")","v":""},null,null,{"$f":"IFERROR(INDEX('Country & Delivery'!A397:A646,MATCH(BG408,'Country & Delivery'!B397:B646,0),1),\"\")","v":""}]
[396,null,null,null,null,null,null,null,null,null,null,null,null,null,null,{"$f":"IF(O409=\"\",\"\",VLOOKUP(O409,Products!A:C,2,FALSE))","v":""},{"$f":"IF(O409=\"\",\"\",VLOOKUP(O409,Products!A:C,3,FALSE))","v":""},null,"",{"$f":"IF(Y409=\"\",\"\",VLOOKUP(Y409,'Country & Delivery'!B:C,2,FALSE))","v":""},null,{"$f":"IF(U409=\"\",\"\",VLOOKUP(U409,'Country & Delivery'!N:O,2,FALSE))","v":""},null,null,{"$f":"IF(L409=\"\",\"\",VLOOKUP(L409,'Country & Delivery'!A:B,2,FALSE))","v":""},null,null,null,null,null,null,null,null,null,null,null,{"$f":"IF(M409=\"\",\"\",VLOOKUP(M409,'Country & Delivery'!AB:AC,2,FALSE))","v":""},null,null,null,null,null,null,null,null,null,null,null,{"$f":"IF(U409=\"\",\"\",VLOOKUP(U409,'Country & Delivery'!$N$1:$O$8,2,0))","v":""},"",0,"SA","SAU","N",null,null,{"$f":"IFERROR(INDEX('Country & Delivery'!N398:N404,MATCH(BD409,'Country & Delivery'!O398:O404,0),1),\"\")","v":""},null,null,{"$f":"IFERROR(INDEX('Country & Delivery'!A398:A647,MATCH(BG409,'Country & Delivery'!B398:B647,0),1),\"\")","v":""}]
[397,null,null,null,null,null,null,null,null,null,null,null,null,null,null,{"$f":"IF(O410=\"\",\"\",VLOOKUP(O410,Products!A:C,2,FALSE))","v":""},{"$f":"IF(O410=\"\",\"\",VLOOKUP(O410,Products!A:C,3,FALSE))","v":""},null,"",{"$f":"IF(Y410=\"\",\"\",VLOOKUP(Y410,'Country & Delivery'!B:C,2,FALSE))","v":""},null,{"$f":"IF(U410=\"\",\"\",VLOOKUP(U410,'Country & Delivery'!N:O,2,FALSE))","v":""},null,null,{"$f":"IF(L410=\"\",\"\",VLOOKUP(L410,'Country & Delivery'!A:B,2,FALSE))","v":""},null,null,null,null,null,null,null,null,null,null,null,{"$f":"IF(M410=\"\",\"\",VLOOKUP(M410,'Country & Delivery'!AB:AC,2,FALSE))","v":""},null,null,null,null,null,null,null,null,null,null,null,{"$f":"IF(U410=\"\",\"\",VLOOKUP(U410,'Country & Delivery'!$N$1:$O$8,2,0))","v":""},"",0,"SAINT BARTHÉLEMY","BLM","N","dc",null,{"$f":"IFERROR(INDEX('Country & Delivery'!N399:N405,MATCH(BD410,'Country & Delivery'!O399:O405,0),1),\"\")","v":""},null,null,{"$f":"IFERROR(INDEX('Country & Delivery'!A399:A648,MATCH(BG410,'Country & Delivery'!B399:B648,0),1),\"\")","v":""}]
[398,null,null,null,null,null,null,null,null,null,null,null,null,null,null,{"$f":"IF(O411=\"\",\"\",VLOOKUP(O411,Products!A:C,2,FALSE))","v":""},{"$f":"IF(O411=\"\",\"\",VLOOKUP(O411,Products!A:C,3,FALSE))","v":""},null,"",{"$f":"IF(Y411=\"\",\"\",VLOOKUP(Y411,'Country & Delivery'!B:C,2,FALSE))","v":""},null,{"$f":"IF(U411=\"\",\"\",VLOOKUP(U411,'Country & Delivery'!N:O,2,FALSE))","v":""},null,null,{"$f":"IF(L411=\"\",\"\",VLOOKUP(L411,'Country & Delivery'!A:B,2,FALSE))","v":""},null,null,null,null,null,null,null,null,null,null,null,{"$f":"IF(M411=\"\",\"\",VLOOKUP(M411,'Country & Delivery'!AB:AC,2,FALSE))","v":""},null,null,null,null,null,null,null,null,null,null,null,{"$f":"IF(U411=\"\",\"\",VLOOKUP(U411,'Country & Delivery'!$N$1:$O$8,2,0))","v":""},"",0,"Saint Helena","SHN","N","dc",null,{"$f":"IFERROR(INDEX('Country & Delivery'!N400:N406,MATCH(BD411,'Country & Delivery'!O400:O406,0),1),\"\")","v":""},null,null,{"$f":"IFERROR(INDEX('Country & Delivery'!A400:A649,MATCH(BG411,'Country & Delivery'!B400:B649,0),1),\"\")","v":""}]
[399,null,null,null,null,null,null,null,null,null,null,null,null,null,null,{"$f":"IF(O412=\"\",\"\",VLOOKUP(O412,Products!A:C,2,FALSE))","v":""},{"$f":"IF(O412=\"\",\"\",VLOOKUP(O412,Products!A:C,3,FALSE))","v":""},null,"",{"$f":"IF(Y412=\"\",\"\",VLOOKUP(Y412,'Country & Delivery'!B:C,2,FALSE))","v":""},null,{"$f":"IF(U412=\"\",\"\",VLOOKUP(U412,'Country & Delivery'!N:O,2,FALSE))","v":""},null,null,{"$f":"IF(L412=\"\",\"\",VLOOKUP(L412,'Country & Delivery'!A:B,2,FALSE))","v":""},null,null,null,null,null,null,null,null,null,null,null,{"$f":"IF(M412=\"\",\"\",VLOOKUP(M412,'Country & Delivery'!AB:AC,2,FALSE))","v":""},null,null,null,null,null,null,null,null,null,null,null,{"$f":"IF(U412=\"\",\"\",VLOOKUP(U412,'Country & Delivery'!$N$1:$O$8,2,0))","v":""},"",0,"Saint Helena, Ascension and Tristan da Cunha","SHN","N","dc",null,{"$f":"IFERROR(INDEX('Country & Delivery'!N401:N407,MATCH(BD412,'Country & Delivery'!O401:O407,0),1),\"\")","v":""},null,null,{"$f":"IFERROR(INDEX('Country & Delivery'!A401:A650,MATCH(BG412,'Country & Delivery'!B401:B650,0),1),\"\")","v":""}]
[400,null,null,null,null,null,null,null,null,null,null,null,null,null,null,{"$f":"IF(O413=\"\",\"\",VLOOKUP(O413,Products!A:C,2,FALSE))","v":""},{"$f":"IF(O413=\"\",\"\",VLOOKUP(O413,Products!A:C,3,FALSE))","v":""},null,"",{"$f":"IF(Y413=\"\",\"\",VLOOKUP(Y413,'Country & Delivery'!B:C,2,FALSE))","v":""},null,{"$f":"IF(U413=\"\",\"\",VLOOKUP(U413,'Country & Delivery'!N:O,2,FALSE))","v":""},null,null,{"$f":"IF(L413=\"\",\"\",VLOOKUP(L413,'Country & Delivery'!A:B,2,FALSE))","v":""},null,null,null,null,null,null,null,null,null,null,null,{"$f":"IF(M413=\"\",\"\",VLOOKUP(M413,'Country & Delivery'!AB:AC,2,FALSE))","v":""},null,null,null,null,null,null,null,null,null,null,null,{"$f":"IF(U413=\"\",\"\",VLOOKUP(U413,'Country & Delivery'!$N$1:$O$8,2,0))","v":""},"",0,"Saint Kitts And Nevis","KNA","N",null,null,{"$f":"IFERROR(INDEX('Country & Delivery'!N402:N408,MATCH(BD413,'Country & Delivery'!O402:O408,0),1),\"\")","v":""},null,null,{"$f":"IFERROR(INDEX('Country & Delivery'!A402:A651,MATCH(BG413,'Country & Delivery'!B402:B651,0),1),\"\")","v":""}]
[401,null,null,null,null,null,null,null,null,null,null,null,null,null,null,{"$f":"IF(O414=\"\",\"\",VLOOKUP(O414,Products!A:C,2,FALSE))","v":""},{"$f":"IF(O414=\"\",\"\",VLOOKUP(O414,Products!A:C,3,FALSE))","v":""},null,"",{"$f":"IF(Y414=\"\",\"\",VLOOKUP(Y414,'Country & Delivery'!B:C,2,FALSE))","v":""},null,{"$f":"IF(U414=\"\",\"\",VLOOKUP(U414,'Country & Delivery'!N:O,2,FALSE))","v":""},null,null,{"$f":"IF(L414=\"\",\"\",VLOOKUP(L414,'Country & Delivery'!A:B,2,FALSE))","v":""},null,null,null,null,null,null,null,null,null,null,null,{"$f":"IF(M414=\"\",\"\",VLOOKUP(M414,'Country & Delivery'!AB:AC,2,FALSE))","v":""},null,null,null,null,null,null,null,null,null,null,null,{"$f":"IF(U414=\"\",\"\",VLOOKUP(U414,'Country & Delivery'!$N$1:$O$8,2,0))","v":""},"",0,"Saint Lucia","LCA","N",null,null,{"$f":"IFERROR(INDEX('Country & Delivery'!N403:N409,MATCH(BD414,'Country & Delivery'!O403:O409,0),1),\"\")","v":""},null,null,{"$f":"IFERROR(INDEX('Country & Delivery'!A403:A652,MATCH(BG414,'Country & Delivery'!B403:B652,0),1),\"\")","v":""}]
[402,null,null,null,null,null,null,null,null,null,null,null,null,null,null,{"$f":"IF(O415=\"\",\"\",VLOOKUP(O415,Products!A:C,2,FALSE))","v":""},{"$f":"IF(O415=\"\",\"\",VLOOKUP(O415,Products!A:C,3,FALSE))","v":""},null,"",{"$f":"IF(Y415=\"\",\"\",VLOOKUP(Y415,'Country & Delivery'!B:C,2,FALSE))","v":""},null,{"$f":"IF(U415=\"\",\"\",VLOOKUP(U415,'Country & Delivery'!N:O,2,FALSE))","v":""},null,null,{"$f":"IF(L415=\"\",\"\",VLOOKUP(L415,'Country & Delivery'!A:B,2,FALSE))","v":""},null,null,null,null,null,null,null,null,null,null,null,{"$f":"IF(M415=\"\",\"\",VLOOKUP(M415,'Country & Delivery'!AB:AC,2,FALSE))","v":""},null,null,null,null,null,null,null,null,null,null,null,{"$f":"IF(U415=\"\",\"\",VLOOKUP(U415,'Country & Delivery'!$N$1:$O$8,2,0))","v":""},"",0,"Saint Martin","MAF","Y",null,null,{"$f":"IFERROR(INDEX('Country & Delivery'!N404:N410,MATCH(BD415,'Country & Delivery'!O404:O410,0),1),\"\")","v":""},null,null,{"$f":"IFERROR(INDEX('Country & Delivery'!A404:A653,MATCH(BG415,'Country & Delivery'!B404:B653,0),1),\"\")","v":""}]
[403,null,null,null,null,null,null,null,null,null,null,null,null,null,null,{"$f":"IF(O416=\"\",\"\",VLOOKUP(O416,Products!A:C,2,FALSE))","v":""},{"$f":"IF(O416=\"\",\"\",VLOOKUP(O416,Products!A:C,3,FALSE))","v":""},null,"",{"$f":"IF(Y416=\"\",\"\",VLOOKUP(Y416,'Country & Delivery'!B:C,2,FALSE))","v":""},null,{"$f":"IF(U416=\"\",\"\",VLOOKUP(U416,'Country & Delivery'!N:O,2,FALSE))","v":""},null,null,{"$f":"IF(L416=\"\",\"\",VLOOKUP(L416,'Country & Delivery'!A:B,2,FALSE))","v":""},null,null,null,null,null,null,null,null,null,null,null,{"$f":"IF(M416=\"\",\"\",VLOOKUP(M416,'Country & Delivery'!AB:AC,2,FALSE))","v":""},null,null,null,null,null,null,null,null,null,null,null,{"$f":"IF(U416=\"\",\"\",VLOOKUP(U416,'Country & Delivery'!$N$1:$O$8,2,0))","v":""},"",0,"Saint Martin (French part)","MAF","Y","dc",null,{"$f":"IFERROR(INDEX('Country & Delivery'!N405:N411,MATCH(BD416,'Country & Delivery'!O405:O411,0),1),\"\")","v":""},null,null,{"$f":"IFERROR(INDEX('Country & Delivery'!A405:A654,MATCH(BG416,'Country & Delivery'!B405:B654,0),1),\"\")","v":""}]
[404,null,null,null,null,null,null,null,null,null,null,null,null,null,null,{"$f":"IF(O417=\"\",\"\",VLOOKUP(O417,Products!A:C,2,FALSE))","v":""},{"$f":"IF(O417=\"\",\"\",VLOOKUP(O417,Products!A:C,3,FALSE))","v":""},null,"",{"$f":"IF(Y417=\"\",\"\",VLOOKUP(Y417,'Country & Delivery'!B:C,2,FALSE))","v":""},null,{"$f":"IF(U417=\"\",\"\",VLOOKUP(U417,'Country & Delivery'!N:O,2,FALSE))","v":""},null,null,{"$f":"IF(L417=\"\",\"\",VLOOKUP(L417,'Country & Delivery'!A:B,2,FALSE))","v":""},null,null,null,null,null,null,null,null,null,null,null,{"$f":"IF(M417=\"\",\"\",VLOOKUP(M417,'Country & Delivery'!AB:AC,2,FALSE))","v":""},null,null,null,null,null,null,null,null,null,null,null,{"$f":"IF(U417=\"\",\"\",VLOOKUP(U417,'Country & Delivery'!$N$1:$O$8,2,0))","v":""},"",0,"Saint Pierre and Miquelon","SPM","N","dc",null,{"$f":"IFERROR(INDEX('Country & Delivery'!N406:N412,MATCH(BD417,'Country & Delivery'!O406:O412,0),1),\"\")","v":""},null,null,{"$f":"IFERROR(INDEX('Country & Delivery'!A406:A655,MATCH(BG417,'Country & Delivery'!B406:B655,0),1),\"\")","v":""}]
[405,null,null,null,null,null,null,null,null,null,null,null,null,null,null,{"$f":"IF(O418=\"\",\"\",VLOOKUP(O418,Products!A:C,2,FALSE))","v":""},{"$f":"IF(O418=\"\",\"\",VLOOKUP(O418,Products!A:C,3,FALSE))","v":""},null,"",{"$f":"IF(Y418=\"\",\"\",VLOOKUP(Y418,'Country & Delivery'!B:C,2,FALSE))","v":""},null,{"$f":"IF(U418=\"\",\"\",VLOOKUP(U418,'Country & Delivery'!N:O,2,FALSE))","v":""},null,null,{"$f":"IF(L418=\"\",\"\",VLOOKUP(L418,'Country & Delivery'!A:B,2,FALSE))","v":""},null,null,null,null,null,null,null,null,null,null,null,{"$f":"IF(M418=\"\",\"\",VLOOKUP(M418,'Country & Delivery'!AB:AC,2,FALSE))","v":""},null,null,null,null,null,null,null,null,null,null,null,{"$f":"IF(U418=\"\",\"\",VLOOKUP(U418,'Country & Delivery'!$N$1:$O$8,2,0))","v":""},"",0,"Saint Vincent And The Grenadines","VCT","N",null,null,{"$f":"IFERROR(INDEX('Country & Delivery'!N407:N413,MATCH(BD418,'Country & Delivery'!O407:O413,0),1),\"\")","v":""},null,null,{"$f":"IFERROR(INDEX('Country & Delivery'!A407:A656,MATCH(BG418,'Country & Delivery'!B407:B656,0),1),\"\")","v":""}]
[406,null,null,null,null,null,null,null,null,null,null,null,null,null,null,{"$f":"IF(O419=\"\",\"\",VLOOKUP(O419,Products!A:C,2,FALSE))","v":""},{"$f":"IF(O419=\"\",\"\",VLOOKUP(O419,Products!A:C,3,FALSE))","v":""},null,"",{"$f":"IF(Y419=\"\",\"\",VLOOKUP(Y419,'Country & Delivery'!B:C,2,FALSE))","v":""},null,{"$f":"IF(U419=\"\",\"\",VLOOKUP(U419,'Country & Delivery'!N:O,2,FALSE))","v":""},null,null,{"$f":"IF(L419=\"\",\"\",VLOOKUP(L419,'Country & Delivery'!A:B,2,FALSE))","v":""},null,null,null,null,null,null,null,null,null,null,null,{"$f":"IF(M419=\"\",\"\",VLOOKUP(M419,'Country & Delivery'!AB:AC,2,FALSE))","v":""},null,null,null,null,null,null,null,null,null,null,null,{"$f":"IF(U419=\"\",\"\",VLOOKUP(U419,'Country & Delivery'!$N$1:$O$8,2,0))","v":""},"",0,"Samoa","WSM","N","dc",null,{"$f":"IFERROR(INDEX('Country & Delivery'!N408:N414,MATCH(BD419,'Country & Delivery'!O408:O414,0),1),\"\")","v":""},null,null,{"$f":"IFERROR(INDEX('Country & Delivery'!A408:A657,MATCH(BG419,'Country & Delivery'!B408:B657,0),1),\"\")","v":""}]
[407,null,null,null,null,null,null,null,null,null,null,null,null,null,null,{"$f":"IF(O420=\"\",\"\",VLOOKUP(O420,Products!A:C,2,FALSE))","v":""},{"$f":"IF(O420=\"\",\"\",VLOOKUP(O420,Products!A:C,3,FALSE))","v":""},null,"",{"$f":"IF(Y420=\"\",\"\",VLOOKUP(Y420,'Country & Delivery'!B:C,2,FALSE))","v":""},null,{"$f":"IF(U420=\"\",\"\",VLOOKUP(U420,'Country & Delivery'!N:O,2,FALSE))","v":""},null,null,{"$f":"IF(L420=\"\",\"\",VLOOKUP(L420,'Country & Delivery'!A:B,2,FALSE))","v":""},null,null,null,null,null,null,null,null,null,null,null,{"$f":"IF(M420=\"\",\"\",VLOOKUP(M420,'Country & Delivery'!AB:AC,2,FALSE))","v":""},null,null,null,null,null,null,null,null,null,null,null,{"$f":"IF(U420=\"\",\"\",VLOOKUP(U420,'Country & Delivery'!$N$1:$O$8,2,0))","v":""},"",0,"San Marino","SMR","Y",null,null,{"$f":"IFERROR(INDEX('Country & Delivery'!N409:N415,MATCH(BD420,'Country & Delivery'!O409:O415,0),1),\"\")","v":""},null,null,{"$f":"IFERROR(INDEX('Country & Delivery'!A409:A658,MATCH(BG420,'Country & Delivery'!B409:B658,0),1),\"\")","v":""}]
[408,null,null,null,null,null,null,null,null,null,null,null,null,null,null,{"$f":"IF(O421=\"\",\"\",VLOOKUP(O421,Products!A:C,2,FALSE))","v":""},{"$f":"IF(O421=\"\",\"\",VLOOKUP(O421,Products!A:C,3,FALSE))","v":""},null,"",{"$f":"IF(Y421=\"\",\"\",VLOOKUP(Y421,'Country & Delivery'!B:C,2,FALSE))","v":""},null,{"$f":"IF(U421=\"\",\"\",VLOOKUP(U421,'Country & Delivery'!N:O,2,FALSE))","v":""},null,null,{"$f":"IF(L421=\"\",\"\",VLOOKUP(L421,'Country & Delivery'!A:B,2,FALSE))","v":""},null,null,null,null,null,null,null,null,null,null,null,{"$f":"IF(M421=\"\",\"\",VLOOKUP(M421,'Country & Delivery'!AB:AC,2,FALSE))","v":""},null,null,null,null,null,null,null,null,null,null,null,{"$f":"IF(U421=\"\",\"\",VLOOKUP(U421,'Country & Delivery'!$N$1:$O$8,2,0))","v":""},"",0,"Sao Tome and Principe","STP","N","dc",null,{"$f":"IFERROR(INDEX('Country & Delivery'!N410:N416,MATCH(BD421,'Country & Delivery'!O410:O416,0),1),\"\")","v":""},null,null,{"$f":"IFERROR(INDEX('Country & Delivery'!A410:A659,MATCH(BG421,'Country & Delivery'!B410:B659,0),1),\"\")","v":""}]
[409,null,null,null,null,null,null,null,null,null,null,null,null,null,null,{"$f":"IF(O422=\"\",\"\",VLOOKUP(O422,Products!A:C,2,FALSE))","v":""},{"$f":"IF(O422=\"\",\"\",VLOOKUP(O422,Products!A:C,3,FALSE))","v":""},null,"",{"$f":"IF(Y422=\"\",\"\",VLOOKUP(Y422,'Country & Delivery'!B:C,2,FALSE))","v":""},null,{"$f":"IF(U422=\"\",\"\",VLOOKUP(U422,'Country & Delivery'!N:O,2,FALSE))","v":""},null,null,{"$f":"IF(L422=\"\",\"\",VLOOKUP(L422,'Country & Delivery'!A:B,2,FALSE))","v":""},null,null,null,null,null,null,null,null,null,null,null,{"$f":"IF(M422=\"\",\"\",VLOOKUP(M422,'Country & Delivery'!AB:AC,2,FALSE))","v":""},null,null,null,null,null,null,null,null,null,null,null,{"$f":"IF(U422=\"\",\"\",VLOOKUP(U422,'Country & Delivery'!$N$1:$O$8,2,0))","v":""},"",0,"Saudi Arabia","SAU","N",null,null,{"$f":"IFERROR(INDEX('Country & Delivery'!N411:N417,MATCH(BD422,'Country & Delivery'!O411:O417,0),1),\"\")","v":""},null,null,{"$f":"IFERROR(INDEX('Country & Delivery'!A411:A660,MATCH(BG422,'Country & Delivery'!B411:B660,0),1),\"\")","v":""}]
[410,null,null,null,null,null,null,null,null,null,null,null,null,null,null,{"$f":"IF(O423=\"\",\"\",VLOOKUP(O423,Products!A:C,2,FALSE))","v":""},{"$f":"IF(O423=\"\",\"\",VLOOKUP(O423,Products!A:C,3,FALSE))","v":""},null,"",{"$f":"IF(Y423=\"\",\"\",VLOOKUP(Y423,'Country & Delivery'!B:C,2,FALSE))","v":""},null,{"$f":"IF(U423=\"\",\"\",VLOOKUP(U423,'Country & Delivery'!N:O,2,FALSE))","v":""},null,null,{"$f":"IF(L423=\"\",\"\",VLOOKUP(L423,'Country & Delivery'!A:B,2,FALSE))","v":""},null,null,null,null,null,null,null,null,null,null,null,{"$f":"IF(M423=\"\",\"\",VLOOKUP(M423,'Country & Delivery'!AB:AC,2,FALSE))","v":""},null,null,null,null,null,null,null,null,null,null,null,{"$f":"IF(U423=\"\",\"\",VLOOKUP(U423,'Country & Delivery'!$N$1:$O$8,2,0))","v":""},"",0,"SB","SLB","N","dc",null,{"$f":"IFERROR(INDEX('Country & Delivery'!N412:N418,MATCH(BD423,'Country & Delivery'!O412:O418,0),1),\"\")","v":""},null,null,{"$f":"IFERROR(INDEX('Country & Delivery'!A412:A661,MATCH(BG423,'Country & Delivery'!B412:B661,0),1),\"\")","v":""}]
[411,null,null,null,null,null,null,null,null,null,null,null,null,null,null,{"$f":"IF(O424=\"\",\"\",VLOOKUP(O424,Products!A:C,2,FALSE))","v":""},{"$f":"IF(O424=\"\",\"\",VLOOKUP(O424,Products!A:C,3,FALSE))","v":""},null,"",{"$f":"IF(Y424=\"\",\"\",VLOOKUP(Y424,'Country & Delivery'!B:C,2,FALSE))","v":""},null,{"$f":"IF(U424=\"\",\"\",VLOOKUP(U424,'Country & Delivery'!N:O,2,FALSE))","v":""},null,null,{"$f":"IF(L424=\"\",\"\",VLOOKUP(L424,'Country & Delivery'!A:B,2,FALSE))","v":""},null,null,null,null,null,null,null,null,null,null,null,{"$f":"IF(M424=\"\",\"\",VLOOKUP(M424,'Country & Delivery'!AB:AC,2,FALSE))","v":""},null,null,null,null,null,null,null,null,null,null,null,{"$f":"IF(U424=\"\",\"\",VLOOKUP(U424,'Country & Delivery'!$N$1:$O$8,2,0))","v":""},"",0,"SC","SYC","N","dc",null,{"$f":"IFERROR(INDEX('Country & Delivery'!N413:N419,MATCH(BD424,'Country & Delivery'!O413:O419,0),1),\"\")","v":""},null,null,{"$f":"IFERROR(INDEX('Country & Delivery'!A413:A662,MATCH(BG424,'Country & Delivery'!B413:B662,0),1),\"\")","v":""}]
[412,null,null,null,null,null,null,null,null,null,null,null,null,null,null,{"$f":"IF(O425=\"\",\"\",VLOOKUP(O425,Products!A:C,2,FALSE))","v":""},{"$f":"IF(O425=\"\",\"\",VLOOKUP(O425,Products!A:C,3,FALSE))","v":""},null,"",{"$f":"IF(Y425=\"\",\"\",VLOOKUP(Y425,'Country & Delivery'!B:C,2,FALSE))","v":""},null,{"$f":"IF(U425=\"\",\"\",VLOOKUP(U425,'Country & Delivery'!N:O,2,FALSE))","v":""},null,null,{"$f":"IF(L425=\"\",\"\",VLOOKUP(L425,'Country & Delivery'!A:B,2,FALSE))","v":""},null,null,null,null,null,null,null,null,null,null,null,{"$f":"IF(M425=\"\",\"\",VLOOKUP(M425,'Country & Delivery'!AB:AC,2,FALSE))","v":""},null,null,null,null,null,null,null,null,null,null,null,{"$f":"IF(U425=\"\",\"\",VLOOKUP(U425,'Country & Delivery'!$N$1:$O$8,2,0))","v":""},"",0,"SD","SDN","N","dc",null,{"$f":"IFERROR(INDEX('Country & Delivery'!N414:N420,MATCH(BD425,'Country & Delivery'!O414:O420,0),1),\"\")","v":""},null,null,{"$f":"IFERROR(INDEX('Country & Delivery'!A414:A663,MATCH(BG425,'Country & Delivery'!B414:B663,0),1),\"\")","v":""}]
[413,null,null,null,null,null,null,null,null,null,null,null,null,null,null,{"$f":"IF(O426=\"\",\"\",VLOOKUP(O426,Products!A:C,2,FALSE))","v":""},{"$f":"IF(O426=\"\",\"\",VLOOKUP(O426,Products!A:C,3,FALSE))","v":""},null,"",{"$f":"IF(Y426=\"\",\"\",VLOOKUP(Y426,'Country & Delivery'!B:C,2,FALSE))","v":""},null,{"$f":"IF(U426=\"\",\"\",VLOOKUP(U426,'Country & Delivery'!N:O,2,FALSE))","v":""},null,null,{"$f":"IF(L426=\"\",\"\",VLOOKUP(L426,'Country & Delivery'!A:B,2,FALSE))","v":""},null,null,null,null,null,null,null,null,null,null,null,{"$f":"IF(M426=\"\",\"\",VLOOKUP(M426,'Country & Delivery'!AB:AC,2,FALSE))","v":""},null,null,null,null,null,null,null,null,null,null,null,{"$f":"IF(U426=\"\",\"\",VLOOKUP(U426,'Country & Delivery'!$N$1:$O$8,2,0))","v":""},"",0,"SE","SWE","Y",null,null,{"$f":"IFERROR(INDEX('Country & Delivery'!N415:N421,MATCH(BD426,'Country & Delivery'!O415:O421,0),1),\"\")","v":""},null,null,{"$f":"IFERROR(INDEX('Country & Delivery'!A415:A664,MATCH(BG426,'Country & Delivery'!B415:B664,0),1),\"\")","v":""}]
[414,null,null,null,null,null,null,null,null,null,null,null,null,null,null,{"$f":"IF(O427=\"\",\"\",VLOOKUP(O427,Products!A:C,2,FALSE))","v":""},{"$f":"IF(O427=\"\",\"\",VLOOKUP(O427,Products!A:C,3,FALSE))","v":""},null,"",{"$f":"IF(Y427=\"\",\"\",VLOOKUP(Y427,'Country & Delivery'!B:C,2,FALSE))","v":""},null,{"$f":"IF(U427=\"\",\"\",VLOOKUP(U427,'Country & Delivery'!N:O,2,FALSE))","v":""},null,null,{"$f":"IF(L427=\"\",\"\",VLOOKUP(L427,'Country & Delivery'!A:B,2,FALSE))","v":""},null,null,null,null,null,null,null,null,null,null,null,{"$f":"IF(M427=\"\",\"\",VLOOKUP(M427,'Country & Delivery'!AB:AC,2,FALSE))","v":""},null,null,null,null,null,null,null,null,null,null,null,{"$f":"IF(U427=\"\",\"\",VLOOKUP(U427,'Country & Delivery'!$N$1:$O$8,2,0))","v":""},"",0,"Senegal","SEN","N","dc",null,{"$f":"IFERROR(INDEX('Country & Delivery'!N416:N422,MATCH(BD427,'Country & Delivery'!O416:O422,0),1),\"\")","v":""},null,null,{"$f":"IFERROR(INDEX('Country & Delivery'!A416:A665,MATCH(BG427,'Country & Delivery'!B416:B665,0),1),\"\")","v":""}]
[415,null,null,null,null,null,null,null,null,null,null,null,null,null,null,{"$f":"IF(O428=\"\",\"\",VLOOKUP(O428,Products!A:C,2,FALSE))","v":""},{"$f":"IF(O428=\"\",\"\",VLOOKUP(O428,Products!A:C,3,FALSE))","v":""},null,"",{"$f":"IF(Y428=\"\",\"\",VLOOKUP(Y428,'Country & Delivery'!B:C,2,FALSE))","v":""},null,{"$f":"IF(U428=\"\",\"\",VLOOKUP(U428,'Country & Delivery'!N:O,2,FALSE))","v":""},null,null,{"$f":"IF(L428=\"\",\"\",VLOOKUP(L428,'Country & Delivery'!A:B,2,FALSE))","v":""},null,null,null,null,null,null,null,null,null,null,null,{"$f":"IF(M428=\"\",\"\",VLOOKUP(M428,'Country & Delivery'!AB:AC,2,FALSE))","v":""},null,null,null,null,null,null,null,null,null,null,null,{"$f":"IF(U428=\"\",\"\",VLOOKUP(U428,'Country & Delivery'!$N$1:$O$8,2,0))","v":""},"",0,"Serbia","SRB","N",null,null,{"$f":"IFERROR(INDEX('Country & Delivery'!N417:N423,MATCH(BD428,'Country & Delivery'!O417:O423,0),1),\"\")","v":""},null,null,{"$f":"IFERROR(INDEX('Country & Delivery'!A417:A666,MATCH(BG428,'Country & Delivery'!B417:B666,0),1),\"\")","v":""}]
[416,null,null,null,null,null,null,null,null,null,null,null,null,null,null,{"$f":"IF(O429=\"\",\"\",VLOOKUP(O429,Products!A:C,2,FALSE))","v":""},{"$f":"IF(O429=\"\",\"\",VLOOKUP(O429,Products!A:C,3,FALSE))","v":""},null,"",{"$f":"IF(Y429=\"\",\"\",VLOOKUP(Y429,'Country & Delivery'!B:C,2,FALSE))","v":""},null,{"$f":"IF(U429=\"\",\"\",VLOOKUP(U429,'Country & Delivery'!N:O,2,FALSE))","v":""},null,null,{"$f":"IF(L429=\"\",\"\",VLOOKUP(L429,'Country & Delivery'!A:B,2,FALSE))","v":""},null,null,null,null,null,null,null,null,null,null,null,{"$f":"IF(M429=\"\",\"\",VLOOKUP(M429,'Country & Delivery'!AB:AC,2,FALSE))","v":""},null,null,null,null,null,null,null,null,null,null,null,{"$f":"IF(U429=\"\",\"\",VLOOKUP(U429,'Country & Delivery'!$N$1:$O$8,2,0))","v":""},"",0,"Seychelles","SYC","N","dc",null,{"$f":"IFERROR(INDEX('Country & Delivery'!N418:N424,MATCH(BD429,'Country & Delivery'!O418:O424,0),1),\"\")","v":""},null,null,{"$f":"IFERROR(INDEX('Country & Delivery'!A418:A667,MATCH(BG429,'Country & Delivery'!B418:B667,0),1),\"\")","v":""}]
[417,null,null,null,null,null,null,null,null,null,null,null,null,null,null,{"$f":"IF(O430=\"\",\"\",VLOOKUP(O430,Products!A:C,2,FALSE))","v":""},{"$f":"IF(O430=\"\",\"\",VLOOKUP(O430,Products!A:C,3,FALSE))","v":""},null,"",{"$f":"IF(Y430=\"\",\"\",VLOOKUP(Y430,'Country & Delivery'!B:C,2,FALSE))","v":""},null,{"$f":"IF(U430=\"\",\"\",VLOOKUP(U430,'Country & Delivery'!N:O,2,FALSE))","v":""},null,null,{"$f":"IF(L430=\"\",\"\",VLOOKUP(L430,'Country & Delivery'!A:B,2,FALSE))","v":""},null,null,null,null,null,null,null,null,null,null,null,{"$f":"IF(M430=\"\",\"\",VLOOKUP(M430,'Country & Delivery'!AB:AC,2,FALSE))","v":""},null,null,null,null,null,null,null,null,null,null,null,{"$f":"IF(U430=\"\",\"\",VLOOKUP(U430,'Country & Delivery'!$N$1:$O$8,2,0))","v":""},"",0,"SG","SGP","N",null,null,{"$f":"IFERROR(INDEX('Country & Delivery'!N419:N425,MATCH(BD430,'Country & Delivery'!O419:O425,0),1),\"\")","v":""},null,null,{"$f":"IFERROR(INDEX('Country & Delivery'!A419:A668,MATCH(BG430,'Country & Delivery'!B419:B668,0),1),\"\")","v":""}]
[418,null,null,null,null,null,null,null,null,null,null,null,null,null,null,{"$f":"IF(O431=\"\",\"\",VLOOKUP(O431,Products!A:C,2,FALSE))","v":""},{"$f":"IF(O431=\"\",\"\",VLOOKUP(O431,Products!A:C,3,FALSE))","v":""},null,"",{"$f":"IF(Y431=\"\",\"\",VLOOKUP(Y431,'Country & Delivery'!B:C,2,FALSE))","v":""},null,{"$f":"IF(U431=\"\",\"\",VLOOKUP(U431,'Country & Delivery'!N:O,2,FALSE))","v":""},null,null,{"$f":"IF(L431=\"\",\"\",VLOOKUP(L431,'Country & Delivery'!A:B,2,FALSE))","v":""},null,null,null,null,null,null,null,null,null,null,null,{"$f":"IF(M431=\"\",\"\",VLOOKUP(M431,'Country & Delivery'!AB:AC,2,FALSE))","v":""},null,null,null,null,null,null,null,null,null,null,null,{"$f":"IF(U431=\"\",\"\",VLOOKUP(U431,'Country & Delivery'!$N$1:$O$8,2,0))","v":""},"",0,"SH","SHN","N","dc",null,{"$f":"IFERROR(INDEX('Country & Delivery'!N420:N426,MATCH(BD431,'Country & Delivery'!O420:O426,0),1),\"\")","v":""},null,null,{"$f":"IFERROR(INDEX('Country & Delivery'!A420:A669,MATCH(BG431,'Country & Delivery'!B420:B669,0),1),\"\")","v":""}]
[419,null,null,null,null,null,null,null,null,null,null,null,null,null,null,{"$f":"IF(O432=\"\",\"\",VLOOKUP(O432,Products!A:C,2,FALSE))","v":""},{"$f":"IF(O432=\"\",\"\",VLOOKUP(O432,Products!A:C,3,FALSE))","v":""},null,"",{"$f":"IF(Y432=\"\",\"\",VLOOKUP(Y432,'Country & Delivery'!B:C,2,FALSE))","v":""},null,{"$f":"IF(U432=\"\",\"\",VLOOKUP(U432,'Country & Delivery'!N:O,2,FALSE))","v":""},null,null,{"$f":"IF(L432=\"\",\"\",VLOOKUP(L432,'Country & Delivery'!A:B,2,FALSE))","v":""},null,null,null,null,null,null,null,null,null,null,null,{"$f":"IF(M432=\"\",\"\",VLOOKUP(M432,'Country & Delivery'!AB:AC,2,FALSE))","v":""},null,null,null,null,null,null,null,null,null,null,null,{"$f":"IF(U432=\"\",\"\",VLOOKUP(U432,'Country & Delivery'!$N$1:$O$8,2,0))","v":""},"",0,"SI","SVN","Y",null,null,{"$f":"IFERROR(INDEX('Country & Delivery'!N421:N427,MATCH(BD432,'Country & Delivery'!O421:O427,0),1),\"\")","v":""},null,null,{"$f":"IFERROR(INDEX('Country & Delivery'!A421:A670,MATCH(BG432,'Country & Delivery'!B421:B670,0),1),\"\")","v":""}]
[420,null,null,null,null,null,null,null,null,null,null,null,null,null,null,{"$f":"IF(O433=\"\",\"\",VLOOKUP(O433,Products!A:C,2,FALSE))","v":""},{"$f":"IF(O433=\"\",\"\",VLOOKUP(O433,Products!A:C,3,FALSE))","v":""},null,"",{"$f":"IF(Y433=\"\",\"\",VLOOKUP(Y433,'Country & Delivery'!B:C,2,FALSE))","v":""},null,{"$f":"IF(U433=\"\",\"\",VLOOKUP(U433,'Country & Delivery'!N:O,2,FALSE))","v":""},null,null,{"$f":"IF(L433=\"\",\"\",VLOOKUP(L433,'Country & Delivery'!A:B,2,FALSE))","v":""},null,null,null,null,null,null,null,null,null,null,null,{"$f":"IF(M433=\"\",\"\",VLOOKUP(M433,'Country & Delivery'!AB:AC,2,FALSE))","v":""},null,null,null,null,null,null,null,null,null,null,null,{"$f":"IF(U433=\"\",\"\",VLOOKUP(U433,'Country & Delivery'!$N$1:$O$8,2,0))","v":""},"",0,"Sierra Leone","SLE","N","dc",null,{"$f":"IFERROR(INDEX('Country & Delivery'!N422:N428,MATCH(BD433,'Country & Delivery'!O422:O428,0),1),\"\")","v":""},null,null,{"$f":"IFERROR(INDEX('Country & Delivery'!A422:A671,MATCH(BG433,'Country & Delivery'!B422:B671,0),1),\"\")","v":""}]
[421,null,null,null,null,null,null,null,null,null,null,null,null,null,null,{"$f":"IF(O434=\"\",\"\",VLOOKUP(O434,Products!A:C,2,FALSE))","v":""},{"$f":"IF(O434=\"\",\"\",VLOOKUP(O434,Products!A:C,3,FALSE))","v":""},null,"",{"$f":"IF(Y434=\"\",\"\",VLOOKUP(Y434,'Country & Delivery'!B:C,2,FALSE))","v":""},null,{"$f":"IF(U434=\"\",\"\",VLOOKUP(U434,'Country & Delivery'!N:O,2,FALSE))","v":""},null,null,{"$f":"IF(L434=\"\",\"\",VLOOKUP(L434,'Country & Delivery'!A:B,2,FALSE))","v":""},null,null,null,null,null,null,null,null,null,null,null,{"$f":"IF(M434=\"\",\"\",VLOOKUP(M434,'Country & Delivery'!AB:AC,2,FALSE))","v":""},null,null,null,null,null,null,null,null,null,null,null,{"$f":"IF(U434=\"\",\"\",VLOOKUP(U434,'Country & Delivery'!$N$1:$O$8,2,0))","v":""},"",0,"Singapore","SGP","N",null,null,{"$f":"IFERROR(INDEX('Country & Delivery'!N423:N429,MATCH(BD434,'Country & Delivery'!O423:O429,0),1),\"\")","v":""},null,null,{"$f":"IFERROR(INDEX('Country & Delivery'!A423:A672,MATCH(BG434,'Country & Delivery'!B423:B672,0),1),\"\")","v":""}]
[422,null,null,null,null,null,null,null,null,null,null,null,null,null,null,{"$f":"IF(O435=\"\",\"\",VLOOKUP(O435,Products!A:C,2,FALSE))","v":""},{"$f":"IF(O435=\"\",\"\",VLOOKUP(O435,Products!A:C,3,FALSE))","v":""},null,"",{"$f":"IF(Y435=\"\",\"\",VLOOKUP(Y435,'Country & Delivery'!B:C,2,FALSE))","v":""},null,{"$f":"IF(U435=\"\",\"\",VLOOKUP(U435,'Country & Delivery'!N:O,2,FALSE))","v":""},null,null,{"$f":"IF(L435=\"\",\"\",VLOOKUP(L435,'Country & Delivery'!A:B,2,FALSE))","v":""},null,null,null,null,null,null,null,null,null,null,null,{"$f":"IF(M435=\"\",\"\",VLOOKUP(M435,'Country & Delivery'!AB:AC,2,FALSE))","v":""},null,null,null,null,null,null,null,null,null,null,null,{"$f":"IF(U435=\"\",\"\",VLOOKUP(U435,'Country & Delivery'!$N$1:$O$8,2,0))","v":""},"",0,"Sint Maarten (Dutch part)","SXM","N","dc",null,{"$f":"IFERROR(INDEX('Country & Delivery'!N424:N430,MATCH(BD435,'Country & Delivery'!O424:O430,0),1),\"\")","v":""},null,null,{"$f":"IFERROR(INDEX('Country & Delivery'!A424:A673,MATCH(BG435,'Country & Delivery'!B424:B673,0),1),\"\")","v":""}]
[423,null,null,null,null,null,null,null,null,null,null,null,null,null,null,{"$f":"IF(O436=\"\",\"\",VLOOKUP(O436,Products!A:C,2,FALSE))","v":""},{"$f":"IF(O436=\"\",\"\",VLOOKUP(O436,Products!A:C,3,FALSE))","v":""},null,{"$f":"IFERROR((Q436*R436),\"\")","v":""},{"$f":"IF(Y436=\"\",\"\",VLOOKUP(Y436,'Country & Delivery'!B:C,2,FALSE))","v":""},null,{"$f":"IF(U436=\"\",\"\",VLOOKUP(U436,'Country & Delivery'!N:O,2,FALSE))","v":""},null,null,{"$f":"IF(L436=\"\",\"\",VLOOKUP(L436,'Country & Delivery'!A:B,2,FALSE))","v":""},null,null,null,null,null,null,null,null,null,null,null,{"$f":"IF(M436=\"\",\"\",VLOOKUP(M436,'Country & Delivery'!AB:AC,2,FALSE))","v":""},null,null,null,null,null,null,null,null,null,null,null,{"$f":"IF(U436=\"\",\"\",VLOOKUP(U436,'Country & Delivery'!$N$1:$O$8,2,0))","v":""},"",0,"SJ","SJM","N","dc",null,{"$f":"IFERROR(INDEX('Country & Delivery'!N425:N431,MATCH(BD436,'Country & Delivery'!O425:O431,0),1),\"\")","v":""},null,null,{"$f":"IFERROR(INDEX('Country & Delivery'!A425:A674,MATCH(BG436,'Country & Delivery'!B425:B674,0),1),\"\")","v":""}]
[424,null,null,null,null,null,null,null,null,null,null,null,null,null,null,{"$f":"IF(O437=\"\",\"\",VLOOKUP(O437,Products!A:C,2,FALSE))","v":""},{"$f":"IF(O437=\"\",\"\",VLOOKUP(O437,Products!A:C,3,FALSE))","v":""},null,"",{"$f":"IF(Y437=\"\",\"\",VLOOKUP(Y437,'Country & Delivery'!B:C,2,FALSE))","v":""},null,{"$f":"IF(U437=\"\",\"\",VLOOKUP(U437,'Country & Delivery'!N:O,2,FALSE))","v":""},null,null,{"$f":"IF(L437=\"\",\"\",VLOOKUP(L437,'Country & Delivery'!A:B,2,FALSE))","v":""},null,null,null,null,null,null,null,null,null,null,null,{"$f":"IF(M437=\"\",\"\",VLOOKUP(M437,'Country & Delivery'!AB:AC,2,FALSE))","v":""},null,null,null,null,null,null,null,null,null,null,null,{"$f":"IF(U437=\"\",\"\",VLOOKUP(U437,'Country & Delivery'!$N$1:$O$8,2,0))","v":""},"",0,"SK","SVK","Y",null,null,{"$f":"IFERROR(INDEX('Country & Delivery'!N426:N432,MATCH(BD437,'Country & Delivery'!O426:O432,0),1),\"\")","v":""},null,null,{"$f":"IFERROR(INDEX('Country & Delivery'!A426:A675,MATCH(BG437,'Country & Delivery'!B426:B675,0),1),\"\")","v":""}]
[425,null,null,null,null,null,null,null,null,null,null,null,null,null,null,{"$f":"IF(O438=\"\",\"\",VLOOKUP(O438,Products!A:C,2,FALSE))","v":""},{"$f":"IF(O438=\"\",\"\",VLOOKUP(O438,Products!A:C,3,FALSE))","v":""},null,"",{"$f":"IF(Y438=\"\",\"\",VLOOKUP(Y438,'Country & Delivery'!B:C,2,FALSE))","v":""},null,{"$f":"IF(U438=\"\",\"\",VLOOKUP(U438,'Country & Delivery'!N:O,2,FALSE))","v":""},null,null,{"$f":"IF(L438=\"\",\"\",VLOOKUP(L438,'Country & Delivery'!A:B,2,FALSE))","v":""},null,null,null,null,null,null,null,null,null,null,null,{"$f":"IF(M438=\"\",\"\",VLOOKUP(M438,'Country & Delivery'!AB:AC,2,FALSE))","v":""},null,null,null,null,null,null,null,null,null,null,null,{"$f":"IF(U438=\"\",\"\",VLOOKUP(U438,'Country & Delivery'!$N$1:$O$8,2,0))","v":""},"",0,"SL","SLE","N","dc",null,{"$f":"IFERROR(INDEX('Country & Delivery'!N427:N433,MATCH(BD438,'Country & Delivery'!O427:O433,0),1),\"\")","v":""},null,null,{"$f":"IFERROR(INDEX('Country & Delivery'!A427:A676,MATCH(BG438,'Country & Delivery'!B427:B676,0),1),\"\")","v":""}]
[426,null,null,null,null,null,null,null,null,null,null,null,null,null,null,{"$f":"IF(O439=\"\",\"\",VLOOKUP(O439,Products!A:C,2,FALSE))","v":""},{"$f":"IF(O439=\"\",\"\",VLOOKUP(O439,Products!A:C,3,FALSE))","v":""},null,"",{"$f":"IF(Y439=\"\",\"\",VLOOKUP(Y439,'Country & Delivery'!B:C,2,FALSE))","v":""},null,{"$f":"IF(U439=\"\",\"\",VLOOKUP(U439,'Country & Delivery'!N:O,2,FALSE))","v":""},null,null,{"$f":"IF(L439=\"\",\"\",VLOOKUP(L439,'Country & Delivery'!A:B,2,FALSE))","v":""},null,null,null,null,null,null,null,null,null,null,null,{"$f":"IF(M439=\"\",\"\",VLOOKUP(M439,'Country & Delivery'!AB:AC,2,FALSE))","v":""},null,null,null,null,null,null,null,null,null,null,null,{"$f":"IF(U439=\"\",\"\",VLOOKUP(U439,'Country & Delivery'!$N$1:$O$8,2,0))","v":""},"",0,"Slovakia","SVK","Y",null,null,{"$f":"IFERROR(INDEX('Country & Delivery'!N428:N434,MATCH(BD439,'Country & Delivery'!O428:O434,0),1),\"\")","v":""},null,null,{"$f":"IFERROR(INDEX('Country & Delivery'!A428:A677,MATCH(BG439,'Country & Delivery'!B428:B677,0),1),\"\")","v":""}]
[427,null,null,null,null,null,null,null,null,null,null,null,null,null,null,{"$f":"IF(O440=\"\",\"\",VLOOKUP(O440,Products!A:C,2,FALSE))","v":""},{"$f":"IF(O440=\"\",\"\",VLOOKUP(O440,Products!A:C,3,FALSE))","v":""},null,"",{"$f":"IF(Y440=\"\",\"\",VLOOKUP(Y440,'Country & Delivery'!B:C,2,FALSE))","v":""},null,{"$f":"IF(U440=\"\",\"\",VLOOKUP(U440,'Country & Delivery'!N:O,2,FALSE))","v":""},null,null,{"$f":"IF(L440=\"\",\"\",VLOOKUP(L440,'Country & Delivery'!A:B,2,FALSE))","v":""},null,null,null,null,null,null,null,null,null,null,null,{"$f":"IF(M440=\"\",\"\",VLOOKUP(M440,'Country & Delivery'!AB:AC,2,FALSE))","v":""},null,null,null,null,null,null,null,null,null,null,null,{"$f":"IF(U440=\"\",\"\",VLOOKUP(U440,'Country & Delivery'!$N$1:$O$8,2,0))","v":""},"",0,"Slovenia","SVN","Y",null,null,{"$f":"IFERROR(INDEX('Country & Delivery'!N429:N435,MATCH(BD440,'Country & Delivery'!O429:O435,0),1),\"\")","v":""},null,null,{"$f":"IFERROR(INDEX('Country & Delivery'!A429:A678,MATCH(BG440,'Country & Delivery'!B429:B678,0),1),\"\")","v":""}]
[428,null,null,null,null,null,null,null,null,null,null,null,null,null,null,{"$f":"IF(O441=\"\",\"\",VLOOKUP(O441,Products!A:C,2,FALSE))","v":""},{"$f":"IF(O441=\"\",\"\",VLOOKUP(O441,Products!A:C,3,FALSE))","v":""},null,"",{"$f":"IF(Y441=\"\",\"\",VLOOKUP(Y441,'Country & Delivery'!B:C,2,FALSE))","v":""},null,{"$f":"IF(U441=\"\",\"\",VLOOKUP(U441,'Country & Delivery'!N:O,2,FALSE))","v":""},null,null,{"$f":"IF(L441=\"\",\"\",VLOOKUP(L441,'Country & Delivery'!A:B,2,FALSE))","v":""},null,null,null,null,null,null,null,null,null,null,null,{"$f":"IF(M441=\"\",\"\",VLOOKUP(M441,'Country & Delivery'!AB:AC,2,FALSE))","v":""},null,null,null,null,null,null,null,null,null,null,null,{"$f":"IF(U441=\"\",\"\",VLOOKUP(U441,'Country & Delivery'!$N$1:$O$8,2,0))","v":""},"",0,"SM","SMR","Y",null,null,{"$f":"IFERROR(INDEX('Country & Delivery'!N430:N436,MATCH(BD441,'Country & Delivery'!O430:O436,0),1),\"\")","v":""},null,null,{"$f":"IFERROR(INDEX('Country & Delivery'!A430:A679,MATCH(BG441,'Country & Delivery'!B430:B679,0),1),\"\")","v":""}]
[429,null,null,null,null,null,null,null,null,null,null,null,null,null,null,{"$f":"IF(O442=\"\",\"\",VLOOKUP(O442,Products!A:C,2,FALSE))","v":""},{"$f":"IF(O442=\"\",\"\",VLOOKUP(O442,Products!A:C,3,FALSE))","v":""},null,"",{"$f":"IF(Y442=\"\",\"\",VLOOKUP(Y442,'Country & Delivery'!B:C,2,FALSE))","v":""},null,{"$f":"IF(U442=\"\",\"\",VLOOKUP(U442,'Country & Delivery'!N:O,2,FALSE))","v":""},null,null,{"$f":"IF(L442=\"\",\"\",VLOOKUP(L442,'Country & Delivery'!A:B,2,FALSE))","v":""},null,null,null,null,null,null,null,null,null,null,null,{"$f":"IF(M442=\"\",\"\",VLOOKUP(M442,'Country & Delivery'!AB:AC,2,FALSE))","v":""},null,null,null,null,null,null,null,null,null,null,null,{"$f":"IF(U442=\"\",\"\",VLOOKUP(U442,'Country & Delivery'!$N$1:$O$8,2,0))","v":""},"",0,"SN","SEN","N","dc",null,{"$f":"IFERROR(INDEX('Country & Delivery'!N431:N437,MATCH(BD442,'Country & Delivery'!O431:O437,0),1),\"\")","v":""},null,null,{"$f":"IFERROR(INDEX('Country & Delivery'!A431:A680,MATCH(BG442,'Country & Delivery'!B431:B680,0),1),\"\")","v":""}]
[430,null,null,null,null,null,null,null,null,null,null,null,null,null,null,{"$f":"IF(O443=\"\",\"\",VLOOKUP(O443,Products!A:C,2,FALSE))","v":""},{"$f":"IF(O443=\"\",\"\",VLOOKUP(O443,Products!A:C,3,FALSE))","v":""},null,"",{"$f":"IF(Y443=\"\",\"\",VLOOKUP(Y443,'Country & Delivery'!B:C,2,FALSE))","v":""},null,{"$f":"IF(U443=\"\",\"\",VLOOKUP(U443,'Country & Delivery'!N:O,2,FALSE))","v":""},null,null,{"$f":"IF(L443=\"\",\"\",VLOOKUP(L443,'Country & Delivery'!A:B,2,FALSE))","v":""},null,null,null,null,null,null,null,null,null,null,null,{"$f":"IF(M443=\"\",\"\",VLOOKUP(M443,'Country & Delivery'!AB:AC,2,FALSE))","v":""},null,null,null,null,null,null,null,null,null,null,null,{"$f":"IF(U443=\"\",\"\",VLOOKUP(U443,'Country & Delivery'!$N$1:$O$8,2,0))","v":""},"",0,"SO","SOM","N","dc",null,{"$f":"IFERROR(INDEX('Country & Delivery'!N432:N438,MATCH(BD443,'Country & Delivery'!O432:O438,0),1),\"\")","v":""},null,null,{"$f":"IFERROR(INDEX('Country & Delivery'!A432:A681,MATCH(BG443,'Country & Delivery'!B432:B681,0),1),\"\")","v":""}]
[431,null,null,null,null,null,null,null,null,null,null,null,null,null,null,{"$f":"IF(O444=\"\",\"\",VLOOKUP(O444,Products!A:C,2,FALSE))","v":""},{"$f":"IF(O444=\"\",\"\",VLOOKUP(O444,Products!A:C,3,FALSE))","v":""},null,"",{"$f":"IF(Y444=\"\",\"\",VLOOKUP(Y444,'Country & Delivery'!B:C,2,FALSE))","v":""},null,{"$f":"IF(U444=\"\",\"\",VLOOKUP(U444,'Country & Delivery'!N:O,2,FALSE))","v":""},null,null,{"$f":"IF(L444=\"\",\"\",VLOOKUP(L444,'Country & Delivery'!A:B,2,FALSE))","v":""},null,null,null,null,null,null,null,null,null,null,null,{"$f":"IF(M444=\"\",\"\",VLOOKUP(M444,'Country & Delivery'!AB:AC,2,FALSE))","v":""},null,null,null,null,null,null,null,null,null,null,null,{"$f":"IF(U444=\"\",\"\",VLOOKUP(U444,'Country & Delivery'!$N$1:$O$8,2,0))","v":""},"",0,"Solomon Islands","SLB","N","dc",null,{"$f":"IFERROR(INDEX('Country & Delivery'!N433:N439,MATCH(BD444,'Country & Delivery'!O433:O439,0),1),\"\")","v":""},null,null,{"$f":"IFERROR(INDEX('Country & Delivery'!A433:A682,MATCH(BG444,'Country & Delivery'!B433:B682,0),1),\"\")","v":""}]
[432,null,null,null,null,null,null,null,null,null,null,null,null,null,null,{"$f":"IF(O445=\"\",\"\",VLOOKUP(O445,Products!A:C,2,FALSE))","v":""},{"$f":"IF(O445=\"\",\"\",VLOOKUP(O445,Products!A:C,3,FALSE))","v":""},null,"",{"$f":"IF(Y445=\"\",\"\",VLOOKUP(Y445,'Country & Delivery'!B:C,2,FALSE))","v":""},null,{"$f":"IF(U445=\"\",\"\",VLOOKUP(U445,'Country & Delivery'!N:O,2,FALSE))","v":""},null,null,{"$f":"IF(L445=\"\",\"\",VLOOKUP(L445,'Country & Delivery'!A:B,2,FALSE))","v":""},null,null,null,null,null,null,null,null,null,null,null,{"$f":"IF(M445=\"\",\"\",VLOOKUP(M445,'Country & Delivery'!AB:AC,2,FALSE))","v":""},null,null,null,null,null,null,null,null,null,null,null,{"$f":"IF(U445=\"\",\"\",VLOOKUP(U445,'Country & Delivery'!$N$1:$O$8,2,0))","v":""},"",0,"Somalia","SOM","N","dc",null,{"$f":"IFERROR(INDEX('Country & Delivery'!N434:N440,MATCH(BD445,'Country & Delivery'!O434:O440,0),1),\"\")","v":""},null,null,{"$f":"IFERROR(INDEX('Country & Delivery'!A434:A683,MATCH(BG445,'Country & Delivery'!B434:B683,0),1),\"\")","v":""}]
[433,null,null,null,null,null,null,null,null,null,null,null,null,null,null,{"$f":"IF(O446=\"\",\"\",VLOOKUP(O446,Products!A:C,2,FALSE))","v":""},{"$f":"IF(O446=\"\",\"\",VLOOKUP(O446,Products!A:C,3,FALSE))","v":""},null,"",{"$f":"IF(Y446=\"\",\"\",VLOOKUP(Y446,'Country & Delivery'!B:C,2,FALSE))","v":""},null,{"$f":"IF(U446=\"\",\"\",VLOOKUP(U446,'Country & Delivery'!N:O,2,FALSE))","v":""},null,null,{"$f":"IF(L446=\"\",\"\",VLOOKUP(L446,'Country & Delivery'!A:B,2,FALSE))","v":""},null,null,null,null,null,null,null,null,null,null,null,{"$f":"IF(M446=\"\",\"\",VLOOKUP(M446,'Country & Delivery'!AB:AC,2,FALSE))","v":""},null,null,null,null,null,null,null,null,null,null,null,{"$f":"IF(U446=\"\",\"\",VLOOKUP(U446,'Country & Delivery'!$N$1:$O$8,2,0))","v":""},"",0,"South Africa","ZAF","N",null,null,{"$f":"IFERROR(INDEX('Country & Delivery'!N435:N441,MATCH(BD446,'Country & Delivery'!O435:O441,0),1),\"\")","v":""},null,null,{"$f":"IFERROR(INDEX('Country & Delivery'!A435:A684,MATCH(BG446,'Country & Delivery'!B435:B684,0),1),\"\")","v":""}]
[434,null,null,null,null,null,null,null,null,null,null,null,null,null,null,{"$f":"IF(O447=\"\",\"\",VLOOKUP(O447,Products!A:C,2,FALSE))","v":""},{"$f":"IF(O447=\"\",\"\",VLOOKUP(O447,Products!A:C,3,FALSE))","v":""},null,"",{"$f":"IF(Y447=\"\",\"\",VLOOKUP(Y447,'Country & Delivery'!B:C,2,FALSE))","v":""},null,{"$f":"IF(U447=\"\",\"\",VLOOKUP(U447,'Country & Delivery'!N:O,2,FALSE))","v":""},null,null,{"$f":"IF(L447=\"\",\"\",VLOOKUP(L447,'Country & Delivery'!A:B,2,FALSE))","v":""},null,null,null,null,null,null,null,null,null,null,null,{"$f":"IF(M447=\"\",\"\",VLOOKUP(M447,'Country & Delivery'!AB:AC,2,FALSE))","v":""},null,null,null,null,null,null,null,null,null,null,null,{"$f":"IF(U447=\"\",\"\",VLOOKUP(U447,'Country & Delivery'!$N$1:$O$8,2,0))","v":""},"",0,"South Georgia and the South Sandwich Islands","SGS","N","dc",null,{"$f":"IFERROR(INDEX('Country & Delivery'!N436:N442,MATCH(BD447,'Country & Delivery'!O436:O442,0),1),\"\")","v":""},null,null,{"$f":"IFERROR(INDEX('Country & Delivery'!A436:A685,MATCH(BG447,'Country & Delivery'!B436:B685,0),1),\"\")","v":""}]
[435,null,null,null,null,null,null,null,null,null,null,null,null,null,null,{"$f":"IF(O448=\"\",\"\",VLOOKUP(O448,Products!A:C,2,FALSE))","v":""},{"$f":"IF(O448=\"\",\"\",VLOOKUP(O448,Products!A:C,3,FALSE))","v":""},null,"",{"$f":"IF(Y448=\"\",\"\",VLOOKUP(Y448,'Country & Delivery'!B:C,2,FALSE))","v":""},null,{"$f":"IF(U448=\"\",\"\",VLOOKUP(U448,'Country & Delivery'!N:O,2,FALSE))","v":""},null,null,{"$f":"IF(L448=\"\",\"\",VLOOKUP(L448,'Country & Delivery'!A:B,2,FALSE))","v":""},null,null,null,null,null,null,null,null,null,null,null,{"$f":"IF(M448=\"\",\"\",VLOOKUP(M448,'Country & Delivery'!AB:AC,2,FALSE))","v":""},null,null,null,null,null,null,null,null,null,null,null,{"$f":"IF(U448=\"\",\"\",VLOOKUP(U448,'Country & Delivery'!$N$1:$O$8,2,0))","v":""},"",0,"South Korea","KOR","N",null,null,{"$f":"IFERROR(INDEX('Country & Delivery'!N437:N443,MATCH(BD448,'Country & Delivery'!O437:O443,0),1),\"\")","v":""},null,null,{"$f":"IFERROR(INDEX('Country & Delivery'!A437:A686,MATCH(BG448,'Country & Delivery'!B437:B686,0),1),\"\")","v":""}]
[436,null,null,null,null,null,null,null,null,null,null,null,null,null,null,{"$f":"IF(O449=\"\",\"\",VLOOKUP(O449,Products!A:C,2,FALSE))","v":""},{"$f":"IF(O449=\"\",\"\",VLOOKUP(O449,Products!A:C,3,FALSE))","v":""},null,"",{"$f":"IF(Y449=\"\",\"\",VLOOKUP(Y449,'Country & Delivery'!B:C,2,FALSE))","v":""},null,{"$f":"IF(U449=\"\",\"\",VLOOKUP(U449,'Country & Delivery'!N:O,2,FALSE))","v":""},null,null,{"$f":"IF(L449=\"\",\"\",VLOOKUP(L449,'Country & Delivery'!A:B,2,FALSE))","v":""},null,null,null,null,null,null,null,null,null,null,null,{"$f":"IF(M449=\"\",\"\",VLOOKUP(M449,'Country & Delivery'!AB:AC,2,FALSE))","v":""},null,null,null,null,null,null,null,null,null,null,null,{"$f":"IF(U449=\"\",\"\",VLOOKUP(U449,'Country & Delivery'!$N$1:$O$8,2,0))","v":""},"",0,"South Sudan","SSD","N","dc",null,{"$f":"IFERROR(INDEX('Country & Delivery'!N438:N444,MATCH(BD449,'Country & Delivery'!O438:O444,0),1),\"\")","v":""},null,null,{"$f":"IFERROR(INDEX('Country & Delivery'!A438:A687,MATCH(BG449,'Country & Delivery'!B438:B687,0),1),\"\")","v":""}]
[437,null,null,null,null,null,null,null,null,null,null,null,null,null,null,{"$f":"IF(O450=\"\",\"\",VLOOKUP(O450,Products!A:C,2,FALSE))","v":""},{"$f":"IF(O450=\"\",\"\",VLOOKUP(O450,Products!A:C,3,FALSE))","v":""},null,"",{"$f":"IF(Y450=\"\",\"\",VLOOKUP(Y450,'Country & Delivery'!B:C,2,FALSE))","v":""},null,{"$f":"IF(U450=\"\",\"\",VLOOKUP(U450,'Country & Delivery'!N:O,2,FALSE))","v":""},null,null,{"$f":"IF(L450=\"\",\"\",VLOOKUP(L450,'Country & Delivery'!A:B,2,FALSE))","v":""},null,null,null,null,null,null,null,null,null,null,null,{"$f":"IF(M450=\"\",\"\",VLOOKUP(M450,'Country & Delivery'!AB:AC,2,FALSE))","v":""},null,null,null,null,null,null,null,null,null,null,null,{"$f":"IF(U450=\"\",\"\",VLOOKUP(U450,'Country & Delivery'!$N$1:$O$8,2,0))","v":""},"",0,"Spain","ESP","Y",null,null,{"$f":"IFERROR(INDEX('Country & Delivery'!N439:N445,MATCH(BD450,'Country & Delivery'!O439:O445,0),1),\"\")","v":""},null,null,{"$f":"IFERROR(INDEX('Country & Delivery'!A439:A688,MATCH(BG450,'Country & Delivery'!B439:B688,0),1),\"\")","v":""}]
[438,null,null,null,null,null,null,null,null,null,null,null,null,null,null,{"$f":"IF(O451=\"\",\"\",VLOOKUP(O451,Products!A:C,2,FALSE))","v":""},{"$f":"IF(O451=\"\",\"\",VLOOKUP(O451,Products!A:C,3,FALSE))","v":""},null,"",{"$f":"IF(Y451=\"\",\"\",VLOOKUP(Y451,'Country & Delivery'!B:C,2,FALSE))","v":""},null,{"$f":"IF(U451=\"\",\"\",VLOOKUP(U451,'Country & Delivery'!N:O,2,FALSE))","v":""},null,null,{"$f":"IF(L451=\"\",\"\",VLOOKUP(L451,'Country & Delivery'!A:B,2,FALSE))","v":""},null,null,null,null,null,null,null,null,null,null,null,{"$f":"IF(M451=\"\",\"\",VLOOKUP(M451,'Country & Delivery'!AB:AC,2,FALSE))","v":""},null,null,null,null,null,null,null,null,null,null,null,{"$f":"IF(U451=\"\",\"\",VLOOKUP(U451,'Country & Delivery'!$N$1:$O$8,2,0))","v":""},"",0,"SR","SUR","N","dc",null,{"$f":"IFERROR(INDEX('Country & Delivery'!N440:N446,MATCH(BD451,'Country & Delivery'!O440:O446,0),1),\"\")","v":""},null,null,{"$f":"IFERROR(INDEX('Country & Delivery'!A440:A689,MATCH(BG451,'Country & Delivery'!B440:B689,0),1),\"\")","v":""}]
[439,null,null,null,null,null,null,null,null,null,null,null,null,null,null,{"$f":"IF(O452=\"\",\"\",VLOOKUP(O452,Products!A:C,2,FALSE))","v":""},{"$f":"IF(O452=\"\",\"\",VLOOKUP(O452,Products!A:C,3,FALSE))","v":""},null,"",{"$f":"IF(Y452=\"\",\"\",VLOOKUP(Y452,'Country & Delivery'!B:C,2,FALSE))","v":""},null,{"$f":"IF(U452=\"\",\"\",VLOOKUP(U452,'Country & Delivery'!N:O,2,FALSE))","v":""},null,null,{"$f":"IF(L452=\"\",\"\",VLOOKUP(L452,'Country & Delivery'!A:B,2,FALSE))","v":""},null,null,null,null,null,null,null,null,null,null,null,{"$f":"IF(M452=\"\",\"\",VLOOKUP(M452,'Country & Delivery'!AB:AC,2,FALSE))","v":""},null,null,null,null,null,null,null,null,null,null,null,{"$f":"IF(U452=\"\",\"\",VLOOKUP(U452,'Country & Delivery'!$N$1:$O$8,2,0))","v":""},"",0,"Sri Lanka","LKA","N",null,null,{"$f":"IFERROR(INDEX('Country & Delivery'!N441:N447,MATCH(BD452,'Country & Delivery'!O441:O447,0),1),\"\")","v":""},null,null,{"$f":"IFERROR(INDEX('Country & Delivery'!A441:A690,MATCH(BG452,'Country & Delivery'!B441:B690,0),1),\"\")","v":""}]
[440,null,null,null,null,null,null,null,null,null,null,null,null,null,null,{"$f":"IF(O453=\"\",\"\",VLOOKUP(O453,Products!A:C,2,FALSE))","v":""},{"$f":"IF(O453=\"\",\"\",VLOOKUP(O453,Products!A:C,3,FALSE))","v":""},null,"",{"$f":"IF(Y453=\"\",\"\",VLOOKUP(Y453,'Country & Delivery'!B:C,2,FALSE))","v":""},null,{"$f":"IF(U453=\"\",\"\",VLOOKUP(U453,'Country & Delivery'!N:O,2,FALSE))","v":""},null,null,{"$f":"IF(L453=\"\",\"\",VLOOKUP(L453,'Country & Delivery'!A:B,2,FALSE))","v":""},null,null,null,null,null,null,null,null,null,null,null,{"$f":"IF(M453=\"\",\"\",VLOOKUP(M453,'Country & Delivery'!AB:AC,2,FALSE))","v":""},null,null,null,null,null,null,null,null,null,null,null,{"$f":"IF(U453=\"\",\"\",VLOOKUP(U453,'Country & Delivery'!$N$1:$O$8,2,0))","v":""},"",0,"SS","SSD","N","dc",null,{"$f":"IFERROR(INDEX('Country & Delivery'!N442:N448,MATCH(BD453,'Country & Delivery'!O442:O448,0),1),\"\")","v":""},null,null,{"$f":"IFERROR(INDEX('Country & Delivery'!A442:A691,MATCH(BG453,'Country & Delivery'!B442:B691,0),1),\"\")","v":""}]
[441,null,null,null,null,null,null,null,null,null,null,null,null,null,null,{"$f":"IF(O454=\"\",\"\",VLOOKUP(O454,Products!A:C,2,FALSE))","v":""},{"$f":"IF(O454=\"\",\"\",VLOOKUP(O454,Products!A:C,3,FALSE))","v":""},null,"",{"$f":"IF(Y454=\"\",\"\",VLOOKUP(Y454,'Country & Delivery'!B:C,2,FALSE))","v":""},null,{"$f":"IF(U454=\"\",\"\",VLOOKUP(U454,'Country & Delivery'!N:O,2,FALSE))","v":""},null,null,{"$f":"IF(L454=\"\",\"\",VLOOKUP(L454,'Country & Delivery'!A:B,2,FALSE))","v":""},null,null,null,null,null,null,null,null,null,null,null,{"$f":"IF(M454=\"\",\"\",VLOOKUP(M454,'Country & Delivery'!AB:AC,2,FALSE))","v":""},null,null,null,null,null,null,null,null,null,null,null,{"$f":"IF(U454=\"\",\"\",VLOOKUP(U454,'Country & Delivery'!$N$1:$O$8,2,0))","v":""},"",0,"ST","STP","N","dc",null,{"$f":"IFERROR(INDEX('Country & Delivery'!N443:N449,MATCH(BD454,'Country & Delivery'!O443:O449,0),1),\"\")","v":""},null,null,{"$f":"IFERROR(INDEX('Country & Delivery'!A443:A692,MATCH(BG454,'Country & Delivery'!B443:B692,0),1),\"\")","v":""}]
[442,null,null,null,null,null,null,null,null,null,null,null,null,null,null,{"$f":"IF(O455=\"\",\"\",VLOOKUP(O455,Products!A:C,2,FALSE))","v":""},{"$f":"IF(O455=\"\",\"\",VLOOKUP(O455,Products!A:C,3,FALSE))","v":""},null,"",{"$f":"IF(Y455=\"\",\"\",VLOOKUP(Y455,'Country & Delivery'!B:C,2,FALSE))","v":""},null,{"$f":"IF(U455=\"\",\"\",VLOOKUP(U455,'Country & Delivery'!N:O,2,FALSE))","v":""},null,null,{"$f":"IF(L455=\"\",\"\",VLOOKUP(L455,'Country & Delivery'!A:B,2,FALSE))","v":""},null,null,null,null,null,null,null,null,null,null,null,{"$f":"IF(M455=\"\",\"\",VLOOKUP(M455,'Country & Delivery'!AB:AC,2,FALSE))","v":""},null,null,null,null,null,null,null,null,null,null,null,{"$f":"IF(U455=\"\",\"\",VLOOKUP(U455,'Country & Delivery'!$N$1:$O$8,2,0))","v":""},"",0,"Sudan","SDN","N","dc",null,{"$f":"IFERROR(INDEX('Country & Delivery'!N444:N450,MATCH(BD455,'Country & Delivery'!O444:O450,0),1),\"\")","v":""},null,null,{"$f":"IFERROR(INDEX('Country & Delivery'!A444:A693,MATCH(BG455,'Country & Delivery'!B444:B693,0),1),\"\")","v":""}]
[443,null,null,null,null,null,null,null,null,null,null,null,null,null,null,{"$f":"IF(O456=\"\",\"\",VLOOKUP(O456,Products!A:C,2,FALSE))","v":""},{"$f":"IF(O456=\"\",\"\",VLOOKUP(O456,Products!A:C,3,FALSE))","v":""},null,"",{"$f":"IF(Y456=\"\",\"\",VLOOKUP(Y456,'Country & Delivery'!B:C,2,FALSE))","v":""},null,{"$f":"IF(U456=\"\",\"\",VLOOKUP(U456,'Country & Delivery'!N:O,2,FALSE))","v":""},null,null,{"$f":"IF(L456=\"\",\"\",VLOOKUP(L456,'Country & Delivery'!A:B,2,FALSE))","v":""},null,null,null,null,null,null,null,null,null,null,null,{"$f":"IF(M456=\"\",\"\",VLOOKUP(M456,'Country & Delivery'!AB:AC,2,FALSE))","v":""},null,null,null,null,null,null,null,null,null,null,null,{"$f":"IF(U456=\"\",\"\",VLOOKUP(U456,'Country & Delivery'!$N$1:$O$8,2,0))","v":""},"",0,"Suriname","SUR","N",null,null,{"$f":"IFERROR(INDEX('Country & Delivery'!N445:N451,MATCH(BD456,'Country & Delivery'!O445:O451,0),1),\"\")","v":""},null,null,{"$f":"IFERROR(INDEX('Country & Delivery'!A445:A694,MATCH(BG456,'Country & Delivery'!B445:B694,0),1),\"\")","v":""}]
[444,null,null,null,null,null,null,null,null,null,null,null,null,null,null,{"$f":"IF(O457=\"\",\"\",VLOOKUP(O457,Products!A:C,2,FALSE))","v":""},{"$f":"IF(O457=\"\",\"\",VLOOKUP(O457,Products!A:C,3,FALSE))","v":""},null,"",{"$f":"IF(Y457=\"\",\"\",VLOOKUP(Y457,'Country & Delivery'!B:C,2,FALSE))","v":""},null,{"$f":"IF(U457=\"\",\"\",VLOOKUP(U457,'Country & Delivery'!N:O,2,FALSE))","v":""},null,null,{"$f":"IF(L457=\"\",\"\",VLOOKUP(L457,'Country & Delivery'!A:B,2,FALSE))","v":""},null,null,null,null,null,null,null,null,null,null,null,{"$f":"IF(M457=\"\",\"\",VLOOKUP(M457,'Country & Delivery'!AB:AC,2,FALSE))","v":""},null,null,null,null,null,null,null,null,null,null,null,{"$f":"IF(U457=\"\",\"\",VLOOKUP(U457,'Country & Delivery'!$N$1:$O$8,2,0))","v":""},"",0,"SV","SLV","N",null,null,{"$f":"IFERROR(INDEX('Country & Delivery'!N446:N452,MATCH(BD457,'Country & Delivery'!O446:O452,0),1),\"\")","v":""},null,null,{"$f":"IFERROR(INDEX('Country & Delivery'!A446:A695,MATCH(BG457,'Country & Delivery'!B446:B695,0),1),\"\")","v":""}]
[445,null,null,null,null,null,null,null,null,null,null,null,null,null,null,{"$f":"IF(O458=\"\",\"\",VLOOKUP(O458,Products!A:C,2,FALSE))","v":""},{"$f":"IF(O458=\"\",\"\",VLOOKUP(O458,Products!A:C,3,FALSE))","v":""},null,"",{"$f":"IF(Y458=\"\",\"\",VLOOKUP(Y458,'Country & Delivery'!B:C,2,FALSE))","v":""},null,{"$f":"IF(U458=\"\",\"\",VLOOKUP(U458,'Country & Delivery'!N:O,2,FALSE))","v":""},null,null,{"$f":"IF(L458=\"\",\"\",VLOOKUP(L458,'Country & Delivery'!A:B,2,FALSE))","v":""},null,null,null,null,null,null,null,null,null,null,null,{"$f":"IF(M458=\"\",\"\",VLOOKUP(M458,'Country & Delivery'!AB:AC,2,FALSE))","v":""},null,null,null,null,null,null,null,null,null,null,null,{"$f":"IF(U458=\"\",\"\",VLOOKUP(U458,'Country & Delivery'!$N$1:$O$8,2,0))","v":""},"",0,"Svalbard and Jan Mayen","SJM","N","dc",null,{"$f":"IFERROR(INDEX('Country & Delivery'!N447:N453,MATCH(BD458,'Country & Delivery'!O447:O453,0),1),\"\")","v":""},null,null,{"$f":"IFERROR(INDEX('Country & Delivery'!A447:A696,MATCH(BG458,'Country & Delivery'!B447:B696,0),1),\"\")","v":""}]
[446,null,null,null,null,null,null,null,null,null,null,null,null,null,null,{"$f":"IF(O459=\"\",\"\",VLOOKUP(O459,Products!A:C,2,FALSE))","v":""},{"$f":"IF(O459=\"\",\"\",VLOOKUP(O459,Products!A:C,3,FALSE))","v":""},null,"",{"$f":"IF(Y459=\"\",\"\",VLOOKUP(Y459,'Country & Delivery'!B:C,2,FALSE))","v":""},null,{"$f":"IF(U459=\"\",\"\",VLOOKUP(U459,'Country & Delivery'!N:O,2,FALSE))","v":""},null,null,{"$f":"IF(L459=\"\",\"\",VLOOKUP(L459,'Country & Delivery'!A:B,2,FALSE))","v":""},null,null,null,null,null,null,null,null,null,null,null,{"$f":"IF(M459=\"\",\"\",VLOOKUP(M459,'Country & Delivery'!AB:AC,2,FALSE))","v":""},null,null,null,null,null,null,null,null,null,null,null,{"$f":"IF(U459=\"\",\"\",VLOOKUP(U459,'Country & Delivery'!$N$1:$O$8,2,0))","v":""},"",0,"Swaziland","SWZ","N",null,null,{"$f":"IFERROR(INDEX('Country & Delivery'!N448:N454,MATCH(BD459,'Country & Delivery'!O448:O454,0),1),\"\")","v":""},null,null,{"$f":"IFERROR(INDEX('Country & Delivery'!A448:A697,MATCH(BG459,'Country & Delivery'!B448:B697,0),1),\"\")","v":""}]
[447,null,null,null,null,null,null,null,null,null,null,null,null,null,null,{"$f":"IF(O460=\"\",\"\",VLOOKUP(O460,Products!A:C,2,FALSE))","v":""},{"$f":"IF(O460=\"\",\"\",VLOOKUP(O460,Products!A:C,3,FALSE))","v":""},null,"",{"$f":"IF(Y460=\"\",\"\",VLOOKUP(Y460,'Country & Delivery'!B:C,2,FALSE))","v":""},null,{"$f":"IF(U460=\"\",\"\",VLOOKUP(U460,'Country & Delivery'!N:O,2,FALSE))","v":""},null,null,{"$f":"IF(L460=\"\",\"\",VLOOKUP(L460,'Country & Delivery'!A:B,2,FALSE))","v":""},null,null,null,null,null,null,null,null,null,null,null,{"$f":"IF(M460=\"\",\"\",VLOOKUP(M460,'Country & Delivery'!AB:AC,2,FALSE))","v":""},null,null,null,null,null,null,null,null,null,null,null,{"$f":"IF(U460=\"\",\"\",VLOOKUP(U460,'Country & Delivery'!$N$1:$O$8,2,0))","v":""},{"$f":"IF(O460<>\"\",COUNTIFS(D460:D460,\"\")+COUNTIFS(E460:E460,\"\")+COUNTIFS(I460:I460,\"\")+COUNTIFS(N460:N460,\"\")+COUNTIFS(O460:O460,\"\")+COUNTIFS(R460:R460,\"\")+COUNTIFS(U460:U460,\"\"),\"\")","v":""},0,"Sweden","SWE","Y",null,null,{"$f":"IFERROR(INDEX('Country & Delivery'!N449:N455,MATCH(BD460,'Country & Delivery'!O449:O455,0),1),\"\")","v":""},null,null,{"$f":"IFERROR(INDEX('Country & Delivery'!A449:A698,MATCH(BG460,'Country & Delivery'!B449:B698,0),1),\"\")","v":""}]
[448,null,null,null,null,null,null,null,null,null,null,null,null,null,null,{"$f":"IF(O461=\"\",\"\",VLOOKUP(O461,Products!A:C,2,FALSE))","v":""},{"$f":"IF(O461=\"\",\"\",VLOOKUP(O461,Products!A:C,3,FALSE))","v":""},null,"",{"$f":"IF(Y461=\"\",\"\",VLOOKUP(Y461,'Country & Delivery'!B:C,2,FALSE))","v":""},null,{"$f":"IF(U461=\"\",\"\",VLOOKUP(U461,'Country & Delivery'!N:O,2,FALSE))","v":""},null,null,{"$f":"IF(L461=\"\",\"\",VLOOKUP(L461,'Country & Delivery'!A:B,2,FALSE))","v":""},null,null,null,null,null,null,null,null,null,null,null,{"$f":"IF(M461=\"\",\"\",VLOOKUP(M461,'Country & Delivery'!AB:AC,2,FALSE))","v":""},null,null,null,null,null,null,null,null,null,null,null,{"$f":"IF(U461=\"\",\"\",VLOOKUP(U461,'Country & Delivery'!$N$1:$O$8,2,0))","v":""},"",{"$f":"+$L$10","v":0},"Switzerland","CHE","N",null,null,{"$f":"IFERROR(INDEX('Country & Delivery'!N450:N456,MATCH(BD461,'Country & Delivery'!O450:O456,0),1),\"\")","v":""},null,null,{"$f":"IFERROR(INDEX('Country & Delivery'!A450:A699,MATCH(BG461,'Country & Delivery'!B450:B699,0),1),\"\")","v":""}]
[449,null,null,null,null,null,null,null,null,null,null,null,null,null,null,{"$f":"IF(O462=\"\",\"\",VLOOKUP(O462,Products!A:C,2,FALSE))","v":""},{"$f":"IF(O462=\"\",\"\",VLOOKUP(O462,Products!A:C,3,FALSE))","v":""},null,"",{"$f":"IF(Y462=\"\",\"\",VLOOKUP(Y462,'Country & Delivery'!B:C,2,FALSE))","v":""},null,{"$f":"IF(U462=\"\",\"\",VLOOKUP(U462,'Country & Delivery'!N:O,2,FALSE))","v":""},null,null,{"$f":"IF(L462=\"\",\"\",VLOOKUP(L462,'Country & Delivery'!A:B,2,FALSE))","v":""},null,null,null,null,null,null,null,null,null,null,null,{"$f":"IF(M462=\"\",\"\",VLOOKUP(M462,'Country & Delivery'!AB:AC,2,FALSE))","v":""},null,null,null,null,null,null,null,null,null,null,null,{"$f":"IF(U462=\"\",\"\",VLOOKUP(U462,'Country & Delivery'!$N$1:$O$8,2,0))","v":""},"",0,"SX","SXM","N","dc",null,{"$f":"IFERROR(INDEX('Country & Delivery'!N451:N457,MATCH(BD462,'Country & Delivery'!O451:O457,0),1),\"\")","v":""},null,null,{"$f":"IFERROR(INDEX('Country & Delivery'!A451:A700,MATCH(BG462,'Country & Delivery'!B451:B700,0),1),\"\")","v":""}]
[450,null,null,null,null,null,null,null,null,null,null,null,null,null,null,{"$f":"IF(O463=\"\",\"\",VLOOKUP(O463,Products!A:C,2,FALSE))","v":""},{"$f":"IF(O463=\"\",\"\",VLOOKUP(O463,Products!A:C,3,FALSE))","v":""},null,"",{"$f":"IF(Y463=\"\",\"\",VLOOKUP(Y463,'Country & Delivery'!B:C,2,FALSE))","v":""},null,{"$f":"IF(U463=\"\",\"\",VLOOKUP(U463,'Country & Delivery'!N:O,2,FALSE))","v":""},null,null,{"$f":"IF(L463=\"\",\"\",VLOOKUP(L463,'Country & Delivery'!A:B,2,FALSE))","v":""},null,null,null,null,null,null,null,null,null,null,null,{"$f":"IF(M463=\"\",\"\",VLOOKUP(M463,'Country & Delivery'!AB:AC,2,FALSE))","v":""},null,null,null,null,null,null,null,null,null,null,null,{"$f":"IF(U463=\"\",\"\",VLOOKUP(U463,'Country & Delivery'!$N$1:$O$8,2,0))","v":""},"",0,"SY","SYR","N","dc",null,{"$f":"IFERROR(INDEX('Country & Delivery'!N452:N458,MATCH(BD463,'Country & Delivery'!O452:O458,0),1),\"\")","v":""},null,null,{"$f":"IFERROR(INDEX('Country & Delivery'!A452:A701,MATCH(BG463,'Country & Delivery'!B452:B701,0),1),\"\")","v":""}]
[451,null,null,null,null,null,null,null,null,null,null,null,null,null,null,{"$f":"IF(O464=\"\",\"\",VLOOKUP(O464,Products!A:C,2,FALSE))","v":""},{"$f":"IF(O464=\"\",\"\",VLOOKUP(O464,Products!A:C,3,FALSE))","v":""},null,"",{"$f":"IF(Y464=\"\",\"\",VLOOKUP(Y464,'Country & Delivery'!B:C,2,FALSE))","v":""},null,{"$f":"IF(U464=\"\",\"\",VLOOKUP(U464,'Country & Delivery'!N:O,2,FALSE))","v":""},null,null,{"$f":"IF(L464=\"\",\"\",VLOOKUP(L464,'Country & Delivery'!A:B,2,FALSE))","v":""},null,null,null,null,null,null,null,null,null,null,null,{"$f":"IF(M464=\"\",\"\",VLOOKUP(M464,'Country & Delivery'!AB:AC,2,FALSE))","v":""},null,null,null,null,null,null,null,null,null,null,null,{"$f":"IF(U464=\"\",\"\",VLOOKUP(U464,'Country & Delivery'!$N$1:$O$8,2,0))","v":""},"",0,"Syrian Arab Republic","SYR","N","dc",null,{"$f":"IFERROR(INDEX('Country & Delivery'!N453:N459,MATCH(BD464,'Country & Delivery'!O453:O459,0),1),\"\")","v":""},null,null,{"$f":"IFERROR(INDEX('Country & Delivery'!A453:A702,MATCH(BG464,'Country & Delivery'!B453:B702,0),1),\"\")","v":""}]
[452,null,null,null,null,null,null,null,null,null,null,null,null,null,null,{"$f":"IF(O465=\"\",\"\",VLOOKUP(O465,Products!A:C,2,FALSE))","v":""},{"$f":"IF(O465=\"\",\"\",VLOOKUP(O465,Products!A:C,3,FALSE))","v":""},null,"",{"$f":"IF(Y465=\"\",\"\",VLOOKUP(Y465,'Country & Delivery'!B:C,2,FALSE))","v":""},null,{"$f":"IF(U465=\"\",\"\",VLOOKUP(U465,'Country & Delivery'!N:O,2,FALSE))","v":""},null,null,{"$f":"IF(L465=\"\",\"\",VLOOKUP(L465,'Country & Delivery'!A:B,2,FALSE))","v":""},null,null,null,null,null,null,null,null,null,null,null,{"$f":"IF(M465=\"\",\"\",VLOOKUP(M465,'Country & Delivery'!AB:AC,2,FALSE))","v":""},null,null,null,null,null,null,null,null,null,null,null,{"$f":"IF(U465=\"\",\"\",VLOOKUP(U465,'Country & Delivery'!$N$1:$O$8,2,0))","v":""},"",0,"SZ","SWZ","N",null,null,{"$f":"IFERROR(INDEX('Country & Delivery'!N454:N460,MATCH(BD465,'Country & Delivery'!O454:O460,0),1),\"\")","v":""},null,null,{"$f":"IFERROR(INDEX('Country & Delivery'!A454:A703,MATCH(BG465,'Country & Delivery'!B454:B703,0),1),\"\")","v":""}]
[453,null,null,null,null,null,null,null,null,null,null,null,null,null,null,{"$f":"IF(O466=\"\",\"\",VLOOKUP(O466,Products!A:C,2,FALSE))","v":""},{"$f":"IF(O466=\"\",\"\",VLOOKUP(O466,Products!A:C,3,FALSE))","v":""},null,"",{"$f":"IF(Y466=\"\",\"\",VLOOKUP(Y466,'Country & Delivery'!B:C,2,FALSE))","v":""},null,{"$f":"IF(U466=\"\",\"\",VLOOKUP(U466,'Country & Delivery'!N:O,2,FALSE))","v":""},null,null,{"$f":"IF(L466=\"\",\"\",VLOOKUP(L466,'Country & Delivery'!A:B,2,FALSE))","v":""},null,null,null,null,null,null,null,null,null,null,null,{"$f":"IF(M466=\"\",\"\",VLOOKUP(M466,'Country & Delivery'!AB:AC,2,FALSE))","v":""},null,null,null,null,null,null,null,null,null,null,null,{"$f":"IF(U466=\"\",\"\",VLOOKUP(U466,'Country & Delivery'!$N$1:$O$8,2,0))","v":""},"",0,"TAIWAN","TWN","N","del meth",null,{"$f":"IFERROR(INDEX('Country & Delivery'!N455:N461,MATCH(BD466,'Country & Delivery'!O455:O461,0),1),\"\")","v":""},null,null,{"$f":"IFERROR(INDEX('Country & Delivery'!A455:A704,MATCH(BG466,'Country & Delivery'!B455:B704,0),1),\"\")","v":""}]
[454,null,null,null,null,null,null,null,null,null,null,null,null,null,null,{"$f":"IF(O467=\"\",\"\",VLOOKUP(O467,Products!A:C,2,FALSE))","v":""},{"$f":"IF(O467=\"\",\"\",VLOOKUP(O467,Products!A:C,3,FALSE))","v":""},null,"",{"$f":"IF(Y467=\"\",\"\",VLOOKUP(Y467,'Country & Delivery'!B:C,2,FALSE))","v":""},null,{"$f":"IF(U467=\"\",\"\",VLOOKUP(U467,'Country & Delivery'!N:O,2,FALSE))","v":""},null,null,{"$f":"IF(L467=\"\",\"\",VLOOKUP(L467,'Country & Delivery'!A:B,2,FALSE))","v":""},null,null,null,null,null,null,null,null,null,null,null,{"$f":"IF(M467=\"\",\"\",VLOOKUP(M467,'Country & Delivery'!AB:AC,2,FALSE))","v":""},null,null,null,null,null,null,null,null,null,null,null,{"$f":"IF(U467=\"\",\"\",VLOOKUP(U467,'Country & Delivery'!$N$1:$O$8,2,0))","v":""},"",0,"Taiwan (ROC)","TWN","N",null,null,{"$f":"IFERROR(INDEX('Country & Delivery'!N456:N462,MATCH(BD467,'Country & Delivery'!O456:O462,0),1),\"\")","v":""},null,null,{"$f":"IFERROR(INDEX('Country & Delivery'!A456:A705,MATCH(BG467,'Country & Delivery'!B456:B705,0),1),\"\")","v":""}]
[455,null,null,null,null,null,null,null,null,null,null,null,null,null,null,{"$f":"IF(O468=\"\",\"\",VLOOKUP(O468,Products!A:C,2,FALSE))","v":""},{"$f":"IF(O468=\"\",\"\",VLOOKUP(O468,Products!A:C,3,FALSE))","v":""},null,"",{"$f":"IF(Y468=\"\",\"\",VLOOKUP(Y468,'Country & Delivery'!B:C,2,FALSE))","v":""},null,{"$f":"IF(U468=\"\",\"\",VLOOKUP(U468,'Country & Delivery'!N:O,2,FALSE))","v":""},null,null,{"$f":"IF(L468=\"\",\"\",VLOOKUP(L468,'Country & Delivery'!A:B,2,FALSE))","v":""},null,null,null,null,null,null,null,null,null,null,null,{"$f":"IF(M468=\"\",\"\",VLOOKUP(M468,'Country & Delivery'!AB:AC,2,FALSE))","v":""},null,null,null,null,null,null,null,null,null,null,null,{"$f":"IF(U468=\"\",\"\",VLOOKUP(U468,'Country & Delivery'!$N$1:$O$8,2,0))","v":""},"",0,"Tajikistan","TJK","N","dc",null,{"$f":"IFERROR(INDEX('Country & Delivery'!N457:N463,MATCH(BD468,'Country & Delivery'!O457:O463,0),1),\"\")","v":""},null,null,{"$f":"IFERROR(INDEX('Country & Delivery'!A457:A706,MATCH(BG468,'Country & Delivery'!B457:B706,0),1),\"\")","v":""}]
[456,null,null,null,null,null,null,null,null,null,null,null,null,null,null,{"$f":"IF(O469=\"\",\"\",VLOOKUP(O469,Products!A:C,2,FALSE))","v":""},{"$f":"IF(O469=\"\",\"\",VLOOKUP(O469,Products!A:C,3,FALSE))","v":""},null,"",{"$f":"IF(Y469=\"\",\"\",VLOOKUP(Y469,'Country & Delivery'!B:C,2,FALSE))","v":""},null,{"$f":"IF(U469=\"\",\"\",VLOOKUP(U469,'Country & Delivery'!N:O,2,FALSE))","v":""},null,null,{"$f":"IF(L469=\"\",\"\",VLOOKUP(L469,'Country & Delivery'!A:B,2,FALSE))","v":""},null,null,null,null,null,null,null,null,null,null,null,{"$f":"IF(M469=\"\",\"\",VLOOKUP(M469,'Country & Delivery'!AB:AC,2,FALSE))","v":""},null,null,null,null,null,null,null,null,null,null,null,{"$f":"IF(U469=\"\",\"\",VLOOKUP(U469,'Country & Delivery'!$N$1:$O$8,2,0))","v":""},"",0,"Tanzania","TZA","N",null,null,{"$f":"IFERROR(INDEX('Country & Delivery'!N458:N464,MATCH(BD469,'Country & Delivery'!O458:O464,0),1),\"\")","v":""},null,null,{"$f":"IFERROR(INDEX('Country & Delivery'!A458:A707,MATCH(BG469,'Country & Delivery'!B458:B707,0),1),\"\")","v":""}]
[457,null,null,null,null,null,null,null,null,null,null,null,null,null,null,{"$f":"IF(O470=\"\",\"\",VLOOKUP(O470,Products!A:C,2,FALSE))","v":""},{"$f":"IF(O470=\"\",\"\",VLOOKUP(O470,Products!A:C,3,FALSE))","v":""},null,"",{"$f":"IF(Y470=\"\",\"\",VLOOKUP(Y470,'Country & Delivery'!B:C,2,FALSE))","v":""},null,{"$f":"IF(U470=\"\",\"\",VLOOKUP(U470,'Country & Delivery'!N:O,2,FALSE))","v":""},null,null,{"$f":"IF(L470=\"\",\"\",VLOOKUP(L470,'Country & Delivery'!A:B,2,FALSE))","v":""},null,null,null,null,null,null,null,null,null,null,null,{"$f":"IF(M470=\"\",\"\",VLOOKUP(M470,'Country & Delivery'!AB:AC,2,FALSE))","v":""},null,null,null,null,null,null,null,null,null,null,null,{"$f":"IF(U470=\"\",\"\",VLOOKUP(U470,'Country & Delivery'!$N$1:$O$8,2,0))","v":""},"",0,"TANZANIA, UNITED REPUBLIC OF","TZA","N","del meth",null,{"$f":"IFERROR(INDEX('Country & Delivery'!N459:N465,MATCH(BD470,'Country & Delivery'!O459:O465,0),1),\"\")","v":""},null,null,{"$f":"IFERROR(INDEX('Country & Delivery'!A459:A708,MATCH(BG470,'Country & Delivery'!B459:B708,0),1),\"\")","v":""}]
[458,null,null,null,null,null,null,null,null,null,null,null,null,null,null,{"$f":"IF(O471=\"\",\"\",VLOOKUP(O471,Products!A:C,2,FALSE))","v":""},{"$f":"IF(O471=\"\",\"\",VLOOKUP(O471,Products!A:C,3,FALSE))","v":""},null,"",{"$f":"IF(Y471=\"\",\"\",VLOOKUP(Y471,'Country & Delivery'!B:C,2,FALSE))","v":""},null,{"$f":"IF(U471=\"\",\"\",VLOOKUP(U471,'Country & Delivery'!N:O,2,FALSE))","v":""},null,null,{"$f":"IF(L471=\"\",\"\",VLOOKUP(L471,'Country & Delivery'!A:B,2,FALSE))","v":""},null,null,null,null,null,null,null,null,null,null,null,{"$f":"IF(M471=\"\",\"\",VLOOKUP(M471,'Country & Delivery'!AB:AC,2,FALSE))","v":""},null,null,null,null,null,null,null,null,null,null,null,{"$f":"IF(U471=\"\",\"\",VLOOKUP(U471,'Country & Delivery'!$N$1:$O$8,2,0))","v":""},"",0,"TC","TCA","N",null,null,{"$f":"IFERROR(INDEX('Country & Delivery'!N460:N466,MATCH(BD471,'Country & Delivery'!O460:O466,0),1),\"\")","v":""},null,null,{"$f":"IFERROR(INDEX('Country & Delivery'!A460:A709,MATCH(BG471,'Country & Delivery'!B460:B709,0),1),\"\")","v":""}]
[459,null,null,null,null,null,null,null,null,null,null,null,null,null,null,{"$f":"IF(O472=\"\",\"\",VLOOKUP(O472,Products!A:C,2,FALSE))","v":""},{"$f":"IF(O472=\"\",\"\",VLOOKUP(O472,Products!A:C,3,FALSE))","v":""},null,"",{"$f":"IF(Y472=\"\",\"\",VLOOKUP(Y472,'Country & Delivery'!B:C,2,FALSE))","v":""},null,{"$f":"IF(U472=\"\",\"\",VLOOKUP(U472,'Country & Delivery'!N:O,2,FALSE))","v":""},null,null,{"$f":"IF(L472=\"\",\"\",VLOOKUP(L472,'Country & Delivery'!A:B,2,FALSE))","v":""},null,null,null,null,null,null,null,null,null,null,null,{"$f":"IF(M472=\"\",\"\",VLOOKUP(M472,'Country & Delivery'!AB:AC,2,FALSE))","v":""},null,null,null,null,null,null,null,null,null,null,null,{"$f":"IF(U472=\"\",\"\",VLOOKUP(U472,'Country & Delivery'!$N$1:$O$8,2,0))","v":""},"",0,"TD","TCD","N","dc",null,{"$f":"IFERROR(INDEX('Country & Delivery'!N461:N467,MATCH(BD472,'Country & Delivery'!O461:O467,0),1),\"\")","v":""},null,null,{"$f":"IFERROR(INDEX('Country & Delivery'!A461:A710,MATCH(BG472,'Country & Delivery'!B461:B710,0),1),\"\")","v":""}]
[460,null,null,null,null,null,null,null,null,null,null,null,null,null,null,{"$f":"IF(O473=\"\",\"\",VLOOKUP(O473,Products!A:C,2,FALSE))","v":""},{"$f":"IF(O473=\"\",\"\",VLOOKUP(O473,Products!A:C,3,FALSE))","v":""},null,"",{"$f":"IF(Y473=\"\",\"\",VLOOKUP(Y473,'Country & Delivery'!B:C,2,FALSE))","v":""},null,{"$f":"IF(U473=\"\",\"\",VLOOKUP(U473,'Country & Delivery'!N:O,2,FALSE))","v":""},null,null,{"$f":"IF(L473=\"\",\"\",VLOOKUP(L473,'Country & Delivery'!A:B,2,FALSE))","v":""},null,null,null,null,null,null,null,null,null,null,null,{"$f":"IF(M473=\"\",\"\",VLOOKUP(M473,'Country & Delivery'!AB:AC,2,FALSE))","v":""},null,null,null,null,null,null,null,null,null,null,null,{"$f":"IF(U473=\"\",\"\",VLOOKUP(U473,'Country & Delivery'!$N$1:$O$8,2,0))","v":""},"",0,"TF","ATF","N","dc",null,{"$f":"IFERROR(INDEX('Country & Delivery'!N462:N468,MATCH(BD473,'Country & Delivery'!O462:O468,0),1),\"\")","v":""},null,null,{"$f":"IFERROR(INDEX('Country & Delivery'!A462:A711,MATCH(BG473,'Country & Delivery'!B462:B711,0),1),\"\")","v":""}]
[461,null,null,null,null,null,null,null,null,null,null,null,null,null,null,{"$f":"IF(O474=\"\",\"\",VLOOKUP(O474,Products!A:C,2,FALSE))","v":""},{"$f":"IF(O474=\"\",\"\",VLOOKUP(O474,Products!A:C,3,FALSE))","v":""},null,"",{"$f":"IF(Y474=\"\",\"\",VLOOKUP(Y474,'Country & Delivery'!B:C,2,FALSE))","v":""},null,{"$f":"IF(U474=\"\",\"\",VLOOKUP(U474,'Country & Delivery'!N:O,2,FALSE))","v":""},null,null,{"$f":"IF(L474=\"\",\"\",VLOOKUP(L474,'Country & Delivery'!A:B,2,FALSE))","v":""},null,null,null,null,null,null,null,null,null,null,null,{"$f":"IF(M474=\"\",\"\",VLOOKUP(M474,'Country & Delivery'!AB:AC,2,FALSE))","v":""},null,null,null,null,null,null,null,null,null,null,null,{"$f":"IF(U474=\"\",\"\",VLOOKUP(U474,'Country & Delivery'!$N$1:$O$8,2,0))","v":""},"",0,"TG","TGO","N","dc",null,{"$f":"IFERROR(INDEX('Country & Delivery'!N463:N469,MATCH(BD474,'Country & Delivery'!O463:O469,0),1),\"\")","v":""},null,null,{"$f":"IFERROR(INDEX('Country & Delivery'!A463:A712,MATCH(BG474,'Country & Delivery'!B463:B712,0),1),\"\")","v":""}]
[462,null,null,null,null,null,null,null,null,null,null,null,null,null,null,{"$f":"IF(O475=\"\",\"\",VLOOKUP(O475,Products!A:C,2,FALSE))","v":""},{"$f":"IF(O475=\"\",\"\",VLOOKUP(O475,Products!A:C,3,FALSE))","v":""},null,"",{"$f":"IF(Y475=\"\",\"\",VLOOKUP(Y475,'Country & Delivery'!B:C,2,FALSE))","v":""},null,{"$f":"IF(U475=\"\",\"\",VLOOKUP(U475,'Country & Delivery'!N:O,2,FALSE))","v":""},null,null,{"$f":"IF(L475=\"\",\"\",VLOOKUP(L475,'Country & Delivery'!A:B,2,FALSE))","v":""},null,null,null,null,null,null,null,null,null,null,null,{"$f":"IF(M475=\"\",\"\",VLOOKUP(M475,'Country & Delivery'!AB:AC,2,FALSE))","v":""},null,null,null,null,null,null,null,null,null,null,null,{"$f":"IF(U475=\"\",\"\",VLOOKUP(U475,'Country & Delivery'!$N$1:$O$8,2,0))","v":""},"",0,"TH","THA","N","dc",null,{"$f":"IFERROR(INDEX('Country & Delivery'!N464:N470,MATCH(BD475,'Country & Delivery'!O464:O470,0),1),\"\")","v":""},null,null,{"$f":"IFERROR(INDEX('Country & Delivery'!A464:A713,MATCH(BG475,'Country & Delivery'!B464:B713,0),1),\"\")","v":""}]
[463,null,null,null,null,null,null,null,null,null,null,null,null,null,null,{"$f":"IF(O476=\"\",\"\",VLOOKUP(O476,Products!A:C,2,FALSE))","v":""},{"$f":"IF(O476=\"\",\"\",VLOOKUP(O476,Products!A:C,3,FALSE))","v":""},null,"",{"$f":"IF(Y476=\"\",\"\",VLOOKUP(Y476,'Country & Delivery'!B:C,2,FALSE))","v":""},null,{"$f":"IF(U476=\"\",\"\",VLOOKUP(U476,'Country & Delivery'!N:O,2,FALSE))","v":""},null,null,{"$f":"IF(L476=\"\",\"\",VLOOKUP(L476,'Country & Delivery'!A:B,2,FALSE))","v":""},null,null,null,null,null,null,null,null,null,null,null,{"$f":"IF(M476=\"\",\"\",VLOOKUP(M476,'Country & Delivery'!AB:AC,2,FALSE))","v":""},null,null,null,null,null,null,null,null,null,null,null,{"$f":"IF(U476=\"\",\"\",VLOOKUP(U476,'Country & Delivery'!$N$1:$O$8,2,0))","v":""},"",0,"Thailand","THA","N",null,null,{"$f":"IFERROR(INDEX('Country & Delivery'!N465:N471,MATCH(BD476,'Country & Delivery'!O465:O471,0),1),\"\")","v":""},null,null,{"$f":"IFERROR(INDEX('Country & Delivery'!A465:A714,MATCH(BG476,'Country & Delivery'!B465:B714,0),1),\"\")","v":""}]
[464,null,null,null,null,null,null,null,null,null,null,null,null,null,null,{"$f":"IF(O477=\"\",\"\",VLOOKUP(O477,Products!A:C,2,FALSE))","v":""},{"$f":"IF(O477=\"\",\"\",VLOOKUP(O477,Products!A:C,3,FALSE))","v":""},null,"",{"$f":"IF(Y477=\"\",\"\",VLOOKUP(Y477,'Country & Delivery'!B:C,2,FALSE))","v":""},null,{"$f":"IF(U477=\"\",\"\",VLOOKUP(U477,'Country & Delivery'!N:O,2,FALSE))","v":""},null,null,{"$f":"IF(L477=\"\",\"\",VLOOKUP(L477,'Country & Delivery'!A:B,2,FALSE))","v":""},null,null,null,null,null,null,null,null,null,null,null,{"$f":"IF(M477=\"\",\"\",VLOOKUP(M477,'Country & Delivery'!AB:AC,2,FALSE))","v":""},null,null,null,null,null,null,null,null,null,null,null,{"$f":"IF(U477=\"\",\"\",VLOOKUP(U477,'Country & Delivery'!$N$1:$O$8,2,0))","v":""},"",0,"Timor-Leste","TLS","N","dc",null,{"$f":"IFERROR(INDEX('Country & Delivery'!N466:N472,MATCH(BD477,'Country & Delivery'!O466:O472,0),1),\"\")","v":""},null,null,{"$f":"IFERROR(INDEX('Country & Delivery'!A466:A715,MATCH(BG477,'Country & Delivery'!B466:B715,0),1),\"\")","v":""}]
[465,null,null,null,null,null,null,null,null,null,null,null,null,null,null,{"$f":"IF(O478=\"\",\"\",VLOOKUP(O478,Products!A:C,2,FALSE))","v":""},{"$f":"IF(O478=\"\",\"\",VLOOKUP(O478,Products!A:C,3,FALSE))","v":""},null,"",{"$f":"IF(Y478=\"\",\"\",VLOOKUP(Y478,'Country & Delivery'!B:C,2,FALSE))","v":""},null,{"$f":"IF(U478=\"\",\"\",VLOOKUP(U478,'Country & Delivery'!N:O,2,FALSE))","v":""},null,null,{"$f":"IF(L478=\"\",\"\",VLOOKUP(L478,'Country & Delivery'!A:B,2,FALSE))","v":""},null,null,null,null,null,null,null,null,null,null,null,{"$f":"IF(M478=\"\",\"\",VLOOKUP(M478,'Country & Delivery'!AB:AC,2,FALSE))","v":""},null,null,null,null,null,null,null,null,null,null,null,{"$f":"IF(U478=\"\",\"\",VLOOKUP(U478,'Country & Delivery'!$N$1:$O$8,2,0))","v":""},"",0,"TJ","TJK","N","dc",null,{"$f":"IFERROR(INDEX('Country & Delivery'!N467:N473,MATCH(BD478,'Country & Delivery'!O467:O473,0),1),\"\")","v":""},null,null,{"$f":"IFERROR(INDEX('Country & Delivery'!A467:A716,MATCH(BG478,'Country & Delivery'!B467:B716,0),1),\"\")","v":""}]
[466,null,null,null,null,null,null,null,null,null,null,null,null,null,null,{"$f":"IF(O479=\"\",\"\",VLOOKUP(O479,Products!A:C,2,FALSE))","v":""},{"$f":"IF(O479=\"\",\"\",VLOOKUP(O479,Products!A:C,3,FALSE))","v":""},null,"",{"$f":"IF(Y479=\"\",\"\",VLOOKUP(Y479,'Country & Delivery'!B:C,2,FALSE))","v":""},null,{"$f":"IF(U479=\"\",\"\",VLOOKUP(U479,'Country & Delivery'!N:O,2,FALSE))","v":""},null,null,{"$f":"IF(L479=\"\",\"\",VLOOKUP(L479,'Country & Delivery'!A:B,2,FALSE))","v":""},null,null,null,null,null,null,null,null,null,null,null,{"$f":"IF(M479=\"\",\"\",VLOOKUP(M479,'Country & Delivery'!AB:AC,2,FALSE))","v":""},null,null,null,null,null,null,null,null,null,null,null,{"$f":"IF(U479=\"\",\"\",VLOOKUP(U479,'Country & Delivery'!$N$1:$O$8,2,0))","v":""},"",0,"TK","TKL","N","dc",null,{"$f":"IFERROR(INDEX('Country & Delivery'!N468:N474,MATCH(BD479,'Country & Delivery'!O468:O474,0),1),\"\")","v":""},null,null,{"$f":"IFERROR(INDEX('Country & Delivery'!A468:A717,MATCH(BG479,'Country & Delivery'!B468:B717,0),1),\"\")","v":""}]
[467,null,null,null,null,null,null,null,null,null,null,null,null,null,null,{"$f":"IF(O480=\"\",\"\",VLOOKUP(O480,Products!A:C,2,FALSE))","v":""},{"$f":"IF(O480=\"\",\"\",VLOOKUP(O480,Products!A:C,3,FALSE))","v":""},null,"",{"$f":"IF(Y480=\"\",\"\",VLOOKUP(Y480,'Country & Delivery'!B:C,2,FALSE))","v":""},null,{"$f":"IF(U480=\"\",\"\",VLOOKUP(U480,'Country & Delivery'!N:O,2,FALSE))","v":""},null,null,{"$f":"IF(L480=\"\",\"\",VLOOKUP(L480,'Country & Delivery'!A:B,2,FALSE))","v":""},null,null,null,null,null,null,null,null,null,null,null,{"$f":"IF(M480=\"\",\"\",VLOOKUP(M480,'Country & Delivery'!AB:AC,2,FALSE))","v":""},null,null,null,null,null,null,null,null,null,null,null,{"$f":"IF(U480=\"\",\"\",VLOOKUP(U480,'Country & Delivery'!$N$1:$O$8,2,0))","v":""},"",0,"TL","TLS","N","dc",null,{"$f":"IFERROR(INDEX('Country & Delivery'!N469:N475,MATCH(BD480,'Country & Delivery'!O469:O475,0),1),\"\")","v":""},null,null,{"$f":"IFERROR(INDEX('Country & Delivery'!A469:A718,MATCH(BG480,'Country & Delivery'!B469:B718,0),1),\"\")","v":""}]
[468,null,null,null,null,null,null,null,null,null,null,null,null,null,null,{"$f":"IF(O481=\"\",\"\",VLOOKUP(O481,Products!A:C,2,FALSE))","v":""},{"$f":"IF(O481=\"\",\"\",VLOOKUP(O481,Products!A:C,3,FALSE))","v":""},null,"",{"$f":"IF(Y481=\"\",\"\",VLOOKUP(Y481,'Country & Delivery'!B:C,2,FALSE))","v":""},null,{"$f":"IF(U481=\"\",\"\",VLOOKUP(U481,'Country & Delivery'!N:O,2,FALSE))","v":""},null,null,{"$f":"IF(L481=\"\",\"\",VLOOKUP(L481,'Country & Delivery'!A:B,2,FALSE))","v":""},null,null,null,null,null,null,null,null,null,null,null,{"$f":"IF(M481=\"\",\"\",VLOOKUP(M481,'Country & Delivery'!AB:AC,2,FALSE))","v":""},null,null,null,null,null,null,null,null,null,null,null,{"$f":"IF(U481=\"\",\"\",VLOOKUP(U481,'Country & Delivery'!$N$1:$O$8,2,0))","v":""},"",0,"TM","TKM","N","dc",null,{"$f":"IFERROR(INDEX('Country & Delivery'!N470:N476,MATCH(BD481,'Country & Delivery'!O470:O476,0),1),\"\")","v":""},null,null,{"$f":"IFERROR(INDEX('Country & Delivery'!A470:A719,MATCH(BG481,'Country & Delivery'!B470:B719,0),1),\"\")","v":""}]
[469,null,null,null,null,null,null,null,null,null,null,null,null,null,null,{"$f":"IF(O482=\"\",\"\",VLOOKUP(O482,Products!A:C,2,FALSE))","v":""},{"$f":"IF(O482=\"\",\"\",VLOOKUP(O482,Products!A:C,3,FALSE))","v":""},null,"",{"$f":"IF(Y482=\"\",\"\",VLOOKUP(Y482,'Country & Delivery'!B:C,2,FALSE))","v":""},null,{"$f":"IF(U482=\"\",\"\",VLOOKUP(U482,'Country & Delivery'!N:O,2,FALSE))","v":""},null,null,{"$f":"IF(L482=\"\",\"\",VLOOKUP(L482,'Country & Delivery'!A:B,2,FALSE))","v":""},null,null,null,null,null,null,null,null,null,null,null,{"$f":"IF(M482=\"\",\"\",VLOOKUP(M482,'Country & Delivery'!AB:AC,2,FALSE))","v":""},null,null,null,null,null,null,null,null,null,null,null,{"$f":"IF(U482=\"\",\"\",VLOOKUP(U482,'Country & Delivery'!$N$1:$O$8,2,0))","v":""},"",0,"TN","TUN","N","dc",null,{"$f":"IFERROR(INDEX('Country & Delivery'!N471:N477,MATCH(BD482,'Country & Delivery'!O471:O477,0),1),\"\")","v":""},null,null,{"$f":"IFERROR(INDEX('Country & Delivery'!A471:A720,MATCH(BG482,'Country & Delivery'!B471:B720,0),1),\"\")","v":""}]
[470,null,null,null,null,null,null,null,null,null,null,null,null,null,null,{"$f":"IF(O483=\"\",\"\",VLOOKUP(O483,Products!A:C,2,FALSE))","v":""},{"$f":"IF(O483=\"\",\"\",VLOOKUP(O483,Products!A:C,3,FALSE))","v":""},null,"",{"$f":"IF(Y483=\"\",\"\",VLOOKUP(Y483,'Country & Delivery'!B:C,2,FALSE))","v":""},null,{"$f":"IF(U483=\"\",\"\",VLOOKUP(U483,'Country & Delivery'!N:O,2,FALSE))","v":""},null,null,{"$f":"IF(L483=\"\",\"\",VLOOKUP(L483,'Country & Delivery'!A:B,2,FALSE))","v":""},null,null,null,null,null,null,null,null,null,null,null,{"$f":"IF(M483=\"\",\"\",VLOOKUP(M483,'Country & Delivery'!AB:AC,2,FALSE))","v":""},null,null,null,null,null,null,null,null,null,null,null,{"$f":"IF(U483=\"\",\"\",VLOOKUP(U483,'Country & Delivery'!$N$1:$O$8,2,0))","v":""},"",0,"TO","TON","N","dc",null,{"$f":"IFERROR(INDEX('Country & Delivery'!N472:N478,MATCH(BD483,'Country & Delivery'!O472:O478,0),1),\"\")","v":""},null,null,{"$f":"IFERROR(INDEX('Country & Delivery'!A472:A721,MATCH(BG483,'Country & Delivery'!B472:B721,0),1),\"\")","v":""}]
[471,null,null,null,null,null,null,null,null,null,null,null,null,null,null,{"$f":"IF(O484=\"\",\"\",VLOOKUP(O484,Products!A:C,2,FALSE))","v":""},{"$f":"IF(O484=\"\",\"\",VLOOKUP(O484,Products!A:C,3,FALSE))","v":""},null,"",{"$f":"IF(Y484=\"\",\"\",VLOOKUP(Y484,'Country & Delivery'!B:C,2,FALSE))","v":""},null,{"$f":"IF(U484=\"\",\"\",VLOOKUP(U484,'Country & Delivery'!N:O,2,FALSE))","v":""},null,null,{"$f":"IF(L484=\"\",\"\",VLOOKUP(L484,'Country & Delivery'!A:B,2,FALSE))","v":""},null,null,null,null,null,null,null,null,null,null,null,{"$f":"IF(M484=\"\",\"\",VLOOKUP(M484,'Country & Delivery'!AB:AC,2,FALSE))","v":""},null,null,null,null,null,null,null,null,null,null,null,{"$f":"IF(U484=\"\",\"\",VLOOKUP(U484,'Country & Delivery'!$N$1:$O$8,2,0))","v":""},"",0,"Togo","TGO","N","dc",null,{"$f":"IFERROR(INDEX('Country & Delivery'!N473:N479,MATCH(BD484,'Country & Delivery'!O473:O479,0),1),\"\")","v":""},null,null,{"$f":"IFERROR(INDEX('Country & Delivery'!A473:A722,MATCH(BG484,'Country & Delivery'!B473:B722,0),1),\"\")","v":""}]
[472,null,null,null,null,null,null,null,null,null,null,null,null,null,null,{"$f":"IF(O485=\"\",\"\",VLOOKUP(O485,Products!A:C,2,FALSE))","v":""},{"$f":"IF(O485=\"\",\"\",VLOOKUP(O485,Products!A:C,3,FALSE))","v":""},null,"",{"$f":"IF(Y485=\"\",\"\",VLOOKUP(Y485,'Country & Delivery'!B:C,2,FALSE))","v":""},null,{"$f":"IF(U485=\"\",\"\",VLOOKUP(U485,'Country & Delivery'!N:O,2,FALSE))","v":""},null,null,{"$f":"IF(L485=\"\",\"\",VLOOKUP(L485,'Country & Delivery'!A:B,2,FALSE))","v":""},null,null,null,null,null,null,null,null,null,null,null,{"$f":"IF(M485=\"\",\"\",VLOOKUP(M485,'Country & Delivery'!AB:AC,2,FALSE))","v":""},null,null,null,null,null,null,null,null,null,null,null,{"$f":"IF(U485=\"\",\"\",VLOOKUP(U485,'Country & Delivery'!$N$1:$O$8,2,0))","v":""},"",0,"Tokelau","TKL","N","dc",null,{"$f":"IFERROR(INDEX('Country & Delivery'!N474:N480,MATCH(BD485,'Country & Delivery'!O474:O480,0),1),\"\")","v":""},null,null,{"$f":"IFERROR(INDEX('Country & Delivery'!A474:A723,MATCH(BG485,'Country & Delivery'!B474:B723,0),1),\"\")","v":""}]
[473,null,null,null,null,null,null,null,null,null,null,null,null,null,null,{"$f":"IF(O486=\"\",\"\",VLOOKUP(O486,Products!A:C,2,FALSE))","v":""},{"$f":"IF(O486=\"\",\"\",VLOOKUP(O486,Products!A:C,3,FALSE))","v":""},null,"",{"$f":"IF(Y486=\"\",\"\",VLOOKUP(Y486,'Country & Delivery'!B:C,2,FALSE))","v":""},null,{"$f":"IF(U486=\"\",\"\",VLOOKUP(U486,'Country & Delivery'!N:O,2,FALSE))","v":""},null,null,{"$f":"IF(L486=\"\",\"\",VLOOKUP(L486,'Country & Delivery'!A:B,2,FALSE))","v":""},null,null,null,null,null,null,null,null,null,null,null,{"$f":"IF(M486=\"\",\"\",VLOOKUP(M486,'Country & Delivery'!AB:AC,2,FALSE))","v":""},null,null,null,null,null,null,null,null,null,null,null,{"$f":"IF(U486=\"\",\"\",VLOOKUP(U486,'Country & Delivery'!$N$1:$O$8,2,0))","v":""},"",0,"Tonga","TON","N","dc",null,{"$f":"IFERROR(INDEX('Country & Delivery'!N475:N481,MATCH(BD486,'Country & Delivery'!O475:O481,0),1),\"\")","v":""},null,null,{"$f":"IFERROR(INDEX('Country & Delivery'!A475:A724,MATCH(BG486,'Country & Delivery'!B475:B724,0),1),\"\")","v":""}]
[474,null,null,null,null,null,null,null,null,null,null,null,null,null,null,{"$f":"IF(O487=\"\",\"\",VLOOKUP(O487,Products!A:C,2,FALSE))","v":""},{"$f":"IF(O487=\"\",\"\",VLOOKUP(O487,Products!A:C,3,FALSE))","v":""},null,"",{"$f":"IF(Y487=\"\",\"\",VLOOKUP(Y487,'Country & Delivery'!B:C,2,FALSE))","v":""},null,{"$f":"IF(U487=\"\",\"\",VLOOKUP(U487,'Country & Delivery'!N:O,2,FALSE))","v":""},null,null,{"$f":"IF(L487=\"\",\"\",VLOOKUP(L487,'Country & Delivery'!A:B,2,FALSE))","v":""},null,null,null,null,null,null,null,null,null,null,null,{"$f":"IF(M487=\"\",\"\",VLOOKUP(M487,'Country & Delivery'!AB:AC,2,FALSE))","v":""},null,null,null,null,null,null,null,null,null,null,null,{"$f":"IF(U487=\"\",\"\",VLOOKUP(U487,'Country & Delivery'!$N$1:$O$8,2,0))","v":""},"",0,"TR","TUR","N","dc",null,{"$f":"IFERROR(INDEX('Country & Delivery'!N476:N482,MATCH(BD487,'Country & Delivery'!O476:O482,0),1),\"\")","v":""},null,null,{"$f":"IFERROR(INDEX('Country & Delivery'!A476:A725,MATCH(BG487,'Country & Delivery'!B476:B725,0),1),\"\")","v":""}]
[475,null,null,null,null,null,null,null,null,null,null,null,null,null,null,{"$f":"IF(O488=\"\",\"\",VLOOKUP(O488,Products!A:C,2,FALSE))","v":""},{"$f":"IF(O488=\"\",\"\",VLOOKUP(O488,Products!A:C,3,FALSE))","v":""},null,"",{"$f":"IF(Y488=\"\",\"\",VLOOKUP(Y488,'Country & Delivery'!B:C,2,FALSE))","v":""},null,{"$f":"IF(U488=\"\",\"\",VLOOKUP(U488,'Country & Delivery'!N:O,2,FALSE))","v":""},null,null,{"$f":"IF(L488=\"\",\"\",VLOOKUP(L488,'Country & Delivery'!A:B,2,FALSE))","v":""},null,null,null,null,null,null,null,null,null,null,null,{"$f":"IF(M488=\"\",\"\",VLOOKUP(M488,'Country & Delivery'!AB:AC,2,FALSE))","v":""},null,null,null,null,null,null,null,null,null,null,null,{"$f":"IF(U488=\"\",\"\",VLOOKUP(U488,'Country & Delivery'!$N$1:$O$8,2,0))","v":""},"",0,"Trinidad And Tobago","TTO","N",null,null,{"$f":"IFERROR(INDEX('Country & Delivery'!N477:N483,MATCH(BD488,'Country & Delivery'!O477:O483,0),1),\"\")","v":""},null,null,{"$f":"IFERROR(INDEX('Country & Delivery'!A477:A726,MATCH(BG488,'Country & Delivery'!B477:B726,0),1),\"\")","v":""}]
[476,null,null,null,null,null,null,null,null,null,null,null,null,null,null,{"$f":"IF(O489=\"\",\"\",VLOOKUP(O489,Products!A:C,2,FALSE))","v":""},{"$f":"IF(O489=\"\",\"\",VLOOKUP(O489,Products!A:C,3,FALSE))","v":""},null,"",{"$f":"IF(Y489=\"\",\"\",VLOOKUP(Y489,'Country & Delivery'!B:C,2,FALSE))","v":""},null,{"$f":"IF(U489=\"\",\"\",VLOOKUP(U489,'Country & Delivery'!N:O,2,FALSE))","v":""},null,null,{"$f":"IF(L489=\"\",\"\",VLOOKUP(L489,'Country & Delivery'!A:B,2,FALSE))","v":""},null,null,null,null,null,null,null,null,null,null,null,{"$f":"IF(M489=\"\",\"\",VLOOKUP(M489,'Country & Delivery'!AB:AC,2,FALSE))","v":""},null,null,null,null,null,null,null,null,null,null,null,{"$f":"IF(U489=\"\",\"\",VLOOKUP(U489,'Country & Delivery'!$N$1:$O$8,2,0))","v":""},"",0,"TT","TTO","N",null,null,{"$f":"IFERROR(INDEX('Country & Delivery'!N478:N484,MATCH(BD489,'Country & Delivery'!O478:O484,0),1),\"\")","v":""},null,null,{"$f":"IFERROR(INDEX('Country & Delivery'!A478:A727,MATCH(BG489,'Country & Delivery'!B478:B727,0),1),\"\")","v":""}]
[477,null,null,null,null,null,null,null,null,null,null,null,null,null,null,{"$f":"IF(O490=\"\",\"\",VLOOKUP(O490,Products!A:C,2,FALSE))","v":""},{"$f":"IF(O490=\"\",\"\",VLOOKUP(O490,Products!A:C,3,FALSE))","v":""},null,"",{"$f":"IF(Y490=\"\",\"\",VLOOKUP(Y490,'Country & Delivery'!B:C,2,FALSE))","v":""},null,{"$f":"IF(U490=\"\",\"\",VLOOKUP(U490,'Country & Delivery'!N:O,2,FALSE))","v":""},null,null,{"$f":"IF(L490=\"\",\"\",VLOOKUP(L490,'Country & Delivery'!A:B,2,FALSE))","v":""},null,null,null,null,null,null,null,null,null,null,null,{"$f":"IF(M490=\"\",\"\",VLOOKUP(M490,'Country & Delivery'!AB:AC,2,FALSE))","v":""},null,null,null,null,null,null,null,null,null,null,null,{"$f":"IF(U490=\"\",\"\",VLOOKUP(U490,'Country & Delivery'!$N$1:$O$8,2,0))","v":""},"",0,"Tunisia","TUN","N","dc",null,{"$f":"IFERROR(INDEX('Country & Delivery'!N479:N485,MATCH(BD490,'Country & Delivery'!O479:O485,0),1),\"\")","v":""},null,null,{"$f":"IFERROR(INDEX('Country & Delivery'!A479:A728,MATCH(BG490,'Country & Delivery'!B479:B728,0),1),\"\")","v":""}]
[478,null,null,null,null,null,null,null,null,null,null,null,null,null,null,{"$f":"IF(O491=\"\",\"\",VLOOKUP(O491,Products!A:C,2,FALSE))","v":""},{"$f":"IF(O491=\"\",\"\",VLOOKUP(O491,Products!A:C,3,FALSE))","v":""},null,"",{"$f":"IF(Y491=\"\",\"\",VLOOKUP(Y491,'Country & Delivery'!B:C,2,FALSE))","v":""},null,{"$f":"IF(U491=\"\",\"\",VLOOKUP(U491,'Country & Delivery'!N:O,2,FALSE))","v":""},null,null,{"$f":"IF(L491=\"\",\"\",VLOOKUP(L491,'Country & Delivery'!A:B,2,FALSE))","v":""},null,null,null,null,null,null,null,null,null,null,null,{"$f":"IF(M491=\"\",\"\",VLOOKUP(M491,'Country & Delivery'!AB:AC,2,FALSE))","v":""},null,null,null,null,null,null,null,null,null,null,null,{"$f":"IF(U491=\"\",\"\",VLOOKUP(U491,'Country & Delivery'!$N$1:$O$8,2,0))","v":""},"",0,"Turkey","TUR","N",null,null,{"$f":"IFERROR(INDEX('Country & Delivery'!N480:N486,MATCH(BD491,'Country & Delivery'!O480:O486,0),1),\"\")","v":""},null,null,{"$f":"IFERROR(INDEX('Country & Delivery'!A480:A729,MATCH(BG491,'Country & Delivery'!B480:B729,0),1),\"\")","v":""}]
[479,null,null,null,null,null,null,null,null,null,null,null,null,null,null,{"$f":"IF(O492=\"\",\"\",VLOOKUP(O492,Products!A:C,2,FALSE))","v":""},{"$f":"IF(O492=\"\",\"\",VLOOKUP(O492,Products!A:C,3,FALSE))","v":""},null,"",{"$f":"IF(Y492=\"\",\"\",VLOOKUP(Y492,'Country & Delivery'!B:C,2,FALSE))","v":""},null,{"$f":"IF(U492=\"\",\"\",VLOOKUP(U492,'Country & Delivery'!N:O,2,FALSE))","v":""},null,null,{"$f":"IF(L492=\"\",\"\",VLOOKUP(L492,'Country & Delivery'!A:B,2,FALSE))","v":""},null,null,null,null,null,null,null,null,null,null,null,{"$f":"IF(M492=\"\",\"\",VLOOKUP(M492,'Country & Delivery'!AB:AC,2,FALSE))","v":""},null,null,null,null,null,null,null,null,null,null,null,{"$f":"IF(U492=\"\",\"\",VLOOKUP(U492,'Country & Delivery'!$N$1:$O$8,2,0))","v":""},"",0,"Turkmenistan","TKM","N","dc",null,{"$f":"IFERROR(INDEX('Country & Delivery'!N481:N487,MATCH(BD492,'Country & Delivery'!O481:O487,0),1),\"\")","v":""},null,null,{"$f":"IFERROR(INDEX('Country & Delivery'!A481:A730,MATCH(BG492,'Country & Delivery'!B481:B730,0),1),\"\")","v":""}]
[480,null,null,null,null,null,null,null,null,null,null,null,null,null,null,{"$f":"IF(O493=\"\",\"\",VLOOKUP(O493,Products!A:C,2,FALSE))","v":""},{"$f":"IF(O493=\"\",\"\",VLOOKUP(O493,Products!A:C,3,FALSE))","v":""},null,"",{"$f":"IF(Y493=\"\",\"\",VLOOKUP(Y493,'Country & Delivery'!B:C,2,FALSE))","v":""},null,{"$f":"IF(U493=\"\",\"\",VLOOKUP(U493,'Country & Delivery'!N:O,2,FALSE))","v":""},null,null,{"$f":"IF(L493=\"\",\"\",VLOOKUP(L493,'Country & Delivery'!A:B,2,FALSE))","v":""},null,null,null,null,null,null,null,null,null,null,null,{"$f":"IF(M493=\"\",\"\",VLOOKUP(M493,'Country & Delivery'!AB:AC,2,FALSE))","v":""},null,null,null,null,null,null,null,null,null,null,null,{"$f":"IF(U493=\"\",\"\",VLOOKUP(U493,'Country & Delivery'!$N$1:$O$8,2,0))","v":""},"",0,"Turks And Caicos Islands","TCA","N",null,null,{"$f":"IFERROR(INDEX('Country & Delivery'!N482:N488,MATCH(BD493,'Country & Delivery'!O482:O488,0),1),\"\")","v":""},null,null,{"$f":"IFERROR(INDEX('Country & Delivery'!A482:A731,MATCH(BG493,'Country & Delivery'!B482:B731,0),1),\"\")","v":""}]
[481,null,null,null,null,null,null,null,null,null,null,null,null,null,null,{"$f":"IF(O494=\"\",\"\",VLOOKUP(O494,Products!A:C,2,FALSE))","v":""},{"$f":"IF(O494=\"\",\"\",VLOOKUP(O494,Products!A:C,3,FALSE))","v":""},null,"",{"$f":"IF(Y494=\"\",\"\",VLOOKUP(Y494,'Country & Delivery'!B:C,2,FALSE))","v":""},null,{"$f":"IF(U494=\"\",\"\",VLOOKUP(U494,'Country & Delivery'!N:O,2,FALSE))","v":""},null,null,{"$f":"IF(L494=\"\",\"\",VLOOKUP(L494,'Country & Delivery'!A:B,2,FALSE))","v":""},null,null,null,null,null,null,null,null,null,null,null,{"$f":"IF(M494=\"\",\"\",VLOOKUP(M494,'Country & Delivery'!AB:AC,2,FALSE))","v":""},null,null,null,null,null,null,null,null,null,null,null,{"$f":"IF(U494=\"\",\"\",VLOOKUP(U494,'Country & Delivery'!$N$1:$O$8,2,0))","v":""},"",0,"Tuvalu","TUV","N","dc",null,{"$f":"IFERROR(INDEX('Country & Delivery'!N483:N489,MATCH(BD494,'Country & Delivery'!O483:O489,0),1),\"\")","v":""},null,null,{"$f":"IFERROR(INDEX('Country & Delivery'!A483:A732,MATCH(BG494,'Country & Delivery'!B483:B732,0),1),\"\")","v":""}]
[482,null,null,null,null,null,null,null,null,null,null,null,null,null,null,{"$f":"IF(O495=\"\",\"\",VLOOKUP(O495,Products!A:C,2,FALSE))","v":""},{"$f":"IF(O495=\"\",\"\",VLOOKUP(O495,Products!A:C,3,FALSE))","v":""},null,"",{"$f":"IF(Y495=\"\",\"\",VLOOKUP(Y495,'Country & Delivery'!B:C,2,FALSE))","v":""},null,{"$f":"IF(U495=\"\",\"\",VLOOKUP(U495,'Country & Delivery'!N:O,2,FALSE))","v":""},null,null,{"$f":"IF(L495=\"\",\"\",VLOOKUP(L495,'Country & Delivery'!A:B,2,FALSE))","v":""},null,null,null,null,null,null,null,null,null,null,null,{"$f":"IF(M495=\"\",\"\",VLOOKUP(M495,'Country & Delivery'!AB:AC,2,FALSE))","v":""},null,null,null,null,null,null,null,null,null,null,null,{"$f":"IF(U495=\"\",\"\",VLOOKUP(U495,'Country & Delivery'!$N$1:$O$8,2,0))","v":""},"",0,"TV","TUV","N","dc",null,{"$f":"IFERROR(INDEX('Country & Delivery'!N484:N490,MATCH(BD495,'Country & Delivery'!O484:O490,0),1),\"\")","v":""},null,null,{"$f":"IFERROR(INDEX('Country & Delivery'!A484:A733,MATCH(BG495,'Country & Delivery'!B484:B733,0),1),\"\")","v":""}]
[483,null,null,null,null,null,null,null,null,null,null,null,null,null,null,{"$f":"IF(O496=\"\",\"\",VLOOKUP(O496,Products!A:C,2,FALSE))","v":""},{"$f":"IF(O496=\"\",\"\",VLOOKUP(O496,Products!A:C,3,FALSE))","v":""},null,"",{"$f":"IF(Y496=\"\",\"\",VLOOKUP(Y496,'Country & Delivery'!B:C,2,FALSE))","v":""},null,{"$f":"IF(U496=\"\",\"\",VLOOKUP(U496,'Country & Delivery'!N:O,2,FALSE))","v":""},null,null,{"$f":"IF(L496=\"\",\"\",VLOOKUP(L496,'Country & Delivery'!A:B,2,FALSE))","v":""},null,null,null,null,null,null,null,null,null,null,null,{"$f":"IF(M496=\"\",\"\",VLOOKUP(M496,'Country & Delivery'!AB:AC,2,FALSE))","v":""},null,null,null,null,null,null,null,null,null,null,null,{"$f":"IF(U496=\"\",\"\",VLOOKUP(U496,'Country & Delivery'!$N$1:$O$8,2,0))","v":""},"",0,"TW","TWN","N",null,null,{"$f":"IFERROR(INDEX('Country & Delivery'!N485:N491,MATCH(BD496,'Country & Delivery'!O485:O491,0),1),\"\")","v":""},null,null,{"$f":"IFERROR(INDEX('Country & Delivery'!A485:A734,MATCH(BG496,'Country & Delivery'!B485:B734,0),1),\"\")","v":""}]
[484,null,null,null,null,null,null,null,null,null,null,null,null,null,null,{"$f":"IF(O497=\"\",\"\",VLOOKUP(O497,Products!A:C,2,FALSE))","v":""},{"$f":"IF(O497=\"\",\"\",VLOOKUP(O497,Products!A:C,3,FALSE))","v":""},null,"",{"$f":"IF(Y497=\"\",\"\",VLOOKUP(Y497,'Country & Delivery'!B:C,2,FALSE))","v":""},null,{"$f":"IF(U497=\"\",\"\",VLOOKUP(U497,'Country & Delivery'!N:O,2,FALSE))","v":""},null,null,{"$f":"IF(L497=\"\",\"\",VLOOKUP(L497,'Country & Delivery'!A:B,2,FALSE))","v":""},null,null,null,null,null,null,null,null,null,null,null,{"$f":"IF(M497=\"\",\"\",VLOOKUP(M497,'Country & Delivery'!AB:AC,2,FALSE))","v":""},null,null,null,null,null,null,null,null,null,null,null,{"$f":"IF(U497=\"\",\"\",VLOOKUP(U497,'Country & Delivery'!$N$1:$O$8,2,0))","v":""},"",0,"TZ","TZA","N",null,null,{"$f":"IFERROR(INDEX('Country & Delivery'!N486:N492,MATCH(BD497,'Country & Delivery'!O486:O492,0),1),\"\")","v":""},null,null,{"$f":"IFERROR(INDEX('Country & Delivery'!A486:A735,MATCH(BG497,'Country & Delivery'!B486:B735,0),1),\"\")","v":""}]
[485,null,null,null,null,null,null,null,null,null,null,null,null,null,null,{"$f":"IF(O498=\"\",\"\",VLOOKUP(O498,Products!A:C,2,FALSE))","v":""},{"$f":"IF(O498=\"\",\"\",VLOOKUP(O498,Products!A:C,3,FALSE))","v":""},null,"",{"$f":"IF(Y498=\"\",\"\",VLOOKUP(Y498,'Country & Delivery'!B:C,2,FALSE))","v":""},null,{"$f":"IF(U498=\"\",\"\",VLOOKUP(U498,'Country & Delivery'!N:O,2,FALSE))","v":""},null,null,{"$f":"IF(L498=\"\",\"\",VLOOKUP(L498,'Country & Delivery'!A:B,2,FALSE))","v":""},null,null,null,null,null,null,null,null,null,null,null,{"$f":"IF(M498=\"\",\"\",VLOOKUP(M498,'Country & Delivery'!AB:AC,2,FALSE))","v":""},null,null,null,null,null,null,null,null,null,null,null,{"$f":"IF(U498=\"\",\"\",VLOOKUP(U498,'Country & Delivery'!$N$1:$O$8,2,0))","v":""},"",0,"UA","UKR","N","dc",null,{"$f":"IFERROR(INDEX('Country & Delivery'!N487:N493,MATCH(BD498,'Country & Delivery'!O487:O493,0),1),\"\")","v":""},null,null,{"$f":"IFERROR(INDEX('Country & Delivery'!A487:A736,MATCH(BG498,'Country & Delivery'!B487:B736,0),1),\"\")","v":""}]
[486,null,null,null,null,null,null,null,null,null,null,null,null,null,null,{"$f":"IF(O499=\"\",\"\",VLOOKUP(O499,Products!A:C,2,FALSE))","v":""},{"$f":"IF(O499=\"\",\"\",VLOOKUP(O499,Products!A:C,3,FALSE))","v":""},null,"",{"$f":"IF(Y499=\"\",\"\",VLOOKUP(Y499,'Country & Delivery'!B:C,2,FALSE))","v":""},null,{"$f":"IF(U499=\"\",\"\",VLOOKUP(U499,'Country & Delivery'!N:O,2,FALSE))","v":""},null,null,{"$f":"IF(L499=\"\",\"\",VLOOKUP(L499,'Country & Delivery'!A:B,2,FALSE))","v":""},null,null,null,null,null,null,null,null,null,null,null,{"$f":"IF(M499=\"\",\"\",VLOOKUP(M499,'Country & Delivery'!AB:AC,2,FALSE))","v":""},null,null,null,null,null,null,null,null,null,null,null,{"$f":"IF(U499=\"\",\"\",VLOOKUP(U499,'Country & Delivery'!$N$1:$O$8,2,0))","v":""},"",0,"UG","UGA","N",null,null,{"$f":"IFERROR(INDEX('Country & Delivery'!N488:N494,MATCH(BD499,'Country & Delivery'!O488:O494,0),1),\"\")","v":""},null,null,{"$f":"IFERROR(INDEX('Country & Delivery'!A488:A737,MATCH(BG499,'Country & Delivery'!B488:B737,0),1),\"\")","v":""}]
[487,null,null,null,null,null,null,null,null,null,null,null,null,null,null,{"$f":"IF(O500=\"\",\"\",VLOOKUP(O500,Products!A:C,2,FALSE))","v":""},{"$f":"IF(O500=\"\",\"\",VLOOKUP(O500,Products!A:C,3,FALSE))","v":""},null,{"$f":"IFERROR((Q500*R500),\"\")","v":""},{"$f":"IF(Y500=\"\",\"\",VLOOKUP(Y500,'Country & Delivery'!B:C,2,FALSE))","v":""},null,{"$f":"IF(U500=\"\",\"\",VLOOKUP(U500,'Country & Delivery'!N:O,2,FALSE))","v":""},null,null,{"$f":"IF(L500=\"\",\"\",VLOOKUP(L500,'Country & Delivery'!A:B,2,FALSE))","v":""},null,null,null,null,null,null,null,null,null,null,null,{"$f":"IF(M500=\"\",\"\",VLOOKUP(M500,'Country & Delivery'!AB:AC,2,FALSE))","v":""},null,null,null,null,null,null,null,null,null,null,null,{"$f":"IF(U500=\"\",\"\",VLOOKUP(U500,'Country & Delivery'!$N$1:$O$8,2,0))","v":""},"",0,"Uganda","UGA","N",null,null,{"$f":"IFERROR(INDEX('Country & Delivery'!N489:N495,MATCH(BD500,'Country & Delivery'!O489:O495,0),1),\"\")","v":""},null,null,{"$f":"IFERROR(INDEX('Country & Delivery'!A489:A738,MATCH(BG500,'Country & Delivery'!B489:B738,0),1),\"\")","v":""}]
[488,null,null,null,null,null,null,null,null,null,null,null,null,null,null,{"$f":"IF(O501=\"\",\"\",VLOOKUP(O501,Products!A:C,2,FALSE))","v":""},{"$f":"IF(O501=\"\",\"\",VLOOKUP(O501,Products!A:C,3,FALSE))","v":""},null,"",{"$f":"IF(Y501=\"\",\"\",VLOOKUP(Y501,'Country & Delivery'!B:C,2,FALSE))","v":""},null,{"$f":"IF(U501=\"\",\"\",VLOOKUP(U501,'Country & Delivery'!N:O,2,FALSE))","v":""},null,null,{"$f":"IF(L501=\"\",\"\",VLOOKUP(L501,'Country & Delivery'!A:B,2,FALSE))","v":""},null,null,null,null,null,null,null,null,null,null,null,{"$f":"IF(M501=\"\",\"\",VLOOKUP(M501,'Country & Delivery'!AB:AC,2,FALSE))","v":""},null,null,null,null,null,null,null,null,null,null,null,{"$f":"IF(U501=\"\",\"\",VLOOKUP(U501,'Country & Delivery'!$N$1:$O$8,2,0))","v":""},"",0,"UK","GBR","Y","***",null,{"$f":"IFERROR(INDEX('Country & Delivery'!N490:N496,MATCH(BD501,'Country & Delivery'!O490:O496,0),1),\"\")","v":""},null,null,{"$f":"IFERROR(INDEX('Country & Delivery'!A490:A739,MATCH(BG501,'Country & Delivery'!B490:B739,0),1),\"\")","v":""}]
[489,null,null,null,null,null,null,null,null,null,null,null,null,null,null,{"$f":"IF(O502=\"\",\"\",VLOOKUP(O502,Products!A:C,2,FALSE))","v":""},{"$f":"IF(O502=\"\",\"\",VLOOKUP(O502,Products!A:C,3,FALSE))","v":""},null,"",{"$f":"IF(Y502=\"\",\"\",VLOOKUP(Y502,'Country & Delivery'!B:C,2,FALSE))","v":""},null,{"$f":"IF(U502=\"\",\"\",VLOOKUP(U502,'Country & Delivery'!N:O,2,FALSE))","v":""},null,null,{"$f":"IF(L502=\"\",\"\",VLOOKUP(L502,'Country & Delivery'!A:B,2,FALSE))","v":""},null,null,null,null,null,null,null,null,null,null,null,{"$f":"IF(M502=\"\",\"\",VLOOKUP(M502,'Country & Delivery'!AB:AC,2,FALSE))","v":""},null,null,null,null,null,null,null,null,null,null,null,{"$f":"IF(U502=\"\",\"\",VLOOKUP(U502,'Country & Delivery'!$N$1:$O$8,2,0))","v":""},"",0,"Ukraine","UKR","N",null,null,{"$f":"IFERROR(INDEX('Country & Delivery'!N491:N497,MATCH(BD502,'Country & Delivery'!O491:O497,0),1),\"\")","v":""},null,null,{"$f":"IFERROR(INDEX('Country & Delivery'!A491:A740,MATCH(BG502,'Country & Delivery'!B491:B740,0),1),\"\")","v":""}]
[490,null,null,null,null,null,null,null,null,null,null,null,null,null,null,{"$f":"IF(O503=\"\",\"\",VLOOKUP(O503,Products!A:C,2,FALSE))","v":""},{"$f":"IF(O503=\"\",\"\",VLOOKUP(O503,Products!A:C,3,FALSE))","v":""},null,"",{"$f":"IF(Y503=\"\",\"\",VLOOKUP(Y503,'Country & Delivery'!B:C,2,FALSE))","v":""},null,{"$f":"IF(U503=\"\",\"\",VLOOKUP(U503,'Country & Delivery'!N:O,2,FALSE))","v":""},null,null,{"$f":"IF(L503=\"\",\"\",VLOOKUP(L503,'Country & Delivery'!A:B,2,FALSE))","v":""},null,null,null,null,null,null,null,null,null,null,null,{"$f":"IF(M503=\"\",\"\",VLOOKUP(M503,'Country & Delivery'!AB:AC,2,FALSE))","v":""},null,null,null,null,null,null,null,null,null,null,null,{"$f":"IF(U503=\"\",\"\",VLOOKUP(U503,'Country & Delivery'!$N$1:$O$8,2,0))","v":""},"",0,"UM","UMI","N","dc",null,{"$f":"IFERROR(INDEX('Country & Delivery'!N492:N498,MATCH(BD503,'Country & Delivery'!O492:O498,0),1),\"\")","v":""},null,null,{"$f":"IFERROR(INDEX('Country & Delivery'!A492:A741,MATCH(BG503,'Country & Delivery'!B492:B741,0),1),\"\")","v":""}]
[491,null,null,null,null,null,null,null,null,null,null,null,null,null,null,{"$f":"IF(O504=\"\",\"\",VLOOKUP(O504,Products!A:C,2,FALSE))","v":""},{"$f":"IF(O504=\"\",\"\",VLOOKUP(O504,Products!A:C,3,FALSE))","v":""},null,"",{"$f":"IF(Y504=\"\",\"\",VLOOKUP(Y504,'Country & Delivery'!B:C,2,FALSE))","v":""},null,{"$f":"IF(U504=\"\",\"\",VLOOKUP(U504,'Country & Delivery'!N:O,2,FALSE))","v":""},null,null,{"$f":"IF(L504=\"\",\"\",VLOOKUP(L504,'Country & Delivery'!A:B,2,FALSE))","v":""},null,null,null,null,null,null,null,null,null,null,null,{"$f":"IF(M504=\"\",\"\",VLOOKUP(M504,'Country & Delivery'!AB:AC,2,FALSE))","v":""},null,null,null,null,null,null,null,null,null,null,null,{"$f":"IF(U504=\"\",\"\",VLOOKUP(U504,'Country & Delivery'!$N$1:$O$8,2,0))","v":""},"",0,"United Arab Emirates","ARE","N",null,null,{"$f":"IFERROR(INDEX('Country & Delivery'!N493:N499,MATCH(BD504,'Country & Delivery'!O493:O499,0),1),\"\")","v":""},null,null,{"$f":"IFERROR(INDEX('Country & Delivery'!A493:A742,MATCH(BG504,'Country & Delivery'!B493:B742,0),1),\"\")","v":""}]
[492,null,null,null,null,null,null,null,null,null,null,null,null,null,null,{"$f":"IF(O505=\"\",\"\",VLOOKUP(O505,Products!A:C,2,FALSE))","v":""},{"$f":"IF(O505=\"\",\"\",VLOOKUP(O505,Products!A:C,3,FALSE))","v":""},null,"",{"$f":"IF(Y505=\"\",\"\",VLOOKUP(Y505,'Country & Delivery'!B:C,2,FALSE))","v":""},null,{"$f":"IF(U505=\"\",\"\",VLOOKUP(U505,'Country & Delivery'!N:O,2,FALSE))","v":""},null,null,{"$f":"IF(L505=\"\",\"\",VLOOKUP(L505,'Country & Delivery'!A:B,2,FALSE))","v":""},null,null,null,null,null,null,null,null,null,null,null,{"$f":"IF(M505=\"\",\"\",VLOOKUP(M505,'Country & Delivery'!AB:AC,2,FALSE))","v":""},null,null,null,null,null,null,null,null,null,null,null,{"$f":"IF(U505=\"\",\"\",VLOOKUP(U505,'Country & Delivery'!$N$1:$O$8,2,0))","v":""},"",0,"United Kingdom","GBR","Y",null,null,{"$f":"IFERROR(INDEX('Country & Delivery'!N494:N500,MATCH(BD505,'Country & Delivery'!O494:O500,0),1),\"\")","v":""},null,null,{"$f":"IFERROR(INDEX('Country & Delivery'!A494:A743,MATCH(BG505,'Country & Delivery'!B494:B743,0),1),\"\")","v":""}]
[493,null,null,null,null,null,null,null,null,null,null,null,null,null,null,{"$f":"IF(O506=\"\",\"\",VLOOKUP(O506,Products!A:C,2,FALSE))","v":""},{"$f":"IF(O506=\"\",\"\",VLOOKUP(O506,Products!A:C,3,FALSE))","v":""},null,"",{"$f":"IF(Y506=\"\",\"\",VLOOKUP(Y506,'Country & Delivery'!B:C,2,FALSE))","v":""},null,{"$f":"IF(U506=\"\",\"\",VLOOKUP(U506,'Country & Delivery'!N:O,2,FALSE))","v":""},null,null,{"$f":"IF(L506=\"\",\"\",VLOOKUP(L506,'Country & Delivery'!A:B,2,FALSE))","v":""},null,null,null,null,null,null,null,null,null,null,null,{"$f":"IF(M506=\"\",\"\",VLOOKUP(M506,'Country & Delivery'!AB:AC,2,FALSE))","v":""},null,null,null,null,null,null,null,null,null,null,null,{"$f":"IF(U506=\"\",\"\",VLOOKUP(U506,'Country & Delivery'!$N$1:$O$8,2,0))","v":""},"",0,"United Kingdom of Great Britain and Northern Ireland","GBR","Y","dc",null,{"$f":"IFERROR(INDEX('Country & Delivery'!N495:N501,MATCH(BD506,'Country & Delivery'!O495:O501,0),1),\"\")","v":""},null,null,{"$f":"IFERROR(INDEX('Country & Delivery'!A495:A744,MATCH(BG506,'Country & Delivery'!B495:B744,0),1),\"\")","v":""}]
[494,null,null,null,null,null,null,null,null,null,null,null,null,null,null,{"$f":"IF(O507=\"\",\"\",VLOOKUP(O507,Products!A:C,2,FALSE))","v":""},{"$f":"IF(O507=\"\",\"\",VLOOKUP(O507,Products!A:C,3,FALSE))","v":""},null,"",{"$f":"IF(Y507=\"\",\"\",VLOOKUP(Y507,'Country & Delivery'!B:C,2,FALSE))","v":""},null,{"$f":"IF(U507=\"\",\"\",VLOOKUP(U507,'Country & Delivery'!N:O,2,FALSE))","v":""},null,null,{"$f":"IF(L507=\"\",\"\",VLOOKUP(L507,'Country & Delivery'!A:B,2,FALSE))","v":""},null,null,null,null,null,null,null,null,null,null,null,{"$f":"IF(M507=\"\",\"\",VLOOKUP(M507,'Country & Delivery'!AB:AC,2,FALSE))","v":""},null,null,null,null,null,null,null,null,null,null,null,{"$f":"IF(U507=\"\",\"\",VLOOKUP(U507,'Country & Delivery'!$N$1:$O$8,2,0))","v":""},"",0,"United States","USA","N",null,null,{"$f":"IFERROR(INDEX('Country & Delivery'!N496:N502,MATCH(BD507,'Country & Delivery'!O496:O502,0),1),\"\")","v":""},null,null,{"$f":"IFERROR(INDEX('Country & Delivery'!A496:A745,MATCH(BG507,'Country & Delivery'!B496:B745,0),1),\"\")","v":""}]
[495,null,null,null,null,null,null,null,null,null,null,null,null,null,null,{"$f":"IF(O508=\"\",\"\",VLOOKUP(O508,Products!A:C,2,FALSE))","v":""},{"$f":"IF(O508=\"\",\"\",VLOOKUP(O508,Products!A:C,3,FALSE))","v":""},null,"",{"$f":"IF(Y508=\"\",\"\",VLOOKUP(Y508,'Country & Delivery'!B:C,2,FALSE))","v":""},null,{"$f":"IF(U508=\"\",\"\",VLOOKUP(U508,'Country & Delivery'!N:O,2,FALSE))","v":""},null,null,{"$f":"IF(L508=\"\",\"\",VLOOKUP(L508,'Country & Delivery'!A:B,2,FALSE))","v":""},null,null,null,null,null,null,null,null,null,null,null,{"$f":"IF(M508=\"\",\"\",VLOOKUP(M508,'Country & Delivery'!AB:AC,2,FALSE))","v":""},null,null,null,null,null,null,null,null,null,null,null,{"$f":"IF(U508=\"\",\"\",VLOOKUP(U508,'Country & Delivery'!$N$1:$O$8,2,0))","v":""},"",0,"United States Minor Outlying Islands","UMI","N","dc",null,{"$f":"IFERROR(INDEX('Country & Delivery'!N497:N503,MATCH(BD508,'Country & Delivery'!O497:O503,0),1),\"\")","v":""},null,null,{"$f":"IFERROR(INDEX('Country & Delivery'!A497:A746,MATCH(BG508,'Country & Delivery'!B497:B746,0),1),\"\")","v":""}]
[496,null,null,null,null,null,null,null,null,null,null,null,null,null,null,{"$f":"IF(O509=\"\",\"\",VLOOKUP(O509,Products!A:C,2,FALSE))","v":""},{"$f":"IF(O509=\"\",\"\",VLOOKUP(O509,Products!A:C,3,FALSE))","v":""},null,"",{"$f":"IF(Y509=\"\",\"\",VLOOKUP(Y509,'Country & Delivery'!B:C,2,FALSE))","v":""},null,{"$f":"IF(U509=\"\",\"\",VLOOKUP(U509,'Country & Delivery'!N:O,2,FALSE))","v":""},null,null,{"$f":"IF(L509=\"\",\"\",VLOOKUP(L509,'Country & Delivery'!A:B,2,FALSE))","v":""},null,null,null,null,null,null,null,null,null,null,null,{"$f":"IF(M509=\"\",\"\",VLOOKUP(M509,'Country & Delivery'!AB:AC,2,FALSE))","v":""},null,null,null,null,null,null,null,null,null,null,null,{"$f":"IF(U509=\"\",\"\",VLOOKUP(U509,'Country & Delivery'!$N$1:$O$8,2,0))","v":""},"",0,"United States of America","USA","N","***",null,{"$f":"IFERROR(INDEX('Country & Delivery'!N498:N504,MATCH(BD509,'Country & Delivery'!O498:O504,0),1),\"\")","v":""},null,null,{"$f":"IFERROR(INDEX('Country & Delivery'!A498:A747,MATCH(BG509,'Country & Delivery'!B498:B747,0),1),\"\")","v":""}]
[497,null,null,null,null,null,null,null,null,null,null,null,null,null,null,{"$f":"IF(O510=\"\",\"\",VLOOKUP(O510,Products!A:C,2,FALSE))","v":""},{"$f":"IF(O510=\"\",\"\",VLOOKUP(O510,Products!A:C,3,FALSE))","v":""},null,"",{"$f":"IF(Y510=\"\",\"\",VLOOKUP(Y510,'Country & Delivery'!B:C,2,FALSE))","v":""},null,{"$f":"IF(U510=\"\",\"\",VLOOKUP(U510,'Country & Delivery'!N:O,2,FALSE))","v":""},null,null,{"$f":"IF(L510=\"\",\"\",VLOOKUP(L510,'Country & Delivery'!A:B,2,FALSE))","v":""},null,null,null,null,null,null,null,null,null,null,null,{"$f":"IF(M510=\"\",\"\",VLOOKUP(M510,'Country & Delivery'!AB:AC,2,FALSE))","v":""},null,null,null,null,null,null,null,null,null,null,null,{"$f":"IF(U510=\"\",\"\",VLOOKUP(U510,'Country & Delivery'!$N$1:$O$8,2,0))","v":""},"",0,"Uruguay","URY","N",null,null,{"$f":"IFERROR(INDEX('Country & Delivery'!N499:N505,MATCH(BD510,'Country & Delivery'!O499:O505,0),1),\"\")","v":""},null,null,{"$f":"IFERROR(INDEX('Country & Delivery'!A499:A748,MATCH(BG510,'Country & Delivery'!B499:B748,0),1),\"\")","v":""}]
[498,null,null,null,null,null,null,null,null,null,null,null,null,null,null,{"$f":"IF(O511=\"\",\"\",VLOOKUP(O511,Products!A:C,2,FALSE))","v":""},{"$f":"IF(O511=\"\",\"\",VLOOKUP(O511,Products!A:C,3,FALSE))","v":""},null,"",{"$f":"IF(Y511=\"\",\"\",VLOOKUP(Y511,'Country & Delivery'!B:C,2,FALSE))","v":""},null,{"$f":"IF(U511=\"\",\"\",VLOOKUP(U511,'Country & Delivery'!N:O,2,FALSE))","v":""},null,null,{"$f":"IF(L511=\"\",\"\",VLOOKUP(L511,'Country & Delivery'!A:B,2,FALSE))","v":""},null,null,null,null,null,null,null,null,null,null,null,{"$f":"IF(M511=\"\",\"\",VLOOKUP(M511,'Country & Delivery'!AB:AC,2,FALSE))","v":""},null,null,null,null,null,null,null,null,null,null,null,{"$f":"IF(U511=\"\",\"\",VLOOKUP(U511,'Country & Delivery'!$N$1:$O$8,2,0))","v":""},"",0,"US","USA","N",null,null,{"$f":"IFERROR(INDEX('Country & Delivery'!N500:N506,MATCH(BD511,'Country & Delivery'!O500:O506,0),1),\"\")","v":""},null,null,{"$f":"IFERROR(INDEX('Country & Delivery'!A500:A749,MATCH(BG511,'Country & Delivery'!B500:B749,0),1),\"\")","v":""}]
[499,null,null,null,null,null,null,null,null,null,null,null,null,null,null,{"$f":"IF(O512=\"\",\"\",VLOOKUP(O512,Products!A:C,2,FALSE))","v":""},{"$f":"IF(O512=\"\",\"\",VLOOKUP(O512,Products!A:C,3,FALSE))","v":""},null,"",{"$f":"IF(Y512=\"\",\"\",VLOOKUP(Y512,'Country & Delivery'!B:C,2,FALSE))","v":""},null,{"$f":"IF(U512=\"\",\"\",VLOOKUP(U512,'Country & Delivery'!N:O,2,FALSE))","v":""},null,null,{"$f":"IF(L512=\"\",\"\",VLOOKUP(L512,'Country & Delivery'!A:B,2,FALSE))","v":""},null,null,null,null,null,null,null,null,null,null,null,{"$f":"IF(M512=\"\",\"\",VLOOKUP(M512,'Country & Delivery'!AB:AC,2,FALSE))","v":""},null,null,null,null,null,null,null,null,null,null,null,{"$f":"IF(U512=\"\",\"\",VLOOKUP(U512,'Country & Delivery'!$N$1:$O$8,2,0))","v":""},"",0,"USA","USA","N","***",null,{"$f":"IFERROR(INDEX('Country & Delivery'!N501:N507,MATCH(BD512,'Country & Delivery'!O501:O507,0),1),\"\")","v":""},null,null,{"$f":"IFERROR(INDEX('Country & Delivery'!A501:A750,MATCH(BG512,'Country & Delivery'!B501:B750,0),1),\"\")","v":""}]
[500,null,null,null,null,null,null,null,null,null,null,null,null,null,null,{"$f":"IF(O513=\"\",\"\",VLOOKUP(O513,Products!A:C,2,FALSE))","v":""},{"$f":"IF(O513=\"\",\"\",VLOOKUP(O513,Products!A:C,3,FALSE))","v":""},null,"",{"$f":"IF(Y513=\"\",\"\",VLOOKUP(Y513,'Country & Delivery'!B:C,2,FALSE))","v":""},null,{"$f":"IF(U513=\"\",\"\",VLOOKUP(U513,'Country & Delivery'!N:O,2,FALSE))","v":""},null,null,{"$f":"IF(L513=\"\",\"\",VLOOKUP(L513,'Country & Delivery'!A:B,2,FALSE))","v":""},null,null,null,null,null,null,null,null,null,null,null,{"$f":"IF(M513=\"\",\"\",VLOOKUP(M513,'Country & Delivery'!AB:AC,2,FALSE))","v":""},null,null,null,null,null,null,null,null,null,null,null,{"$f":"IF(U513=\"\",\"\",VLOOKUP(U513,'Country & Delivery'!$N$1:$O$8,2,0))","v":""},"",0,"UY","URY","N",null,null,{"$f":"IFERROR(INDEX('Country & Delivery'!N502:N508,MATCH(BD513,'Country & Delivery'!O502:O508,0),1),\"\")","v":""},null,null,{"$f":"IFERROR(INDEX('Country & Delivery'!A502:A751,MATCH(BG513,'Country & Delivery'!B502:B751,0),1),\"\")","v":""}]

{"sheet":"Products","index":1,"n_rows":13887,"n_cols":3,"rows_kept":13887,"cut":false,"hidden":true,"merged":[]}
[]
["Item Number","Product Name","Gross Price"]
[2196159,"Burgundy Case",175]
[2165300,"New Easter Pates De Fruits Bulk Assorted Jelly 1kg",55]
[2212745,"Ribston Apple",6]
[2214342,"Individual Chocolate Mousse",3]
[5059786,"Iced Christmas Cake with Flower and Holly Design, 8 Inch",45]
[2214153,"Traditional Panettone, 900g",39.950000000000003]
[5049387,"Three Chocolate Panettone 750g",39.950000000000003]
[8023214,"Macaron Selection Box of 20",37.5]
[8023216,"Christmas Selection Box of 20 Macarons",37.5]
[5059784,"Iced Christmas Cake with Holly, 6 inch",35]
[5059785,"Iced Vegan Christmas Cake with Red Tree Decoration, 6 inch",35]
[5029724,"Christmas Scene re-work Iced Biscuit",29.95]
[5059782,"Pandoro 750g",29.95]
[8023215,"Christmas Selection Box of 16 Macarons",28.95]
[2160227,"Pecan Tart",25]
[2170444,"Seasonal fruit tart",25]
[2196738,"Pumpkin Tart 9 inches",25]
[2198879,"Galette des rois",25]
[5030625,"Seeded Crispbreads",25]
[2148127,"Box of 8 Canele",22]
[2214144,"Praline Yule log",22]
[8023212,"Macaron Selection Box of 12",21.95]
[8023222,"Christmas Selection Box of 12 Macarons",21.95]
[2214154,"Gianduja Panettone, 750g",19.95]
[5047157,"Gower Cottage Original Brownies",19.95]
[5059783,"Iced Christmas Cake with Gold Star 4 inch",17.95]
[5029714,"Man's Best Friend Iced Biscuit",16.95]
[5029725,"Box of Crackers Iced Biscuits",16.95]
[8027037,"Secret admirer iced biscuits",15]
[8023211,"Macaron Selection Box of 7",14.95]
[8023221,"Christmas Selection Box of 7 Macarons",14.95]
[2213702,"Olivieri Colomba, 500gr",14]
[8027045,"Colomba Cake 500g",14]
[8018988,"Traditional Lebkuchen, mixed elisen 400g",13.95]
[2192258,"Whisky Covered Chocolate Lebkuchen",12.96]
[2211344,"Rum Coated Chocolate Lebkuchen",12.95]
[2214143,"Calvados Coated Chocolate Lebkuchen",12.95]
[2210580,"Gluten free Simnel cake, large",12.5]
[2166542,"Box of 9 Mini Cupcakes",12]
[8026657,"Chocolate Tart 6 inch",12]
[5033672,"Sandwich Loaf",11]
[2214152,"Traditional Panettone, 3kg",10]
[4005308,"Raspberry bakewell tart",10]
[4005309,"Rhubarb and almond tart",10]
[5033231,"Milk Chocolate Grissini 100g",9.9499999999999993]
[5033232,"Dark Chocolate Grissini 100g",9.9499999999999993]
[8027034,"The perfect match (female) iced biscuits",8.5]
[8027035,"The perfect match (male) iced biscuits",8.5]
[8027036,"Love letter iced biscuits",8.5]
[8027043,"Easter icons iced biscuits",8.5]
[4005307,"Orange & pistachio loaf cake",7.95]
[4005310,"Rhubarb crumble cake",7.95]
[8019761,"Plum and almond crumble loaf",7.95]
[2121908,"Zz Free From Bakehouse GlutenFree Spiced Carrot Loaf Cake",6.95]
[2121909,"The Free From Gluten Free Lemon Polenta Loaf Cake",6.95]
[5024784,"Pear Bellini",6.95]
[5024785,"White Chocolate and Raspberry Turret",6.95]
[5063835,"Strawberry Tart",6.95]
[5029726,"Christmas Tree Iced Biscuit",6]
[5029727,"Snow Globe Iced Biscuit",6]
[5029728,"Bauble Iced Biscuit",6]
[8027038,"Teddy iced biscuit",6]
[2208734,"Royal Blend tea loaf",5.95]
[2210584,"Date, Pecan and Coffee Hot Cross Bun pack of 4",5.95]
[5051938,"Fruit and Treacle Bread",5.95]
[5051939,"Multiseed Sourdough",5.95]
[5051940,"Rugbrod Sourdough",5.95]
[5051941,"Table Sourdough Loaf",5.95]
[2198912,"Box of 2 canele",5.5]
[2162876,"Maitre Choux Hazelnut and milk chocoalte eclair",5]
[2181686,"Traditional Hot Cross Buns pack of 4",5]
[2201220,"Maitre Choux Spanish raspberry eclair",5]
[4005301,"Granola bags",5]
[5004427,"Maitre Choux Pure Arabica Coffee Éclair",5]
[5004428,"Maitre Choux Sticky Toffee Éclair",5]
[2201879,"Soda Bread, 638g",4.95]
[5028043,"Biarritz Mini Madeleine's",4.95]
[5028044,"Paris Regular Madeleine's",4.95]
[5028045,"Brittany Regular Madeleine's",4.95]
[5028046,"Chamonix Regular Madeleine's",4.95]
[5028047,"French Riviera Mini Madeleine's",4.95]
[5029440,"Chocolate and Orange Crumpets",4.95]
[5029441,"Cinnamon and Raisin Crumpets",4.95]
[5029442,"Lemon and Poppy Seed Crumpets",4.95]
[8019236,"Walnut and Raisin Loaf",4.95]
[2198911,"Loose eclair",4.8]
[5025333,"Sicilian Olive Sour 350g",4.5]
[5028042,"Traditional Madeleine's",4.5]
[5029439,"Classic Crumpets",4.5]
[5028649,"Large Challah",4.4000000000000004]
[2211350,"Open Fruit tart",4.25]
[2178180,"Seed & Grain Sourdough 500g",4.2]
[4005300,"Fresh Raspberry tart",4]
[4005302,"Hazelnut, chocolate chip bags",4]
[4005306,"Oat, pecan, cranberry cookie bags",4]
[4005313,"Fresh Strawberry tart",4]
[5033662,"Large Eccles Cake",4]
[8026656,"Pumpkin Pie",4]
[5038980,"Chocolate Buttercream Cake Slice",3.95]
[5038981,"Red Velvet Buttercream Slice",3.95]
[5038982,"Vanilla Cake Pop",3.95]
[5038983,"Red Velvet Cake Pop",3.95]
[5038985,"Chocolate Cupcake",3.95]
[5038986,"Red Relvet Cupcake",3.95]
[2200747,"Chocolate tart",3.5]
[2208741,"Pumpkin tart",3.5]
[5033668,"Large Filled Doughnut - Lemon Curd",3.5]
[5033669,"Large Filled Doughnut - Raspberry Preserve",3.5]
[5033670,"Large Filled Doughnut - Burlington Marmalade",3.5]
[5033671,"Large Filled Doughnut - Dalemain Winner",3.5]
[2196735,"Pecan Tart 3.5 inches",3.25]
[2196737,"Pumpkin Tart 3.5 inches",3.25]
[2200283,"Pistachio brioche, individual",3.25]
[2200746,"Salted Caramel tart",3.25]
[2208738,"Triple chocolate muffin",3.25]
[2208739,"Autumn Berry muffin",3.25]
[2208740,"Banana & pecan muffin",3.25]
[2211690,"Bran & Apple muffin",3.25]
[2211691,"Lemon & Blueberry muffin",3.25]
[2211692,"Berry muffin",3.25]
[2193028,"Flourless Chocolate Cake Slice",3]
[2201592,"Cardamon bun 90g",3]
[2201593,"Cinnamon bun 90g",3]
[2215248,"Carrot cake slice",3]
[5024761,"Gingernut Cookie",3]
[8022098,"Peach tart slice",3]
[8022538,"Raspberry Bakewell Tart Slice",3]
[2164149,"Fresh Mince Pie",2.95]
[2200284,"Chocolate chip muffin",2.95]
[2200285,"Lemon & Poppy seed muffin",2.95]
[2200286,"Cheese straw bags",2.95]
[2207835,"Caramelised onion focaccia",2.95]
[5038987,"Chocolate Lolli Cake",2.95]
[5038988,"Vanilla Lolli Cake",2.95]
[8020659,"Ciabatta 400g",2.95]
[2146874,"Vanilla Canele Standard",2.9]
[2146876,"Dulce de Leche Canele",2.9]
[2148156,"Salted Caramel Canele",2.9]
[2148157,"Peanut Butter Canele",2.9]
[2163793,"Chestnut Canele",2.9]
[2187129,"Strawberry Canele",2.9]
[2196883,"Bitter Orange Canele",2.9]
[2196884,"Dark Chocolate Canele",2.9]
[2198910,"Loose Canele",2.9]
[2199709,"Raspberry and Pistachio canele",2.9]
[2204195,"Elderflower and Blackberry canele",2.9]
[2204196,"Lavender and blueberry canele",2.9]
[2204197,"Peanut butter and strawberry canele",2.9]
[2209657,"Tarte tatin canele",2.9]
[2209658,"Fig, hazelnut & milk chocolate canele",2.9]
[2209659,"Pecan nut canele",2.9]
[2209660,"Date, almond & dark chocolate canele",2.9]
[2214122,"Pecan caramel canele",2.9]
[2214123,"Valentine's canele",2.9]
[2215245,"Lemon Canele, Easter",2.9]
[2215246,"Chocolate Canele, Easter",2.9]
[4005294,"Passionfruit canele",2.9]
[4005295,"Raspberry canele",2.9]
[4005296,"Blackberry canele",2.9]
[8021005,"Hazelnut Chocolate canele",2.9]
[8026364,"Dark chocolate canele",2.9]
[8026365,"Orange & chocolate canele",2.9]
[8026366,"Speculoos canele",2.9]
[2199707,"Pear and chocolate canele",2.8]
[2199708,"Banoffee canele",2.8]
[2204193,"Caramel with honey and orange canele",2.8]
[2204194,"Strawberry canele",2.8]
[2167344,"Mango & Passion Fruit Canele",2.65]
[2187128,"Raspberry Canele",2.65]
[2187130,"Passion Fruit Canele",2.65]
[2196882,"Speculoos Canele",2.65]
[2196885,"Almond Praline Canele",2.65]
[2068453,"Rocky Road",2.5]
[2193030,"Battenburg",2.5]
[2215247,"Easter mini egg nest",2.5]
[5006739,"Raspberry Meringue",2.5]
[5006740,"Chocolate Meringue",2.5]
[5033665,"Small Filled Doughnut - Lemon Curd",2.4]
[5033666,"Small Filled Doughnut - Raspberry Preserve",2.4]
[5033667,"Small Filled Doughnut - Burlington Marmalade",2.4]
[2178179,"Sticky Buns",2.2000000000000002]
[4005298,"Custard tart",2]
[5033663,"Small Eccles Cake",2]
[8022097,"Plum crumble cake slice",2]
[8027050,"Filled Carrot cake hot cross bun",2]
[2193033,"Valhrona Chocolate Rice Krispie Cake",1.95]
[2200281,"Lime Drizzle slice loaf",1.95]
[2165189,"Honey Macaron",1.75]
[2196814,"Cardamom Macaron",1.75]
[2196815,"Mulled Wine Macaron",1.75]
[2196816,"Brandy Macaron",1.75]
[2196817,"Chestnut/Rum Macaron",1.75]
[2196818,"Gingerbread Macaron",1.75]
[2200694,"Rose macaron",1.75]
[2200696,"Printed assorted macarons",1.75]
[2200697,"Printed mint & chocolate macaron",1.75]
[2200698,"Printed jasmin Macaron",1.75]
[2200699,"Printed confit ginger macaron",1.75]
[2204188,"Coconut macaron",1.75]
[2204192,"Peach macaron",1.75]
[2209662,"Pecan macaron",1.75]
[2209663,"Cranberry macaron",1.75]
[2209664,"Green Apple macaron",1.75]
[2209665,"Rum macaron",1.75]
[2209666,"Matcha macaron",1.75]
[8026367,"Pumpkin spice macaron",1.7]
[8026368,"Pecan macaron",1.7]
[2161272,"Pumpkin Macaron",1.6]
[2163594,"Praline Macaron",1.6]
[2196736,"Pumpkin Tart 2 inches",1.5]
[2200276,"Caramelised Onion scone",1.5]
[2204555,"Focaccia Slice",1.5]
[8027039,"Cupid iced biscuit",1.5]
[2141137,"Sourdough Roll",1.2]
[5000820,"Ciabatta Small",1.2]
[5028648,"Chocolate Bagel",1.2]
[5028650,"Challah Roll",1]
[5033664,"Brown Sugar Biscuit",1]
[8026906,"Half Baguette",1]
[5028645,"Onion Bagel",0.9]
[2203814,"Poppy seed bagel",0.8]
[2203815,"Sesame seed bagel",0.8]
[2203816,"Multi-seed bagel",0.8]
[5028642,"Multiseed Bagel",0.8]
[5028643,"Sesame Bagel",0.8]
[5028644,"Cinnamon & Raisin Bagel",0.8]
[5028646,"Wholemeal Bagel",0.8]
[5028647,"Black Bagel",0.8]
[2159958,"Brioche White Hot Dog Bun 5inch",0.55000000000000004]
[2203582,"Yule log box",0]
[2204324,"Circular Iced Biscuit Box",0]
[2204325,"Rectangular Iced Biscuit Box",0]
[2212923,"Campagrain Bap 4--",0]
[2212924,"Grains Baguette",0]
[2212925,"Mediterranean Flat Bread",0]
[2212926,"Multiseed Bagel",0]
[2214340,"White Half Baguette",0]
[4005299,"Flourless chocolate cake",0]
[5025334,"Burnt Potato Sour",0]
[5025335,"Village IPA Sour",0]
[5063456,"Plain Croissant",0]
[5063457,"Pain au Chocolat",0]
[5063458,"Morning Bun",0]
[8019737,"Gooseberry fool",0]
[8019738,"Eton Mess",0]
[8019762,"Passionfruit tart",0]
[8019763,"Chocolate cheesecake",0]
[8019764,"Blueberry cheesecake",0]
[8020660,"Rye and cranberry loaf 600g",0]
[8021006,"Coconut canele",0]
[8023472,"Fortnum's Favourite iced biscuits",0]
[8026351,"Sandwich Tin loaf",0]
[8026363,"Almond Praline canele",0]
[8027044,"Vegan Simnel Cake",0]
[8027048,"The year of the rat iced biscuits",0]
[8027049,"Carrot cake hot cross bun",0]
[2003806,"Loose Macaron",1.75]
[2212922,"Brioche Hot Dog Bun 8inch",0]
[5064990,"Patisserie Board",0]
[2125375,"Macaron Box Inner - T1/87",0]
[2207834,"Olive oil & sea salt focaccia",2.95]
[2158549,"Pistachio Macaron",1.75]
[2200695,"Rose macaron",1.75]
[2158550,"Salted Caramel Macaron",1.75]
[2158552,"Dark Chocolate Macaron",1.75]
[2158548,"Vanilla Macaron",1.75]
[2158551,"Raspberry Macaron",1.75]
[2158554,"Creme Brulee Macaron",1.75]
[2158553,"Lemon Macaron",1.75]
[2158558,"Red Velvet Macaron",1.75]
[2158557,"Coffee Macaron",1.75]
[2204189,"Passionfruit macaron",1.75]
[2204191,"Blueberry and lavender macaron",1.75]
[2165190,"Earl Grey Macaron",1.75]
[2158555,"Chocolate Orange Macaron",1.75]
[2158561,"Peanut Butter and Jam Macaron",1.75]
[8018167,"Brioche Burger Buns Pack of 4",3.5]
[2201590,"White tin loaf 450g",3.5]
[5029722,"12 Days of Christmas Iced Biscuits",29.95]
[5029723,"Winter Scene Iced Biscuit",16.95]
[5029721,"Skate Scene Iced Biscuits",16.95]
[2201591,"Buttermilk Rye 700g",4.5]
[5045656,"Candy Land Iced Biscuits",16.95]
[8027540,"Modern Baker Seedy Seedy Sourdough",5.45]
[2209661,"White potato sourdough 800g",5.25]
[2162870,"Maitre Choux Very dark chocolate eclair",5]
[2162867,"Maitre Choux Vanilla Eclair",5]
[2162872,"Maitre Choux Persian pistachio eclair",5]
[2201221,"Maitre Choux Salted butter caramel eclair",5]
[2201589,"Baguette 450g",2.5]
[8027541,"Modern Baker House Sourdough",4.5]
[8027543,"Modern Baker Ancient Grain Sourdough",5.95]
[2148125,"Box of 4 Canele",11]
[8027042,"Celebration of spring iced biscuits",16.95]
[8027542,"Modern Baker Social Sourdough",4.95]
[5047158,"Gower Cottage Chocolate Orange Brownies",19.95]
[5054888,"Red Velvet Macaroon",4.99]
[5054890,"Cacoa Macaroon",4.99]
[5054889,"Vanilla Macaroon",4.99]
[5047159,"Gower Cottage Gluten Free Brownies",19.95]
[5054887,"Passionfruit Macaroon",4.99]
[8027040,"Bunny in a cup biscuit",3]
[5028640,"Calcots",7.5]
[2117920,"Fabrique Levain 2kg",7.25]
[8027041,"Vintage Easter iced biscuits",8.5]
[8026659,"Apple and Blackberry crumble loaf",7.95]
[4006725,"LOOSE Goat's cheese, fig and honey hot cross bun",1.5]
[8023213,"Macaron Selection Box of 16",28.95]
[2162874,"Maitre Choux Red love eclair",5]
[2211687,"Lemon Drizzle Loaf slice",3]
[5038984,"Vanilla Cupcake",3.95]
[2211345,"Chocolate salted caramel cookies",2.5]
[4006903,"Brioche Hot Dog Bun",0]
[2126825,"Brownie Box",5.5]
[2180096,"Box of 20 Macarons",37.5]
[5064950,"Jalousie Whole",12]
[8018166,"Hot Dog Buns Pack of 4",3.5]
[2180095,"Box of 16 Macarons",28.95]
[2178173,"House Sourdough Loaf 800g",4.95]
[2193032,"Seasonal Jalousie Slice",3]
[5064949,"Cinnamon Sugar Palmier",3]
[2201588,"Rosemary and olive sourdough 650g",4.5]
[8026655,"Pear and Almond Tart",10]
[2201587,"Heritage Sourdough 700g",4.95]
[2158556,"Passion Fruit Macaron",1.75]
[2065966,"non Scan Code For Bakery",0]
[5064948,"Plain Palmier",3]
[2158560,"Rose Macaron",1.75]
[2204190,"Blackcurrant and violet macaron",1.75]
[2166540,"Box of 4 Cupcakes",18.5]
[5063834,"Rose Éclair",5]
[5063836,"Whole Sachertorte",40]
[5028641,"Plain Bagel",0.7]
[2180093,"Box of 12 Macarons",21.95]
[8019760,"Apricot and almond tart",10]
[4005314,"Box of 2 eclairs",10]
[2166512,"Box of 2 Cupcakes",9.5]
[4005297,"Carrot cake loaf",7.95]
[4005304,"Lemon drizzle cake",7.95]
[2180094,"Clear Bag of 8 Macarons",10]
[2178174,"White Potato Sourdough 500g",4.2]
[5024783,"Salted Caramel Chocolate Square",6.95]
[2180090,"Box of 7 Macarons",14.95]
[5063833,"Passionfruit Dome",6.95]
[5024760,"Oatmeal and Raisin Cookie",2.5]
[5063837,"Sachertorte Slice",5.95]
[8026658,"Cornflake Cake",2.5]
[5024759,"Chocolate Chip Cookie",2.5]
[2178177,"Brioche Burger Buns 90g",1]
[2061196,"Battenberg Loaf Cake",10]
[2193034,"Millionaire Shortbread",2.5]
[8025585,"Seasonal Fruit Tart SMALL",4]
[2200282,"Almond Brownie",2.5]
[2061253,"Montgomery Cheese Scone",1.5]
[2061239,"Fruit Scone",1.65]
[2061222,"Plain Scone",1.65]
[2158200,"Pastel de Nata",1.5]
[4005303,"Large cheese straws",1.5]
[2061236,"Baby Fruit Scone",1]
[2061238,"Baby Classic Scone",1]
[5068190,"Acqua di Parma Signatures of the Sun Oud Gift Set X20",230]
[5057627,"Aromatherapy A Moments to Treasure luxury Gift Box X20",225]
[2089027,"Acqua di Parma Colonia Oud 100ml",197]
[8027088,"Acqua Di Parma signature Sakura EDP 100ml",197]
[2207301,"Acqua Di Parma Colonia Sandalo EDCC 100ml",179]
[5068176,"Acqua di Parma Colonia Futura EDC 180ml",145]
[2213726,"Histoires De Parfums Ambre 114 EDP 120ml",132]
[2213730,"Histoires De Parfums Noir Patchouli EDP 120ml",132]
[2013811,"Acqua di Parma Colonia Essenza Eau de Cologne 100ml",110]
[2190916,"Acqua di Parma Colonia Pura 100ml",110]
[5068175,"Acqua di Parma Colonia Futura EDC 100ml",110]
[5068188,"Acqua di Parma Colonia Gift Set X20",110]
[5068189,"Acqua di Parma Colonia Pura Gift Set X20",110]
[5068191,"Acqua di Parma Enchanted Garden Gift Set X20",110]
[2213737,"Histoires De Parfums Rosam EDP 60ml",110]
[2213738,"Histoires De Parfums Veni EDP 60ml",110]
[2213739,"Histoires De Parfums Fidelis EDP 60ml",110]
[2190915,"Acqua di Parma Colonia Pura 50ml",80]
[5068174,"Acqua di Parma Colonia Futura EDC 50ml",80]
[5068724,"Floris Fragrance Travel Collection for Her 4 x 15ml X20",80]
[8020734,"Miller Harris Tea Tonique 50ml",80]
[8026689,"Fresh Cosmetics Honeysuckle EDP 100ml",76]
[5068193,"Acqua di Parma Notte di Stelle Diffuser 180ml",70]
[2192643,"Floris 71/72 Jermyn Street EDP 100ml",70]
[2031436,"E Coudray Ambre et Vanille EDT 100ml",68]
[2031441,"E Coudray Musc and Freesia EDT 100ml",68]
[5057626,"Aromatherapy Associates Ultimate Moments 10x9ml X20",65]
[5068182,"Fresh Cosmetics Holiday To-Go Mask Set 3x30ml X20",62]
[5068192,"Acqua di Parma Notte di Stelle Candle 200g",60]
[2215499,"Fresh Black Tea Kombucha Facial Treatment Essence 150ml",59]
[2077650,"Acqua di Parma Fico EDT 150ml",58]
[5029566,"Fresh 3x30ml face mask travel set; Rose, sugar and black tea",57]
[5068183,"Fresh Cosmetics Rose Deep Hydration Oil-Infused Serum 100ml",52]
[5068187,"Fresh Cosmetics Rose Mask Limited Edition 100ml",52]
[2213705,"Tea Rose EDP 60ml",52]
[5057621,"Aromatherapy Associates Rose Bath and Shower oil 55ml",50]
[5057625,"Aromatherapy A Moment of restful Sleep gift set X20",50]
[2168793,"Pomegranate Rose Wash and Lotion 2 x 250ml",45]
[5068725,"Floris Luxury Soap Collection 6 x 100g X20",45]
[2154519,"Acqua di Parma Colonia Ambra 100ml",44]
[2013497,"Aromatherapy Associates Renewing Rose Body Cream 200ml",42]
[5057624,"Aromatherapy Associates Moment of Discovery 10x3ml X20",40]
[2031439,"E Coudray Ambre et Vanille Body Cream Jar 250ml",40]
[2031444,"E Coudray Musc and Freesia Body Cream Jar 250ml",40]
[2031449,"E Coudray Jacinthe and Rose Body Cream Jar 250ml",40]
[2043152,"Floris Limes EDT 100ml",40]
[5068179,"Acqua di Parma Colonia Futura Hair & Shower Gel 200ml",37]
[2199457,"Acqua di Parma Colonia Pura Deo Spray 150ml",36]
[5068178,"Acqua di Parma Colonia Futura Deodorant Spray 100ml",36]
[5057623,"Aromatherapy Associates Recovery gift set 150ml,150g,9ml X20",35]
[5068177,"Acqua di Parma Colonia Futura Deodorant Stick 75ml",34]
[2200687,"Fresh Soy Face Cleanser Limited Edition 200ml",34]
[5068186,"Fresh Cosmetics Mini Loves Fresh Faves Gift Set",32]
[2015142,"Aromatherapy Associates De-Stress Frankincense Oil 10ml",30]
[2146728,"This Works Sleep Plus + Pillow Spray 75ml",26]
[5068184,"Fresh Cosmetics Rose Deep Hydration Sleeping Mask 30ml",25]
[2173833,"Nesti Dante Note Floreali 6 x 100g Soaps",25]
[5068180,"Fresh Cosmetics Holiday Mini Lip Balm Set X20",24]
[5024305,"Savon Stories wooden gift box 3x100g web",24]
[2209295,"Michel Design Nutcracker 6.5oz Soy Wax Candle X18",22]
[2213419,"Michel Design Garden Melody 6.5 oz. Soy Wax Candle",22]
[5061553,"Michel Design Merry Christmas Candle X20",22]
[5061733,"H Bronnley Herbarium ltd edition Luxury soaps 6x50g X20",20]
[5068185,"Fresh Cosmetics Rose Petal Soft Lip Cream 10g",19.5]
[5068181,"Fresh Cosmetics Holiday Soy Cleanser & Sugar Lip Set X20",18]
[2209297,"Michel Design Nutcracker Hand & Body Lotion 236ml X18",18]
[5061555,"Michel Design Merry Christmas Hand & Body Lotion X20",18]
[2199456,"Acqua di Parma Colonia Pura Deo Stick 75ml",17]
[2200690,"Fresh Peach Hydrating Lip Balm (Limited Edition) 6g",15]
[5057622,"Aromatherapy Associates Mini moment - Deep Relax 9ml X20",12]
[8027181,"Huxter Bar Soap Decorations Black Lemongrass 200g X19",12]
[8027185,"Huxter  Merry Xmas 3 Spot Trees Basil Lime & Mandarin 200g",12]
[8027186,"Huxter Xmas Stag J/A/L/S for Xmas Basil Lime & Mandarin 200g",12]
[2209296,"Michel Design Nutcracker Foaming Hand Soap 530ml X18",12]
[2213417,"Michel Design Garden Melody Foaming Soap 530ml",12]
[2213427,"Michel Design Flamingo Foaming Soap 530ml",12]
[5061554,"Michel Design Merry Christmas Foaming Soap X20",12]
[2209298,"Michel Design Nutcracker Large Soap Bar X18",10]
[5022221,"Michel Design Palm Breeze Foaming Soap",10]
[5022230,"Michel Design Summer Days Foaming Soap",10]
[5061556,"Michel Design Merry Christmas Large Soap Bar X20",10]
[8022396,"Savon Stories Winter Edition Bar Soap 100g",8]
[5000604,"Huxter Soap Santa Sleigh M/Xmas/New Year Basil Lime & Mandar",3]
[8027182,"Huxter Soap Gift Boxes W/Y/A/M/Christmas Lemongrass 200g",3]
[8027183,"Huxter Soap Doves L/T/Y/T/Xmas Frangipani 200g X19",3]
[8027184,"Huxter Merry Xmas Red Striped Tree Basil Lime & Mandarin",3]
[5059629,"Bamford Geranium Duo Gift set 2x250ml Xmas20",0]
[5029961,"Miller Harris Rose Silence Body Wash 300ml",0]
[5029962,"Miller Harris Scherzo Body Wash 300ml",0]
[5029963,"Miller Harris Honey & Lime Soap on a Rope 200g",0]
[5029964,"Miller Harris Rhubarb & Peony Soap on a Rope  200g",0]
[5029965,"Miller Harris Rose Silence Hand Cream 75ml",0]
[5029966,"Miller Harris Scherzo Hand Cream 75 ml",0]
[5029967,"Miller Harris Rose Silence Body Cream 175ml",0]
[5029968,"Miller Harris Scherzo Body Cream 175ml",0]
[5029969,"Miller Harris Scherzo Hair mist 100ml",0]
[5029970,"Miller Harris Black Datura 100ml",0]
[5029971,"Miller Harris Velvet Cherry 100ml",0]
[5061810,"Noble Isle Scots Pine Hand Wash 250ml",0]
[5061811,"Noble Isle Scots Pine Hand Lotion 250ml",0]
[5061812,"Noble Isle The Classic Collection 5 x 75ml Set X20",0]
[2013279,"Assorted Soap Designs",16]
[5054294,"Aromatherapy Associates No Rinse Hand Cleanser 100ml",12]
[5054295,"Bramley Hand Sanitiser Gel 100ml",8]
[2168794,"Pomegranate Rose Hand Cream 50ml",15]
[2147366,"Pre-Packed Mixed Box 2 Macaron Soaps",12]
[2147365,"Pre-Packed Mixed Box 6 Macaron Soaps",30]
[2067079,"Bath Truffles",25]
[2168795,"Pomegranate Rose Guest Soaps 3 x 100g",30]
[2168791,"Pomegranate Rose Hand and Body Wash 250ml",24]
[2168792,"Pomegranate Rose Hand and Body Lotion 250ml",26]
[2067085,"Small Soap Box",30]
[2083774,"Medium Soap Box",35]
[2066631,"Dei Colli Cypress Tree Soap",6]
[8022530,"Rose et Marius Rose Wine soap 100g Gift Box",20]
[2066634,"Romantica Rose & Peony Soap",6]
[2190246,"Nesti Dante Il Frutteto 6 x 150g Soaps",25]
[2210499,"H Bronnley Regency Collection Hand Soaps 3 x 100g",18]
[2119509,"H Bronnley Lemon and Neroli 3 x 100g Soap",16]
[8022510,"Oriza  Rose du Roy 125g soap",15]
[2210500,"H Bronnley Regency Collection Bath Soap 150g",10]
[5018600,"Huxter Bar Soap - Peony Lee Papillion Butterfly - Lemongrass",10]
[5018601,"Huxter Bar Soap - Summer Banksia and Gumnuts - Lemongrass",10]
[5018602,"Huxter Bar Soap - Love at first sight - Lemongrass",10]
[5018603,"Huxter Bar Soap - AB 'Grandiflora Peony' - Frangipani",10]
[5018604,"Huxter Bar Soap - Sunny Llama - Frangipani",10]
[5018605,"Huxter Bar Soap - Peony Petals - Basil, Lime, Mandarin",10]
[8022397,"Savon Stories Dry-Damaged Hair Shampoo Bar 70g",10]
[5026791,"Brick sixty Lime Clay bar soap 150g",8]
[2210498,"H Bronnley Regency Collection Guest Soaps 2 x 50g",8]
[5026794,"Brick sixty Hot Rose bar soap 150g",8]
[2173832,"Nesti Dante Dei Colli 6 x 150g Soaps",25]
[2210497,"H Bronnley Herbarium Guest Soaps 6 x 50g",17]
[8021300,"Formulary 55 Milk and Honey Shea Butter Bath Bar 170g",12]
[5026792,"Brick sixty Engineered Mint bar soap 150g",8]
[8022388,"Savon Stories No4 Pink Clay Bar Soap 100g",8]
[2123631,"Nesti Dante Dolce Vivere Capri Soap Bar 250g",6]
[2181738,"MD Lavender Rosemary Hand Cream",18]
[8021297,"Formulary 55 Fig Leaf Shea Butter Bath Bar 170g",12]
[8021298,"Formulary 55 Gardenia Blossoms Shea Butter Bath Bar 170g",12]
[8021299,"Formulary 55 La Nuit Shea Butter Bath Bar 170g",12]
[8021302,"Formulary 55 Sweet Pea and Clover Shea Butter Bath Bar 170g",12]
[8021303,"Formulary 55 Vintage Peony Shea Butter Bath Bar 170g",12]
[5026789,"Brick sixty Carbon Wash bar soap 150g",8]
[5026793,"Brick sixty Honey Buff bar soap 150g",8]
[8022390,"Savon Stories No6 Oatmeal Bar Soap 100g",8]
[8022392,"Savon Stories No8 Marigold Bar Soap 100g",8]
[8022394,"Savon Stories No10 Spinach Bar Soap 100g",8]
[8022395,"Savon Stories Summer Edition Bar Soap 100g",8]
[2013189,"Nesti Dante Gold Leaf Natural Soap",6]
[2066627,"Nesti Dante Dei Colli Lavender Soap",6]
[2190241,"Nesti Dante Luxury Black Soap 250g",6]
[2190242,"Nesti Dante Platinum Soap 250g",6]
[8022531,"Rose et Marius Lavender soap 100g",20]
[8022505,"Oriza  Cologne Extra-Vieille 125g soap",15]
[8021296,"Formulary 55 Bourbon and Vanilla Shea Butter Bath Bar 170g",12]
[8021301,"Formulary 55 Sea Salt and Lavender Shea Butter Bath Bar 170g",12]
[8022398,"Savon Stories Normal Hair Shampoo Bar 70g",10]
[5026790,"Brick sixty Fly Ash bar soap 150g",8]
[8022389,"Savon Stories No5 Carrot Bar Soap 100g",8]
[8022393,"Savon Stories No9 Alkanet Root Bar Soap 100g",8]
[8022534,"Rose et Marius Fig soap 100g",20]
[8022504,"Oriza  Verveine de Vénus 125g soap",15]
[8022533,"Rose et Marius  Mint soap 100g",20]
[2181736,"Michel Design Lavender Rosemary Hand and Body Lotion",18]
[2181741,"Michel Design Lavender Rosemary Foaming Hand Soap",10]
[8022532,"Rose et Marius Flowery soap 100g",20]
[2209307,"Michel Design Papillon Large Bath Soap Bar",10]
[5022218,"Michel Design Palm Breeze Bath Bomb Set",15]
[2181737,"Michel Design Lavender Rosemary Large Soap Bar",10]
[2213109,"Bramley Room Spray 100ml",16]
[5022227,"Michel Design Summer Days Bath Bomb Set",15]
[5022224,"Michel Design Palm Breeze Large Bath Soap Bar",10]
[8022386,"Savon Stories No2 Charcoal Face Wash Bar Soap 100g",8]
[8022506,"Oriza  Lavande extra-Fine 125g soap",15]
[2213415,"Michel Design Garden Melody Large Bath Soap Bar",10]
[2213418,"Michel Design Garden Melody Lotion 236ml",18]
[5022233,"Michel Design Summer Days Large Bath Soap Bar",10]
[2208730,"Connock London Vittaveli EDP 100ml",95]
[2116508,"Connock London Kukui EDP 100ml",75]
[2074930,"Thyms Goldleaf EDP 45ml",65]
[2013476,"Aromatherapy Associates Deep Relax Bath And Shower Oil 55ml",50]
[2074926,"Thymes Goldleaf Dusting Powder and Puff 85g",40]
[2074959,"Thymes Goldleaf Home Fragrance Mist 85g",25]
[2111310,"Bamford Geranium Hand & Body Wash 250ml",24]
[2013529,"Aromatherapy Associates Perfect Partners 9ml",23]
[2209301,"Michel Design Papillon 6.5 oz. Soy Wax Candle",22]
[2213423,"Michel Design Flamingo 6.5 oz. Soy Wax Candle",22]
[2212255,"Bamford Night-Time Organic Temple Balm 15ml",20]
[2213112,"Bramley Mini Starter Set",18]
[2059149,"Connock London Kukui Oil Hand & Body Wash 200ml",18]
[2213429,"Michel Design Flamingo Lotion 236ml",18]
[8022536,"Rose et Marius  Fresh Mint Hand cream 50 ml",18]
[2213102,"Bramley Hand Cream 250ml",15]
[5054296,"Bramley Hand Sanitiser Gel 250ml",15]
[2070401,"Connock London Kukui Oil Hand Cream 50ml",15]
[2186732,"Fresh Verbena Oval Soap 250g",14]
[2186740,"Fresh Citron De Vigne Oval Soap 250g",14]
[2204410,"Fresh Waterlily Oval Soap",14]
[2213430,"Michel Design Flamingo Large Bath Soap Bar 236ml",10]
[5026769,"Soap Smith Marble Arch Handmade Bar Soap 100g",10]
[5026772,"Soap Smith Hackney Handmade Bar Soap 100g",10]
[5026775,"Soap Smith Camden Handmade Bar Soap 100g",10]
[5026778,"Soap Smith Bloomsbury  Handmade Bar Soap 100g",10]
[5026781,"Soap Smith Brick Lane  Handmade Bar Soap 100g",10]
[2213101,"Bramley Hand Wash 250ml",15]
[2186700,"Fresh Rose Floral Toner 250ml",31]
[5022228,"Michel Design Summer Days 6.5 oz. Soy Wax Candle",22]
[2209306,"Michel Design Papillon Lotion 236ml",18]
[5022232,"Michel Design Summer Days Lotion",18]
[2213106,"Bramley Body Lotion 250ml",15]
[2209303,"Michel Design Papillon Foaming Soap 530ml",12]
[2198994,"Lady Primrose Royal Extract Hand Wash Lucite Decanter 170ml",65]
[2125766,"Aromatherapy Associates De-Stress Massage and Body Oil 100ml",47]
[2078592,"Lady Primrose Royal Extract Dusting Silk Shaker 100g",45]
[2192101,"Connock London Kukui Oil Rich Body Cream 200ml",42]
[8022499,"Sibona Travel Laundry Cornflower Travel laundry bag",25]
[2186701,"Fresh Rose Cleansing Foam 120ml",24]
[2083795,"Noble Isle Whiskey and Water Hand Lotion 250ml",21]
[5022223,"Michel Design Palm Breeze Lotion",18]
[2213107,"Bramley Bath Salts 250g",16]
[2186730,"Fresh Freesia Oval Soap 250g",14]
[2186733,"Fresh Patchouli Oval Soap 250g",14]
[8022294,"Miller Harris La Fumee Alexandrie 100ml",170]
[2197418,"Tom Daxon Iridium EDP 100ml",155]
[2029916,"Lady Primrose Tryst EDP Mist 60ml",80]
[2213706,"Tea Rose EDP 120ml",69]
[2208731,"Connock London Palmier Collection",58]
[2078599,"Lady Primrose Tryst Diamond Dusting Silk Shaker 100g",45]
[2014928,"Aromatherapy Miniature Bath and Shower Oil Collection 10x3ml",40]
[2043157,"Floris Rose Mouthwash 100ml",40]
[2214004,"Floris Violet Concentrated Mouthwash 100ml",40]
[2213120,"Bramley Ivy Hand Gift Set",28]
[2111301,"Bamford Botanic Shampoo 200ml",18]
[2213108,"Bramley Sleep Spray 100ml",16]
[2186745,"Fresh Cucumber Baie Oval Soap 250g",14]
[2198993,"Lady Primrose Royal Extract Lotion Lucite Decanter 170ml",65]
[2013475,"Aromatherapy Associates Light Relax Bath Oil 55ml",50]
[2013480,"Aromatherapy De-Stress Muscle Bath And Shower Oil 55ml",50]
[2099583,"Aromatherapy Inner Strength Bath and Shower Oil 55ml",50]
[2121158,"Aromatherapy Associates Relax Body Oil 100ml",47]
[2029908,"Lady Primrose Royal Extract Bath Gel In Honey Pot 100g",45]
[2187188,"Noble Isle Willow Song Body Cream 250ml",40]
[2185153,"Lady Primrose Royal Extract Moisturiser 225ml",35]
[2213113,"Bramley Body Travel Set",28]
[2083794,"Noble Isle Whiskey and Water Hand Wash 250ml",18]
[5026784,"Soap Smith Lavender Hill Handmade Bar Soap 100g",10]
[2159308,"Floris Honey Oud EDP 100ml",160]
[2214005,"Floris Neroli Voyage 100ml EDP",120]
[2157810,"Bamford Serum 30ml",90]
[2157811,"Bamford Moisturising Lotion 50ml",80]
[2157813,"Bamford Moisturising Cream 50ml",80]
[2043145,"Floris Bouquet De La Reine EDT 100ml",80]
[2195974,"Fresh Cosmetics Brown Sugar EDP 100ml",76]
[2204411,"Fresh Sake EDP",76]
[2157816,"Bamford Restore Elixir 15ml",75]
[8022963,"Fresh Vitamin Nectar Glow Juice Antioxidant Serum 3*15ml",62]
[2157817,"Bamford Exfoliating Mask 45ml",60]
[2179746,"Bamford Ladies Travel Kit",60]
[2199931,"Bamford Purifying Clay Mask 45ml",60]
[2029907,"Lady Primrose Royal Extract Body Cream Jar 150ml",60]
[2180138,"Lady Primrose Tryst Body Cream in Jar 140ml",60]
[2157808,"Bamford Cleansing Balm 100ml",55]
[2114940,"E Coudray Ambre et Vanille Body Oil Spray 100ml",55]
[2186699,"Fresh Rose Face Mask 100ml",52]
[2186717,"Fresh Vitamin Nectar Jam Mask 100ml",52]
[2200684,"Fresh Lotus Youth Preserve Rescue Mask 100ml",52]
[2199932,"Bamford Purifying Cleansing Mousse 100ml",50]
[2044500,"Cheerleaders Smarties Shower Cap",45]
[2215162,"Audrey Green Butterflies Shower Cap",45]
[2150499,"Bamford Jasmine Bath Oil 250ml",45]
[2215099,"Noble Isle Tea Rose Shea Butter Body Cream 250ml",40]
[2111297,"Bamford Botanic Body Oil 125ml",38]
[2074744,"Thymes Goldleaf Body Cream 270ml",38]
[2140786,"Connock London Kukui Oil Soothing Bath and Shower Oil 200ml",36]
[2074921,"Thymes Goldleaf Bubble Bath 360ml",32]
[2013606,"Acqua di Parma Colonia Deodorant Stick 75ml",31]
[2074745,"Thymes Goldleaf Body Wash 270ml",28]
[2117029,"Bamford Geranium Hand and Body Lotion 250ml",26]
[2150501,"Bamford Jasmine Hand and Body Lotion 250ml",26]
[2150502,"Bamford Rose Hand and Body Lotion 250ml",26]
[2111319,"Bamford Green Weekender 4x50ml 2x30g",25]
[2012887,"Connock London Kukui Oil Hand & Body Lotion 200ml",25]
[2111315,"Bamford Rose Hand & Body Wash 250ml",24]
[2111299,"Bamford Botanic Hand Cream 75ml",22]
[2207723,"Fresh Sugar Lip Wonder Drops 5ml",22]
[2195972,"Fresh Sugar Face Polish To Go 30g",21]
[2083792,"Noble Isle Rhubarb Rhubarb Hand Lotion 250ml",21]
[2157072,"Noble Isle Whisky and Water Bath and Shower Gel 250ml",21]
[2165211,"Noble Isle Rhubarb Rhubarb Bath and Shower Gel 250ml",21]
[2212256,"Bamford Night-Time Pillow Mist 50ml",20]
[5026768,"Soap Smith Marble Arch Hand & Body Lotion  300ml",20]
[5026771,"Soap Smith Hackney Hand & Body Lotion 300ml",20]
[5026774,"Soap Smith Camden Hand & Body Lotion 300ml",20]
[5026777,"Soap Smith Bloomsbury  Hand & Body Lotion 300ml",20]
[5026780,"Soap Smith Brick Lane  Hand & Body Lotion 300ml",20]
[2111302,"Botanic Conditioner 200ml",18]
[2111312,"Bamford Geranium Pebble Soap 250g",18]
[2111318,"Bamford Jasmine Pebble Soap 250g",18]
[2215100,"Noble Isle Tea Rose Hand Wash 250ml",18]
[5026767,"Soap Smith Marble Arch Hand & Body Wash  300ml",18]
[5026770,"Soap Smith Hackney Hand & Body Wash  300ml",18]
[5026773,"Soap Smith Camden Hand & Body Wash  300ml",18]
[5026776,"Soap Smith Bloomsbury  Hand & Body Wash  300ml",18]
[5026779,"Soap Smith Brick Lane  Hand & Body Wash  300ml",18]
[5026782,"Soap Smith Lavender Hill Hand & Body Wash  300ml",18]
[2074742,"Thymes Goldleaf Bar of Soap 200g",18]
[2213104,"Bramley Shampoo 250ml",15]
[2213105,"Bramley Conditioner 250ml",15]
[5025823,"Fresh Limited Edition Caramel Lip Balm 6g",15]
[2117028,"Bamford Botanic Lip Balm 15ml",14]
[2215109,"Fresh Rose Deep Hydration Face Cream 15ml",13]
[2213118,"Bramley Clementine, Sweet Orange & Lavender Little B 250ml",12]
[8027087,"Acqua Di Parma Signature Osmanthus EDP 100ml",197]
[2159309,"Floris Leather Oud EDP 100ml",160]
[2119700,"Floris Cherry Blossom EDP 100ml",120]
[2154511,"Acqua di Parma Colonia Club Eau de Cologne 100ml",110]
[8027137,"Miller Harris Rose Silence Limited Edition Coffret EDP 100ml",105]
[2199929,"Bamford Triple Action Eye Cream 10ml",80]
[2043230,"Floris White Rose EDT 100ml",80]
[2114942,"E Coudray Jacinthe and Rose Body Oil Spray 100ml",55]
[2013479,"Aromatherapy De-Stress Mind Bath And Shower Oil 55ml",50]
[2013492,"Aromatherapy Support Equilibrium Bath And Shower Oil 55ml",50]
[2186694,"Fresh Umbrian Clay Purifying Mask 100ml",49]
[2172570,"Thymes Goldleaf Fragrance Diffuser 210ml",48]
[2013525,"Aromatherapy Associates Renew Rose Body Oil 100ml",47]
[2044492,"Peppermint Patty Shower Cap",45]
[2186705,"Fresh Rose Depp Hydrating Face Serum 30ml",42]
[2208386,"Olverum Bath Oil 125ml",37]
[2116509,"Connock London Kukui Oil Body Oil 125ml",35]
[2189777,"Fresh Rose Deep Hydration Face Cream 50ml",35]
[2185152,"Lady Primrose Royal Extract Bathing Gel 225ml",35]
[2184829,"This Works Deep Sleep Pillow Spray 250ml 2018 Ltd Edition",33]
[2013482,"Aromatherapy Associates De-Stress Muscle Gel 150ml",30]
[2150500,"Bamford Jasmine Hand and Body Wash 250ml",24]
[2200685,"Fresh Lotus Youth Preserve Rescue Entry Mask 30ml",22]
[2186664,"Fresh Sugar Lip Treatment ADV Therapy 4.3g",21.5]
[2215101,"Noble Isle Tea Rose Hand Lotion 250ml",21]
[2195973,"Fresh Umbrian Clay Mask To Go 30ml",20]
[5026783,"Soap Smith Lavender Hill Hand & Body Lotion 300ml",20]
[2186667,"Fresh Sugar Honey Tinted Lip Treatment Sunscreen SPF15 4.3g",19.5]
[2186669,"Fresh Sugar Petal Tinted Lip Treatment Sunscreen SPF15 4.3g",19.5]
[2111317,"Rose Pebble Soap 250g",18]
[2083789,"Noble Isle Rhubarb Rhubarb Hand Wash 250ml",18]
[2014285,"Connock London Kukui Oil Wonder Balm 10ml",15]
[2186734,"Fresh Sugar Lemon Soap 250g",13]
[2207693,"Sevin London Fresh Clay Soap 120g",10]
[2207711,"Sevin London Square Pumice Stone",8]
[8020748,"Miller Harris Le Cedre 100ml",170]
[2207642,"Floris A Rose For EDP 100ml",160]
[5061734,"Tom Daxon FUYU EDP 100ml",155]
[8017990,"Tom Daxon Magnolia Heights 100ML EDP",155]
[8020741,"Miller Harris Tender 100ml",150]
[8022293,"Miller Harris Leather Rouge 100ml",150]
[5021731,"Stories Parfums No.01 Eau de Parfum 100ml",150]
[2203311,"Floris 1927 EDP 100ml",140]
[8024360,"Miller Harris Dance 100ml",140]
[8027136,"Miller Harris Scherzo Limited Edition Coffret EDP 100ml",140]
[8020755,"Miller Harris Brighton Rock 100ml",115]
[8022291,"Miller Harris Powdered Veil 100ml",115]
[8022292,"Miller Harris Peau Santal 100ml",115]
[8027138,"Miller Harris Violet Ida 100ml",115]
[2013632,"Acqua di Parma Colonia EDC 100ml",110]
[8020732,"Miller Harris Rose Silence 100ml",110]
[8020735,"Miller Harris Noix de Tubereuse 100ml",110]
[8022290,"Miller Harris Tea Tonique 100ml",110]
[5008952,"OTO Roll-on Discovery Collection 12ml",110]
[5029518,"OTO Night Face Mask 50ml 800mg",110]
[8020742,"Miller Harris Tender 50ml",100]
[8020745,"Miller Harris Hidden (on the rooftops) 50ml",100]
[5029517,"OTO Night Face Cream 50ml 1250mg",100]
[8027140,"Miller Harris Craft & Glamour EDP 50ml",95]
[2013810,"Acqua di Parma Colonia Essenza Eau de Cologne 50ml",80]
[2043151,"Floris JF EDT 100ml",80]
[2043156,"Floris No.89 EDT 100ml",80]
[2043228,"Floris Night Scented Jasmine EDT 100ml",80]
[8024363,"F Fragrance Travel Collection for Him 4 x 14ml",80]
[8020733,"Miller Harris Rose Silence 50ml",80]
[5029516,"OTO Night Eye treatment 30ml 1500mg CBD",80]
[2186681,"Fresh Black Tea Firming Overnight Mask 100ml",77]
[2186747,"Fresh Cannisbis Santal EDP 100ml",76]
[2215110,"Fresh Rose Morning EDP 100ml",76]
[2212254,"Bamford Night-Time Bath Concentrate 125ml",70]
[5008953,"OTO Body Oil - Focus 100ml",70]
[5008954,"OTO Body Oil - Amplify 100ml",70]
[5008955,"OTO Body Oil - Balance 100ml",70]
[2031446,"E Coudray Jacinthe and Rose EDT 100ml",68]
[2186678,"Fresh Black Tea Eye Concentrate 15ml",58]
[2148698,"Anniversary Celebration Bowed Shower Cap",55]
[2199930,"Bamford Refining Exfoliator",55]
[2207703,"Sevin London Marble Black Candle Medium 700g",55]
[2013484,"Aromatherapy Revive Evening Bath And Shower Oil 55ml",50]
[2013490,"Aromatherapy Support Lavender Bath Shower Oil 55ml",50]
[2044491,"Flip Flop Half Bow Shower Cap",45]
[2044496,"Lady Bugs Ladybird Shower Cap",45]
[2125835,"Bumble Bees Shower Cap",45]
[5020669,"Audrey Green Mini Pansy Shower Cap",45]
[5020670,"Audrey Green Hearts Shower Cap",45]
[5020671,"Audrey Green Pink Swan Shower Cap",45]
[5020672,"Audrey Green Lips Shower Cap",45]
[5020673,"Audrey Green Assorted Bright Bows Shower Cap",45]
[5020674,"Audrey Green Medium Poppies Shower Cap",45]
[2111314,"Bamford Rose Bath Oil 250ml",45]
[4008489,"Rose Deep Hydration Sleeping Mask",44]
[2212253,"Bamford B Silent Organic Body Oil 125ml",42]
[2186696,"Fresh Lotus Youth Preserve Face Cream 50ml",42]
[2213096,"Olverum The Body Oil 100ml",42]
[2207707,"Sevin London Bubble Bath Towel - Bath Sheet White",40]
[5021729,"Stories Parfums No.01 Eau de Parfum 15ml",40]
[5021732,"Stories Parfums No.02 Eau de Parfum 15ml",40]
[2192872,"Fresh Vitamin Nectar Glow Face Cream 50ml",39]
[2186697,"Fresh Lotus Youth Preserve Eye Cream 15ml",38]
[2213095,"Olverum The Dry Body Oil 100ml",38]
[2207697,"Sevin London Porcelain White Face Body Hair Oil 100ml",36]
[2207698,"Sevin London Fresh Clay Face Body & Hair Oil 100ml",36]
[2186743,"Fresh Lemon Sugar Sugarbath Cubes 180g",35]
[2207700,"Sevin London Porcelain White Candle Small 270g",35]
[2111300,"Bamford Botanic Bath Salts 250g",30]
[2186674,"Fresh Soy Face Cleanser 150ml",30]
[2200693,"Fresh Black Tea Firming Overnight Entry Mask 30ml",30]
[8022501,"Sibona Palm Pastel Laundry bag",30]
[2186670,"Fresh Sugar Lip Serum Advanced Therapy 10ml",29.5]
[2210260,"Sevin London Porcelain White Hand and Body Wash 500ml",28]
[2178799,"Olverum Bath Oil Travel Set",25]
[5007827,"Sibona Les Bas Rose Pink hosiery bag",25]
[5007828,"Sibona Chaussures Rose Green/Pink shoe bag",25]
[5007830,"Sibona Les Bas Genevieve Black/Pink hosiery bag",25]
[8022493,"Sibona Petal Line Cornflower Lingerie bag",25]
[8022494,"Sibona Leopard Lime/Red Petit Linge Lingerie bag",25]
[8022495,"Sibona Leopard Lime/Red Chaussures Shoe bag",25]
[8022498,"Sibona Travel Laundry Coral Travel laundry bag",25]
[8022502,"Sibona Checked Silver/Black Lingerie bag",25]
[8022503,"Sibona Rose Green/Pink Lingerie bag",25]
[2200686,"Fresh Sugar Lip Treatment Advanced Therapy Dream 4.3g",22]
[2186724,"Fresh Lemon Sugar Body Lotion 300ml",21]
[2186729,"Fresh Hesperides Grapefruit Body Lotion 300ml",21]
[2195970,"Fresh Rose Face Mask To Go 30ml",21]
[2195971,"Fresh Vitamin Nectar Mask To Go 30ml",21]
[2215500,"Fresh Rose Deep Hydration Toner 100ml",21]
[2083781,"Noble Isle Willow Song Shower Gel 250ml",21]
[2186663,"Fresh Sugar Lip Polish 17g",19.5]
[2186665,"Fresh Sugar Lip Treatment SPF15 4.3g",19.5]
[2186666,"Fresh Sugar Rose Tinted Lip Treatment Sunscreen SPF15 4.3g",19.5]
[2186673,"Fresh Sugar Bloom Tinted Lip Treatment SPF154.3g",19.5]
[2205709,"Fresh Vitamin Nectar Antioxidant Glow Water To Go 100ml",19]
[2186719,"Fresh Brown Sugar Bath and Shower Gel 300ml",18]
[2186726,"Fresh Sugar lemon Shower Gel 300ml",18]
[2186728,"Fresh Hesperides Grapefruit Bath and Shower Gel 300ml",18]
[2186731,"Fresh Hesperides Oval Soap 250g",14]
[2215496,"Fresh Hesperides Grapefruit Moisturizing Hand Cream 30ml",14]
[2215497,"Fresh Pink Jasmine Moisturizing Hand Cream 30ml",14]
[2215498,"Fresh Sugar Lemon Moisturizing Hand Cream 30ml",14]
[8023321,"Fresh Cosmetics Sugar Strawberry Exfoliating Face Wash 50ml",12]
[2189775,"Fresh Soy Face Cleanser To Go 50ml",11.5]
[2207692,"Sevin London Porcelain White Soap 120g",10]
[2207694,"Sevin London Marble Black Soap 120g",10]
[2207696,"Sevin London Porcelain White Body Scrub 120g",10]
[5000606,"Sevin London Porcelain White Shampoo & Shower Gel 200ml",0]
[2174581,"Acqua di Parma Quercia EDC Concentree 100ml Spray",197]
[5021734,"Stories Parfums No.02 Eau de Parfum 100ml",150]
[2013808,"Acqua di Parma Colonia EDC 180ml",145]
[2093345,"Acqua di Parma Colonia Intensa 180ml",145]
[2016138,"Acqua di Parma Magnolia Nobile EDP 100ml",135]
[2135335,"Acqua di Parma Rosa Nobile EDP 100ml",135]
[2119705,"Floris Jermyn Street EDP 100ml",120]
[2013791,"Acqua di Parma Colonia Intensa EDC 100ml",110]
[2174578,"Acqua di Parma Peonia Noble Eau de Parfum 50cm Spray",100]
[8020740,"Miller Harris Scherzo 50ml",100]
[5008951,"OTO Pillow Mist 8ml",100]
[2186682,"Fresh Black Tea Age Delay Firming Serum 50ml",82]
[2013790,"Acqua di Parma Colonia Intensa EDC 50ml",80]
[2043160,"Floris Santal EDT 100ml",80]
[2043227,"Floris Lily Of The Valley EDT 100ml",80]
[2188731,"Floris Chypress EDT 100ml",80]
[8018066,"acqua di parma cipresso fragrance 75ml EDT",79]
[2013633,"Acqua di Parma Colonia EDC 50ml",78]
[5021730,"Stories Parfums No.01 Eau de Parfum 30ml",75]
[5021733,"Stories Parfums No.02 Eau de Parfum 30ml",75]
[2135336,"Acqua di Parma Rosa Nobile Body Cream 150g",70]
[2157815,"Bamford Nourishing Mask 45ml",70]
[2178798,"Olverum Bath Oil 250ml",65]
[2114941,"E Coudray Musc and Freesia Body Oil Spray 100ml",55]
[2013483,"Aromatherapy Revive Morning Bath And Shower Oil 55ml",50]
[2111303,"Bamford Geranium Bath Oil 250ml",45]
[2207710,"Sevin London Bubble Bath Towel - Bath Sheet Taupe",40]
[2012527,"Acqua di Parma Colonia Bath And Shower Gel",37]
[2207701,"Sevin London Fresh Clay Candle Small 270g",35]
[2207702,"Sevin London Marble Black Candle Small 270g",35]
[2186703,"Fresh Rose Eye Gel 15ml",34]
[2186704,"Fresh Rose Deep Hydrating Facial Toner 250ml",34]
[2210263,"Sevin London Fresh Clay Hand and Body Lotion 500ml",33]
[2210265,"Sevin London Marble Black Hand and Body Lotion 500ml",33]
[2200692,"Fresh Black Tea Instant Perfecting Entry Mask 30ml",30]
[2210262,"Sevin London Fresh Clay Hand and Body Wash 500ml",28]
[2210264,"Sevin London Marble Black Hand and Body Wash 500ml",28]
[2042672,"Floris Lily Of The Valley Bath And Shower Gel 250ml",26]
[2194421,"Aromatherapy New De-Stress Frankincense Essential Oil 10ml",25]
[2146732,"This Works Deep Sleep Bath Soak 200g",22]
[2215098,"Noble Isle Tea Rose Bath & Shower Gel 250ml",21]
[8023320,"Fresh Cosmetics Lotus Youth Preserve Dream Face Cream 15ml",17]
[2213103,"Bramley Body Wash 250ml",15]
[8020739,"Miller Harris Scherzo 100ml",150]
[2174579,"Acqua di Parma Peonia Noble Eau de Parfum 100ml Spray",135]
[8024361,"Miller Harris Blousy 100ml",115]
[8027119,"Bramley Cottage Large",110]
[2135334,"Acqua di Parma Rosa Nobile EDP 50ml",100]
[2080041,"Lady Primrose Tryst Body Velvet Decanter 170ml",90]
[2043148,"Floris Elite EDT 100ml",80]
[8026690,"Fresh Cosmetics Fresh Life EDP 100ml",76]
[2174580,"Acqua di Parma Peonia Noble Body Cream 150g",70]
[8019063,"ADP Essential Shaving Kit",68]
[8027120,"Bramley Cottage Mini",60]
[2012524,"Acqua di Parma Colonia Aftershave Balm 100ml",59]
[2111298,"Bamford Botanic Sugar Polish 200ml",38]
[2179740,"Jasmine Body Cream",38]
[2186718,"Fresh Brown Sugar Body Polish 200g",35]
[2210261,"Sevin London Porcelain White Hand and Body Lotion 500ml",33]
[2074947,"Thymes Goldleaf Hand Cream 70ml",25]
[5022219,"Michel Design Palm Breeze 6.5 oz. Soy Wax Candle",22]
[2214001,"Floris Rosa Centifolia Hand Treatment 75ml",18]
[2118085,"Egg Shaped Hand Decorated Soap",18]
[2207706,"Sevin London Bubble Bath Towel - Hand Towel White",18]
[2200688,"Fresh Coconut Hydrating Lip Balm 6g",15]
[2175649,"This Works Super Sleep 2017 Limited Edition",15]
[2207705,"Sevin London Bubble Bath Towel - Face Cloth White",8]
[8027084,"Acqua Di Parma Signature Oud EDP 100ml",197]
[8027139,"Miller Harris Lumiere Doree 100ml",110]
[8020747,"Miller Harris Wander (through the parks) 50ml",100]
[2186683,"Fresh Black Tea Firming Cream 50ml",79]
[8019057,"ADP Barbiere Shaving Cream - Jar 125Gr",52]
[2186706,"Fresh Sugar Face Polish 125g",52]
[2157809,"Bamford Facial Oil 30ml",50]
[2029915,"Lady Primrose Royal Extract Bathing Gel 200ml",45]
[2154453,"Bamford Geranium Body Cream 200ml",38]
[8022962,"Fresh Vitamin Nectar Glow Juice Antioxidant Face Serum 15ml",26]
[2192868,"Fresh Sugar Cream Lip Treatment Pearl 10ml",19.5]
[2200691,"Fresh Lemon Hydrating Lip Balm (Limited Editon) 6g",15]
[2067081,"Soap Hat Box",12]
[5000609,"Sevin London Bubble Bath Mitt",0]
[2074743,"Thymes Goldleaf Bath Powder Envelope 60g",8]
[2194181,"Guerlain oi 17 4g rich cream 50ml jar",350]
[2164725,"Sisley Sisleya Integral 50ml",340]
[5030884,"Chantecaille X John Derian Skincare JD Tray Set LE",312]
[5016031,"Sisley Phyto Blanc Le Concentrate Serum 20ml",284]
[2207743,"3Lab --M-- Cream 60ml",250]
[2214676,"Sisley L'Integral AA Body Cream 150ml",242]
[2207754,"3Lab --M-- Serum 30ml",220]
[2207753,"3Lab --M-- Eye Cream 15ml",210]
[2199728,"BioEffect 30 Day Treatment 3 x 5ml",210]
[2207756,"3Lab Perfect Body Cream 200ml",200]
[5030484,"X20 Beauty Advent Calendar 2020",195]
[5030882,"Chantecaille X John Derian Rose Oil 30ml LE",160]
[4006893,"The Cream",150]
[5030885,"Sisely Black Rose Skin Infusion Cream Gift Set",142]
[5029484,"3Lab Hydrating-Vita Cream 60ml",140]
[2207748,"3Lab Perfect Neck Cream 60ml",135]
[4006895,"The Serum",135]
[4006894,"The Eye Cream",120]
[2176432,"Sisley Sisleya Le Teint 2B Linen",115]
[5030902,"Sisely Sisleya Le Teint N3R+ Pinky Peach",115]
[5030903,"Sisely Sisleya Le Teint N4R Spice",115]
[5023288,"Guerlain Abeille Royal Mother's Day Cream Set",105]
[4006891,"Perfect 'C' Eye Treatment",95]
[2173036,"Guerlain Abeille Royale Normal Day Cream 50ml",95]
[4006885,"Perfect BB SPF40/PA+++01",93]
[4006887,"Perfect BB SPF40/PA+++03",93]
[2125814,"Guerlain Super Aqua Day Comfort Cream 50ml",90]
[5030907,"Sisely Triple Oil Balm Makeup Remover & Cleanser 120ml",88]
[2180914,"Guerlain Abeille Royale Eye Cream Jar",78]
[2031076,"Sisley Floral Toning Lotion 250ml",75]
[5061822,"Sol de Janeiro Biggie Biggie Bum Cream 500ml X20",72]
[2199765,"Guerlain Abeille Royale Night Cream 30ML Tube",71]
[5030898,"Sisely Phyto-Poudre Compact N1 Rosy",69]
[5030899,"Sisely Phyto-Poudre Compact N2 Natural",69]
[5030900,"Sisely Phyto-Poudre Compact N3 Sandy",69]
[5030901,"Sisely Phyto-Poudre Compact N4 Bronze",69]
[5030908,"Sisely Eye & Lip Gel Make-up Remover 120ml",69]
[2147131,"Chantecaille Future Skin Vanilla 30g",68]
[2192732,"Dr Russo SPF 30 Sun Protective Brush-on Moisturiser",68]
[2101092,"Guerlain Super Aqua Eye Serum 15ml",68]
[8026471,"Sisley Restorative Hand Cream 75ml",67]
[5030881,"Chantecaille X John Derian Rose Water 100ml LE",65]
[2198793,"Caron Loose Powder 20gr Rose Bonne Mine",62]
[2155889,"Guerlain Parure Gold Compact Foundation 02 Beige Clair",61]
[5063352,"Fonfique Geese In The Stars Dalida Clutch",60]
[5063354,"Iconic London Ultimately Iconic Gift Bag X20",60]
[5061823,"Sol de Janeiro Wild Extravaganza Set X20",58]
[8022276,"Sol de Janeiro Bum Bum Carnaval Celebration",56]
[2155884,"Guerlain Cleansing Cream 200ml",53]
[5030909,"Sisely Revitalizing Smoothing Shampoo Discovery Kit 50ml",53]
[5030910,"Sisely Revitalizing Volumizing Shampoo Discovery Kit 50ml",53]
[2207739,"3Lab Perfect Scrub 100ml",52]
[5030883,"Chantecaille X John Derian Lip Chic Rose de Mai LE",52]
[2207738,"3Lab Perfect Cleansing Emulsion 200ml",50]
[2212949,"Treatment: 3Lab Facial 60 Minutes",50]
[2213532,"Guerlain Terracotta Palette Countour & Glow",50]
[2164025,"Guerlain Abeille Royale Lotion 150ml",49]
[2207737,"Chantecaille Chrome Luxe Duo Kenya & Lamu",48]
[8022964,"Chantecaille Rhinoceros Luminous Eye Shade",48]
[2192731,"Dr Russo SPF 30 Sun Protective Day Cleanser",48]
[5030906,"Sisely Phyto Sourcils Design Moka",46]
[5063351,"Fonfique Geese In The Stars Large Bacio Pouch",45]
[2118150,"Guerlain Meteorites Pearls - Medium 25g",45]
[2173029,"Guerlain Delices Bain Body Lotion 200ml",44]
[2213539,"Guerlain Aqua Allegoria Body Lotion 200ml",44]
[2118146,"Guerlain Les Voilettes Loose Powder- Medium",43]
[2213512,"Guerlain Meteorites Compact Gold",42]
[2208303,"Sisley Le Phyto Rouge Lipstick 40 Rouge Monaco",40]
[2155885,"Guerlain Cleansing Foam 150ml",39]
[5030888,"Sisely Le Phyto-Gloss N1 Moon",39]
[5030889,"Sisely Le Phyto-Gloss N2 Aurora",39]
[5030890,"Sisely Le Phyto-Gloss N3 Sunrise",39]
[5030891,"Sisely Le Phyto-Gloss N4 Twilight",39]
[5030892,"Sisely Le Phyto-Gloss N5 Fireworks",39]
[5030893,"Sisely Le Phyto-Gloss N6 Paradise",39]
[5030894,"Sisely Le Phyto-Gloss N7 Venus",39]
[5030895,"Sisely Le Phyto-Gloss N8 Milky Way",39]
[5030896,"Sisely Le Phyto-Gloss N9 Sunset",39]
[5030897,"Sisely Le Phyto-Gloss N10 Star",39]
[2215623,"Femmue Eau De Camelia Toner 200ml",38]
[2199771,"Guerlain Terracotta Bronzing Powder 00 Light",38]
[2213533,"Guerlain Terracotta Set Bronzer Powder Light 03 & Brush",38]
[2213538,"Guerlain Aqua Allegoria Shower Gel 200ml",38]
[5023293,"Guerlain Terrcotta Set Bronze PDR Mini Kiss Kiss 344",38]
[2199332,"Sisley Phyto-Khol Star Waterproof 4 Eye Liner Sparkling Bron",38]
[5030904,"Sisely Phyto-Khol Star Waterproof N9 Sparkling Pearl",38]
[5030905,"Sisely Phyto-Khol Star Waterproof N10 Mystic Plum",38]
[2173060,"Guerlain Lingerie de Peau Foundation Brush",37]
[2191027,"Guerlain Lingerie de Peau - Aquanude Fond de Teint 01N",37]
[2191028,"Guerlain Lingerie de Peau - Aquanude Fond de Teint 02N",37]
[2191030,"Guerlain Lingerie de Peau - Aquanude Fond de Teint 04N",37]
[2191032,"Guerlain Lingerie de Peau - Aquanude Fond de Teint 02C",37]
[2191033,"Guerlain Lingerie de Peau - Aquanude Fond de Teint 03W",37]
[2204228,"Australian Pink Clay Flash Perfection Exfoliating Treatment",37]
[2207757,"3Lab Perfect Hand Cream 50ml",36]
[2155882,"Guerlain Cleanser Eye Bi Phase 125ml",36]
[2199777,"Guerlain Terracotta Foundation Sun Glow Jelly Light",36]
[5028276,"Delilah The Perfect Cover Fluid Foundation Lily 30ml",35]
[5028277,"Delilah The Perfect Cover Fluid Foundation Pillow 30ml",35]
[5028278,"Delilah The Perfect Cover Fluid Foundation Bloom 30ml",35]
[5028279,"Delilah The Perfect Cover Fluid Foundation Dune 30ml",35]
[5028280,"Delilah The Perfect Cover Fluid Foundation Bamboo 30ml",35]
[5028281,"Delilah The Perfect Cover Fluid Foundation Spiced 30ml",35]
[5028282,"Delilah The Perfect Cover Fluid Foundation Tawny 30ml",35]
[5028283,"Delilah The Perfect Cover Fluid Foundation Umber 30ml",35]
[5063350,"Fonfique Geese In The Stars Mini Bacio Pouch",35]
[2193236,"Chantecaille Full Brow Perfecting Gel + Tint Dark",34]
[8026428,"Parure Gold 19 Mist 30ml",34]
[2180904,"Guerlain Meteorites Powder Brush",33]
[2146960,"Chantecaille Brow Definer Oak Brown",32]
[2147207,"Chantecaille Lipstick Lotus",32]
[5028259,"Iconic London Illuminator Gold Limited Edition",30]
[2133645,"KissKiss Lipstick 328 Red Hot",29.5]
[2133649,"Guerlain KissKiss Lipstick 344 Sexy Coral",29.5]
[2133650,"KissKiss Lipstick 360 Very Pink",29.5]
[2173055,"Guerlain Lingerie de Peau Concealer 2 Clair Rose",29]
[5023294,"Guerlain Cils D'Enfer Set Volume",29]
[5028284,"Delilah Full Coverage Foundation Brush",28]
[2202440,"Guerlain Rouge G 18 Lips Refill n 23",26]
[2202443,"Guerlain Rouge G 18 Lips Refill n 41",26]
[2202445,"Guerlain Rouge G 18 Lips Refill n 43",26]
[2202459,"Guerlain Rouge G 18 Lips Refill n 73",26]
[2215502,"Guerlain Rouge G Mat 19 Lips Refill 24",26]
[2215508,"Guerlain Rouge G Mat 19 Lips Refill 75",26]
[8026453,"Guerlain Rouge G 19 Lipstick Refill 59",26]
[8026463,"Guerlain Rouge G 19 Lipstick Merry Red",26]
[5063353,"Iconic London Simply Iconic Set X20",25]
[5025087,"Soap Co Exfoliating Coffee Scrub 250ml",25]
[2173063,"Guerlain Eyeshadow palette 5: 03 Coq D'Or",24.25]
[2173066,"Guerlain Eyeshadow palette 5: 06 Bois Des Indes",24.25]
[2167459,"Guerlain Smart Stop Spot 15ml",24]
[2191016,"Guerlain Eye Lids Base",23]
[5028262,"Iconic London Matte Bronzer Medium Bronze",23]
[5028263,"Iconic London Matte Bronzer Warm Bronze",23]
[2213524,"Guerlain L'Essentiel no 03c 30ml",22]
[5028258,"Iconic London Prep-Set-Glow Gold Limited Edition",22]
[5025089,"Soap Co Geranium & Rhubarb Plastic Free Hand Lotion 300ml",22]
[2202470,"Guerlain Rouge G 18 Lips Case Parure Gold",20]
[2202478,"Guerlain Rouge G 18 Lips Case Perfect Black",20]
[2202480,"Guerlain Rouge G 18 Lips Case Exotic Safari",20]
[5028249,"Iconic London Lip Plumping Gloss Nearly Nude 5ml",20]
[5028255,"Iconic London Lustre Lip Oils Queen Bee (Honey) 5ml",20]
[5028256,"Iconic London Lustre Lip Oils She's a Peach (Peach) 5ml",20]
[5028257,"Iconic London Lustre Lip Oils One to Watch (Pomegranate) 5ml",20]
[5028260,"Iconic London Brow Silk & Brush",20]
[5028266,"Iconic London Lip Plumping Gloss Feeling It (Brown Nude) 5ml",20]
[5028267,"Iconic London Lip Plumping Gloss Not Your Baby (Pink) 5ml",20]
[2146974,"Chantecaille Eyeshadow Refill Perle",19.5]
[2118159,"Guerlain Eyebrow Kit",19]
[5025088,"Soap Co Geranium & Rhubarb Plastic Free Hand Wash 300ml",19]
[2191037,"Guerlain Lingerie de Peau - Cushion 02N",18.75]
[2215515,"Guerlain Rouge G 19 Lips Case Rosy Nude",18]
[5023280,"Guerlain Terracotta 20 Mini Bronze PDR 02",18]
[5023281,"Guerlain Terracotta 20 Mini Bronz PDR 03",18]
[8017237,"Soap Co Geranium & Rhubarb Eco Hand Lotion 300ml",18]
[2029164,"Guerlain Eyeliner 01 Noir Ebene 5ml",16.5]
[2059592,"Guerlain Eyeliner 05 Brun Cendre 5ml",16.5]
[2173067,"Guerlain Feutre Eyeliner 01 Noir",15.5]
[2207682,"Kure Bazaar File Gold with Pink Pom Pom X18",15]
[2207684,"Kure Bazaar File Silver with Pink Pom Pom X18",15]
[2029601,"Terracotta Powder Khol Black 01",14.5]
[8020697,"Gallinee Foaming Facial Cleanser 120ml",14]
[2125808,"Guerlain Maxi Lash Mascara Waterproof",14]
[2143368,"Guerlain Maxi Lash Mascara 04 Marine",14]
[8017243,"Soap Co Large Exfoliating Soap Pebble 140g",14]
[2191019,"Guerlain Maxi Velvet - Liquid Lips M71",12.5]
[2180913,"Guerlain LPRN Mascara 01 Black",12]
[2163990,"Guerlain Eye Pencil 01 Black Jack",11]
[2163991,"Guerlain Eye Pencil 02 Jackie Brown",11]
[8017238,"Soap Co Geranium & Rhubarb Bar Soap 125g",9]
[8017242,"Mulberry & Amber Cold Processed Exfoliating Bar Soap 125g",9]
[8019324,"X19 BH 3Lab M Cream 10ml",0]
[5000615,"Fonfique Mini Bacio Pouch Cradle Lily Black Print",0]
[5000616,"Fonfique Mini Bacio Pouch Mimosa Print",0]
[5000617,"Fonfique Mini Bacio Pouch Citrus Print",0]
[5000618,"Fonfique Large Bacio Pouch Swans Print",0]
[5000620,"Fonfique Large Bacio Pouch Mimosa Print",0]
[5000621,"Fonfique Large Bacio Pouch Citrus Print",0]
[5030466,"X20 BH 3LAB WW Cream 15ml",0]
[5025145,"Activist Raw Mānuka Honey 1000+ MGO",200]
[5025144,"Activist Raw Mānuka Honey 850+ MGO",135]
[4006726,"Delilah Pure Light Compact Illuminating Powder Lustre",36]
[2014593,"Mason Pearson Pocket Bristle & Nylon hairbrush - Dark Ruby",55]
[2212602,"Delilah Colour Intense Eyeshadow Palette Damsel",35]
[2126288,"Mason Pearson Rake Comb",15]
[8021131,"Sol de Janeiro Brazilian Kiss Cupuacu Lip Butter",15]
[2014582,"Mason Pearson Extra Pure Bristle Medium Brush",148]
[2014590,"Mason Pearson Popular Mix Bristle Brush",98]
[2179530,"Mason Pearson Pocket Bristle & Nylon hairbrush - Pink",55]
[2179527,"Mason Pearson Pocket Bristle hairbrush - Pink",52]
[2179532,"Mason Pearson Handy Bristle & Nylon hairbrush - Pink",80]
[2207681,"Kure Bazaar Organic Cuticle Oil 10ml",32]
[2126285,"Mason Pearson Detangling Comb",15]
[2014581,"Mason Pearson Bristle Brush",150]
[2014591,"Mason Pearson Junior Bristle & Nylon Medium Brush",90]
[2014586,"Mason Pearson Pink Bristle Brush",60]
[2179528,"Mason Pearson Pocket Bristle & Nylon hairbrush - Ivory White",55]
[5016013,"Sand & Sky Australian Emu Apple Super Bounce Mask 100ml",55]
[2182188,"Christian Breton Liftox",49]
[8021128,"Sol de Janeiro Brazilian Bum Bum Cream 240ml",44]
[2148071,"Shell Future Resist Foundation SPF 20",34]
[2194933,"Pure Light Liquid Radiance - Halo 30ml",32]
[2184774,"Iconic London Illuminator - Glow",30]
[2202452,"Guerlain Rouge G 18 Lips Refill n 65",26]
[2148094,"Cream Lipstick Hush",24]
[2202269,"Iconic London Prep-Set-Glow Glow 120ml",22]
[2148062,"Retractable Eye Brow Pencil with Brush Sable",20]
[8021136,"Sol de Janeiro Travel Size Brazilian Bum Bum Cream 75ml",18]
[2014585,"Mason Pearson Pocket Bristle Brush",60]
[2014588,"Mason Pearson Blue Bristle Brush",60]
[2148532,"Guerlain Maxi Lash Mascara Extra Volume",28]
[2167456,"Guerlain Supertips Midnight Secret 15ml",24]
[2014594,"Mason Pearson Handy Bristle & Nylon hairbrush - Dark Ruby",80]
[5016012,"Sand & Sky Australian Emu Apple Dreamy Glow Drops 30ml",45]
[2204227,"Sand & Sky Australian Pink Clay Porefining Face Mask",42]
[2202451,"Guerlain Rouge G 18 Lips Refill n 62",26]
[2148044,"Volumising and Defining Mascara Carbon",24]
[2148078,"Cream Concealer Barley",24]
[2145725,"Kure Bazaar First Base Nail Polish 10ml",16]
[2163180,"Kure Bazaar French Eclat Nail Polish 10ml",16]
[2014584,"Mason Pearson Sensitive Bristle Handy Brush",98]
[2207740,"3Lab Perfect Cleansing Foam 125ml",50]
[2194220,"Iconic London Day to Slay Eyeshadow Palette",45]
[2212247,"Slip Scrunchies Mixed Large",39]
[2207193,"Iconic London Pro Puff",35]
[2207192,"Iconic London Luminous Powder Original",30]
[2198010,"Kure Bazaar Super Base Treatment Clear Base Coat 10ml",19]
[2126287,"Mason Pearson Pocket Comb",10]
[2207716,"Lucia Magnani Rejuvenating Eye Cream 15ml",130]
[2014583,"Mason Pearson Handy Bristle Brush Blue",115]
[2182407,"Skin Design London Retexturing Serum 30ml",115]
[2207717,"Lucia Magnani Refreshing Energizing Tonic 150ml",90]
[5025136,"Le Prunier Plum Beauty Oil 30ml",87]
[2212239,"Slip Pink Pillowcase Queen",85]
[2212240,"Slip White Pillowcase Queen",85]
[2014592,"Mason Pearson Handy Bristle & Nylon hairbrush - Ivory White",80]
[2182198,"Christian Breton Gold Eye Cream",75]
[5025131,"Ipsum Best Skin Nourishing Face Oil 30ml",70]
[2155894,"Guerlain Parure Gold Foundation 01 Beige Pale",60]
[2194216,"Iconic London Complete Face Set Black and Rose Gold",60]
[2212242,"Slip Black Sleep Mask",50]
[4005894,"Slip Scrunchies Midi Mixed",45]
[2184775,"Iconic London Pro-Evo Buffer Brush",32.5]
[2184772,"Iconic London Illuminator - Original 13.5ml",30]
[2148061,"Retractable Eye Brow Pencil with Brush Ash",20]
[2215477,"Iconic London Lip Plumping Gloss Privacy Please 4ml",19]
[2215479,"Iconic London Lip Plumping Gloss Nearly Nude 4ml",19]
[2201021,"Kure Bazaar Cosmos Pastle Pink",16]
[2147259,"Chantecaille Stress Repair Eye Concentrate 15ml",156]
[2173035,"Guerlain Abeille Royale Rich Day Cream 50ml",95]
[8023482,"Slip Pink Marble Sleep Mask",50]
[8019716,"Chantecaille Frangipane Lip Veil",40]
[2148084,"Future Resist Foundation Primer 48ml",34]
[2184773,"Iconic London Illuminator - Shine 13.5ml",30]
[2197953,"Iconic London Illuminator Blush",30]
[8026672,"Delilah The Christmas Highlights Collection Mini Lip X19",28]
[8020711,"Dr Russo Once A Day Invisible Gel SPF30 Tan Accelerator 15ml",26]
[2176287,"Brow Shape Defining Brow Gel - Ash",18]
[2208542,"Kure Bazaar Parisienne (Dark Red) 10ml",16]
[2207750,"3Lab Super Face Serum 35ml",500]
[2147246,"Chantecaille Gold Firming Treatment 50ml",280]
[2209726,"Chantecaille Bio Lifting Serum Plus 30ml",242]
[2214683,"Sisley Sunleya G.E SPF50+ 50ml",187]
[2147245,"Chantecaille Gold Energizing Eye Serum 15ml",179]
[5023290,"Guerlain Orchidee Imperial Eyes and Lips Set",165]
[5003368,"Delilah 8 Piece Brush Collection Set",140]
[2214674,"Sisley Youth Anti-Pollution 40ml",138]
[4006892,"Perfect 'C' Eye Treatment Serum",130]
[5025315,"Pauline Rochas Le Premier Parfum EDP 50ml",130]
[5025316,"Pauline Rochas Le Deuxieme Parfum EDP 50ml",130]
[5025317,"Pauline Rochas Le Troisieme Parfum EDP 50ml",130]
[5025320,"Pauline Rochas Le Sixieme Parfum EDP 50ml",130]
[2199724,"BioEffect EGF Serum 15ml",125]
[2176423,"Sisley Neck Cream",120]
[5061831,"Slip Rose Gold Pillowcase & Leopard Print Mask Gift Set X20",119]
[5025322,"Cosmetics 27 Baume 50ml",115]
[2182404,"Skin Design London Volume Serum 30ml",115]
[2182405,"Skin Design London C Antioxidant Glow 30ml",115]
[2182410,"Skin Design London Alpine Rose Glow",115]
[2182413,"Skin Design London Hydrating Serum",115]
[5016037,"Sisley Black Rose Eye Contour Fluid 14ml",108]
[8026446,"Guerlain Abeille Royal 19 Rich Cream 50ml",105]
[2014589,"Mason Pearson Handy Bristle Brush",105]
[5016026,"Slip Pure Silk Pillowcase King Rose Gold",105]
[2184784,"Cult51 Day Cream 50ml",100]
[2192734,"Dr Russo Night Repair Face Serum",98]
[2146679,"Cult51 Serum 30ml",95]
[2182411,"Skin Design London Designer Balm 50ml",95]
[2195648,"Chantecaille Anti-Pollution Mattifying Cream",88]
[5025130,"8 Faces Boundless Solid Oil",87]
[2212238,"Slip Charcoal Pillowcase Queen",85]
[2212241,"Slip Gold Pillowcase Queen",85]
[5016025,"Slip Pure Silk Pillowcase Queen Rose Gold",85]
[5016028,"Slip Pure Silk Pillowcase Queen Feathers",85]
[5061828,"Slip Plum Queen Pillowcase X20",85]
[8023481,"Slip Pink Marble Print Queen Pillowcase",85]
[5025132,"Ipsum Best Skin Enriching Face Oil 30ml",80]
[2179531,"Mason Pearson Handy Bristle & Nylon hairbrush - Blue",80]
[5016034,"Sisley Tinted Moisturizer SPF15 N2 Medium 30ml",80]
[5016014,"Skin Design London Face Bath Cleanser 100ml",80]
[5028247,"Sol de Janeiro Sol Cheirosa '62 EDP 50ml",80]
[8018126,"Sisley Super Stick Solaire SPF50+ Tinted",78]
[2147248,"Chantecaille Jasmine & Lily Healing Mask 50ml",75]
[2182195,"Christian Breton Royal Orchid Longevity Eye Cream",75]
[2182197,"Christian Breton Gold Eye Serum",75]
[2194221,"Iconic London Ultimate Face Set Pearl",75]
[8019723,"Chantecaille Goa Real Bronze",70]
[5016018,"Slip Pure Silk Turban Pink",70]
[5016019,"Slip Pure Silk Turban Black",70]
[5016020,"Slip Pure Silk Turban Leopard",70]
[4005891,"Slip Silk Headband Knot Black",69]
[2147136,"Chantecaille Just Skin Tinted Moisturizer Nude 50g",68]
[5025141,"Henua Energizing Body Lotion 150ml",68]
[2215421,"Marie Reynolds London Restore 80g",68]
[5025135,"Marine & Vine Tahitian Oil 50ml",68]
[2147251,"Chantecaille Pure Rosewater 100ml",65]
[2146998,"Chantecaille Longest Lash Faux Cils Mascara 9ml",62]
[2147023,"Chantecaille Compact Makeup Shell",60]
[2194217,"Iconic London Complete Face Set Cream and Gold",60]
[2014587,"Mason Pearson Ivory Bristle Brush",60]
[2147240,"Chantecaille Flower Infused Cleansing Milk 100ml",59]
[2215420,"Marie Reynolds London 4Tify 75g",58]
[5025142,"Activist Raw Mānuka Honey 100+ MGO",55]
[5025133,"Ipsum Best Skin Body Oil Vetiver Citrus 100ml",55]
[5025134,"Ipsum Best Skin Body Oil Patchouli Rose 100ml",55]
[2215418,"Marie Reynolds London Elixir 50ml",55]
[2179529,"Mason Pearson Pocket Bristle & Nylon hairbrush - Blue",55]
[5016016,"Slip Pure Silk Glam Band Black",55]
[5016017,"Slip Pure Silk Glam Band Leopard",55]
[2147256,"Chantecaille Rice & Geranium Foaming Cleanser 75ml",52]
[2163987,"Guerlain Meteorites Base Perfectrice Pearls 30ml",51]
[4006889,"Healthy Glow Lip Balm",50]
[2179030,"Cult51 Night Cream 20ml",50]
[2212243,"Slip Charcoal Sleep Mask",50]
[2212244,"Slip Pink Sleep Mask",50]
[2212245,"Slip Gold Sleep Mask",50]
[5016023,"Slip Pure Silk Sleep Mask Jet Lagged",50]
[5016024,"Slip Pure Silk Sleep Mask Out of Office",50]
[5016027,"Slip Pure Silk Sleep Mask Rose Gold",50]
[5016029,"Slip Pure Silk Sleep Mask Feathers",50]
[5016030,"Slip Pure Silk Sleep Mask Love is Love",50]
[5061829,"Slip Plum Sleep Mask X20",50]
[5061830,"Slip Rose Leopard Print Sleep Mask X20",50]
[5025149,"The Glow Master Elixir 20ml",50]
[2182190,"Christian Breton Serum Elixir Eye Contour",49]
[2147228,"Chantecaille Venetian Duo Grand Canal",48]
[2147232,"Chantecaille Loose Powder Subtle",48]
[8022965,"Chantecaille Lion Luminous Eye Shade",48]
[2192733,"Dr Russo Night Repair Exfoliating Cleanser",48]
[2215419,"Marie Reynolds London Reson8 50ml",48]
[2183632,"Christian Breton Dark Undereye Corrector Serum",47]
[2182191,"Christian Breton Eye Care Anti Fatigue",45]
[2182193,"Christian Breton Eye Focus Active Cream",45]
[2212308,"Iconic London Loose Pigment Palette",45]
[2183631,"Christian Breton Ice Stick Eye Contour",42]
[5028248,"Marie Reynolds Skin Quencher 30ml",42]
[2207726,"Chantecaille Tree of Life Lip Veils Moabi",40]
[8019717,"Chantecaille Pink Lotus Lip Veil",40]
[2194218,"Iconic London Complete Eye Set Black and Rose Gold",40]
[8027263,"ilapothecary SOS Body Balm 100g",40]
[5016015,"Sol de Janeiro Brazilian Nude Body Cream 385ml",40]
[2193232,"Chantecaille Cheek Gelee Lively",39]
[8022972,"Chantecaille Vibrant Cheek Gelee",39]
[2212248,"Slip Scrunchies Mixed Small",39]
[4005893,"Slip Scrunchies Large Gold, Black & Leopard",39]
[5016021,"Slip Pure Silk Scrunchies Large Midnight Blue",39]
[5016022,"Slip Pure Silk Skinnies Midnight Blue",39]
[2147258,"Chantecaille Rose Eye Makeup Remover",38]
[2148083,"Pure Touch Translucent Powder",38]
[5023276,"Guerlain Terracotta 20 Nude Comp PDR",38]
[5023277,"Guerlain Terracotta 20 Matte Comp PDR Light",38]
[5023278,"Guerlain Terracotta 20 Matte Comp PDR Medium",38]
[5004888,"Marie Reynolds London Face Night Oil 30ml",38]
[2209729,"Chantecaille Les Perles Argent",36]
[2163160,"Delilah Pure Light Compact Illuminating Powder Aura 2301",36]
[2147546,"Kure Bazaar Nail Polish Remover - Bamboo 250ml",36]
[2212603,"Delilah Colour Intense Eyeshadow Palette Jezebel",35]
[2215415,"Marie Reynolds London Goji Mallow Cleanser 150ml",35]
[2199340,"Sisley Phyto-Lip Twist 22 Burgundy (Matte) 2.5g",35]
[2148042,"Matt Bronzer Light Medium Sunset",34]
[2148043,"Matt Bronzer Medium Dark",34]
[2148069,"Lace Future Resist Foundation SPF 20",34]
[2180893,"Iconic London The Original Shimmer Palette",33.5]
[2174136,"Iconic London Cream Contour Palette",33]
[2184776,"Iconic London Pro-Evo Sculpt Brush",32.5]
[2197950,"Iconic London Evo Rose Gold Buffer Brush",32.5]
[2147171,"Chantecaille Lip Chic Anais",32]
[2147188,"Chantecaille Lip Chic Tea Rose",32]
[2147210,"Chantecaille Lipstick Poppy",32]
[2168832,"Chantecaille Gypsy Rose Lip Chic",32]
[8024376,"Delilah Foundation Kabuki",32]
[8024377,"Delilah Large Powder Brush",32]
[5028252,"Iconic London Luminous Powder",30]
[2215416,"Marie Reynolds London Hydr8 Misting Veil 150ml",30]
[2191009,"Guerlain Kiss Kiss - M347 Zesty Oran",29.5]
[8026436,"Guerlain KissKiss 19 Lipstick L363 Lady Shine",29.5]
[2214686,"Slip Sleep Mist 100ml",29]
[8020716,"Dr Russo Once A Day Invisible Mist SPF30 150ml",28]
[2215417,"Marie Reynolds London Anoint 100ml",28]
[2177260,"Chantecaille Pure Rosewater - Travel size 30ml",26]
[2148039,"Compact Powder Blusher Clementine",26]
[2148041,"Compact Powder Blusher Lullaby",26]
[2190865,"Blusher Dusk",26]
[8020710,"Dr Russo Once A Day Invisible Gel SPF30 15ml",26]
[2202447,"Guerlain Rouge G 18 Lips Refill n 06",26]
[2202449,"Guerlain Rouge G 18 Lips Refill n 03",26]
[2215505,"Guerlain Rouge G Mat 19 Lips Refill 40",26]
[8026458,"Guerlain Rouge G 19 Lipstick Refill N94",26]
[2161507,"Chantecaille Luster Glide Eyeliner Raven",25]
[2159410,"Instant Effects Instant Lip Plumper",25]
[2159411,"Instant Effects Instant Lash Volumiser",25]
[2159412,"Instant Effects Instant Eye Lift",25]
[8021129,"Sol de Janeiro Samba Foot Fetish Care 90ml",25]
[5025146,"The Glow Cleansing Clay 45g",25]
[2148079,"Cream Concealer Honey",24]
[2148095,"Cream Lipstick Grace",24]
[2148096,"Cream Lipstick Honesty",24]
[2148098,"Cream Lipstick Stiletto",24]
[2148099,"Cream Lipstick Tango",24]
[2148100,"Cream Lipstick Vintage",24]
[2193412,"Colour Intense Cream Lipstick FLIRT",24]
[2193413,"Colour Intense Cream Lipstick FOXY",24]
[5025107,"Delilah Intense Day to Night Mascara 10.5ml",24]
[8020706,"Gallinee Scalp and Hair Serum 100ml",24]
[2196506,"Iconic London Sculpt and Boost Eyebrow Cushion Medium",24]
[8021134,"Sol de Janeiro My Sol Stick SPF 50",24]
[2148047,"Gel Eye Liner Plum",22]
[2148085,"Ultimate Shine Lipgloss Ghost",22]
[2148086,"Ultimate Shine Lipgloss Modesty",22]
[2148088,"Ultimate Shine Lipgloss Jewel",22]
[2205750,"Delilah Take Cover Radiant Cream Concealer Ivory 3.5ml",22]
[2205751,"Delilah Take Cover Radiant Cream Concealer Stone 3.5ml",22]
[2205752,"Delilah Take Cover Radiant Cream Concealer Marble 3.5ml",22]
[2202268,"Iconic London Prep-Set-Glow Original 120ml",22]
[5028243,"Sol de Janeiro Brazilian Joia Shampoo 295ml",22]
[5028244,"Sol de Janeiro Brazilian Joia Conditioner 295ml",22]
[5028245,"Sol de Janeiro Coco Cabana Shower Cream Cleanser 385ml",22]
[5023295,"Chantecaille Lip Definer Chic",21]
[8021130,"Sol de Janeiro Brazilian 4 Play Shower Cream-Gel 385ml",21]
[2201677,"Delilah Colour Intense Liquid Lipstick Beau 7ml",20]
[2201678,"Delilah Colour Intense Liquid Lipstick Belle 7ml",20]
[2201680,"Delilah Colour Intense Liquid Lipstick Flame 7ml",20]
[2205754,"Delilah Lip Line Longwear Retractable Pencil Pout",20]
[2212606,"Delilah Colour Gloss Ultimate Shine Lipgloss Alisa",20]
[5003369,"Delilah Gel Line Long Wear Eyeliner Ebony",20]
[2202481,"Guerlain Rouge G 18 Lips Case Wild Jungle",20]
[2146994,"Chantecaille Iridescent Eyeshadow Refill Rose Gold",19.5]
[2209718,"Iconic London Chrome Flash Eye Pot Cosmic 4.5ml",19]
[2209720,"Iconic London Chrome Flash Eye Pot Spellbound 4.5ml",19]
[5016010,"Iconic London Triple Threat Black Mascara 9ml",19]
[5016011,"Christian Breton Endless Black Mascara 13ml",18]
[2176288,"Brow Shape Defining Brow Gel - Sable",18]
[8024383,"Delilah Lip Brush",18]
[8020696,"Gallinee Face Mask & Scrub 100ml",18]
[5016005,"Iconic London Sheer Blush Cheeky Coral 12.5ml",18]
[5016009,"Iconic London Sheer Blush Berry Boom 12.5ml",18]
[8021138,"Sol de Janeiro Brazilian Crush Body Fragrance Mist 90ml",18]
[2145700,"Kure Bazaar Cherie Nail Polish 10ml (Deep red)",16]
[2145737,"Kure Bazaar Chloe Nail Polish 10ml (Dusty light purple)",16]
[2145762,"Kure Bazaar Dry Finish Nail Polish 10ml",16]
[2156823,"Kure Bazaar Nail Polish 10ml (Eau de Nil)",16]
[2157737,"Kure Bazaar Lipstick Nail Polish 10ml (Lipstick red)",16]
[2163179,"Kure Bazaar French Nude Nail Polish 10ml",16]
[8027261,"ilapothecary Express Lip Balm 15g",15]
[8021133,"Sol de Janeiro Brazilian Touch Hand Cream 50ml",15]
[2214313,"Patchology FlashPatch Illuminating Eye Gels",14]
[5025330,"Patchology Eye Moodpatch Chill Mode",14]
[8022246,"Patchology Eye Moodpatch Perk Up",14]
[8022247,"Patchology Eye Moodpatch Happy Place",14]
[8022248,"Patchology Eye Moodpatch Down Time",14]
[8020699,"Gallinee Hand Cream 50ml",12]
[2207631,"Patchology Lip Service Gloss-to-Balm Treatment",12]
[5028246,"Sol de Janeiro Coco Cabana Shower Cream Cleanser 90ml",10]
[8021137,"Sol de Janeiro Travel Brazilian 4 Play Shower Cream Gel 90ml",10]
[2207625,"Patchology FlashMasque Hydrate",8]
[2207670,"Guerlain Orchidee Imperiale 18 Oil 30ml Pump Bottle",250]
[2201666,"Chantecaille Gold Recovery Mask 50ml",235]
[2192525,"Sisle a L'Int gral Anti- ge Eye and Lip Contour Cream",150]
[5025318,"Pauline Rochas Le Quatrieme Parfum EDP 50ml",130]
[5025319,"Pauline Rochas Le Cinquieme Parfum EDP 50ml",130]
[5025321,"Pauline Rochas Le Septieme Parfum EDP 50ml",130]
[2199764,"Guerlain Abeille Royale Cure 15ML Jar",125]
[5025139,"Henua Recharging Moisturizer 30ml",125]
[5025326,"Cosmetics 27 Booster 30ml",105]
[2182408,"Skin Design London Sleeping Beauty 50ml",100]
[2147239,"Chantecaille Flower Harmonizing Cream 50ml",99]
[2192737,"Dr Russo Dermaroller",98]
[2147260,"Chantecaille Vital Essence 50ml",96]
[2182409,"Skin Design London Retinol",95]
[5025327,"Cosmetics 27 Glow 30ml",90]
[5025324,"Cosmetics 27 Essence 50ml",85]
[2076469,"Guerlain Super Aqua Normal Serum 30ml",80]
[5016035,"Sisley Tinted Moisturizer SPF15 N3 Golden 30ml",80]
[2147247,"Chantecaille Hibiscus and Bamboo Exfoliating Cream 75ml",73]
[8019722,"Chantecaille Sirena Real Bronze",70]
[5025137,"Henua Nourishing Oil Cleanser 100ml",70]
[5025138,"Henua Beauty Secret Toner 100ml",70]
[2147133,"Chantecaille Just Skin Tinted Moisturizer Alabaster 50g",68]
[5023548,"Chantecaille Hummingbird Quartet Cool",68]
[5025325,"Cosmetics 27 Eyes 15ml",68]
[2199725,"BioEffect EGF Eye Serum 6ml",65]
[2155888,"Guerlain Parure Gold Compact Foundation 01 Beige Pale",61]
[5025323,"Cosmetics 27 Cleanser 125ml",60]
[5025328,"Cosmetics 27 Huile 50ml",60]
[8022966,"Chantecaille Pangolin Luminous Eye Shade",48]
[2031295,"Sisley Phyto-Khol Perfect 1 Black",41]
[8019718,"Chantecaille Mandevilla Lip Veil",40]
[5023544,"Chantecaille Passion Flower Lip Chic",38]
[2199773,"Guerlain Terracotta Bronzing Powder 02 Natural Cool",38]
[2147142,"Chantecaille Liquid Lumiere Highlighter Sheen 23ml",36]
[2184835,"Chantecaille Lip Potion",36]
[2147545,"Kure Bazaar Nail Polish Remover - Rose 250ml",36]
[2199454,"Chantecaille Emotion Cheek Shade with Bee",35]
[5025147,"The Glow Everything Oil 60ml",35]
[5025148,"The Glow Floral Essence 60ml",35]
[2148072,"Pebble Future Resist Foundation SPF 20",34]
[2148073,"Maple Future Resist Foundation SPF 20",34]
[2147173,"Chantecaille Lip Chic Calla Lily",32]
[2147174,"Chantecaille Lip Chic Camellia",32]
[2199448,"Chantecaille Foxglove Lip Chic",32]
[8024379,"Delilah Blusher / Highlighter Brush",32]
[8021132,"Sol de Janeiro Brazilian Crush Body Fragrance Mist 240ml",32]
[8026435,"Guerlain KissKiss 19 Lipstick L362 Glam Shine",29.5]
[8026437,"Guerlain KissKiss 19 Lipstick L303 Delicate Shine",29.5]
[2147159,"Chantecaille Brilliant Gloss Modern",29]
[2195644,"Chantecaille Brilliant Gloss Pixie Sheer Vibrant Pink 3ml",29]
[8027265,"ilapothecary Beat the Blues Pulse Point 10ml",28]
[2202442,"Guerlain Rouge G 18 Lips Refill n 28",26]
[8026461,"Guerlain Rouge G 19 Lipstick Case Wonder Gold",26]
[2196505,"Iconic London Sculpt and Boost Eyebrow Cushion Fair",24]
[8024378,"Delilah Concealer Blending Brush",22]
[2147194,"Chantecaille Lip Definer Discreet",21]
[2148063,"Long Wear Retractable Pencil Coal",20]
[2201679,"Delilah Colour Intense Liquid Lipstick Retro 7ml",20]
[8024380,"Delilah Eyeshadow Brush",20]
[8024381,"Delilah Eye Definer Brush",20]
[2202469,"Guerlain Rouge G 18 Lips Case The Original",20]
[2202477,"Guerlain Rouge G 18 Lips Case Miami Glam",20]
[2146978,"Chantecaille Eyeshadow Refill Shell",19.5]
[2214685,"Slip Sleep Mist 10ml",19]
[2195369,"Aurelia Botanical Cream Deodorant 50g",18]
[8024382,"Delilah Angled Liner Brush",18]
[5016007,"Iconic London Sheer Blush Fresh Faced 12.5ml",18]
[5016008,"Iconic London Sheer Blush Fearless Flush 12.5ml",18]
[2145750,"Kure Bazaar Mademoiselle K Nail Polish 10ml (Berry Red)",16]
[2176109,"Kure Bazaar French Rose Nail Polish 10ml (french pink)",16]
[2176110,"Kure Bazaar Dolce Nail Polish 10ml (light pink)",16]
[2198009,"Kure Bazaar Love Nail Polish Red 10ml",16]
[2199475,"Kure Bazaar Rose Snow 10ml (Light Pink)",16]
[2207749,"3Lab Super Eye Treatment 20ml",395]
[2180906,"Guerlain Orchidee Imperiale 4G Day Cream",350]
[2164726,"Sisley Sisleya Integral Extra-Rich 50ml",340]
[2207712,"Lucia Magnani Rejuvenating Serum 30ml",320]
[2215642,"Replenish & Restore Placenta & Stem Cell Night Recovery Mask",250]
[2168838,"Chantecaille Bio Lifting Fluid + 50ml",232]
[2147243,"Chantecaille Gold Energizing Eye Cream 15ml",230]
[2207715,"Lucia Magnani Rejuvenating Night Cream 50ml",225]
[2182139,"MZ Skin Lift & Lustre Day Serum",215]
[2182141,"MZ Skin Rest & Revive Night Serum",210]
[2112697,"Sisley Supremya Eye Serum 15ml",203]
[2207713,"Lucia Magnani Retexturing Radiance Mask 150ml",195]
[2207714,"Lucia Magnani Daily Firming Hydrator 50ml",195]
[5029483,"Lucia Magnani Radiant Smoothing Primer 50ml",195]
[8022974,"Chantecaille Stress Repair Concentrate Plus",183]
[2147249,"Chantecaille La Cr me a la Rose de Mai",182]
[2147257,"Chantecaille Rose de Mai Face Oil 30ml",160]
[2147234,"Chantecaille Bio Lift Mask 50ml",148]
[4005315,"Chantecaille Blue Light Protection Serum 30ml",135]
[2107803,"Cult51 Night Cream 50ml",125]
[8023483,"Slip Pink Marble Beauty To Go Travel Set",119]
[2176428,"Sisley Sisleya Le Teint 0R Vanilla",115]
[2182406,"Skin Design London Acne Serum",115]
[2173037,"Guerlain Abeille Royale Night Cream 50ml",112]
[5023287,"Guerlain Abeille Royal Mother's Day Set",110]
[5016041,"MZ Skin Retinol Skin Booster",110]
[2191002,"Abeille Royale - Lifting Oil 50ml",105]
[5023291,"Guerlain Abeille Royal Oil Set",105]
[8026489,"Sisley Velvet Sleeping Mask 60ml",93]
[2208278,"Cult51 Neck and Decollete Firming Cream 30ml",90]
[2125813,"Guerlain Super Aqua Refreshing Cream 50ml",90]
[2207722,"Lucia Magnani Skin Renewal Supplement",90]
[2136750,"Sisley Phyto-Teint Expert N0+ Vanilla 30ml",86]
[2182704,"Chantecaille Rose de Mai Eye Lift 8ml",83]
[5023283,"Guerlain Abeille Royal 20 Eye Cream 15ml",80]
[5025143,"Activist Raw Mānuka Honey 300+ MGO",75]
[5025329,"Cosmetics 27 Crème Bio-Logique 50ml",75]
[2207720,"Lucia Magnani Luxurious Hydrating Cleanser 125ml",75]
[2202495,"Guerlain bee glow youth moisturizer",73]
[2182143,"MZ Skin Hydra-Bright Eye Mask",70]
[5023549,"Chantecaille Hummingbird Quartet Warm",68]
[8026480,"Sisley Phyto-Teint Ultra Eclat N0+ Vanilla 30ml",66]
[2195359,"Aurelia Revitalise & Glow Serum 30ml",64]
[2147126,"Chantecaille Future Skin Nude 30g",63]
[2195360,"Aurelia Cell Repair Night Oil 50ml",62]
[2147253,"Chantecaille Retinol Hand Cream 75ml",62]
[2147018,"Chantecaille Compact Makeup Cashew",60]
[8024368,"MZ Skin Tone & Lift Germanium Contouring Facial Roller",59]
[2195361,"Aurelia Cell Revitalise Day Moisturiser 60ml",58]
[2182138,"MZ Skin Cleanse & Clarify Exfoliating Cleanser",58]
[8022977,"Chantecaille Real Skin + Shade 1",57]
[8022981,"Chantecaille Realk Skin + Shade 4W",57]
[2199342,"Sisley Revitalizing Volumizing Shampoo Camellia Oil 200ml",56]
[2199726,"BioEffect Daytime 30ml",55]
[5023551,"Chantecaille Buff and Blurr Brush",48]
[8022967,"Chantecaille Elephant Luminous Eye Shade",48]
[8022969,"Chantecaille Giraffe Luminous Eye Shade",48]
[2160413,"Sisley So Intense Eyeliner Deep Black",47]
[8027262,"ilapothecary Feminine Happy Oil 100ml",46]
[2200876,"Antipodes Apostle Brightening Serum 30ml",45]
[2146943,"Chantecaille Le Camouflage Stylo Concealer #2",44]
[2210588,"De Mamiel Sleep Series Anchor 10ml",42]
[2031224,"Sisley Phyto-Levres Lip Pencil 3 Rose The",41]
[2031225,"Sisley Phyto-Levres Lip Pencil 4 Rose Passion",41]
[2200875,"Antipodes Manuka Honey Day Cream 60ml",40]
[2207725,"Chantecaille Tree of Life Lip Veils Baobab",40]
[2207727,"Chantecaille Tree of Life Lip Veils Honeypot",40]
[2207733,"Chantecaille Tree of Life Lip Veils Protea",40]
[8022971,"Chantecaille Tamboti Lip Veil",40]
[2210587,"De Mamiel Sleep Series Soothe 10ml",40]
[2215622,"Femmue Flower Infused Fine Peel 50g",40]
[2125820,"Guerlain Terracotta Joli Teint Moyen 30ml",40]
[8027259,"ilapothecary Vitamin Rich A C D & E Face Oil 20ml",40]
[2146982,"Chantecaille Faux Cils Mascara",38]
[2215620,"Femmue Gypsy Rose Calming Mask 50g",38]
[2199772,"Guerlain Terracotta Bronzing Powder 01 Light",38]
[5023282,"Guerlain MKU 20 Primer Base",38]
[2210590,"De Mamiel Sleep Series Shine 10ml",37]
[2208363,"Bioeffect OSA Water Mist 60ml",35]
[2199453,"Chantecaille Cheek Shade Laughter: Coral",35]
[5025150,"The Glow Wonderbalm 50ml",35]
[2148070,"Buttermilk Future Resist Foundation SPF 20",34]
[2174137,"Iconic London Powder Contour Palette",33.5]
[2147204,"Chantecaille Lipstick Cassia",32]
[2158775,"Chantecaille Lip Chic Patience",32]
[8027264,"ilapothecary Beat the Blues Bath & Shower Oil 150ml",32]
[2200873,"Antipodes Vanilla Pod Hydrating Day Cream 60ml",30]
[2200878,"Antipodes Hosanna Intense Serum 30ml",30]
[8027258,"ilapothecary Digital Face Mist 50ml",30]
[2133637,"Guerlain KissKiss Lipstick 320 Red Insolence",29.5]
[2191012,"Guerlain Kiss Kiss - M307 Crazy Nude",29.5]
[2191015,"Guerlain Kiss Kiss - M377 Wil Plum",29.5]
[8026434,"Guerlain KissKiss 19 Lipstick L361 Lovely Shine",29.5]
[2029636,"Guerlain KissKiss Liplift 3g",29]
[8020715,"Dr Russo Once A Day Invisible Mist SPF50 150ml",28]
[8027266,"ilapothecary Keep Calm Hand & Body Lotion 200ml",28]
[8027274,"ilapothecary Speak Your Truth Aroma Roller 10ml",28]
[2202438,"Guerlain Rouge G 18 Lips Refill n 21",26]
[2202453,"Guerlain Rouge G 18 Lips Refill n 67",26]
[2202457,"Guerlain Rouge G 18 Lips Refill n 70",26]
[2202460,"Guerlain Rouge G 18 Lips Refill n 74",26]
[8026451,"Guerlain Rouge G 19 Lipstick Refill 11",26]
[8026452,"Guerlain Rouge G 19 Lipstick Refill 12",26]
[8027268,"ilapothecary Calm Butterfly's Soothing Balm 50g",26]
[2200869,"Antipodes Aura Manuka Honey Mask",25]
[2200871,"Antipodes Juliet Skin-Brightening Gel Cleanser",25]
[2201656,"Antipodes Grace Gentle Cream Cleanser 120ml",25]
[2165074,"Chantecaille Luster Glide Eyeliner Earth",25]
[2199449,"Chantecaille Jasper Luster Glide Silk Infused Eye Liner",25]
[2182702,"Chantecaille Eye Basic Brush",24.5]
[2196507,"Iconic London Sculpt and Boost Eyebrow Cushion Deep",24]
[2148089,"Ultimate Shine Lipgloss Amalie",22]
[2148064,"Long Wear Retractable Pencil Twig",20]
[2201682,"Delilah Colour Intense Liquid Lipstick Breeze 7ml",20]
[2202471,"Guerlain Rouge G 18 Lips Case Romantic Boheme",20]
[2202474,"Guerlain Rouge G 18 Lips Case Gypsy Folk",20]
[2146971,"Chantecaille Eyeshadow Refill Opal",19.5]
[2146992,"Chantecaille Iridescent Eyeshadow Refill Lilac Rose",19.5]
[5016006,"Iconic London Sheer Blush Power Pink 12.5ml",18]
[8027270,"ilapothecary SOS Pearl Drops 15ml",16]
[2145699,"Kure Bazaar Scandal Nail Polish 10ml (Maroon)",16]
[2145702,"Kure Bazaar Rouge Flore Nail Polish 10ml (Red)",16]
[2214314,"Patchology Perfect Ten Self-Warming Hand Mask",10]
[2147227,"Chantecaille The Pebble Empty Compact",9.5]
[2213948,"3Lab Anti Aging Limited Edition Gift Set",720]
[2207742,"3Lab Super Cream 50ml",715]
[2207745,"3Lab Anti -Aging Cream 60ml",555]
[2147242,"Chantecaille Gold Energizing Cream 50ml",370]
[2208285,"Sisley L'Integral Anti-Age Concentrated Firming Serum 30ml",360]
[2207751,"3Lab Anti -Aging Eye Lift 15ml",355]
[8018582,"3Lab Oil Complex Brightening 60ml",325]
[2207744,"3Lab WW Day SPF 40 50ml",320]
[2207747,"3Lab Super --H-- Serum 35ml",300]
[2213541,"Guerlain Orchidee Imperiale Mask 75ml",258]
[2207755,"3Lab Anti Aging Oil 30ml",240]
[2207752,"3Lab WW Eye Cream 15ml",230]
[2199732,"BioEffect EGF +2A - 2 x 15ml",195]
[4006890,"Perfect Cream",182]
[2031060,"Sisley Hydra Global 40ml",176]
[2031056,"Sisley Ecological Compound Bottle 125ml",175]
[8026469,"Sisley Ecological Compound Limited Edition 125ml",168]
[2199738,"Guerlain Orchidee Imperiale Eye Cream 15ml Jar",165]
[2207719,"Lucia Magnani Biocellulose Sheet Mask",165]
[5016040,"MZ Skin Glow Boost Ampoules",155]
[2187338,"Sisley Black Rose Skin Infusion Cream",147]
[2207758,"3Lab Perfect Mask 132ml",130]
[5023552,"Chantecaille CBD 300 Face & Body Cream",120]
[8026447,"Guerlain Abeille Royal 19 Night Cream 50ml",119]
[5025140,"Henua Miracle Vitamin Oil 15ml",115]
[2066807,"Sisley Black Rose Cream Mask 60ml",115]
[5029485,"3Lab Aqua BB Protect #01",110]
[5029486,"3Lab Aqua BB Protect #02",110]
[5029487,"3Lab Aqua BB Protect #03",110]
[2199730,"BioEffect EGF Day Serum 30ml",110]
[5025086,"MZ Skin Retinol Skin Booster",110]
[2147250,"Chantecaille Magnolia Jasmine and Lily Healing Emulsion 50ml",105]
[2215627,"Femmue Divine Camelia Rich Oil 30ml",100]
[2182140,"MZ Skin Hydrate & Nourish Moisturiser",95]
[2182142,"MZ Skin Soothe & Smooth Eye Cream",95]
[8024367,"MZ Skin Tint & Protect Skin Perfecting SPF30 Moisturiser",95]
[4006886,"Perfect BB SPF40/PA+++02",93]
[2182691,"Sisley Tropical Resins Deeply Purifying Mask",92]
[2092370,"Sisley Eau Efficace Gentle Make-Up Remover 300ml",89]
[5016039,"Sisley Self Tanning Hydrating Body Skin Care 150ml",88]
[2031052,"Sisley Buff & Wash Facial Gel 100ml",87]
[2207759,"3Lab Aqua BB SPF 40 01 50ml",85]
[2207761,"3Lab Aqua BB SPF 40 03 40ml",85]
[8023485,"Slip Berry Kiss Queen Pillowcase",85]
[2147148,"Chantecaille Ultra Sun Protection SPF50 40ml",84]
[2119670,"Sisley Phyto-Touche Illusion D' t 11g",80]
[2147238,"Chantecaille Detox Clay Mask 50ml",78]
[2199346,"Sisley Precious Hair Care Oil Glossiness & Nutrition 100ml",77]
[2098287,"Sisley Phyto-Cernes Eclat N3 Concealer 15ml",72]
[8026487,"Sisley Phyto-Cernes Eclat 5 15ml",72]
[8026472,"Sisley Pre-Shampoo Purifying Mask with White Clay 200ml",71]
[5029488,"3Lab Perfect Cleansing Balm 35ml",70]
[2147027,"Chantecaille Future Skin Alabaster 30g",68]
[2147125,"Chantecaille Future Skin Ivory 30g",68]
[2147129,"Chantecaille Future Skin Shea 30g",68]
[8022973,"Chantecaille Aura Future Sin Foundation",68]
[2215628,"Femmue Balance Moments Serum 30ml",68]
[8026474,"Sisley Phyto-Teint Ultra Eclat N2 Soft beige 30ml",66]
[8026484,"Sisley Phyto-Teint Ultra Eclat N4+ Cinnamon 30ml",66]
[8026426,"Guerlain Parure Gold 19 Fluid Foundation 03 30ml",63]
[2155891,"Guerlain Parure Gold Compact Foundation 04 Beige Moyen",61]
[2147019,"Chantecaille Compact Makeup Dune",60]
[2147021,"Chantecaille Compact Makeup Peach",60]
[2147262,"Chantecaille Water Flower Fluid 50ml",60]
[5025094,"Fonfique Dalida Clutch Shells Blue",60]
[2195362,"Aurelia Cell Revitalise Night Moisturiser 60ml",58]
[2215626,"Femmue Camelia 73 Light Oil 30ml",58]
[8022975,"Chantecaille Real Skin + Shade 0C",57]
[8022976,"Chantecaille Real Skin + Shade 0W",57]
[8022978,"Chantecaille Real Skin + Shade 2",57]
[8022980,"Chantecaille Real Skin + Shade 4C",57]
[8022982,"Chantecaille Real Skin + Shade 5",57]
[8022983,"Chantecaille Real Skin + Shade 6",57]
[8022984,"Chantecaille Real Skin + Shade 8",57]
[8022985,"Chantecaille Real Skin + Shade 9",57]
[2164026,"Guerlain Abeille Royale Lip Balm 15ml",56]
[8027269,"ilapothecary Magnesium & Amethyst deep relax bath soak 400g",55]
[2031105,"Sisley Confort Extreme Lip Balm 9g",55]
[2213518,"Guerlain Abeille Royale Skin Defense 30ml",54]
[2199344,"Sisley Restructuring Conditioner with Cotton Proteins 200ml",52]
[2208362,"Bioeffect Micellar Cleansing Water 200ml",50]
[4006888,"Perfect Suncream SPF 50+ Broad Spectrum",45]
[5025099,"Fonfique Bacio Washbag Crabs Coral",45]
[2146945,"Chantecaille Le Camouflage Stylo Concealer #4C",44]
[2146948,"Chantecaille Le Camouflage Stylo Concealer #8",44]
[2195370,"Aurelia Brightening Botanical Essence 50ml",42]
[2147025,"Chantecaille Compact Soleil St. Barth's",42]
[2191004,"Guerlain Abeille Royale - Lifting Oil 15ml",41]
[2031229,"Sisley Phyto-Sourcils Brow Pencil 2 Chatain",41]
[2207729,"Chantecaille Tree of Life Lip Veils Iris",40]
[2207731,"Chantecaille Tree of Life Lip Veils Azalea",40]
[2207732,"Chantecaille Tree of Life Lip Veils Portulaca",40]
[2207734,"Chantecaille Tree of Life Lip Veils Rock Rose",40]
[2184783,"Cult51 Day Cream 20ml",40]
[2194219,"Iconic London Complete Eye Set Cream and Gold",40]
[2208296,"Sisley Le Phyto Rouge Lipstick 24 Rose Santa Fe",40]
[2155883,"Guerlain Cleansing Milk 200ml",39]
[5023545,"Chantecaille Lupine Lip Chic",38]
[5023546,"Chantecaille Coral Bell Lip Chic",38]
[2199774,"Guerlain Terracotta Bronzing Powder 03 Natural Warm",38]
[5023279,"Guerlain Terracotta 20 Matte Comp PDR Deep",38]
[2147141,"Chantecaille Liquid Lumi re Highlighter Luster 23ml",36]
[2207666,"Guerlain Precious Light 18 Concealer 1.5ml",36]
[8026505,"Sisley Les Phyto Ombres 33 Metallic Jean",36]
[2199337,"Sisley Phyto-Lip Twist 19 Ballet (Matte) 2.5g",35]
[8026673,"Delilah Highlights Collection Glow",34]
[2147169,"Chantecaille Lip Chic Amaryllis",32]
[2147175,"Chantecaille Lip Chic Ceylon",32]
[2147177,"Chantecaille Lip Chic Dahlia",32]
[2147178,"Chantecaille Lip Chic Damask",32]
[2175404,"Chantecaille Mirage Lip Stick",32]
[8026429,"Guerlain KissKiss 19 Lipbalm 329 Poppy Red",30]
[8027272,"ilapothecary Beat the Blues Room Spray 50ml",30]
[2133648,"KissKiss Lipstick 343 Sugar Kiss",29.5]
[2133654,"Guerlain KissKiss Lipstick 368 Baby Rose",29.5]
[2147157,"Chantecaille Brilliant Gloss Love",29]
[2200879,"Antipodes Kiwi Seed Oil Eye Cream 30ml",28]
[8020705,"Gallinee Care Mask 150ml",28]
[2202439,"Guerlain Rouge G 18 Lips Refill n 22",26]
[2202446,"Guerlain Rouge G 18 Lips Refill n 42",26]
[2202450,"Guerlain Rouge G 18 Lips Refill n 520",26]
[8026454,"Guerlain Rouge G 19 Lipstick Refill 66",26]
[8020704,"Gallinee Soothing Cleansing Cream 200ml",23]
[2207644,"Guerlain Fall Collection 18 Eyebrow Pencil 02 Dark",22]
[5023296,"Chantecaille Lip Definer Passion",21]
[2066988,"Lip Pencil 25 Iris Noir 0.35g",21]
[2159896,"Retractable Lip Line Pencil Naked",20]
[2201681,"Delilah Colour Intense Liquid Lipstick Blossom 7ml",20]
[2202472,"Guerlain Rouge G 18 Lips Case Very Batik",20]
[2202473,"Guerlain Rouge G 18 Lips Case French Mademoiselle",20]
[5016004,"Iconic London Sheer Blush Rose Riot 12.5ml",18]
[2145726,"Kure Bazaar Final Touch Nail Polish 10ml",16]
[2145729,"Kure Bazaar Or Pur Nail Polish 10ml (Light gold)",16]
[2145755,"Kure Bazaar Tea Rose Nail Polish 10ml (Vintage red brown)",16]
[2212268,"3Lab Super Ampoules 30ml",995]
[2031089,"Sisley Supremya Night 50ml",518]
[2213515,"Guerlain Orchidee Imperiale Serum 30ml",366]
[5023284,"Guerlain Orchidee Imperial 20 Night Serum 30ml",366]
[2214673,"Sisley Anti-Wrinkle Concentrated Serum 30ml",360]
[2138683,"Guerlain Orchidee Longevity Concentrate Serum 30ml",345]
[2031136,"Sisley All Day All Year 50ml",281]
[2215643,"MZ Brighten & Perfect 10% Vitamin C Corrective Serum 30ml",245]
[2148545,"Guerlain Orchidee Imperiale Gel Cream 30ml",240]
[2213540,"Guerlain Orchidee Imperiale Emulsion 30ml",240]
[2108603,"Guerlain Orchidee Imperiale Fluid 30ml",233]
[2182673,"Sisley Phyto-Blanc Brightening Daily Defense Fluid",228]
[2204400,"Sisley Hydra-global Serum 30ml",191]
[2147244,"Chantecaille Gold Energizing Eye Recovery Mask",185]
[8022243,"3Lab Anti-Aging Mask 60ml",160]
[2165075,"Chantecaille Brightening Essence (Essence Anti-Taches) 30ml",157]
[2147235,"Chantecaille Bio Lifting Neck Cream 50ml",152]
[2207652,"Abeille Royale Serum Double R 50ml",147]
[5023292,"Guerlain Abeille Royal Double R Set",147]
[2199341,"Sisley Revitalizing Fortifying Serum For The Scalp 60ml",139]
[2031116,"Sisley Restorative Cream Jar 50ml",128]
[5023289,"Guerlain Superaqua Serum Set",126]
[2076471,"Guerlain Super Aqua Normal Serum 50ml",112]
[2147254,"Chantecaille Retinol Intense + In Botanical Microspheres",110]
[2207653,"Abeille Royale Serum Double R 30ml",107]
[2143372,"Guerlain Abeille Daily Repair Serum Pump Bottle 30ml",105]
[8026444,"Guerlain Abeille Royal 19 Day Cream 50ml",105]
[8026445,"Guerlain Abeille Royal 19 Normal Combination Cream 50ml",105]
[2125815,"Guerlain Super Aqua Night Cream 50ml",102]
[2208369,"3Lab Perfect Moisturiser 120ml",100]
[2147777,"Sisley Sisleya Essential Skin Care Lotion",99]
[5016038,"Sisley Self Tanning Hydrating Facial Skin Care 60ml",97]
[2031064,"Sisley Phyto-Blanc Foaming Cleanser 100ml",96]
[2031134,"Sisley Eye & Lip Contour Balm 30ml",95]
[2215625,"Femmue Lumi re Vital C Serum 30ml",88]
[2136754,"Sisley Phyto-Teint Expert N3 Natural 30ml",86]
[2207760,"3Lab Aqua BB SPF 40 02 20ml",85]
[2031137,"Sisley Lyslait Cleansing Milk 250ml",85]
[2158722,"Guerlain Abeille Royale Eye Serum 15ml",82]
[5016033,"Sisley Tinted Moisturizer SPF15 N1 Light 30ml",80]
[5023550,"Chantecaille Perfect Blur Finishing Powder",76]
[2031077,"Sisley Grapefruit Toning Lotion 250ml",75]
[2207741,"3Lab Perfect Balancing Toner 160ml",73]
[2098282,"Sisley Phyto-Cernes Eclat N1 Concealer 15ml",72]
[2164733,"Sisley Phyto-Cernes Eclat N4 Concealer 15ml",72]
[2208317,"Sisley Volumizing Spray 150ml",68]
[8026473,"Sisley Phyto-Teint Ultra Eclat N1 Ivory 30ml",66]
[8026476,"Sisley Phyto-Teint Ultra Eclat N4 Honey 30ml",66]
[8026477,"Sisley Phyto-Teint Ultra Eclat N5 Golden 30ml",66]
[8026479,"Sisley Phyto-Teint Ultra Eclat N0 Porcelaine 30ml",66]
[8026481,"Sisley Phyto-Teint Ultra Eclat N3+ Apricot 30ml",66]
[8026482,"Sisley Phyto-Teint Ultra Eclat N6 Amber 30ml",66]
[8026483,"Sisley Phyto-Teint Ultra Eclat N7 Moka 30ml",66]
[8026485,"Sisley Phyto-Teint Ultra Eclat N5+ Toffee 30ml",66]
[8026424,"Guerlain Parure Gold 19 Fluid Foundation 01 30ml",63]
[8026425,"Guerlain Parure Gold 19 Fluid Foundation 02 30ml",63]
[2198786,"Caron Loose Powder 20gr Madame",62]
[2198788,"Caron Loose Powder 20gr Noisette",62]
[2198790,"Caron Loose Powder 20gr Sable",62]
[2198791,"Caron Loose Powder 20gr Transparante",62]
[2198792,"Caron Loose Powder 20gr Translucide",62]
[2198795,"Caron Loose Powder 20gr Radieuse",62]
[2213934,"Chantecaille HD Loose Perfecting Powder Candlelight",62]
[2155890,"Guerlain Parure Gold Compact Foundation 03 Beige Natural",61]
[2155892,"Guerlain Parure Gold Compact Foundation 05 Beige Fonce",61]
[2215624,"Femmue Ideal Oil 30ml",60]
[5025092,"Fonfique Dalida Clutch Crabs Blue",60]
[5025093,"Fonfique Dalida Clutch Crabs Coral",60]
[5025095,"Fonfique Dalida Clutch The Vase",60]
[5025096,"Fonfique Dalida Clutch Matisse on the Pond",60]
[5025097,"Fonfique Dalida Clutch Seashells Green",60]
[2155897,"Guerlain Parure Gold Foundation 04 Beige Moyen",60]
[2155899,"Guerlain Parure Gold Foundation 12 Rose Clair",60]
[2155900,"Guerlain Parure Gold Foundation 13 Rose Naturel",60]
[2155901,"Guerlain Parure Gold Foundation 23 Dore Naturel",60]
[2207669,"Guerlain Abeille Royale 18 Honey Cushion 12ml",60]
[8022979,"Chantecaille Real Skin + Shade 3",57]
[8022986,"Chantecaille Real Skin +Shade 10",57]
[2198809,"Caron Blush 5gr Beige Eclate",56]
[5016036,"Sisley Colour Perfecting Shampoo 200ml",56]
[2207641,"Patchology FlashPatch Restoring Night Eye Gels",55]
[2155909,"Guerlain L'Or Primer Base 30ml",54]
[5016042,"Cult51 Rose Quartz Derma Roller",50]
[2215619,"Femmue Brilliant Cleansing Gel 120g",50]
[2182683,"Sisley Phyto-Blush Twist2 Fushia",49]
[2147231,"Chantecaille Loose Powder Light",48]
[2157738,"Chantecaille Le Chrome Lux Eye Duo-Riviera & Grace Ltd ed",48]
[8022968,"Chantecaille Cheetah Luminous Eye Shade",48]
[2214680,"Sisley Mascara So Volume 2 Deep Brown",47]
[2031100,"Sisley Confort Extreme Body Cream 150ml",46]
[5025098,"Fonfique Bacio Washbag Crabs Blue",45]
[5025100,"Fonfique Bacio Washbag Shells Blue",45]
[5025101,"Fonfique Bacio Washbag Matisse on the Pond",45]
[8020702,"Gallinee Youthful Serum 30ml",45]
[8026427,"Guerlain Parure Gold 19 Parude To Complete MKU",45]
[2207718,"Lucia Magnani Biocellulose Sheet Mask",45]
[2155907,"Guerlain Parure Gold Compact Foundation Refil 05 Beige Fonce",44]
[2207655,"Guerlain Lingerie de Peau Compact Powder Foundation 03N Natu",43]
[2207656,"Guerlain Lingerie de Peau Compact Powder Foundation 04N Moye",43]
[2207658,"Guerlain Lingerie de Peau Compact Powder Foundation 03W Natu",43]
[2207659,"Guerlain Lingerie de Peau Compact Powder Foundation 04W Moye",43]
[2195358,"Aurelia Miracle Cleanser 120ml",42]
[2108596,"Guerlain Les Voilettes Compact Powder Light",41.5]
[2108598,"Guerlain Les Voilettes Compact Powder Intense",41.5]
[2031226,"Sisley Phyto-Levres Lip Pencil 5 Burgundy",41]
[2173042,"Guerlain Lingerie de Peau Foundation 04N Medium",40.5]
[2173044,"Guerlain Lingerie de Peau Foundation 02C Light Cool",40.5]
[2173050,"Guerlain Lingerie de Peau Foundation 03W Natural Warm",40.5]
[2207728,"Chantecaille Tree of Life Lip Veils Elderberry",40]
[2215621,"Femmue Flower Infused Fine Mask 50g",40]
[2076473,"Super Aqua Lotion 150ml",40]
[2125818,"Guerlain Terracotta Joli Teint Naturel 30ml",40]
[2125819,"Guerlain Terracotta Joli Teint Clair 30ml",40]
[2208289,"Sisley Le Phyto Rouge Lipstick 12 Beige Bali",40]
[2208292,"Sisley Le Phyto Rouge Lipstick 20 Rose Portofino",40]
[8019719,"Chantecaille Magnolia Aqua Blush",38]
[2167448,"Guerlain Terra 16 Bronz/Pdr 01 Clair - Brunettes",38]
[2199775,"Guerlain Terracotta Bronzing Powder 05 Deep Cool",38]
[2199330,"Sisley Phyto-Khol Star Waterproof 2 Eye Liner Sparkling Grey",38]
[2191036,"Guerlain Lingerie de Peau - Cushion 01N",37.5]
[8022970,"Chantecaille Shade & Sweep Eye Brush",37]
[2029498,"Guerlain Precious Light Concealer 00 1.5ml",36]
[2155875,"Guerlain Rose Aux Joues Blusher 06 Pink Me Up",36]
[8026490,"Sisley Les Phyto Ombres 10 Silky Cream",36]
[8026491,"Sisley Les Phyto Ombres 11 Mat Nude",36]
[8026492,"Sisley Les Phyto Ombres 12 Silky Rosé",36]
[8026493,"Sisley Les Phyto Ombres 13 Silky Sand",36]
[8026495,"Sisley Les Phyto Ombres 15 Mat Taupe",36]
[8026496,"Sisley Les Phyto Ombres 20 Silky Chestnut",36]
[8026497,"Sisley Les Phyto Ombres 21 Mat Cocoa",36]
[8026498,"Sisley Les Phyto Ombres 22 Mat Grape",36]
[8026501,"Sisley Les Phyto Ombres 25 Metallic Khaki",36]
[8026502,"Sisley Les Phyto Ombres 30 Silky Sky",36]
[8026503,"Sisley Les Phyto Ombres 31 Metallic Pink",36]
[8026504,"Sisley Les Phyto Ombres 32 Silky Coral",36]
[8026506,"Sisley Les Phyto Ombres 34 Sparkling Purple",36]
[8026507,"Sisley Les Phyto Ombres 40 Glow Pearl",36]
[8026509,"Sisley Les Phyto Ombres 42 Glow Silver",36]
[2200874,"Antipodes Avocado Pear Night Cream 60ml",35]
[2182716,"Chantecaille Sculpting Brush",35]
[2199450,"Chantecaille Cheek Shade Joy: Wild Horse",35]
[5025102,"Fonfique Mini Bacio Pouch Crabs Blue",35]
[5025103,"Fonfique Mini Bacio Pouch Crabs Coral",35]
[5025104,"Fonfique Mini Bacio Pouch Shells Blue",35]
[5025105,"Fonfique Mini Bacio Pouch Matisse on the Pond",35]
[8020700,"Gallinee Hydrating Face Cream 30ml",35]
[2119666,"Sisley Phyto-Lip Twist 3 Peach",35]
[2150744,"Sisley Phyto-Eye Twist N1 Topaze",35]
[2150745,"Sisley Phyto-Eye Twist N2 Bronze",35]
[2150751,"Sisley Phyto-Eye Twist N8 Black Diamond",35]
[2175408,"Chantecaille Foundation & Mask Brush",32]
[2199447,"Chantecaille Wisteria Lip Chic",32]
[2207660,"Guerlain Lingerie de Peau Compact Powder Foundation Refill 0",31]
[2199729,"BioEffect Volcanic Exfoliator 60ml",30]
[2146996,"Chantecaille Le Stylo Ultra Slim Black",30]
[8026430,"Guerlain KissKiss 19 Lipbalm R347 Peach Sunrise",30]
[8026431,"Guerlain KissKiss 19 Lipbalm R375 Flush Noon",30]
[8026439,"Guerlain KissKissKK Matte 19 Lipstick M308 Blazing Nude",30]
[8026440,"Guerlain KissKissKK Matte 19 Lipstick M309 Candy Nude",30]
[8026442,"Guerlain KissKiss 19 Lipstick 309 Honey Nude",30]
[2133638,"KissKiss Lipstick 321 Red Passion",29.5]
[2133641,"KissKiss Lipstick 324 Red Love",29.5]
[2133642,"Guerlain KissKiss Lipstick 325 Rouge Kiss",29.5]
[2163988,"Guerlain KissKiss Lipstick 371 Darling Baby Ltd ed",29.5]
[2191007,"Guerlain Kiss Kiss - M330 Spicy Burg",29.5]
[2191011,"Guerlain Kiss Kiss - M306 Caliente",29.5]
[2191013,"Guerlain Kiss Kiss - M375 Flaming",29.5]
[8026433,"Guerlain KissKiss 19 Lipstick L360 Naked Shine",29.5]
[8026438,"Guerlain KissKiss 19 Lipstick L302 Nude Shine",29.5]
[2168835,"Chantecaille Mermaid Eye Color Seashell",29]
[2173056,"Guerlain Lingerie de Peau Concealer 3 Moyen Dore",29]
[8020698,"Gallinee Body Milk 200ml",28]
[2202437,"Guerlain Rouge G 18 Lips Refill n 25",26]
[2202444,"Guerlain Rouge G 18 Lips Refill n 45",26]
[2202454,"Guerlain Rouge G 18 Lips Refill n 71",26]
[2202456,"Guerlain Rouge G 18 Lips Refill n 78",26]
[2202458,"Guerlain Rouge G 18 Lips Refill n 72",26]
[2202465,"Guerlain Rouge G 18 Lips Refill n 888",26]
[2202466,"Guerlain Rouge G 18 Lips Refill n 555",26]
[2215503,"Guerlain Rouge G Mat 19 Lips Refill 26",26]
[2215504,"Guerlain Rouge G Mat 19 Lips Refill 61",26]
[2215507,"Guerlain Rouge G Mat 19 Lips Refill 099",26]
[2215509,"Guerlain Rouge G Mat 19 Lips Refill 04",26]
[2215511,"Guerlain Rouge G Mat 19 Lips Refill 44",26]
[2215513,"Guerlain Rouge G Mat 19 Lips Refill 80",26]
[2215522,"Guerlain Rouge G 19 Lips Refill 18",26]
[8026455,"Guerlain Rouge G 19 Lipstick Refill 81",26]
[8026460,"Guerlain Rouge G 19 Lipstick Refill N96",26]
[2175407,"Chantecaille Amethyst Luster Glide Silk Infused Eye Liner",25]
[2182703,"Chantecaille Eye Liner Brush",23.5]
[8020703,"Gallinee Face Vinegar 200ml",23]
[2200877,"Antipodes Divine Face Oil 30ml",22]
[2147195,"Chantecaille Lip Definer Effect",21]
[2067348,"Guerlain Lip Pencil 44 Bois de Santal",21]
[2067351,"Guerlain Lip Pencil 63 Rose De Mai",21]
[2202467,"Guerlain Rouge G 18 Lips Case Neon-Ista",20]
[2202468,"Guerlain Rouge G 18 Lips Case K-Doll",20]
[2215514,"Guerlain Rouge G 19 Lips Case Simply White",20]
[2215520,"Guerlain Rouge G 19 Lips Case Hype Purple",20]
[2146995,"Chantecaille Iridescent Eyeshadow Refill Sel",19.5]
[2215517,"Guerlain Rouge G 19 Lips Case Nomad Queen",18]
[2207635,"Patchology FlashMasque Perfect Weekend Trio",18]
[2145701,"Kure Bazaar Stiletto Nail Polish 10ml (Dark red)",16]
[2145758,"Kure Bazaar Amore Nail Polish 10ml (Raspberry red)",16]
[8020701,"Gallinee Cleansing Bar 100 grams",10]
[5000612,"Fonfique Lily Pouch Swans Print",0]
[5000613,"Fonfique Lily Pouch Mimosa Print",0]
[2211776,"Guerlain Orchid e Imp riale Black Day Cream 50ml",950]
[2211777,"Guerlain Orchid e Imp riale Black Refill Day Cream 50ml",750]
[2207721,"Lucia Magnani Ben Essere Set",590]
[2158778,"Sisley Supremya Baume",518]
[2207746,"3Lab WW Cream 60ml",385]
[2215641,"MZ Light Therapy Golden Facial Treatment Device (LED)",385]
[2161513,"Chantecaille Bio Lifting Cream Plus 50ml",300]
[2213542,"Guerlain Orchidee Imperiale Neck & Low Neck 75ml",258]
[2204408,"Sisley Black Rose Plumping & Radiance Duo 60ml & 50ml",215]
[5016032,"Sisley Ecological Compound Limited Edition Duo 60ml Kit",168]
[2092371,"Sisley Global Perfect Pore Minimiser 30ml",155]
[2208319,"Sisley Soin Velours 50ml",149]
[2143373,"Guerlain Abeille Daily Repair Serum Pump Bottle 50ml",139]
[2138682,"Guerlain Honey Gel Mask 50ml",105]
[2031104,"Sisley Eye Contour Mask 30ml",99]
[2101093,"Guerlain Super Aqua Light Serum 30ml",90]
[2147252,"Chantecaille Retinol Body Treatment 200ml",85]
[2029104,"Super Aqua Day Eye Patches",84]
[8026470,"Sisley Radiance Foaming Cream 125ml",82]
[2202496,"Guerlain orchidee imperiale cleansing gel 125ml",78]
[8026448,"Guerlain Abeille Royal 19 Eye Cream Set",78]
[2214678,"Sisley L'Orchidee Corail Number 3",76]
[2215618,"Femmue Brilliant Cleansing Oil 125ml",75]
[2059599,"Abeille Royale Eye Cream 15ml",74]
[2147123,"Chantecaille Future Skin Cream 30g",68]
[2176420,"Sisley Tropical Resins Gentle Cleansing Gel",67]
[8026475,"Sisley Phyto-Teint Ultra Eclat N3 Natural 30ml",66]
[8026478,"Sisley Phyto-Teint Ultra Eclat N2 + Sand 30ml",66]
[8026486,"Sisley Phyto-Teint Ultra Eclat N6+ Chesnut 30ml",66]
[2198794,"Caron Loose Powder 20gr Naturelle",62]
[2155895,"Guerlain Parure Gold Foundation 02 Beige Clair",60]
[2199767,"Guerlain Abeille Royale Day Cream 30ML Tube",60]
[2198808,"Caron Blush 5gr Rose Poudre",56]
[2199343,"Sisley Revitalizing Smoothing Shampoo Macadamia Oil 200ml",56]
[2158721,"Guerlain Meteorites Oxygen Booster Pump Bottle 30ml",54]
[4005890,"Slip Silk Sleep Mask Day Spa",50]
[2029130,"Guerlain Super Aqua Mask 75ml",49]
[5025151,"Marine & Vine Body Balm 150g",49]
[2098289,"Sisley Mascara So Intense 1 Deep Black",47]
[2164735,"Sisley So Curl Mascara Deep Black",47]
[2214679,"Sisley Mascara So Volume 1 Deep Black",47]
[2178272,"Guerlain Gommage de Beaute - 75ml",45]
[2191003,"Guerlain Abeille Royale - Balm Repair 30ml",45]
[2207623,"Patchology FlashPatch Rejuvenating Eye Gels",45]
[2118144,"Guerlain Les Voilettes Loose Powder- Light",43]
[2213510,"Guerlain Meteorites Compact Clair",42]
[2108597,"Guerlain Les Voilettes Compact Powder Medium",41.5]
[2031243,"Sisley Phyto-Levres Lip Pencil 7 Ruby",41]
[2173040,"Guerlain Lingerie de Peau Foundation 02N Light",40.5]
[2173041,"Guerlain Lingerie de Peau Foundation 03N Natural",40.5]
[2208305,"Sisley Le Phyto Rouge Lipstick 42 Rouge Rio",40]
[2155886,"Guerlain Cleansing Water 200ml",39]
[5023547,"Chantecaille Honeysuckle Lip Chic",38]
[8019721,"Chantecaille Red Ginger Aqua Blush",38]
[2167449,"Guerlain Terra 16 Bronz/Pdr 02 Naturel - Blondes",38]
[2167450,"Guerlain Terra 16 Bronz/Pdr 03 Naturel - Brunette",38]
[2199776,"Guerlain Terracotta Bronzing Powder 04 Deep Golden",38]
[2191029,"Guerlain Lingerie de Peau - Aquanude Fond de Teint 03N",37]
[2029496,"Guerlain Precious Light Concealer 02 1.5ml",36]
[2029497,"Guerlain Precious Light Concealer 01 1.5ml",36]
[8026494,"Sisley Les Phyto Ombres 14 Sparkling Topaze",36]
[8026499,"Sisley Les Phyto Ombres 23 Silky French Blue",36]
[8026500,"Sisley Les Phyto Ombres 24 Silky Steel",36]
[8026508,"Sisley Les Phyto Ombres 41 Glow Gold",36]
[2164732,"Sisley Phyto-Lip Twist N15 (Nut)",35]
[2208314,"Sisley Phyto-Eye Twist Eyeliner 14 Black Rose",35]
[2147213,"Chantecaille Lipstick Sweet Pea",32]
[8024384,"Delilah Pure Light Liquid Radiance Lunar 30ml",32]
[2125823,"Guerlain Bronzer/Powder Brush",32]
[8026441,"Guerlain KissKiss 19 Lipstick 308 Nude Lover",30]
[8026443,"Guerlain KissKiss 19 Lipstick M332 Fire Red",30]
[2133651,"Guerlain KissKiss Lipstick 361 Excessive Rose",29.5]
[2133655,"KissKiss Lipstick 369 Rosy Boop",29.5]
[2155877,"Guerlain KissKiss Lipstick 345 Orange Fizz",29.5]
[8026432,"Guerlain KissKiss 19 Lipstick L321 Madame Matte",29.5]
[2155865,"Guerlain KissKiss Lip Balm R371 Morning Rose",28]
[8020709,"Dr Russo Once A Day Invisible Gel SPF50 15ml",26]
[2202441,"Guerlain Rouge G 18 Lips Refill n 214",26]
[2202448,"Guerlain Rouge G 18 Lips Refill n 02",26]
[2202455,"Guerlain Rouge G 18 Lips Refill n 77",26]
[2202462,"Guerlain Rouge G 18 Lips Refill n 777",26]
[2215506,"Guerlain Rouge G Mat 19 Lips Refill 01",26]
[2215510,"Guerlain Rouge G Mat 19 Lips Refill 05",26]
[2215512,"Guerlain Rouge G Mat 19 Lips Refill 27",26]
[8026459,"Guerlain Rouge G 19 Lipstick Refill N95",26]
[8026462,"Guerlain Rouge G 19 Lipstick Bright in Black",26]
[2167457,"Guerlain Supertips Superlips 15ml",24]
[2202494,"Guerlain pore minimizer pore correcting treatment",24]
[2207643,"Guerlain Fall Collection 18 Eyebrow Pencil 01 Light",22]
[2066986,"Guerlain Lip Pencil 24 Rouge Dahlia 0.35g",21]
[2202475,"Guerlain Rouge G 18 Lips Case Neo-Gothic",20]
[2215516,"Guerlain Rouge G 19 Lips Case Powder Chic",20]
[2215518,"Guerlain Rouge G 19 Lips Case Urban Emerald",20]
[2215501,"Guerlain Rouge G 19 Lips Case Imperial Rouge",18]
[2215519,"Guerlain Rouge G 19 Lips Case Rock n Navy",18]
[2145735,"Kure Bazaar So Vintage Nail Polish 10ml (Murky pink)",16]
[2176111,"Kure Bazaar Lily Rose Nail Polish 10ml (dusty pink)",16]
[2207683,"Kure Bazaar File Gold with Gold Pom Pom X18",15]
[2215488,"Kure Bazaaar Vogue (Burgundy Red) 10ml",3]
[5000614,"Fonfique Mini Bacio Pouch Swans Print",0]
[5000619,"Fonfique Large Bacio Pouch Cradle Lily Black Print",0]
[2182679,"Sisley Foundation Brush",44]
[2208295,"Sisley Le Phyto Rouge Lipstick 23 Rose Delhi",40]
[8017236,"Soap Co Geranium & Rhubarb Eco Hand Wash 300ml",16]
[2175120,"The Cookbook - Signed Copy",30]
[5001687,"Dr Vranjes Milano Diffuser 5L",792]
[5029481,"Dr Vranjes Oud Nobile Diffuser 5L",792]
[5029482,"Dr Vranjes Rosso Nobile Diffuser 5L",792]
[5028275,"Dr Vranjes Peonia Black Jasmine Diffuser 5L",665]
[5029479,"Dr Vranjes Ginger & Lime Diffuser 5L",665]
[5029480,"Dr Vranjes Ambra Diffuser 5L",665]
[5068472,"Baobab High Society Louise Red Max 35 Candle 9.8kg",555]
[5001685,"Dr Vranjes Milano Diffuser 2.5L",396]
[5001686,"Dr Vranjes Milano Diffuser 2.5L Refill",360]
[5028273,"Dr Vranjes Peonia Black Jasmine Diffuser 2.5L",332]
[5028274,"Dr Vranjes Peonia Black Jasmine Diffuser Refill 2.5L",300]
[5068471,"Baobab High Society Louise Red Max 24 Candle 5kg",279]
[5030235,"Baobab Feathers Toureg Max 24 Candle 5kg",215]
[5001684,"Dr Vranjes Milano Diffuser 1.25L",198]
[5028272,"Dr Vranjes Peonia Black Jasmine Diffuser 1.25L",166]
[5063485,"Fornasetti Catene Candle 300g",165]
[5063486,"Fornasetti Chiavi Candle 300g",165]
[5068470,"Baobab High Society Louise Red Max 16 Candle 2.5kg",140]
[5030236,"Baobab Feathers Toureg Max 16 Candle 2.2kg",105]
[5068469,"Baobab High Society Louise Red Max 10 Candle 1.15kg",95]
[5001682,"Dr Vranjes Milano Diffuser 500ml",93]
[5001688,"Dr Vranjes Milano Diffuser 500 Red box",93]
[5061824,"Cire Trudon Ernesto Candle 300g X20",88]
[5061826,"Cire Trudon Gloria Candle 300g X20",88]
[5061827,"Cire Trudon Gabriel Candle 300g X20",88]
[2191851,"Roja Parfums Fortnum & Mason Taif Aoud Candle",85]
[5030237,"Baobab Feathers Toureg Max 10 Candle 1.35kg",78]
[5028270,"Dr Vranjes Peonia Black Jasmine Diffuser 500ml",78]
[2205728,"Ormonde Jayne Jardin Blanc 290g Exclusive Candle",75]
[5001683,"Dr Vranjes Milano Diffuser 500ml Refill",72]
[5001681,"Dr Vranjes Milano Diffuser 250ml",62]
[5028271,"Dr Vranjes Peonia Black Jasmine Diffuser Refill 500ml",60]
[2190578,"Victoria Cator London Casablanca",55]
[5028269,"Dr Vranjes Peonia Black Jasmine Diffuser 250ml",52]
[8025605,"Evermore Tides Candle 300g",50]
[8022270,"Alexia Peck London Diffuser 120ml",45]
[8022271,"Alexia Peck New York Diffuser 120ml",45]
[8022272,"Alexia Peck Norfolk Diffuser 120ml",45]
[8022273,"Alexia Peck Hamptons Diffuser 120ml",45]
[8022274,"Alexia Peck Provence Diffuser 120ml",45]
[8022275,"Alexia Peck Paris Diffuser 120ml",45]
[2205678,"F&M Pomegranate Rose Diffuser 200ml",45]
[2144147,"Charles Farris Signature Limited Reed Diffuser: 100ml PINETU",36]
[2112124,"Branche Olive Lavande Diffuser 100ml",30]
[2147417,"Branche Olive Green Fig 100ml Room Diffuser",30]
[5068194,"Branche Olive Tonka Room Diffuser 100ml",30]
[2211882,"Roja Parfums Bluebell Of England Candle 300g",23]
[8025628,"Polkra Ikat silk and ottoman linen lavender bag assorted",22]
[5031583,"F&M Pomegranate Rose Votive Candle 65g",18]
[2186280,"F&M Travel tea tin: Lapsang Souchong",15]
[2205679,"F&M Spiced Christmas Tea Diffuser 200ml X18",11]
[2144135,"Charles Farris Signature Candle: 30cl SWEET ELIXIR",8]
[2144136,"Charles Farris Signature Candle: 30cl RUBUS",8]
[2205680,"F&M Matches Small",6]
[2168801,"F&M Pomegranate Rose Single Wick Candle 140g",38]
[2176405,"F&M Matches",12]
[2178694,"F&M Votive Rose Pouchong Tea Candle",22]
[2168800,"F&M Pomegranate Rose Votive Candle 65g",18]
[2178690,"F&M Votive Green Jasmine Tea Candle",22]
[2186283,"F&M Large Spiced Christmas Tea Candle",45]
[2186284,"F&M Votive Christmas Spiced Tea Candle",22]
[2178692,"F&M Votive Lapsang Souchong Tea Candle",22]
[2178691,"F&M Votive Countess Grey Tea Candle",22]
[2178689,"F&M Large Lapsang Souchong Tea Candle",45]
[2186279,"F&M Travel tea tin: Countess Grey",15]
[2186282,"F&M Travel tea tin: Rose Pouchong",15]
[2186281,"F&M Travel tea tin: Green Jasmine",15]
[2205677,"F&M Honey Candle 330g",45]
[2210496,"Charles Farris Elizabeth Signature Tin Candle 300g X18",18]
[8025623,"polkra a parliament of owls matchbox",10]
[8025624,"polkra a pod of hippopotamus matchbox",10]
[8025626,"polkra a squad of squid matchbox",10]
[8025627,"polkra a mischief of mice matchbox",10]
[2211902,"Roja Parfums Fortnum & Mason Essence Reed Diffuser Refill",550]
[2178688,"F&M Large Countess Grey Tea Candle",45]
[2178693,"F&M Large Rose Pouchong Tea Candle",45]
[8025625,"polkra a skulk of foxes matchbox",10]
[2178687,"F&M Large Green Jasmine Tea Candle",45]
[2204640,"Selena & Sophia Selena 185g Candle",45]
[2167505,"Village Moroccan Rose Small Reed Diffuser 200ml",36]
[2110858,"True Grace Village Classic Seashore Candle",30]
[2185279,"Cire Trudon Les Belles Matieres - Reggio (Mandarin)",80]
[2204641,"Selena & Sophia Layl 185g Candle",45]
[2210128,"Charles Farris Elizabeth Diffuser 100ml X18",36]
[2051943,"Branche Olive Garrigue Diffuser 100ml",30]
[2110859,"True Grace Village Classic Wild Lime Candle",30]
[2136080,"Roja Parfums Essence of Fortnums Reed Diffuser",550]
[2215283,"Ormonde Jayne Parfum d'Ambiance Casablanca Lily 500ml",250]
[2211884,"Roja Parfums Fortnum & Maison Taif Aoud Candle 300g",125]
[2211889,"Roja Parfums London Candle 300g SUPLIER OOS DEC18",125]
[2205755,"Alexia Peck Winter Candle - Silver Birch & Pine 220g X18",90]
[2138300,"Cire Trudon Scented Candle Madeleine 270g",75]
[2079362,"Dr Vranjes Rosso Nobile Black Reeds Diffuser 250ml",62]
[2140793,"Dr Vranjes Oud Nobile Diffuser 250ml",62]
[8025617,"polkra circe candle 300g",50]
[8025619,"polkra calypso candle 300g",50]
[8025620,"polkra atlas candle 300g",50]
[8025621,"polkra delphi candle 300g",50]
[2204638,"Selena & Sophia Kupu Kupu 185g Candle",45]
[2214062,"Selena & Sophia Mandarin Candle 185g",45]
[2144145,"Charles Farris Signature Reed Diffuser: 100ml BRITISH EXPEDI",36]
[2144139,"Charles Farris Signature Candle: 30cl GARDEN OF EDEN",34]
[2210127,"Charles Farris Elizabeth Candle 210g",34]
[2112120,"Branche Olive Feather Diffuser 100ml",30]
[2112126,"Branche Olive Cloud Diffuser 100ml",30]
[2144152,"Charles Farris Signature Tin Candle - BRITISH EXPEDITION",18]
[2144153,"Charles Farris Signature Tin Candle - GARDEN OF EDEN",18]
[8025622,"polkra a dazzle of zebras matchbox",10]
[2211891,"Roja Parfums Neroli De Tunisie Candle 300g",95]
[2204514,"Alexia Peck Paris - Tuberose & Black Jasmine 200g",80]
[2204515,"Alexia Peck Provence - White Geranium & Lavender 200g",80]
[2179545,"Charles Farris Three Wick Candle - British Expedition",65]
[2214316,"Victoria Cator La Vie En Rose 270g",55]
[8025604,"Evermore Flore Candle 300g",50]
[8025608,"Evermore Grove Candle 300g",50]
[2204643,"Selena & Sophia Banyan 185g Candle",45]
[2110864,"True Grace Village Small Reed Diffuser Wild Lime",36]
[2079363,"Dr Vranjes Ginger and Lime Diffuser with Reeds 2.5L",332]
[2185259,"Fornasetti Scented Candle 900g Bacio",265]
[2079350,"Dr Vranjes Rosso Nobile Decanter Diffuser 750ml",207]
[2185103,"Dr Vranjes Ginger and Lime Reed Diffuser 1.25L",166]
[4007149,"Bacio scented candle 300g",155]
[2211892,"Roja Parfums New York Candle 300g",125]
[8025925,"Linari Diffuser Calla Art",105]
[8025930,"Linari Diffuser Ambra",95]
[2140794,"Dr Vranjes Oud Nobile Diffuser 500ml",93]
[8025926,"Linari Diffuser Sogno",90]
[8025927,"Linari Diffuser Luce",90]
[5025906,"Evermoor London Daybreak Candle Gift Set",87]
[2188918,"Ormonde Jayne 4cote Candle - 4.Montabaco 290g",85]
[2204510,"Alexia Peck London - Amber & Rose 220g",80]
[2204511,"Alexia Peck Norfolk - Samphire & Seaweed 220g",80]
[2204512,"Alexia Peck New York - Smoky Fig 220g",80]
[2204513,"Alexia Peck Hamptons - Honeysuckle & Pear 220g",80]
[8022269,"Alexia Peck Oud Candle 220g",80]
[8025928,"Linari Diffuser Avorio Art",80]
[8025929,"Linari Diffuser Sfera",80]
[2079323,"Dr Vranjes Ambra Diffuser with Reeds 500ml",78]
[2209320,"Charles Farris 3 Wick Candle - Elizabeth 640g X18",65]
[2079388,"Dr Vranjes Ambra Diffuser Refill 500ml with reeds",60]
[2079390,"Dr Vranjes Ginger and Lime Diffuser Refill 500ml with Reeds",60]
[8025606,"Evermore Light Candle 300g",50]
[8025607,"Evermore Moon Candle 300g",50]
[8025609,"Evermore North Candle 300g",50]
[2144144,"Charles Farris Signature Reed Diffuser: 100ml REDOLENT FIG",36]
[2144146,"Charles Farris Signature Reed Diffuser: 100ml GARDEN OF EDEN",36]
[2110863,"True Grace Village Small Reed Diffuser Seashore",36]
[2129410,"Village Small Reed Diffuser Rosemary & Eucalyptus 200ml",36]
[2144137,"Charles Farris Signature Candle: 30cl REDOLENT FIG",34]
[2144138,"Charles Farris Signature Candle: 30cl BRITISH EXPEDITION",34]
[2158719,"Branche Olive Peony 100ml Room Diffuser",30]
[2191853,"Roja Parfums Fortnum & Mason Taif Aoud Decanter",850]
[2148017,"Dr Vranjes Rosso Nobile Diffuser 5L",792]
[2211901,"Roja Parfums Fortnum & Mason Taif Aoud Reed Diffuser Refill",550]
[2094965,"Cire Trudon Ernesto 2.8kg Scented Candle",450]
[2211911,"Roja Parfums Rose De Mai Reed Diffuser Refill",350]
[8025983,"Roja London Candle 1Kg",345]
[2185104,"Dr Vranjes Rosso Nobile Reed Diffuser 1.25L",198]
[2185106,"Dr Vranjes Oud Nobile Reed Diffuser 1.25L",198]
[8023551,"Senti The Orchid Jasmine & Geranium 250ml",175]
[2167684,"Cire Trudon Room Spray Ernesto",170]
[2185102,"Dr Vranjes Ambra Reed Diffuser 1.25L",166]
[4007151,"Regalo (Gold) scented candle 300g",165]
[2081481,"Fornasetti Scented Candle 300g Architettura",155]
[2081482,"Fornasetti Scented Candle 300g Labbra",155]
[2185253,"Fornasetti Scented Candle 300g Fior Di Lina",155]
[2211880,"Roja Parfums Aoud Candle 300g",145]
[2211890,"Roja Parfums Musk Aoud Candle 300g",145]
[2211885,"Roja Parfums Fortnum & Mason Essence Candle 300g",125]
[2211893,"Roja Parfums Paris Candle 300g",125]
[2101123,"Cire Trudon Marie Antoinnette Bust Rose",110]
[2211879,"Roja Parfums Ambre D Orient Candle 300g",95]
[2211881,"Roja Parfums Baies De Suisse Candle 300g",95]
[2211883,"Roja Parfums Figuier D Italie Candle 300g",95]
[2211886,"Roja Parfums Gardenia De Madagascar Candle 300g",95]
[2211887,"Roja Parfums Jasmin De Grasse Candle 300g",95]
[2211888,"Roja Parfums Lavande Des Alpes Candle 300g",95]
[2211894,"Roja Parfums Rose De Mai Candle 300g",95]
[2185278,"Cire Trudon Les Belles Matieres - Madura (Jasmine)",80]
[4007157,"Salta scented candle 270g",80]
[2079344,"Dr Vranjes Ginger and Lime Diffuser with Reeds 500ml",78]
[2078661,"Cire Trudon Abd El Kader 270g Scented Candle",75]
[2078670,"Cire Trudon Ernesto 270g Scented Candle",75]
[2078870,"Cire Trudon Spiritus Sancti 270g Scented Candle",75]
[2094968,"Cire Trudon Solis Rex 270g Scented Candle",75]
[5025090,"Cire Trudon Josephine Candle 270g",75]
[5025091,"Cire Trudon Gabriel Candle 270g",75]
[2093083,"Dr Vranjes Rosso Nobile Refill 500ml with reeds",72]
[2164761,"Ormonde Jayne Large Candle - Casablanca Lily 290g",65]
[2164762,"Ormonde Jayne Large Candle - Frangipani 290g",65]
[2190581,"Victoria Cator London Vert De Serendip",55]
[2214315,"Victoria Cator L' Orangerie Candle 270g",55]
[2079320,"Dr Vranjes Ginger and Lime Diffuser with Reeds 250ml",52]
[8025618,"polkra ondine candle 300g",50]
[2112122,"Branche Olive Verveine Diffuser 100ml",30]
[2136081,"Roja Parfums Reed Diffuser Decanter",850]
[2191852,"Roja Parfums F&M Taif Aoud Reed Diffuser 750ml",550]
[2211895,"Roja Parfums Amber Aoud Reed Diffuser Refill",550]
[2211906,"Roja Parfums London Reed Diffuser Refill",450]
[2140796,"Dr Vranjes Oud Nobile Diffuser 2.5L",396]
[8025981,"Roja Amber Aoud Candle 1Kg",395]
[2079386,"Dr Vranjes Ambra Diffuser with Reeds 2.5L",345]
[8025982,"Roja Rose De Mai Candle 1Kg",295]
[5030232,"Baobab Women Max 24 Candle 5kg",275]
[2215284,"Ormonde Jayne Parfum d'Ambiance Jardin Blanc 500ml",250]
[5030876,"Baobab Feathers Black & White Max 24 Candle 5kg",215]
[5063493,"Senti The Orchid Bergamot & Ginger 250ml",175]
[2211465,"Fornasetti Golden Burlesque Candle 300g",165]
[2101129,"Fornasetti Scented Candle 300g Flora",155]
[4007150,"Rossetti scented candle 300g",155]
[5029494,"Locherber Milano Azad Kashmere Diffuser 1000ml",145]
[5029496,"Locherber Milano Malabar Pepper Diffuser 1000ml",145]
[2211878,"Roja Parfums Amber Aoud Candle 300g",145]
[5030240,"Baobab Stones Marble Max 16 Candle 2.2kg",140]
[5029492,"Locherber Milano Venetiae Diffuser 500ml",135]
[5030233,"Baobab Women Max 16 Candle 2.2kg",130]
[5030877,"Baobab Feathers Black & White Max 16 Candle 2.2kg",105]
[5063487,"Senti Bergamot & Ginger Diffuser 500ml",95]
[5063488,"Senti Jasmine & Geranium Diffuser 500ml",95]
[5063489,"Senti White Flowers Diffuser 500ml",95]
[2158668,"Dr Vranjes Rosso Nobile Diffuser 500ml",93]
[5030234,"Baobab Women Max 10 Candle 1.35kg",92]
[5029497,"Locherber Milano Malabar Pepper Diffuser 500ml",80]
[5030878,"Baobab Feathers Black & White Max 10 Candle 1.35kg",78]
[5030248,"Baobab Pearls White Max 10 Candle 1.35kg",72]
[2140795,"Dr Vranjes Oud Nobile Refill 500ml",72]
[2179546,"Charles Farris Three Wick Candle - Garden of Eden",65]
[5063490,"Senti Bergamot & Ginger Diffuser Refill 500ml",58]
[5063491,"Senti Jasmine & Geranium Diffuser Refill 500ml",58]
[5063492,"Senti White Flowers Diffuser Refill 500ml",58]
[2190576,"Victoria Cator London Touche Bois",55]
[2190580,"Victoria Cator London Rouge Ancien",55]
[2190584,"Victoria Cator London Pompeii",55]
[2167509,"Village/Small Reed Diffuser/Bergamot 200ml",36]
[2129409,"Village Classic Rosemary & Eucalyptus Candle 190g",30]
[5030238,"Baobab Stones Marble Maxi Max 35 Candle 10kg",555]
[5029489,"Locherber Milano Oudh Diffuser 1000ml",545]
[5030231,"Baobab Women Maxi Max 35 Candle 10kg",540]
[5029493,"Locherber Milano Azad Kashmere Diffuser 2500ml",495]
[5030242,"Baobab Pearls Black Maxi Max 35 Candle 10kg",410]
[5029490,"Locherber Milano Oudh Diffuser 500ml",365]
[5030239,"Baobab Stones Marble Max 24 Candle 5kg",280]
[5029491,"Locherber Milano Venetiae Diffuser 1000ml",210]
[5030243,"Baobab Pearls Black Max 24 Candle 5kg",205]
[5030246,"Baobab Pearls White Max 24 Candle 5kg",205]
[5025106,"Cire Trudon Ernesto Candle 800g",200]
[8023550,"Senti The Orchid White Flowers 250ml",175]
[5030244,"Baobab Pearls Black Max 16 Candle 2.2kg",105]
[5030247,"Baobab Pearls White Max 16 Candle 2.2kg",105]
[5030241,"Baobab Stones Marble Max 10 Candle 1.35kg",95]
[5029495,"Locherber Milano Azad Kashmere Diffuser 500ml",80]
[5030245,"Baobab Pearls Black Max 10 Candle 1.3kg",72]
[2079318,"Dr Vranjes Ambra Diffuser with Reeds 250ml",52]
[2214061,"Selena & Sophia L'Homme Candle 185g",45]
[2006306,"White Decorated Easter Egg 1.9kg",175]
[5026337,"Christmas Ultimate Chocolate Selection 1.6kg",165]
[2194066,"Ultimate Filled Chocolate Counter Box",160]
[2205092,"XL Santa Figurine 2018 2.2kg",155]
[2205098,"Assorted Turkish Delight and Chocolate Filled Box",145]
[2006301,"Giant Milk Chocolate Bunny 2.2kg",100]
[2006308,"Dark Decorated Easter Egg 1kg",100]
[2097142,"Giant Bunny in Plant Pot 2kg",100]
[2006304,"Milk Chocolate Decorated Easter Egg 1.9kg",97.5]
[2006305,"Dark Chocolate Decorated Easter Egg 1.9kg",97.5]
[2006398,"Loose Dark Chocolate Orange Peel 1kg",95]
[2006423,"Loose Milk Vanilla Caramel 1kg",95]
[2006486,"Loose Rum Dates 1kg",95]
[2006597,"Almond Battonet Dark",95]
[2006607,"Loose Pink Marc De Champagne Truffle 1kg",95]
[2006656,"Loose Belgian Cerisette 710 1kg",95]
[2078250,"Loose Valrhona French Caramel Sale kg",95]
[2123281,"Loose Milk Sea Salted Caramel Truffle 1kg",95]
[2127554,"Loose Chocolate Sicilian Lemon 1kg",95]
[2127559,"Loose Chocolate Fresh Mint 1kg",95]
[2130424,"Loose Fortnum's Bellini Truffle 1kg",95]
[2167669,"Coconut Mylk Water Ganache",95]
[2167670,"Beetroot, Red Wine Vinegar & Hazelnut Water Ganache",95]
[2167672,"Chilli & Lime Water Ganache",95]
[2167673,"Yuzu Water Ganache",95]
[2167674,"Caramelised Orange Water Ganache",95]
[2167675,"Rose, Cherry & Saffron Water Ganache",95]
[2167676,"Loose Coriander Seed Hazelnut Praline 1kg",95]
[2177088,"Loose Lemon Truffle 1 Kg",95]
[2177220,"Blackberry and Honey Water Ganache",95]
[2203554,"Loose Chocolate covered Pistachio Delight 1kg",95]
[8020524,"Dark Jamaica 73 % Ganache kg",95]
[8020525,"Dark Colombia 85% Ganache Saint-Dominque kg",95]
[8020527,"Dark Cuba 70% Ganache kg",95]
[8020528,"Dark Madagascar 66 % Ganache kg",95]
[8020529,"Milk Costa Rica 38% Ganache kg",95]
[8020530,"Milk Vanuatu 44% Ganache kg",95]
[8020531,"Dark Costa Rica 64% Ganache with Lavender & Tangerine kg",95]
[8020532,"Dark Grenada 67% with cinnamon & apple jam kg",95]
[8020533,"Dark Venezuela 43% praliné with 100% AOC  kg",95]
[8020534,"Dark Ecuador 71% Ganache with Japanese cherry flowers kg",95]
[8020535,"Dark Guatemala 73% Ganache with Apricot Marmalade kg",95]
[8020536,"Milk Viëtnam 45% Ganache with passion fruit jam kg",95]
[8020537,"Milk Peru 64% Ganache with honey & blackcurrant kg",95]
[8020541,"Datk Colombia 65% Ganache with yuzu marmalade kg",95]
[8020542,"Dark Peru 64% Ganache  with orange marmalade kg",95]
[8020543,"Milk Venezuela 43% Ganache with wild blackberry jam kg",95]
[8020544,"Dark Venezuela 43% Ganache with Tahiti Vanilla kg",95]
[8022105,"Milk Chocolate Xmas Pudding Truffle (Gingerbread flavour) kg",95]
[8022106,"Dark Chocolate Xmas Pudding Truffle (Figgy Pud flavour) kg",95]
[8022107,"Milk Chocolate Yule Log (Xmas Spiced  Orange Praline) kg",95]
[8022200,"Dark Choc Hazelnut Praline & Almond Pieces Rinette 1kg",95]
[8022992,"Milk Dominican with Japanese Tea & Orange kg",95]
[8022993,"Dark Cuba 70% with mint & calamansi jam kg",95]
[8023112,"F&M Wrapped Milk Gianduiotto 5kg",95]
[8023113,"F&M Wrapped Dark Gianduiotto 5kg",95]
[8023114,"F&M Wrapped Pistashio Gianduiotto 5kg",95]
[8023115,"F&M Wrapped Coffee Gianduiotto 5kg",95]
[2135634,"Ex Large Milk & Dark Chocolate Selection 950g",89.95]
[2006742,"Loose Marzipan Russet Apple 1kg",85.5]
[2173625,"Loose Marzipan Black Fig kg",85.5]
[8018704,"Marzipan Fingers 750g",85.5]
[5010140,"Easter Praline & Ganache Selection 2.64kg",165]
[8019626,"Ultimate Chocolate Lovers Selection Box 1.2kg",80]
[2006669,"Loose Crystallised Large Red Rose Petals 1kg",75]
[2006771,"Loose Glace Clementines 1kg",75]
[2006772,"Loose Glace Black Figs 1kg",75]
[2006778,"Loose Glace Orange Quarters 1kg",75]
[2006783,"Loose Glace Angelica 1kg",75]
[2006784,"Loose Glace Whole Pineapple 1kg",75]
[2006786,"Loose Glace Whole Orange 1kg",75]
[2006789,"Loose Glace Whole Melon 1kg",75]
[2173622,"Loose Marzipan Banana Fruit 1kg",75]
[2207903,"Loose Toffee Apple Fudge 1kg",75]
[5024754,"Loose Ewan's Tablet",75]
[2006307,"Milk Chocolate Decorated Easter Egg 1kg",65]
[2173585,"Loose Truffled Almonds and Hazelnuts (03.14) 1kg",65]
[2173592,"Loose Green Sugared Pistachios (06.08) 1kg",65]
[2173595,"Loose White Sugared Almonds (08.05) 1kg",65]
[2173596,"Loose Pink Sugared Almonds (08.06) 1kg",65]
[2173599,"Loose Orange Sugared Almonds (09.11) 1kg",65]
[2173601,"Loose Peach Sugared Almonds (09.14) 1kg",65]
[2207190,"Ruby Chocolate slab with Pistachio & Raspberry 300g",65]
[2006297,"Colossal Egg 1.4kg",135]
[2006692,"Loose Fruit Jellies kg",55]
[2203029,"Loose Pistachio Borma 1KG",55]
[2203030,"Loose Cashew Filo Finger 1KG",55]
[2203031,"Loose Almond Baklava 1KG",55]
[2203032,"Loose Pistachio Boukaj 1KG",55]
[2203552,"Loose Date Turkish Delight 1kg",55]
[2006309,"White Decorated Easter Egg 1kg",50]
[2006898,"Petits Fours 600g",50]
[8026751,"Chocolate Bark Gift Pack",48]
[2006310,"Milk Chocolate Decorated Easter Egg 680g",47.5]
[2006311,"Dark Chocolate Decorated Easter Egg 680g",47.5]
[2213923,"Hand Painted Chick Egg 500g",100]
[2213924,"Hand Painted Chicken Egg 500g",100]
[2006883,"Griottes 227g",46]
[5029478,"Fortnum's Alcohol-Free Truffle Selection 590g",45]
[2006698,"Loose Cherry Turkish Delight 2kg",40]
[2135633,"Large Milk & Dark Chocolate Selection 460g",38.950000000000003]
[2006312,"White Decorated Easter Egg 680g",37.5]
[2006671,"Loose Pates De Fruits Fraise",35]
[2006672,"Loose Pates De Fruits Framboisie",35]
[2006673,"Loose Pates De Fruits Groseille",35]
[2006674,"Loose Pates De Fruits Passion Fruit",35]
[2006675,"Loose Pates De Fruits Citron Vert",35]
[2006676,"Loose Pates De Fruits Poire",35]
[2006797,"Loose Fruits De Nice Fruit Jellies kg",35]
[5016341,"Bar Library - The Milk, Dark & White Chocolate Collection",35]
[8018984,"Heart Chocolate Selection Box 210g",35]
[2153008,"Loose Fruit Berlingot Sweets 1kg",30]
[2153016,"Loose Orange & Lemon Slices Sweets 1kg",30]
[5029476,"Fortnum's Nut Truffle Selection 270g",30]
[5029477,"Fortnum's Alcohol Truffle Selection 265g",30]
[5047378,"Caramel & Toffee Tin 275g",30]
[8026760,"Origin Hot Chocolate 500g",30]
[2135667,"Medium Assorted Truffles 270g",26.95]
[2135624,"Medium Milk Chocolate Selection 240g",26]
[2006338,"Three Beautiful Easter Eggs 270g",25]
[5047376,"Christmas Sweet Tuck Box 750g",25]
[5053856,"Christmas Tree 350g",25]
[5067759,"Sail Boat Chocolate",24.95]
[2006863,"Chocolate Lemon & Orange Peel 250g",24]
[5067758,"Chocolate Valentines Wafer Cake",24]
[2006315,"Milk Chocolate Decorated Easter Egg 227g",22.5]
[2006316,"Dark Chocolate Decorated Easter Egg 227g",22.5]
[2006319,"White Chocolate Decorated Easter Egg 227g",22.5]
[2006846,"Mitcham Mint Collection 200g",22]
[5053851,"Chocolate Covered Figs 165g",22]
[2006299,"Handmade Rose & Violet Creams Egg 227g",20]
[2144496,"Handmade Milk & Dark Chocolate Egg 227g",20]
[5002636,"Milk Chocolate Children's Bunny Easter Egg 225g",19.95]
[2153009,"Loose Salted Caramel Berlingot Sweets kg",19.5]
[2153012,"Loose Verbena Leaves Sweets",19.5]
[2006966,"Large Milk Chocolate Teddy Bear 380g",18.95]
[2006967,"Large White Chocoolate Teddy Bear 380g",18.95]
[5026336,"Gianduja Chocolate Selection Box 180g",16.95]
[5047379,"Christmas Praline Chocolate Box 145g",16.95]
[2006332,"Milk Chocolate Decorated Easter Egg 454g",16.25]
[2135623,"Small Milk Chocolate Selection 120g",15.95]
[2135626,"Small Dark Chocolate Selection 120g",15.95]
[5047377,"Christmas Coins Tin 150g",15.95]
[2209712,"Raspberry & Vodka Chocolate Thins 190g",14.95]
[5029473,"Fortnum's Salted Caramel Ruby Truffle 135g",14.95]
[5029474,"Fortnum's Single Malt Whisky Truffle 135g",14.95]
[5029475,"Fortnum’s Royal Blend Cocoa Dusted Tea Truffle 125g",14.95]
[2211731,"Almond & Dark Chocolate Nut Egg 190g",14.75]
[2006964,"Large Hollow Milk Chocolate Owl 230g",13.95]
[2188715,"Salted Praline Truffles 135g",13.95]
[2208494,"Easter Hunt Foiled Egg Bag 450g",26.95]
[2145479,"Six Golden Praline Eggs 300g",27.95]
[2208771,"Six Eau De Nil Dark Chocolate Praline Eggs 300g",27.95]
[2006335,"Milk Chocolate Knapsack Bunny 130g EA",11]
[2006336,"Dark Chocolate Knapsack Bunny 130g EA",11]
[2006337,"White Chocolate Knapsack Bunny 130g EA",11]
[2006972,"Hollow Milk Chocolate Moo Cow 140g",10.95]
[2006973,"Hollow White Chocolate Moo Cow 140g",10.95]
[2135630,"Ex Small Milk & Dark Chocolate Selection 60g",10.95]
[2006965,"Hollow White Chocolate Pig 80g",10]
[2204654,"Heart Box Mini 40g",10]
[2006875,"Pates De Fruits Tube 150g",9.9499999999999993]
[2006298,"Loose Girl Bunny Grinner 100g EA",9]
[2097138,"Loose Boy Bunny Grinner 100g EA",9]
[2208687,"Chocolate Coated Raspberries 120g",8.9499999999999993]
[2211176,"Easter Bunny Chocolate Lolly 70g",8.9499999999999993]
[5001800,"Chocolate Shell Egg Dragees 150g",8.9499999999999993]
[2006968,"Small Milk Chocolate Teddy Bear 60g",8.5]
[2006969,"Small White Chocolate Teddy Bear 60g",8.5]
[2006970,"Small Dark Chocolate Teddy Bear 60g",8.5]
[2006971,"Hollow Milk Chocolate Squirrel 60g",8.5]
[2187353,"Strawberry and Rhubarb Jellies 190g",8.5]
[2187354,"Cherry Roses Jellies 190g",8.5]
[2187355,"Mango and Passion Fruit Jellies 190g",8.5]
[2187358,"Wild Berry Jellies 190g",8.5]
[2187359,"Soft Liquorice 190g",8.5]
[2187360,"Assorted Jelly Beans 270g",8.5]
[2165824,"Creme de la Cream Eggs 130g",17.95]
[2213833,"Muscavado Caramel & Lemon Fondant Gulls Eggs 150g",8.25]
[8023711,"Milk Belgian Chocolate Easter Bunny 160g",8.25]
[2198267,"Highgrove Organic Salted Caramel Fudge 227g",7.95]
[2198269,"Highgrove Organic Ginger Fudge 227g",7.95]
[2211140,"Chocolate Simnel Scotch Egg 150g",17.95]
[2209716,"Chocolate Easter Cockerel Plaque 120g",15.95]
[2135615,"Mini Rose & Violet Creams 20g",6.5]
[2135629,"Mini Milk & Dark Chocolate Selection 20g",6.5]
[2165575,"Matchbox Bunnies 30g",6.5]
[2207191,"Ruby Chocolate dipped Bergamot slices 1.5KG",6.3333329999999997]
[2187343,"Strawberries & Cream Sweets 125g",5.95]
[2187344,"Rhubarb & Custard Sweets 125g",5.95]
[2187345,"Black Mint Humbug Sweets 150g",5.95]
[2187346,"Pear Drop Sweets 125g",5.95]
[2187347,"Sherbet Lemon Sweets 125g",5.95]
[5005702,"Milk Chocolate with Salted Honeycomb 75g",5.95]
[2006350,"Little Rainbow Eggs Tube 125g",12.5]
[2136484,"Pink Marc de Champagne Truffles Tray 165g",5]
[2172620,"Marc de Champagne Truffle Tray with Sleeve 165g",5]
[2199829,"Highgrove Organic Gin Truffle Selection 115g",5]
[5010142,"Royal Blend Truffles 165g",5]
[2070964,"Highgrove Organic Christmas Chocolate Bar 75g",4.95]
[2163840,"Bunny In A Box 100g",3.95]
[2172769,"Highgrove Organic Salted Almond Chocolate Bar 75g",3.95]
[2189362,"Highgrove Organic Mixed Milk & Dark Honeycomb 125g",3.9]
[2165442,"Loose Figurine Boy Chocolate Bunny 75g",3.75]
[2136091,"Highgrove Organic Christmas Fudge 100g",3.5]
[2198266,"Highgrove Organic Clotted Cream Fudge Bag 100g",3.5]
[8026749,"Giant Rocher",3.5]
[5010141,"Easter Carrot Sweet 250g",6.95]
[2006322,"Milk Chocolate Lord Duck 90g",2.6]
[2006324,"Milk & White Chocolate Chick In Egg 90g",2.6]
[2205221,"Marzipan Hot Cross Buns 100g",2.4500000000000002]
[2165441,"Loose Figurine Girl Chocolate Bunny 90g EA",1.95]
[2213088,"Milk Chocolate Happy Bunny 45g EA",1.5]
[2165437,"Loose Figurine Milk Chocolate Bunny 50g",1.35]
[2203303,"Loose Rose Vegan Mallow 20g",1]
[2203304,"Loose Cotton Candy Vegan Mallow 20g",1]
[2203305,"Loose Vanilla Vegan Mallow 20g",1]
[8018708,"Toffee Apple Loose Mallow",1]
[8018709,"Autumnal Spice Loose Mallow",1]
[2212909,"Large Counter Box cushion pad TOP 263 x 315 mm",0]
[2212910,"Large Counter Box cushion pad BOTTOM 263 x 312 mm",0]
[2215280,"Baravelli's 500g Easter Egg Box",0]
[4005172,"Baravelli's 500g Easter Egg Box",0]
[5025045,"Easter Bunnies with Hazelnut Filling",0]
[5068647,"Sail Boat Couverture Grenada 180g",0]
[5068648,"Sail Boat Sleeve & Box",0]
[5069023,"Clotted Cream and Macadamia Nut Fudge",0]
[8022206,"Dulcey Chocolate Ganache Promesse kg",0]
[8022212,"Dark Chocolate Praline almond & coconut Pralicoco kg",0]
[8022252,"Milk Chocolate Rum Coconut Balls kg",0]
[8022253,"White Chocolate Whisky Cream Caramel Balls kg",0]
[8022254,"Milk & White Chocolate Jamaica Rum Raisins kg",0]
[8022255,"Milk Chocolate Cognac Balls kg",0]
[8022256,"Milk & Dark & Chocolate Gin Balls kg",0]
[8022257,"Kir Royal Glazed Balls kg",0]
[8022258,"Milk Chocolate Irish Coffee Balls kg",0]
[8022259,"Limoncello balls kg",0]
[8022260,"Hazelnut Praline Balls kg",0]
[8022261,"Yoghurt Cashew Nuts kg",0]
[8022262,"White Chocolate Strawberries kg",0]
[8022263,"Milk Chocolate Raspberries kg",0]
[8022264,"Milk Chocolate Macadamias kg",0]
[8022265,"Dark Chocolate Amarena Cherries kg",0]
[8022266,"Milk Caramel chocolate cereal balls  kg",0]
[8023166,"Salted Caramel Truffle kg",0]
[8023235,"Classic Cremino wrapped kg",0]
[8023236,"Dark Chocolate Cremino wrapped kg",0]
[8023237,"Sea Salt Cremino wrapped kg",0]
[8023258,"Sugar Free Dark Chocolate Strawberry fill kg",0]
[8023259,"Sugar Free Milk chocolate with coffee fill kg",0]
[8023260,"Sugar Free Milk chocolate with dark  hazelnut fill kg",0]
[8023330,"Mini Milk Chocolate Christmas Pieces kg",0]
[8023331,"Mini Dark Chocolate Christmas Pieces kg",0]
[8023332,"Mini Blonde Chocolate Christmas Pieces kg",0]
[8023426,"Milk Chocolate Mendiant kg",0]
[8023427,"Dark Chocolate Mendiant kg",0]
[8023428,"Assorted foiled wrap Chocolate Liqueurs kg",0]
[8023429,"Milk Chocolate Tuile kg",0]
[8023435,"Milk Chocolate Hanging Star EA",0]
[8023436,"Dark Chocolate Hanging Tree EA",0]
[8024089,"Soft Chewy Toffees kg",0]
[8024090,"Peanut Pave kg",0]
[8024091,"Cherry Bakewell Caramel kg",0]
[8024092,"Rose Caramel kg",0]
[8024093,"Himalayan Salted Caramel kg",0]
[8024094,"Cocoa Nib Caramel kg",0]
[8024095,"F&M Heather Honey Caramel kg",0]
[8024333,"Milk Whisky Fortnum's Highland Truffle kg",0]
[8024334,"Dark Whisky Fortnum's Islay Truffle kg",0]
[8024335,"Milk Whisky Fortnum's Speyside Truffle kg",0]
[8024338,"Milk Chocolate Almond Praline Truffle  kg",0]
[8026048,"Milk Cinnamon Almond & Hazelnut Praline kg",0]
[8021714,"PURCHASE ONLY Christmas Food Gourmet Advent Calendar",0]
[2101225,"Loose Caramels Salted Butter 965g",0.25]
[2101226,"Loose Caramels Vanilla Bourbone 965g",0.25]
[2101227,"Loose Caramels Cocoa 965g",0.25]
[2101228,"Loose Caramels Coffee 965g",0.25]
[2202283,"Fortnum & Mason Mini Shopper with Truffles 65g",6.95]
[2214191,"Chocolate Praline & Ganache Selection EX Small 60g",10.95]
[8021194,"Dark Chocolate & Raspberry Fondue Pot 200g",10]
[8018147,"Mini Milk & Dark Handmade Chocolate Selection 20g",6.5]
[2154087,"Assorted Napolitains Small 12pc 78g",9.9499999999999993]
[2137363,"Vanilla Marshmallow",0.65]
[2137364,"Passion Fruit Marshmallow",0.65]
[2137365,"Coconut Marshmallow",0.65]
[2137366,"Salted Caramel Marshmallow",0.65]
[2137367,"Strawberry Marshmallow",0.65]
[2137368,"Raspberry Marshmallow",0.65]
[2154089,"Origins Napolitains Small 12pc 78g",9.9499999999999993]
[2214193,"Chocolate Praline & Ganache Selection Medium 240g",24.95]
[2179296,"Ultimate Milk Chocolate Bar 75g",5.95]
[2214192,"Chocolate Praline & Ganache Selection Small 120g",15.95]
[2135656,"Mini 4pc Marc de Champagne Truffle Drum 40g",7.5]
[2154092,"Ginger Napolitains Medium 28pc 182g",17.95]
[2006798,"Two Marc De Champagne Truffles Ballotin 20g",2.5]
[2179247,"Sugared Almonds - Gold and Silver Mix 210g",9.9499999999999993]
[2214312,"Halloween Black Cat in a Pumpkin Lolly 70g",8.9499999999999993]
[2154088,"Milk & Dark Napolitains Small 12pc 78g",9.9499999999999993]
[2006829,"Liqueurs Selection 260g",45]
[5016337,"Milk Chocolate Hazelnuts 160g",9.9499999999999993]
[2006976,"Gold Milk Chocolate Coins Bag 100g",5]
[2162238,"28 Piece Assorted Napolitains 182g",17.95]
[8021174,"Rose Petal & Gin Ganache Truffles 100g",8.4499999999999993]
[2172678,"Mini Pink Marc De Champagne Truffle Drum, 40g",7.5]
[2202077,"Milk Chocolate Spiced Oat Crumble&Praline Ganache Bar 120g",6.95]
[2205217,"Marzipan Pumpkins & Skulls 100g",9.9499999999999993]
[2179308,"White Chocolate Strawberry & Black Pepper Bar 75g",5.95]
[2006700,"Loose Pistachio Turkish Delight 1kg",40]
[2179297,"50% Dark Chocolate Bar 75g",5.95]
[2162239,"Milk & Dark Napolitains Medium 28pc 182g",17.95]
[2006738,"Loose Pink & White Sugar Mice 20g EA",0.95]
[2006895,"Chocolate Dipped Orange Slices 140g",18.5]
[2006702,"Loose Mixed Nut Turkish Delight 2kg",40]
[2205251,"Marzipan Spring Discs 100g",9.9499999999999993]
[8019772,"Honeycomb Taster Selection 240g",24.95]
[2214195,"Chocolate Caramel, Praline & Ganache Selection EX Large 510g",64.95]
[4004913,"A Triumph of Tortoises Chocolate Tortoises 25g",5.95]
[2135640,"Turkish Delight In A Wooden Box 454g",25]
[2154090,"Orange & Lemon Napolitains Medium 28pc 182g",17.95]
[2135616,"Ex Small Rose & Violet Creams 60g",10.95]
[2179307,"Colombian Coffee Bar 75g",5.95]
[8022991,"Bouche Bar Almond Praline with Crepe Dentelle EA",3.95]
[2214187,"Chocolate Caramel Selection EX Small 54g",10.95]
[8022201,"Bouche Bar Orange Ovaline 35g",3.95]
[8022202,"Bouche Bar Croquantine Ivoire 35g",3.95]
[8022203,"Bouche Bar Croquantine Lait 35g",3.95]
[2141686,"Pistachio Turkish Delight Tin 125g",8.9499999999999993]
[2210798,"Christmas Rudolph Chocolate Lolly 70g",8.9499999999999993]
[2179303,"Milk Chocolate Ginger and Honey Filled 120g",6.95]
[2210799,"Christmas Candy Cane",3.5]
[2205250,"Autumnal Chocolate Leaves 115g",14.95]
[2199826,"Highgrove Organic Dark Chocolate Bar 75g",3.95]
[2170433,"Halloween 7 pack Slims 70g",6.95]
[2179295,"Classic White Chocolate Bar 75g",5.95]
[2193435,"Highgrove Strawberry & Cream Sweets 102g",4.95]
[2006699,"Loose Apple Turkish Delight 2kg",40]
[8018148,"EX Small Milk & Dark Handmade Chocolate Selection 60g",10.95]
[2199825,"Highgrove Organic Milk Chocolate Bar 75g",3.95]
[2135663,"Small London Gin Truffle Box 135g",13.95]
[2205218,"Marzipan Vegetable Patch 100g",9.9499999999999993]
[2190259,"Highgrove Organic Chocolate Slims Estate",6.45]
[2172297,"Wooden box assorted glace fruits 400g",30]
[2154093,"Sea Salt Napolitains Medium 28pc 182g",17.95]
[2135617,"Small Rose & Violet Creams, 120g",15.95]
[2135620,"Small Assorted Creams 120g",15.95]
[2135618,"Medium Rose & Violet Creams Medium 250g",26]
[4004915,"Langues de Chats Chocolate Cat’s Tongues 130g",15.95]
[4004912,"The Midnight Feast Chocolate Hedgehogs 50g",5.95]
[2201339,"F&M Ruby Chocolate Bar 70g",6.5]
[4004914,"Double Trouble Chocolate Mice 42g",4.45]
[2006907,"Medium Marzipan Fruits Selection 275g",22]
[5030975,"Halloween Praline Chocolate Box 145g",16.95]
[2135651,"Fudge 300g",13.95]
[2006874,"F&M Pruneaux D'Agen Tin 450g",27]
[2172299,"Elvas Plums 320g",17.95]
[4004917,"Chocolate Fish & Chips 230g",15.95]
[4004910,"Prince Charming Chocolate Frogs 30g",5.95]
[4004919,"Dark Chocolate Cinder Toffee 250g",9.9499999999999993]
[2179305,"Milk Chocolate Salted Almond Bar 75g",5.95]
[8023940,"Milk Chocolate Treacle Tart Filled Bar 120g",6.95]
[2135621,"Medium Assorted Creams 260g",26]
[4004920,"Naked Cinder Toffee 150g",9.9499999999999993]
[2193436,"Highgrove Rosey Apple Sweets 102g",4.95]
[2006877,"Marrons Glaces 360g",62]
[2135628,"Large Dark Chocolate Selection 460g",19.95]
[2162240,"Origins Napolitains Medium 28pc 182g",17.95]
[2007066,"Giant Haunted House Lollipop 180g",13.5]
[5030973,"Halloween Sweet Mix 250g",9.9499999999999993]
[2179301,"Sugar Free Dark Chocolate Bar 75g",5.95]
[2214194,"Chocolate Praline & Ganache Selection Large 320g",39.950000000000003]
[2179306,"Dark Chocolate Raspberry Filled Bar 120g",6.95]
[8018157,"Medium Dark Handmade Chocolate Selection 240g",26]
[2179309,"Milk Chocolate Lavender Bar 75g",5.95]
[8018150,"Medium Milk & Dark Handmade Chocolate Selection 245g",26]
[2006873,"Crystallised Ginger 300g",22.95]
[2006841,"Icy Mints 125g",10.95]
[2179316,"Dark Chocolate Mitcham Mint Filled Bar 120g",6.95]
[2189028,"Highgrove Organic Chocolate Covered Hazelnuts",6.95]
[5016340,"Sharing Selection 1.19kg",50]
[2135653,"F&M Treacle Fudge 300g",13.95]
[2135659,"Small Strawberry Truffles 140g",13.95]
[2205219,"Marzipan Fruits (Orange, Lemon & Peach) 100g",9.9499999999999993]
[4004911,"Lady Luck Chocolate Ladybird 33g",5.95]
[2006703,"Loose Turkish Delight kg",55]
[2135668,"Medium Sea Salted Caramel Truffle Drum 250g",25]
[2205094,"Ultimate 100% Dark Hot Chocolate 300g",19.95]
[4004918,"Milk Chocolate Cinder Toffee 250g",9.9499999999999993]
[8023939,"Ultimate Ruby Chocolate Bar 75g",6.95]
[2135637,"Small Chocolate Covered Stem Ginger 165g",17.95]
[2214186,"3 Deadly Chocolate Skulls Matchbox 40g",6.5]
[2187350,"Orange & Lemon Slices 125g",5.95]
[2210796,"Advent Calendar Refill Pack 477g",36]
[4004916,"Chocolate Oysters 100g",15.95]
[8019278,"Marzipan Hearts 90g",9.9499999999999993]
[5026333,"Christmas Reindeer Treats Vegan Carrot Sweets 250g",6.5]
[2179311,"Dark Chocolate & Chilli Bar 75g",4.45]
[2135619,"Large Rose & Violet Creams 475g",39.950000000000003]
[2180602,"Medium Handmade Peppermint Creams 400g",20.5]
[2187351,"Fruit Berlingot 125g",5.95]
[4004720,"Pistachio & Pomegranate Delight with Rose Petals 1kg",55]
[2135638,"Medium Chocolate Covered Nut Selection 230g",28.95]
[8023941,"White Chocolate Carrot Cake Filled Bar 120g",6.95]
[2205096,"The Dark Chocolate Collection 420g",35]
[2180593,"Marrons Glace 160g",27.95]
[5026340,"Cocoa Dusted Dark Chocolate Pistachios 160g",12.95]
[2179312,"Dark Chocolate Rose & Violet Filled Bar 120g",6.95]
[2143901,"Lucky Penny Tin 90g",5.95]
[8018154,"Medium Milk Handmade Chocolate Selection 240g",26]
[2213313,"Maple and Pecan Fudge 300g",14.95]
[2179300,"Milk Chocolate Passionfruit Filled Bar 120g",6.95]
[2179310,"Dark Chocolate Elderflower Bar 75g",5.95]
[5026335,"Christmas Chocolate Slims 70g",7.95]
[2179299,"100% Dark Chocolate Bar 75g",5.95]
[2093429,"Loose Caramel Salted Butter Nougat from Isigny 1kg",75]
[2185310,"Pates De Fruits Tin 330g",17.5]
[8023942,"White Chocolate Fortnum's Matcha Filled Bar 120g",6.95]
[2074315,"White Chocolate Snowman 195g",25]
[2006842,"Mitcham Mint Bittermints 240g",19.95]
[2006839,"Icy Mints 250g",18.95]
[2135662,"Small Sandringham Coffee Truffle Box 130g",13.95]
[8018152,"EX Large Milk & Dark Handmade Chocolate Selection 950g",89.95]
[2135669,"Large Marc De Champagne Truffle Drum 500g",38]
[2006908,"Large Marzipan Fruits Selection 500g",26.95]
[2210501,"Ultimate Hot Chocolate Gift Pack 400g",25]
[2135636,"Medium Chocolate Ginger Selection 230g",28.95]
[2007069,"Milk Chocolate Coffin with White Chocolate Bones 190g",18.95]
[8018156,"Small Dark Handmade Chocolate Selection 120g",15.95]
[8018151,"Large Milk & Dark Handmade Chocolate Selection 460g",39.950000000000003]
[2135670,"Large Pink Marc de Champagne Truffle Drum 500g",38]
[2172298,"Wooden box glace clementines 500g",30]
[2006896,"Chocolate Dipped Lemon Slices 140g",18.5]
[8018153,"Small Milk Handmade Chocolate Selection 120g",15.95]
[2063686,"Trick or Treat Truffles Box 125g",18.95]
[2135666,"Medium Pink Marc De Champagne Truffle Drum 250g",20]
[2214014,"Witches Fingernails - Pumpkins seeds in Chocolate 200g",8.5]
[8026252,"Halloween Skull Candy 150g",5.95]
[2190106,"F&M EDN Sliding Door Counter Box",40]
[2153011,"Loose Anise Ball Sweets 1kg",30]
[2135654,"F&M Chocolate Fudge 300g",13.95]
[5026339,"Salted Caramel Almonds 170g",9.9499999999999993]
[2202333,"Fortnum's Chocolate Lovers Advent Calendar",35]
[2007068,"Pair Of White Chocolate Skulls 85g",10]
[2179304,"Dark Chocolate Orange with Pieces 75g",5.95]
[2187352,"Salted Caramel Berlingot 125g",2.95]
[2006690,"Loose Marzipan Products kg",85.5]
[5012591,"Ewan's Tablet 300g",13.95]
[2203280,"Christmas Peppermint Bark 150g",12.95]
[2205252,"Mazipan Mixed Selection 100g",9.9499999999999993]
[8024343,"Perivian cocoa nibs kg",0]
[2180727,"Large Dark Rose and Violet Creams 475g",39.950000000000003]
[2135665,"Medium Marc De Champagne Truffle Drum 250g",20]
[2154091,"Mint Napolitains Medium 28pc 182g",17.95]
[2179314,"Milk Chocolate Marc de Champagne Filled Bar 120g",6.95]
[2203553,"Loose Cezerye with Pistachio & Pomegranate 1kg",55]
[2006696,"Loose Rose Turkish Delight 2kg",40]
[2006697,"Loose Lemon Turkish Delight 3kg",40]
[8018155,"Large Milk Handmade Chocolate Selection 460g",39.950000000000003]
[2006840,"Icy Mints 500g",30]
[2174155,"Ultimate Dark Hot Chocolate 300g",19.95]
[8026275,"Christmas Coal 250g",12.95]
[2205222,"Marzipan Christmas Puddings 100g",9.9499999999999993]
[5016334,"Assorted Jumbo Raisins 200g",9.9499999999999993]
[2210800,"Dark Chocolate Dragee filled with Cognac 140g",8.9499999999999993]
[2173623,"Loose Marzipan Corn kg",85.5]
[2135635,"Medium Chocolate Covered Stem Ginger 250g",28.95]
[2135664,"Small Sea Salted Caramel Truffle Drum 125g",13.95]
[2215156,"Christmas 2020 Caramel Truffle Bauble 55g",10.95]
[5025047,"Petits Fours 300g",14.95]
[5026341,"Dark Chocolate Cocoa Dusted Almonds 170g",9.9499999999999993]
[8023943,"Mylk Chocolate Vegan Bar (Rice Mylk) 120g",6.95]
[2187348,"Violet Flowers 125g",5.95]
[2187349,"Fruit flowers 125g",5.95]
[2006741,"Loose Marzipan Granny Smith Apple 1kg",85.5]
[2006899,"Glace Fruit Selection In A Wooden Box 1.1Kg",60]
[8018158,"Large Dark Handmade Chocolate Selection 460g",39.950000000000003]
[2135627,"Medium Dark Chocolate Selection 240g",26]
[2205093,"Ultimate Salted Caramel Hot Chocolate 300g",19.95]
[2136210,"Pick Your Poison Boozy Truffles 130g",18.95]
[2188717,"Milk and Dark Truffles 135g",13.95]
[2179315,"Milk Chocolate Praline Filled Bar 120g",6.95]
[8023944,"Milk Chocolate Fortnum's Single Malt Whisky Bar 120g",6.95]
[2215158,"Confectionery Wooden House Advent Calendar",135]
[2203259,"Loose Chocolate Ingot Gianduja 1KG",95]
[2207900,"Loose Dragons Eggs - Bijoux Orange 1kg",95]
[5025048,"Petits Fours 600g",50]
[2135625,"Large Milk Chocolate Selection 460g",39.950000000000003]
[2214189,"Chocolate Caramel Selection Medium 216g",24.95]
[5026338,"Cocoa Dusted Milk Chocolate Caramelised Pecans with Gianduja",24.95]
[2135660,"Small Cocktail Box Truffles 135g",13.95]
[2205063,"Highgrove Organic Milk Hot Chocolate 250g",12.95]
[5016336,"Dark Chocolate Ginger 190g",9.9499999999999993]
[2204553,"Christmas Reindeer Noses 150g",8.9499999999999993]
[2179246,"Sugared Almonds - Pastel Colours 210g",9.9499999999999993]
[2142829,"Chocolate Buttons 140g",6]
[8027004,"Gingerbread Rock Candy 150g",5.95]
[2006420,"Loose Milk Rose Cream 1kg",95]
[2173624,"Loose Marzipan Carrot kg",85.5]
[2006419,"Loose Dark Rose Cream 1kg",95]
[2006453,"Loose Milk Lemon Cream 1kg",95]
[2135658,"Small Pink Marc De Champagne Truffle Drum 125g",13.95]
[8025963,"Chocolate Gingerbread Man Matchbox 35g",6.5]
[2059136,"Loose Sweets kg",30]
[5016339,"Cocoa Dusted Milk Chocolate Almonds 380g",19.95]
[2214188,"Chocolate Caramel Selection Small 108g",15.95]
[8018149,"Small Milk & Dark Handmade Chocolate Selection 115g",15.95]
[4007562,"XXL Milk & Dark Handmade Chocolate Selection 2.275kg",210]
[2207899,"Loose Dragons Eggs - Bijoux Black 1kg",95]
[2139770,"Ultimate Milk Hot Chocolate 300g",19.95]
[2135639,"Rose & Lemon Turkish Delight 227g",15]
[2214181,"Milk Chocolate Coated Pumpkin Spiced Caramel Popcorn 100g",10.95]
[2153010,"Loose Violet Flower Sweets 1kg",19.5]
[2204454,"Witches Brew Hot Chocolate 150g",8.9499999999999993]
[2006429,"Loose Dark Violet Cream 1kg",95]
[2006664,"Loose Crystallised Small Red Rose Petals 1kg",75]
[2173586,"Loose Multicoloured white chocolate hazelnuts (03.15) 1kg",65]
[2135652,"Treacle & Butter Toffee 230g",13.95]
[2006740,"Loose Marzipan Mandarin 1kg",85.5]
[2153014,"Loose Red Poppy Sweets 1kg",30]
[2006910,"Medium Christmas Marzipan Fruits Selection 275g",22]
[2156878,"Cerisettes 160g",19.95]
[2135643,"Mint Turkish Delight In A Wooden Box 227g",15]
[2215154,"Dark Chocolate Caviar Tin 80g",10.95]
[2141685,"Rose Turkish Delight Tin 125g",8.9499999999999993]
[2189025,"Highgrove Organic Chocolate Covered Ginger 95g",6.95]
[8023329,"Dark Chocolate Cherries kg",0]
[2006413,"Loose Milk Orange Cream 1kg",95]
[2006667,"Loose Crystallised Love Roses 1kg",75]
[2093421,"Loose Ginger Nougat 1kg",75]
[2006670,"Loose Crystallised Mint Leaves 1kg",75]
[2099915,"Loose Chocolate Nougat 1kg",75]
[2205095,"Bar Library - The Milk Chocolate Collection 465g",35]
[5016338,"Milk Chocolate Hazelnuts 380g",19.95]
[2205220,"Marzipan Strawberry 100g",9.9499999999999993]
[2201338,"F&M Ruby Himalayan Salted Caramel Truffle 155g",6]
[8023163,"White Chocolate Hazelnut Praline kg",0]
[8023164,"Dark Chocolate Hazelnut Praline kg",0]
[8023165,"Pistachio truffle kg",0]
[2006469,"Loose Chocolate Ginger Stick 1kg",95]
[2006439,"Loose Dark Butterscotch 1kg",95]
[2136508,"Loose Raspberry Nougat 1kg",75]
[2207902,"Loose Dragons Eggs - Oranged Corfu Dragee 1kg",95]
[2006752,"LooseVanilla Fudge",75]
[2006767,"Loose Peanut Butter Fudge",75]
[2173609,"Loose Silver Sugared Almonds (12.21) 1kg",65]
[5030974,"Chocolate Toad in Gift Box 130g",25]
[5016335,"Dark Chocolate Coffee Beans 170g",9.9499999999999993]
[2198265,"Highgrove Organic Clotted Cream Fudge 227g",7.95]
[2189027,"Highgrove Organic Chocolate Covered Almonds",6.95]
[2179298,"70% Dark Chocolate Bar 75g",5.95]
[2006452,"Loose Dark Lemon Cream 1kg",95]
[2006775,"Loose Glace Kumquats 1kg",75]
[2173627,"Loose Marzipan Red Mushroom kg",75]
[2006428,"Loose Milk Violet Cream 1kg",95]
[2006436,"Loose Milk Blackcurrant Cream 1kg",95]
[2006661,"Loose Crystallised Ginger kg",95]
[2006666,"Loose Crystallised Whole Violet Flowers 1kg",75]
[2006769,"Loose Glace Pineapple Ring 1kg",75]
[2153013,"Loose Honey Ball Sweets 1kg",19.5]
[8023255,"Hot Chocolate -Nicaragua Juno 70% kg",0]
[8023638,"Loose Icy Mints kg",0]
[2006447,"Loose Milk Chocolate Stem Ginger 1kg",95]
[8024342,"Dusted Milk Royal Blend Truffle kg",0]
[2207901,"Loose Dragons Eggs - Yellow & Green Crete Dragee 1kg",95]
[2173594,"Loose Fruit Drops (alcohol free) (06.14) 1kg",65]
[2135657,"Marc De Champagne Truffle Drum Small 125g",13.95]
[2198272,"Highgrove Organic Enrobed Stem Ginger 95g",13.5]
[2199828,"Highgrove Organic Marc de Champagne Truffles 115g",13.5]
[8023118,"Wrapped Dark Chocolate Ganache with Arabica Coffee Beans",0]
[8024336,"Dark Chocolate Pistachio Praline Truffle kg",0]
[8027028,"Dark Ganache truffle",0]
[2006416,"Loose Milk Raspberry Cream 1kg",95]
[2006665,"Loose Crystallised Petals kg",75]
[2006433,"Loose Dark Pineapple Cream 1kg",95]
[2138461,"Loose Glaced Lemon Slice 1kg",75]
[8024087,"Vegan Peanut Brittle kg",0]
[8024337,"Milk Chocolate Hazelnut Gianduja Praline Truffle  kg",0]
[8024339,"White Chocolate Ganache Truffle kg",0]
[8027027,"Milk Ganache truffle",0]
[2006415,"Loose Dark Raspberry Cream 1kg",95]
[2006456,"Loose Milk Chocolate Marshmallow 1kg",95]
[2006455,"Loose Milk Lime Cream 1kg",95]
[2093437,"Loose Nougat kg",80]
[2006459,"Loose Dark Orange Nut Cluster 1kg",95]
[2006633,"Loose Valrhona French Palet kg",95]
[2006668,"Loose Crystallised Violet Petals 1kg",75]
[2006754,"Loose Honey Fudge",75]
[2006758,"Loose Rum & Raisin Fudge",75]
[2006759,"Chocolate Orange Fudge",75]
[2006763,"Loose Ginger Fudge",75]
[2173584,"Loose Dark chocolate Coffee Beans 1kg",65]
[2203258,"Chocolate Ingot Gianduja 500g",45]
[2135641,"Assorted Turkish Delight In A Wooden Box 1Kg",40]
[2214190,"Chocolate Caramel Selection Large 288g",39.950000000000003]
[2135632,"Medium Milk & Dark Chocolate Selection 245g",26]
[2135645,"Cherry & Berries Turkish Delight 227g",15]
[2198273,"Highgrove Organic Milk Chocolate Salted Caramel Truffle 115g",13.5]
[5016332,"Milk chocolate Cocoa Dusted Almonds 170g",9.9499999999999993]
[4007212,"Loose Ruby Kent Honey Truffles 1kg",0]
[5026330,"Coloured Easter Egg Sugar Shell with Liquid Centre",0]
[8023238,"Caramel Cremino wrapped kg",0]
[2006421,"Loose Milk Strawberry Cream 1kg",95]
[2006446,"Loose Dark Chocolate Stem Ginger 1kg",95]
[2006458,"Loose Milk Lemon Nut Cluster 1kg",95]
[2214215,"Loose Milk Chocolate Praline with Nougatine 1kg",95]
[2006451,"Loose Dark langues De Chat",95]
[2214211,"Loose Dark Chocolate Morello Cherry Ganache 1kg",95]
[2006770,"Loose Glace Red Cherries 1kg",75]
[2194070,"Loose Shiny Gold Sugared Almonds 1kg",70]
[2173602,"Loose Pistachio-coloured Sugared Almonds (09.41) 1kg",65]
[2198280,"Highgrove Organic After Dinner Peppermint Thins 200g",12.95]
[2201637,"Gold Dusted Truffles 165g",2]
[8023254,"Hot Chocolate - Dominican Republic Taino 65% kg",0]
[2214201,"Loose Milk Chocolate Black Truffle Caramel 1Kg",95]
[2212400,"Loose Dark chocolate Orange wholes kg",0]
[2006468,"Loose Dark Ginger Cream 1kg",95]
[2006426,"Loose Dark Vanilla Cream 1kg",95]
[2006464,"Loose Dark Almond Cluster 1kg",95]
[8023119,"Wrapped Milk Chocolate Praline with Almond and Hazelnut",0]
[2006440,"Loose Dark Brazil Nut 1kg",95]
[2006414,"Loose Dark Orange Cream 1kg",95]
[2136503,"Loose Fig & date Nougat 1kg",75]
[8023430,"Dark Chocolate Praline Rocher EA",3.95]
[2006434,"Loose Milk Apricot Cream 1kg",95]
[2006422,"Loose Dark Strawberry Cream 1kg",95]
[2006425,"Loose Milk Vanilla 1kg",95]
[2006430,"Loose Dark Raisin Square 1kg",95]
[2006450,"Loose Milk langues De Chat",95]
[2006628,"Loose Maple Pecan Truffle 1kg",95]
[2006630,"Loose Bucks Fizz Truffle 1kg",95]
[2006634,"Loose Valrhona French Palet Argent kg",95]
[2006641,"Loose Valrhona Tarte Tatin kg",95]
[2006643,"Loose French Millefeuille kg",95]
[2177084,"Loose Almond Praline Dulcey 1Kg",95]
[2214203,"Loose Milk Chocolate Muscavado Sugar Salted Caramel 1kg",95]
[2214216,"Loose Dark Chocolate Hazelnut Praline with Bresillienne 1kg",95]
[8022199,"Dulcey Choc Hazelnut Praline & Almond Pieces Rinette 1kg",95]
[8023201,"Vegan Salted Caramel Truffle kg",95]
[2006787,"Loose Glace Orange Slices 1kg",75]
[2153015,"Loose Little Fruit Flower Sweets 1kg",30]
[2202332,"Children's Chocolate Advent Calendar",22]
[2135644,"Ginger Turkish Delight 227g",11.25]
[5016333,"Cinnamon Milk Choc Almonds 170g",9.9499999999999993]
[8022205,"Dark Chocolate Almond & Hazelnut Praline Malakoff Noir kg",0]
[8022207,"White Chocolate Praline with almonds & hazelnuts kg",0]
[8022209,"Milk Chocolate Ganache Tiramisu kg",0]
[8022210,"Dark Chocolate Ganache Pear Flavoured kg",0]
[8022213,"Dark Chocolate Ganache Opera Coffee & Almond Paste kg",0]
[8023264,"Dark Chocolate marzipan & walnut with gold leaf finish kg",0]
[8023265,"Milk Chocolate Gianduja with vanilla & hazelnut kg",0]
[8023639,"Loose Bittermints kg",0]
[2214198,"Loose Milk Chocolate Oud Caramel 1Kg",95]
[2006620,"Loose Amaretto Truffle 1kg",95]
[8020538,"Milk Costa-Rica 38% Caramel with Camargue salt kg",95]
[2006781,"Loose Glace Plums 1kg",75]
[2006454,"Loose Dark Lime Cream 1kg",95]
[8024086,"F&M Heather Honey Brittle kg",0]
[2006785,"Loose Glace Barbarie Figs 1kg",75]
[2006688,"Loose Marrons Glace kg",75]
[2006760,"Loose Fudge kg",75]
[2006418,"Loose Dark Coconut Roche 1kg",95]
[2006550,"Loose Chocolate Figs 1kg",95]
[8025579,"Dark Strawberry & Rose White Chocolate Ganache",0]
[2214199,"Loose Dark Chocolate Soya Vanilla Caramel 1Kg",95]
[2006441,"Loose Milk Brazil Nut 1kg",95]
[2214197,"Milk Chocolate Classic Caramel",95]
[2214218,"Loose Milk Chocolate Pecan Praline Crunch 1kg",95]
[2006598,"Loose Almond Battonet Milk 1kg",95]
[2214212,"Loose Dark Chocolate Blackcurrant Ganache 1kg",95]
[2006739,"Loose Marzipan Conference Pear 1kg",85.5]
[2173626,"Loose Marzipan Green Fig kg",85.5]
[2006755,"Loose Treacle Fudge",75]
[2006774,"Loose Glace Kiwi Slices 1kg",75]
[2006777,"Loose Glace Mirabelle Plums 1kg",75]
[2088156,"Loose Glace Hot Chilli Pepper 1kg",75]
[2006832,"Crystallised Peppermints 200g",24]
[2198270,"Highgrove Organic Ginger Fudge Bag 100g",3.5]
[8023253,"Hot Chocolate -Nicaragua Oh Juno 45% milk kg",0]
[8023256,"Hot Chocolate - Guatemala Rio Dulce 70% kg",0]
[8023261,"Gianduja Chocolate Cornet kg",0]
[8023262,"Assorted Chocolate Sea Shells kg",0]
[8023263,"Milk Chocolate Marzipan, rum & almond kg",0]
[8026747,"Milk Andoa Lactee 39% 3kg bag",0]
[8024341,"Milk Violet Fondant Truffle kg",0]
[8020540,"Milk Venezuela 43% Praline of hazelnuts 100 % kg",95]
[2006768,"Loose Glace Apricots 1kg",75]
[8023431,"Milk Chocolate Praline Rocher EA",3.95]
[2173628,"Loose Marzipan Tomato kg",85.5]
[2006586,"Loose Gin & Lemon Truffle 1kg",95]
[2201334,"Loose Ruby Countess Grey Chocolate 1kg",95]
[8024332,"Dark Rum Pussers Truffle kg",0]
[2006448,"Loose Dark Hazelnut Baton 1kg",95]
[2006693,"Loose Crystallised Fondants kg",95]
[2006743,"Loose Marzipan Strawberry Jubilee 1kg",85.5]
[8025581,"Milk Banoffee Pie Milk Chocolate Ganache",0]
[2214196,"Milk Chocolate Fortnum's Ling Heather Honey Caramel",95]
[2214200,"Loose Milk Chocolate Passionfruit & Liquorice Caramel 1Kg",95]
[2214204,"Loose Milk Chocolate Rose Caramel 1kg",95]
[2214205,"Dark Choco Victoria Heirloom Rhubarb & Ginger Caramel",95]
[8024340,"Dark Rose Fondant Truffle kg",0]
[8025802,"White Choc with Strawberry, Raspberry & Blueberry Bark 600g",0]
[8025805,"Milk Chocolate Fruit & Nut 600g",0]
[8025807,"Milk Rocky Road (Popcorn, Biscuit & Marshmallow) Bark 600g",0]
[8025809,"Milk Maple Pecan, Smoked Salted & Crepe Dentelle Bark 600g",0]
[8025811,"Milk Chocolate with Hazelnut & Almond Bark 600g",0]
[2006457,"Loose Dark Chocolate Marshmallow 1kg",95]
[2006551,"Loose Chocolate Dipped Mandarins 1kg",95]
[2006449,"Loose Milk Hazelnut Baton 1kg",95]
[8023116,"Wrapped Milk Chocolate Ginaduja with Crepe Dentelle",0]
[8023117,"Wrapped Milk Chocolate Praline Amandes Noisettes",0]
[2006437,"Loose Dark Blackcurrant Cream 1kg",95]
[2006553,"Loose Apricots in White Chocolate 1kg",95]
[2006435,"Loose Dark Apricot Cream 1kg",95]
[2006442,"Loose Milk Coffee Cream 1kg",95]
[5047375,"The Ultimate Halloween Chocolate & Marzipan Selection 1.6kg",165]
[2006400,"Loose Dark Marc De Champagne Truffle 1kg",95]
[2006410,"Loose Milk Marc De Champagne Truffle 1kg",95]
[2006431,"Loose Milk Raisin Square 1kg",95]
[2006461,"Loose Milk Chocolate Solid Owls 1kg",95]
[2006462,"Loose Milk Chocolate Solid Frogs 1kg",95]
[2006463,"Loose White Chocolate Mice With Tail 1kg",95]
[2214206,"Loose Dark Chocolate Elderflower Caramel 1kg",95]
[2214208,"Loose Milk Chocolate Yuzu Kosho Ganache 1kg",95]
[2214209,"Loose Dark Chocolate Pomegranate & Hibiscus Ganache 1kg",95]
[2214213,"Loose Milk Chocolate Praline with Feuilletine 1kg",95]
[2214214,"Loose Dark Chocolate Praline with Feuilletine 1kg",95]
[8023200,"Vegan Brazil Nut Praline Truffle kg",95]
[8023202,"Vegan Monsoon Malabar Coffee Truffle kg",95]
[2006776,"Loose Glace Melon Slices 1kg",75]
[2167666,"Loose Candied Glazed Bergamote Slices 1kg",75]
[2167667,"Loose Candied Glazed Blood Orange Slices 1kg",75]
[2167668,"Loose Candied Glazed Lime Slices 1kg",75]
[2173587,"Loose Dark chocolate truffle cocoa beans (04.29) 1kg",65]
[2173597,"Loose Blue Sugared Almonds (08.07) 1kg",65]
[2173600,"Loose Mediterranean Fruits Sugared Almonds (09.33) 1kg",65]
[8018985,"Heart Chocolate Selection Box 550g",60]
[2006701,"Loose Orange Turkish Delight 2kg",40]
[2135642,"Pistachio Turkish Delight In A Wooden Box 227g",15]
[2201337,"F&M Ruby Hot Chocolate 155g",12.95]
[8022204,"Milk Chocolate Almond & Hazelnut Praline Malakoff Lait kg",0]
[8022211,"Dark Chocolate Ganache Caramalised Apricot kg",0]
[8023252,"Hot Chocolate - Honduras Mayan  61% milk kg",0]
[8024088,"Pecan Brittle kg",0]
[8024666,"Wrapped Calissons kg",0]
[8024667,"Wrapped White Nougat kg",0]
[8024668,"Wrapped  Black Nougat kg",0]
[8025577,"White Chocolate Baked Bean Truffle kg",0]
[8025578,"White Chocolate Knickerbocker Glory Truffle kg",0]
[8026746,"Manjari 64% dark chocolate 3kg bag",0]
[2006622,"Loose Creme De Banane Truffle 1kg",95]
[2006618,"Loose Grand Marnier Truffle 1kg",95]
[2006417,"Loose Milk Coconut Roche 1kg",95]
[2006407,"Dark Sea Salted Caramel Truffles 1kg",95]
[2006779,"Loose Glace Peach Halves 1kg",75]
[8025580,"Dark Apricot Jam with honey Ganache",0]
[8025583,"Milk Guava & Passionfruit Milk Chocolate Ganache",0]
[8025584,"Dark Fortnum's Earl Grey Ganache",0]
[8025826,"Dark Kalamansi Ganache",0]
[2214202,"Loose Dark ChocF&M Burlington Orange Marmalade Caramel 1kg",95]
[2006780,"Loose Glace Pears 1kg",75]
[2006399,"Loose Milk Chocolate Lemon Peel 1kg",95]
[2201333,"Loose Ruby Marc de Champagne Chocolate 1kg",95]
[2212401,"Loose Dark chocolate Lemon wholes kg",0]
[2130425,"Fortnum's Kir Royale truffle",95]
[2130401,"Loose Sandringham Espresso Truffle 1kg",95]
[2130427,"Fortnum's London Gin with Orange Truffle",95]
[2006443,"Loose Dark Coffee Cream 1kg",95]
[2130402,"Loose Sandringham Tiramisu Truffle 1kg",95]
[2130426,"Fortnum's London Gin with Lime Truffle",95]
[8020539,"Venezuela 43% Caramel with smoked Maldon salt kg",95]
[8025803,"Dark Choc with Preztals & Caramelised Hazelnuts Bark 600g",0]
[8025804,"Dark Chocolate Bakewell Tart Bark 600g",0]
[8025806,"Dark Hemp Choc, Pumpkin, Sunflower Seed Bark 600g",0]
[8025808,"White Chocolate with F&M Matcha & Seasame Bark 600g",0]
[8025812,"Blonde Chocolate with Macadamia Nut Bark 600g",0]
[8025813,"Blonde Chocolate with Roasted Coffee & Walnut Bark 600g",0]
[8025814,"Milk Chocolate with Candied Fruits 600g",0]
[2006773,"Loose Glace Strawberries 1kg",75]
[2214210,"Loose Milk Chocolate Maple and Smoked Salt Ganache 1kg",95]
[2214217,"Loose Dark Chocolate Pistachio Praline Crunch 1kg",95]
[2214219,"Loose Milk Chocolate Almond Praline Crunch 1kg",95]
[5016342,"The Full Chocolate Bar Library Collection 1.8Kg",42]
[2006901,"Glace Apricots In A Wooden Box 500g",30]
[8021181,"Chocolate Flowers 115g",14.95]
[2211730,"Hazelnut & Blonde Chocolate Nut Egg 190g",14.75]
[8023257,"Sugar Free White Chocolate Orange fill kg",0]
[8025582,"Dark Cherry Jam & Orange Milk Chocolate Ganache",0]
[2201335,"Loose Ruby Pink Gin Chocolate 1kg",95]
[2214207,"Loose Dark Chocolate Raspberry Caramel 1kg",95]
[8025810,"Dark Chocolate with Toffee, Ginger and Date Bark 600g",0]
[2173611,"Loose Peanut Brittle kg",65]
[2201332,"Loose Ruby Himalayan Salted Caramel Truffle 1kg",95]
[2093425,"Loose Honey Almond Nougat 1kg",75]
[2006424,"Loose Dark Vanilla Caramel 1kg",95]
[2061109,"Loose Chocolate kg",95]
[2127558,"Loose Chocolate Lychee & Rose 1kg",95]
[2127560,"Loose Chocolate Sour Cherry 1kg",95]
[2214841,"Easter Loose Choc Mini Eggs kg",95]
[8018710,"Loose Chocolate praline skulls with Walnut toppper 1kg",95]
[2209713,"Loose Halloween Dragons Egg Dragees KG",75]
[2204958,"Loose Baklava kg",55]
[2214842,"Easter Loose Sweets kg",55]
[2165960,"Loose Easter Chocolates and Sweets kg",42.5]
[2161040,"XXL Milk & Dark Handmade Chocolate Selection 2.275kg",210]
[2198268,"Highgrove Organic Salted Caramel Fudge Bag 100g",3.5]
[2135631,"Small Milk & Dark Chocolate Selection 115g",15.95]
[8026758,"Ultimate Chocolate Refill 300g",15]
[2161475,"Ten Easter Slims 100g",3.75]
[8026759,"Origin Hot Chocolate 250g",15]
[2006691,"Loose Sugared Almonds kg",65]
[2006694,"Loose Glace Fruit kg",80]
[8026750,"Bouche Bar",2.95]
[2006685,"Loose Marshmallow EA",1]
[8022815,"Whole Arturo Sanchez Leg",875]
[8022817,"Eiriz Iberico Whole Leg",850]
[5004776,"Hafod Wheel 9.2kg",399]
[8019179,"Hafod Wheel 10kg",399]
[5004777,"Kirkham's Lancashire Wheel 9.5kg",325]
[8017720,"The Ultimate Banquet Picnic",320]
[5004774,"Brie à la Truffe Wheel 3kg",280]
[8017721,"The Sandringham Picnic",280]
[8019177,"Brie a la Truffe Wheel 4kg",280]
[5004775,"Stichelton Wheel 7.4kg",260]
[8019180,"Stichelton Wheel 8kg",255]
[5004778,"Appleby's Cheshire Wheel 7.5kg",250]
[8022816,"zzzEiriz Iberico",225]
[2003206,"Whole Christmas Ham 5kg",125]
[2003357,"Goose Foie Gras with Truffles 310G",120]
[2003226,"Whole Alderton Ham 5.5kg",115]
[5062465,"Champagne Breakfast Box",100]
[8017722,"The Victoria Picnic",95]
[2003207,"Half Christmas Ham, 2.1kg",90]
[2003355,"Goose Foie Gras En Gelee 310G",90]
[2183842,"The 30g Oscietra Caviar Hamperling",90]
[2154865,"Father's Day Cook's Box",85]
[5004773,"Brie De Meaux Wheel 3kg",85]
[5027555,"Lomito",85]
[5027556,"Lomo",85]
[8019176,"Brie De Meaux Wheel 3kg",85]
[2003354,"Goose Foie Gras En Gelee 250G",75]
[5062283,"Beef Wellington",75]
[5062466,"Sparkling Tea Breakfast Box",75]
[2192255,"Organic F&M Baby Stilton 2.2kg",68]
[2116299,"Cardo",65]
[2214009,"Bacon Honey Biltong",65]
[2214010,"Bacon Chilli Biltong",65]
[8020498,"Old Ford",62]
[5002531,"Cosne de Port Aubry",60]
[5033414,"The Fortnum's Provisions Box",60]
[5052893,"The Fine Cheese Box",60]
[2117969,"Chorizo Iberico Bellota",52]
[2117971,"Salchichon Iberico Bellota",52]
[2215092,"Lardo",52]
[5062462,"Salmon Breakfast Box",50]
[5062463,"Meat Breakfast Box",50]
[5062464,"Veggie Breakfast Box",50]
[5064018,"Christmas Cheese Box",50]
[8025798,"Marechal",50]
[2002074,"Ostrich Egg",45]
[2003216,"Half Shropshire Black Ham 2.1kg",45]
[2003223,"Half Wiltshire Ham Decorated 2.1 Kg",45]
[5025166,"Biggar Blue",45]
[5066303,"1605 Cured Manchego",44]
[2003224,"Half Decorated York Ham 3kg",42.5]
[2003268,"Proscuitto San Daniele Boneless",42]
[2202520,"Leeds Blue",42]
[2213633,"Lanark Blue",42]
[2144459,"Emu Egg",40]
[2159748,"Cooked Whole Salmon En Croute",40]
[5052894,"British Farmhouse Cheese Selection",40]
[5062285,"Salmon en Croute",40]
[2212360,"Vegetarian Wellington",39.950000000000003]
[5004336,"Vegetarian Wellington",39.950000000000003]
[5067528,"Vegetarian Wellington",39.950000000000003]
[2175746,"Christmas Pie 1.35kg",38.950000000000003]
[2214708,"Chedworth Double Gloucester",38.5]
[2159782,"Cranberry Topped Pork Pie 1.35Kg",36.950000000000003]
[2003352,"Goose Foie Gras En Gelee 100G",35]
[2214155,"The Cheese Lovers Selection",35]
[5002530,"Cantal au lait de salers  ",35]
[5026694,"Pitchfork Cheddar",35]
[5027557,"Morcon",35]
[5027559,"Salchichon",35]
[5065895,"Cornish Kern",35]
[2118591,"Vacherin 1.25kg",34.950000000000003]
[2207851,"Poacher's Pie 1.36kg",34.950000000000003]
[2207860,"Venison and Onion Pie 1.36kg",34.950000000000003]
[2215126,"Game Pie 1.36kg",34.950000000000003]
[4004404,"Cream Cheese",32]
[4004408,"Rebellion",32]
[2192253,"Cloth Bound Cheddar Truckle 1.8kg",30]
[5065894,"Ashcombe",30]
[8017723,"The Rambler",30]
[2207837,"Pork and Egg Pie 1.36kg",29.95]
[2207839,"Turkey, Cranberry and Stuffing Pie 1.36kg (Christmas Pie)",29.95]
[2207854,"Ploughman's Pie 1.36kg",29.95]
[2207858,"Chicken and Ham Pie 1.36kg",29.95]
[2207862,"Cranberry Topped Pork Pie 1.36kg",29.95]
[2215146,"DAD Pork Pie 1.36g",29.95]
[4005227,"1924",29]
[5002534,"Bleu des Causses",29]
[5007006,"Champagne and Scone Hamperling",28.95]
[5033869,"Box of 6 x Truffle Scotch Eggs",28.95]
[2002897,"Winterdale Shaw",28]
[2136117,"Mini Christmas Ham 900g",28]
[2207673,"AH Rabbit Pasta Sauce",28]
[2003269,"Smoked Turkey",27]
[5035827,"Senorio de Monatanera Iberico 100% de Bellota 100g",26.5]
[2003194,"Whole Hand Carved Shropshire Black Ham",25]
[2192125,"AH Agnolotti Rabbit",25]
[2206810,"Grana Padano",25]
[5013885,"Grated Grana Padano",25]
[5030492,"COVAP Iberico Pack 100g",25]
[5030493,"Eiriz Iberico Pack 100g",25]
[8013680,"Membrillo Quince Paste",25]
[8023103,"Ogleshield",25]
[2003202,"Zz Hand Carved Fortnum Smoked York Ham",24.5]
[2158861,"Christmas White Stilton Jar 350g",24]
[2184451,"Stilton Jar Duo Pack Traditional & Madeira",23]
[5033864,"Box of 6 x Caramelised Onion Scotch Eggs",22.95]
[5033865,"Box of 6 x Jalapeno Scotch Eggs",22.95]
[8027098,"Buffalo Ricotta Casamadaio 500g",21.95]
[5054525,"Halloumi, Courgette Salad",20]
[5054526,"Cauliflower Salad",20]
[5054527,"Asparagus, Pancetta & Pinenut Salad",20]
[2162451,"Cranberry Topped Oval Game Pie 1.35kg Half",19.95]
[5024763,"Venison and Haggis Wellington",19.95]
[5024939,"Soumaintrain 500g",19.95]
[2140138,"Foie Gras with Montmorency Cherries 50gr",19.5]
[5002533,"Plancherin de'arches",19.5]
[2162452,"Cranberry Topped Pork Pie 1.35kg Half",18.95]
[5054524,"Box of 4 x Truffle Scotch Eggs",18.95]
[8024811,"Mini Pie Selection Box",18]
[8026273,"Cacio e Pepe LRG with Chianti",18]
[2213246,"Half Poacher's Pie",17.45]
[2213250,"Half Venison and Onion Pie",17.45]
[8025140,"Grouse Pithivier",16.95]
[2163574,"The Vegetarian Plate",16]
[8026272,"Cacio e Pepe REG with Chianti",16]
[2002915,"Vacherin 500g",15.95]
[5032974,"Truffle Rarebit 250g",15.95]
[2207907,"Pork Pie 910g",14.95]
[2213240,"Half Pork and Egg Pie",14.95]
[2213242,"Half Christmas Pie",14.95]
[2213244,"Half Ploughman's Pie",14.95]
[2213248,"Half Chicken and Ham Pie",14.95]
[2213254,"Half Cranberry Topped Pork Pie",14.95]
[5033695,"Templegall 400g",14.95]
[5054516,"Box of 4 x Traditional Scotch Eggs",14.95]
[5054517,"Box of 4 x Caramelised Onion Scotch Eggs",14.95]
[5054518,"Box of 4 x Jalapeno Scotch Eggs",14.95]
[5054519,"Box of 4 x Black Pudding Scotch Eggs",14.95]
[5054520,"Box of 4 x Streaky Bacon Scotch Eggs",14.95]
[5054521,"Box of 4 x Vegetarian Scotch Eggs",14.95]
[5054523,"Box of 4 x Christmas Scotch Eggs",14.95]
[4005192,"Sir Lancelot",14.5]
[2175742,"Zz Mini Boxing Day Ham",14]
[5010073,"Blackmount",14]
[5035828,"Senorio de Monatanera Lomo 100g",13.95]
[2002924,"Epoisses",13.5]
[2190873,"Potted Elegant Rarebit 250g",12.95]
[2205064,"Potted Blushing Rarebit 250g",12.95]
[5026695,"Little Rollright",12.95]
[5033697,"Devon Blue 400g",12.95]
[5033700,"Wigmore 250g",12.95]
[5054199,"Stichelton 300g",12.95]
[2133150,"Duck Leg Confit Pack of 2",12]
[2116295,"Tymsboro",11.95]
[2175737,"Stilton Jar Madeira 100g",11.95]
[5046830,"British Goat's Cheese 200g",11.95]
[5054200,"Cornish Yarg 300g",11.95]
[2199639,"AH Hot Lobster Ravioli",11.5]
[8023581,"Pixel",11]
[5033696,"Colston Bassett Blue Stilton 400g",10.95]
[5068387,"Coolea 300g",10.95]
[5068388,"Gubbeen 300g",10.95]
[8026835,"HOT hot smoked salmon bagel",10.6]
[2135583,"Traditional Stilton Jar 100g",10.5]
[2199608,"AH Reginette",10]
[2162454,"The Majestic Pie 400g Half",10]
[2192122,"AH Pappardelle",10]
[5002532,"Le montesquieu",10]
[5023826,"Cauliflower Steaks",10]
[2003295,"Targe Pork Saucisson",9.9499999999999993]
[2003297,"Targe Saucisson Green Pepper",9.9499999999999993]
[2003299,"Targe Saucisson With Hazelnut",9.9499999999999993]
[2142807,"Chicken Liver Parfait with Orange Jelly 250g",9.9499999999999993]
[2162453,"Cranberry Topped Pork Pie 1.35kg Quarter",9.9499999999999993]
[2175745,"Christmas Pie 400g",9.9499999999999993]
[2205657,"Petit Blaja",9.9499999999999993]
[5049384,"Truffle Salami 135g",9.9499999999999993]
[5049385,"Fig, Orange & Corriander Salami 135g",9.9499999999999993]
[5049386,"Juniper, Thyme & Pink Pepper Salami 135g",9.9499999999999993]
[5068389,"Kirkham's Lancashire 300g",9.9499999999999993]
[5068390,"Lincolnshire Poacher 300g",9.9499999999999993]
[5068391,"Westcombe Cheddar 300g",9.9499999999999993]
[5068392,"Gorwydd Caerphilly 300g",9.9499999999999993]
[2184789,"Fuet de Vic 200g",9.5]
[8026271,"Cacio e Pepe Large",9.5]
[2210309,"Hot Smoked Salmon Bagel",8.9499999999999993]
[5015516,"Smoked Salmon Open Sandwich",8.9499999999999993]
[5027650,"Porchetta and Salsa Verde Sandwich",8.9499999999999993]
[5068393,"Isle of Mull Cheddar 300g",8.9499999999999993]
[2213247,"Quarter Poacher's Pie",8.75]
[2213251,"Quarter Venison and Onion Pie",8.75]
[2212201,"St Cera Cheese",8.5]
[8018673,"Buchette de Manon",8.5]
[8026270,"Cacio e Pepe regular",8.5]
[2211146,"Prepacked Salmon and Rye Bread Box",8]
[2130220,"Graceburn Cheese",7.95]
[2207836,"Pork and Egg Pie 439g",7.95]
[2207838,"Turkey, Cranberry and Stuffing Pie 440g (Christmas Pie)",7.95]
[2207847,"Game Pie 440g",7.95]
[2207849,"Huntsman Pie 440g",7.95]
[2207853,"Ploughman's Pie 440g",7.95]
[2207859,"Venison and Onion Pie 440g",7.95]
[2207861,"Pheasant Pie 440g",7.95]
[5000396,"Valentine's Pork Pie",7.95]
[2213996,"Brefu Bach",7.65]
[2199538,"Innes Burr 70g",7.5]
[2141480,"Rosa Dell'Angelo Cooked Ham 100g",7.5]
[2167869,"Cipressi in Chianti Porchetta 100g",7.5]
[2215408,"Pre Packed Jowl 75g",7.5]
[2215411,"Pre Packed Air-Dried Dairy Beef 75g",7.5]
[5009059,"Hot Christmas Sandwich",7.5]
[2213241,"Quarter Pork and Egg Pie",7.45]
[2213243,"Quarter Christmas Pie",7.45]
[2213245,"Quarter Ploughman's Pie",7.45]
[2213249,"Quarter Chicken and Ham Pie",7.45]
[2213255,"Quarter Cranberry Topped Pork Pie",7.45]
[8026833,"HOT Duck Confit Sandwich",7.2]
[2003147,"Traiture Main Grilled Salmon",6.95]
[2128799,"F&M Bespoke Sandwich",6.95]
[2167872,"Rosa Dell'Angelo Antipasto di Salumi 100g",6.95]
[2213325,"Fortnum's Ultimate Christmas Sandwich",6.95]
[5009778,"Nut Roast in Panibois",6.95]
[2002067,"Clarence Court Goose Egg Pack of 1 egg",6.5]
[2215405,"Pre Packed Coppa spiced 75g",6.5]
[2215406,"Pre Packed Coppa Smoked 75g",6.5]
[2215407,"Pre Packed Spiced Loin 75g",6.5]
[2214036,"Hot Chicken and Leek Pie",6.45]
[2214037,"Hot Pork and Blue Cheese Pie",6.45]
[2214038,"Hot Moroccan Lamb Pie",6.45]
[2214039,"Hot Pheasant and Pancetta Pie",6.45]
[2214040,"Hot Spinach and Goat's Cheese Pie",6.45]
[2214042,"Hot Vegan Vegetable Tagine Pie",6.45]
[5001865,"Hot Chicken and Ham Pie",6.45]
[5009060,"Hot Christmas Pie",6.45]
[8024402,"Hot Chicken & Ham Pie",6.45]
[2211147,"Prepacked Aubergine and Chickpea Salad",6]
[5058769,"HOT Four Cheese Pizzette",6]
[5058770,"HOT Artichoke Pizzette",6]
[2002895,"Plain Perroche",5.95]
[2180148,"Duck Confit & Truffle Honey Sandwich",5.95]
[2215267,"Triple Creme Cheese 130g",5.5]
[2215409,"Pre Packed Achari Spiced Salami 75g",5.5]
[2215410,"Pre Packed Tempus Salami 75g",5.5]
[5011451,"HOT Truffle Scotch Egg",5.5]
[5029509,"Egg Mayonnaise Sandwich",5.5]
[2212351,"Cullen Skink Pie",5.45]
[2212352,"Chicken and Leek Pie",5.45]
[2212355,"Pheasant and Pancetta Pie",5.45]
[2212356,"Christmas Pie Individual",5.45]
[2212357,"Spinach and Goat's Cheese Pie",5.45]
[2212359,"Vegan Vegetable Tagine Pie",5.45]
[5024684,"Vegan Haggis Pie",5.45]
[5024685,"Venison, Port & Redcurrant Pie",5.45]
[5028731,"HOT Ham and Cheese Croissant",5.4]
[2118164,"Quarter Fig and Almond Wheel",5]
[5017365,"Soup of the Day & Roll",5]
[5029927,"Four Cheese Pizzette",5]
[2002790,"Echire Unsalted French Butter",4.95]
[8026285,"Truffle Scotch Egg",4.95]
[2003127,"Traiture Main Poached Salmon",4.8499999999999996]
[2180166,"Hot Caramelised Onion Scotch Egg",4.5999999999999996]
[2180172,"Hot Jalapeno Scotch Egg",4.5999999999999996]
[5011450,"HOT Christmas Scotch Egg",4.5999999999999996]
[2198246,"Ham & Cheese Croissant",4.5]
[5009780,"Super Green Soup",4.5]
[5009781,"Butternut Minestrone Soup",4.5]
[8026284,"Haggis and Whisky Scotch Egg",4.5]
[2166905,"Snacking Salami Fennel 50g",4]
[2166907,"Snacking Saucisson-Sec 50g",4]
[2166908,"Snacking Chorizo 50g",4]
[2166909,"Snacking Chorizo Hot 50g",4]
[5009782,"Hot Spinach and Ricotta Sausage Roll",4]
[2178530,"OJ Daily Dose Juice 300ml",4]
[5051935,"PRESS Super Glow Smoothie",3.99]
[5051936,"PRESS Super Berry Smoothie",3.99]
[5051937,"PRESS Super Greens Smoothie",3.99]
[2099329,"Organic Strained Greek Yogurt 340g",3.95]
[2118461,"Caramelised Onion Scotch Egg",3.95]
[2140109,"Bonnie Scotch Traditional Scotch Pie",3.95]
[2140110,"Cock-a-Leekie Chicken and Leek Pie",3.95]
[2140111,"Haggis Hunter Haggis Potato and Swede Pie",3.95]
[2140112,"Angus Blue Steak and Blue Cheese Pie",3.95]
[2141489,"Abernethy Smoked Butter 100g",3.95]
[2142792,"Brace and Dram Wild Game and Whisky Pie",3.95]
[2156959,"Mozzarella di Bufala Campana DOP Spinosa, 200g",3.95]
[2160446,"Jalapeno Scotch Egg",3.95]
[2164347,"Turkey, Cranberries and Stuffing Scotch egg",3.95]
[2205663,"Chilli Macaroni Pie",3.95]
[2207807,"Abernethy Black garlic butter 100g",3.95]
[2212403,"Mozzarella di Bufala Campana DOP 250g",3.95]
[2214018,"Miso & Seaweed butter 100g",3.95]
[2214021,"Unsalted butter 125g",3.95]
[4006907,"Florentine ice cream",3.95]
[2142906,"Orange Juice 1Lt",3.75]
[2002791,"Ivy House Farm Clotted Cream Jersey Butter 250g",3.5]
[2142844,"Ivy House Farm Salted Jersey Cream Butter 250g",3.5]
[2142845,"Ivy House Farm Unsalted Jersey Cream Butter 250g",3.5]
[2183210,"Haggis Scotch Egg",3.5]
[2212620,"Christmas Sausage Roll",3.5]
[8021198,"Burratina with Truffle",3.5]
[8021199,"Stracciatella in tub",3.5]
[8021200,"Burratina with Basil",3.5]
[5066317,"Cokoa Chocolate Almond Milk Drink",3.25]
[2178526,"Zenzero Daily Dose Juice 300ml",3]
[2198878,"Daily Dose Strawberry juice 300ml",3]
[2212202,"Picos de Pain 230g",3]
[4004075,"Seasonal Frittata",3]
[5001516,"Lemon & Spirulina Water+ 330ml",3]
[5001517,"Strawberry & Dragon Fruit Water+ 330ml",3]
[5009777,"Vegetable Filo Tart",3]
[8017764,"Daily Dose Apple Juice",3]
[2150543,"Leghorn Eggs (6 eggs per pack)",2.75]
[2167854,"Clarence Court Cornish Blue Duck Eggs",2.75]
[2190651,"Pork Pie Mini 120g",2.75]
[2203342,"Snackingham Juniper & Star Anise",2.65]
[2208547,"Snackling with Smoked Bacon 35g",2.65]
[2204319,"Gusto FT Naturally Slim Cola",2.5]
[2204321,"Gusto Organic FT Real Cola",2.5]
[8022311,"Gusto Organic Sicilian Lemon with Yuzu",2.5]
[2106480,"River Cottage Natural Yoghurt",2.25]
[5028516,"River Cottage Honey Yoghurt",2.25]
[5028517,"River Cottage Vanilla Yoghurt",2.25]
[5028520,"River Cottage Natural Yoghurt",2.25]
[2040112,"Snacking Salami Chilli Paprika",2]
[5007629,"Habanero Chilli Pork Crackling",2]
[5029507,"Meatball add on",2]
[8023324,"Lightly Salted 40g crisps",1.95]
[8023325,"Salt & Cider Vinegar 40g Crisps",1.95]
[8023326,"Hereford Bullshot 40g Crisps",1.95]
[8023327,"Hereford Hop Cheese & Onion 40g Crisps",1.95]
[5000830,"Dalston's Fizzy Blackcurrant",1.3]
[2128800,"F&M Bespoke Extra Filling",1]
[5062282,"Beef Wellington Menu Card",0.2]
[5062284,"Salmon en Croute Menu Card",0.2]
[2207306,"Truffle Cornish Gouda",0]
[2207679,"Large Hot Gnocchi and Sauce",0]
[2214025,"Organic Skimmed",0]
[2214029,"Organic Whipping cream, 250ml",0]
[2215121,"Mini clotted cream",0]
[2215145,"zzDAD Pork Pie 440g",0]
[4004076,"Salad Box",0]
[4004406,"Napier",0]
[4004407,"Nash",0]
[4004409,"Cheester Egg",0]
[4004410,"St Bruce",0]
[4004411,"Howard",0]
[4004950,"Sandwich/Cake Pack 135x120x66",0]
[4005193,"Brefu Bach",0]
[4005220,"Ste Maure",0]
[4005221,"Selles sur Couffy",0]
[4005222,"Pouligny",0]
[4005223,"Bicaillou",0]
[4005224,"Brebis Fougere",0]
[4005225,"Marechal",0]
[4005226,"Tommette Elutcha",0]
[4005228,"Bleu de Termignon",0]
[4005229,"Cosne de Port Aubry",0]
[4005230,"Etivaz",0]
[4005231,"Cantal",0]
[5000823,"Dalston's Cola",0]
[5000824,"Dalston's Real Lemonade",0]
[5000825,"Dalston's Real Orangeade",0]
[5000826,"Dalston's Raw Ginger Beer",0]
[5000827,"Dalston's Real Cherryade",0]
[5002529,"Tomme aux Fleurs",0]
[5002967,"Premium Pate de Campagne",0]
[5002968,"Ham Hock and Parsley Terrine",0]
[5002969,"Game en Croute",0]
[5003361,"Iberico Sleeves",0]
[5009783,"Veggie Wellington slice",0]
[5010071,"Dram Cheese",0]
[5010072,"London Blue",0]
[5024940,"Morbier",0]
[5028729,"Dalston 0% Original G&T",0]
[5028730,"Dalston 0% Rhubarb G&T",0]
[5068545,"Moroccan Vegetable Soup",0]
[5068546,"Pea and Iberico Ham Soup",0]
[5068547,"Sabrina Gayhour Soup",0]
[8020499,"Ogleshield",0]
[8021197,"Burratina with Gorgonzola",0]
[8022383,"White CPLA Spoon",0]
[8022384,"White CPLA Knife",0]
[8023336,"Neal’s Yard Waxed Cheese Paper                             ",0]
[8023475,"Greaseproof Paper LGF 375x500",0]
[8023477,"Butter Greaseproof Paper380x160",0]
[8024397,"Handee Cheese Cutter",0]
[8027461,"New Mini Pie Selection Box",0]
[8025797,"Fortnum's Empty Cheese Box",0]
[2078499,"Sparkling Water 750ml",1.95]
[2212767,"Patatas Fritas Crisps 150g",4.5]
[2078498,"Still Water 750ml",1.95]
[2078500,"Still Water 330ml",1.5]
[2078501,"Sparkling Water 330ml",1.5]
[5030381,"Halen Mon Pinch Me Tin",2.5]
[2002068,"Clarence Court Burford Brown Hen Eggs Pack of 6 Eggs",2.4500000000000002]
[2190730,"Deli EDN Cool Bag - Deli department",0]
[2207905,"Pork Pie Mini 150g",2.95]
[8025169,"60ml BioCane Sauce BioCups WHITE",0]
[2158771,"Parmigiano Reggiano San Pietro",37.5]
[5058767,"Reunion Picnic Menu Card",1]
[5033863,"Box of 6 x Traditional Scotch Eggs",22.95]
[5033866,"Box of 6 x Black Pudding Scotch Eggs",22.95]
[2002918,"Camembert Mons Reaux 250g",8]
[2212611,"Torres Truffle Crisps 125g",4.5]
[2002891,"Ragstone Goat",10.5]
[2002922,"Crottin De Chavignol",5]
[2160443,"Smoked Streaky Bacon Scotch Egg",3.95]
[2141849,"N'Duja Jar 180g",9.9499999999999993]
[2204322,"Gusto Organic FT Sicilian Blood Orange",2.5]
[2040522,"Montgomery's Cheddar",26.6]
[5033699,"Parmigiano Reggiano 250g",12.95]
[5018336,"Citrus Saffron Kombucha",3.99]
[2212612,"Torres Jamon Iberico Crisps 125g",4.5]
[2175739,"Waxed Cheddar Truckle 200g",6.95]
[2190880,"Truffled English Cheddar Wedge 400g",11.95]
[2067664,"Tunworth Cheese 250g",10.95]
[5018332,"Original Kefir",3.65]
[2002066,"Old Cotswold Legbar (6 eggs per pack)",2.65]
[5000828,"Dalston's Fizzy Elderflower",1.3]
[5000829,"Dalston's Fizzy Rhubarb",1.3]
[2002934,"Comte",35]
[2178525,"Dulce Verde Daily Dose Juice 300ml",3]
[2183206,"Duck Fritons 30g",2.4500000000000002]
[2203999,"Mangalitza Salami Chips",2.4500000000000002]
[5018333,"Honey and Cinnamon Kefir",3.75]
[2002896,"Lincolnshire Poacher",29.5]
[2156663,"Echire Salted French Butter",4.95]
[2133002,"Vegetarian Scotch Egg",3.95]
[2002874,"Mrs Kirkhams Lancashire",29.5]
[2003351,"Goose Foie Gras En Gelee 50G",20]
[8017313,"Mother's Ruin",8.9499999999999993]
[5018334,"Triple Ginger Kombucha",3.99]
[2204320,"Gusto Organic FT Ginger with Chipotle",2.5]
[5001518,"Ginger Super Shot 60ml",2.5]
[8022513,"Steak & Kidney Pie",5.45]
[5029090,"Truffle Butter",4.95]
[2141479,"Rosa Dell'Angelo Bresaola 100g",9.9499999999999993]
[8017312,"Devil's Mortar",8.5]
[2167867,"Cipressi in Chianti Antipasto della Casa 100g",7.5]
[2208545,"Snackling Sea Salted 35g",2.65]
[2208546,"Snackling with Red Apple 35g",2.65]
[5033698,"Baron Bigod 375g",19.5]
[2181977,"Rude Health Organic Almond Milk",2.4900000000000002]
[2183207,"Chorizo Thins 23g",2.4500000000000002]
[2003259,"Venison Salami (with Green Peppercorns)",49]
[5054201,"Hafod 300g",13.95]
[8017315,"Pig Tails",3.95]
[2214023,"Organic Whole milk, 500ml",2]
[5000831,"Dalston's Light Sparkling Rhubarb",1.3]
[2184453,"Foie Gras Terrine with Truffle 180g",85]
[5018335,"Strawberry Tulsi Kombucha",3.99]
[4004999,"Rude Health Cashew Drink",3.49]
[2212768,"Patatas Fritas Crisp Tin 500g",19.95]
[8018674,"Aged Comte",48]
[2215094,"Tempus Salami",44]
[5033694,"Montgomery's Cheddar 300g",13.46]
[5033693,"Mrs Applebys Pink Cheshire 300g",12.95]
[2175741,"Cave Aged Cheddar Wedge 454g",9.9499999999999993]
[2212354,"Moroccan Lamb Pie",5.45]
[2214022,"Sea salted butter 125g",3.95]
[2130856,"Hand-carved Iberico Ham (100g pack)",30]
[2002911,"St Marcellin",5]
[8017314,"Big Tails",3.95]
[2086649,"Snackingham Classic",2.65]
[8023461,"Eiriz Iberico",250]
[2002893,"Stichelton",35]
[2002942,"Valencay",10]
[2141484,"Rosa Dell'Angelo Truffle Salame 80g",7.95]
[2215007,"Westcombe Ricotta 250g",5.8]
[2212350,"Beef and Ale Pie",5.45]
[2212358,"Vegan Cauliflower Curry Pie",5.45]
[2183228,"Venison Sloe Gin & Garlic Salami 110g",7.5]
[2040111,"Snacking Salami Classic",2]
[2214024,"Organic Semi-skimmed milk, 500ml",2]
[2207304,"Pave Cobble 200g",10.95]
[2207857,"Chicken and Ham Pie 440g",7.95]
[2002930,"Beaufort",43]
[2197840,"Truffle Burrata",40]
[2002899,"Coolea",31.5]
[8023432,"Stainless Steel Lunch Box",25]
[8017311,"Lincoln Imp",5.95]
[2002802,"Greek Style Yoghurt 500g",3.4]
[2207850,"Poacher's Pie 440g",9.9499999999999993]
[2107725,"Isle Of Mull Cheddar Kg",29.5]
[2002982,"Traditional Stilton Jar 200g",14.5]
[2003250,"Smoked Duck Breast Whole",10]
[2214028,"Organic Clotted cream, 200ml",4.25]
[5000832,"Dalston's Light Sparkling Elderflower",1.3]
[2162444,"Camembert Aux Truffles",25]
[2143991,"Dorstone",9.9499999999999993]
[2167868,"Cipressi in Chianti Pancetta 100g",6.5]
[2002987,"Traditional Stilton Jar 1kg",40]
[2003183,"Fig & Almond Wheel 500g",20]
[2197841,"Rocchetta",40]
[2002972,"Gruyere Du Jura Suisse",43]
[2184448,"Stilton Jar Duo Pack Traditional & Truffle Honey",26]
[2002985,"Potted Blue Shropshire with Whisky 350g F&M",23.5]
[2158859,"Truffle & Honey Stilton Jar 100g",14.95]
[2207906,"Pork Pie 440g",7.95]
[2133152,"Duck Rillettes 100g",5.95]
[2002800,"Creme Fraiche 140g",2.75]
[2125036,"Moliterno Truffle",49]
[2116365,"English Damson Cheese Loose",36]
[2159822,"Foie Gras with Truffle 2 Slice",35]
[5033868,"Box of 6 x Vegetarian Scotch Eggs",22.95]
[2116283,"Perail",8.5]
[2212353,"Pork and Blue Cheese Pie",5.45]
[2214020,"Spiced date butter 100g",3.95]
[2214027,"Organic Single cream, 250ml",3]
[4004997,"Rude Health Oat Drink",2.29]
[2199539,"Devon Blue 3kg",33]
[2116355,"Membrillo Quince Paste",25]
[2203583,"Cacklebean box of 6 eggs, mixed",3.95]
[2003362,"Foie Gras Pain D'Epices 2 Slice",32]
[2087961,"Foie Gras Fig and Nut 2 slice",32]
[2003346,"Goose Foie Gras 2 Slice",30]
[8020496,"Brightwell Ash",9.8000000000000007]
[5028519,"River Cottage Raspberry Yoghurt",2.25]
[5027560,"Coren Boneless Serrano Ham",45]
[2002881,"Colston Bassett Blue Stilton Kg",28.5]
[2003434,"Somerset Reserve Cheddar 800g",15]
[2136109,"Waxed Cheddar Truckle 400g",8.9499999999999993]
[2156960,"Burrata, 250g",6.95]
[8023579,"Cirone",38]
[5030494,"Castro y Gonzalez Jamon de Bellota 100% Iberico",250]
[2142763,"Fourme D'Ambert",23]
[2003265,"Prosciutto di Parma 28 months",49]
[2002955,"Taleggio La Baita",24]
[2003266,"Mortadella Italy Bonfatti 5Kg",23]
[2003361,"Foie Gras Jar Pain D'Epices 310g",90]
[2002986,"Traditional Stilton Jar 500g F&M",28.5]
[2003437,"Organic Blue Stilton Wedge 454g",13.95]
[2003238,"Smoked Venison 75g",7.95]
[2214019,"Chipotle Butter 100g",3.95]
[2119573,"Corra Linn",38]
[2002901,"Single Gloucester PDO",36]
[8023578,"Apres-Soleil",27]
[8022818,"Triple Cream Cheese 230g",11.95]
[2207855,"Chicken, Roasted Red Pepper and N'Djua Pie 440g",7.95]
[5001515,"Lemon & Charcoal Water+ 330ml",3]
[2199946,"Chili Chutney Biltong Loose",65]
[2116340,"Reblochon",41]
[2199542,"Spenwood 2kg",56]
[2003358,"Goose Foie Gras with Truffle 450G",157]
[2002984,"Traditional Stilton with Port 350g",23.5]
[2139193,"Black Pudding Scotch Egg",3.95]
[8023580,"Aarewasser",21]
[2002958,"Gorgonzola Dolce",24]
[4008504,"Hand Carved Boneless Alderton Ham",25]
[2002947,"Roquefort",43]
[2003316,"Milano Salami",24]
[2002983,"Traditional Stilton Jar 350g",21.5]
[2003239,"Green Pepper Venison Salami Pre Pack",5.95]
[2214026,"Organic Double cream, 250ml",3.5]
[4004992,"Daily Dose Orange Juice",3]
[2003200,"Jambon de Bayonne",48]
[2003193,"Whole Hand Boneless York Ham YCLX",25]
[2204944,"Pecorino Riserva",54]
[2121289,"Pecorino Sardo Central",35]
[2002905,"Gorwydd Caerphilly",32]
[5026693,"Templegall (KG)",45]
[2102698,"St Tola",60]
[2175738,"Waxed Cheddar Truckle 900g",15.95]
[8023582,"Blue Brain",9.9499999999999993]
[2156958,"Burratina, 250g",5.75]
[2141481,"Rosa Dell'Angelo Mortadella 100g",4.95]
[5007630,"Cornish Sea Salt Pork Crackling",2]
[2123267,"St James Cheese",60]
[2199945,"Peri Peri Biltong Loose",65]
[2142760,"Ossau Iraty",43]
[2002935,"Tomme De Savoie",29]
[2136103,"Foie Gras Lobe in Sleeve 250g",80]
[2119364,"St Felicien",7.95]
[2096974,"Fresh Ricotta Seiras Longo 250g",4.95]
[2002951,"Basajo Blue With Grapes",42]
[2210193,"COVAP Jamon de Bellota 100%",250]
[2002883,"Wigmore",50]
[2003307,"Truffle Salami Italy",50]
[2202514,"Cornish Extra Mature Gouda",39.950000000000003]
[2142944,"Pancetta",30]
[8023577,"Fruit Bread",56]
[2199540,"Brunswick Blue 3kg",54.5]
[2003198,"Whole Gooseberry Ham",20]
[2215090,"Coppa Smoked",60]
[2203998,"Westcombe Cheddar KG",27]
[2143428,"Whole Hand Carved Wiltshire Ham",25]
[2003201,"Jambon sec du Kintoa",80]
[2136106,"Foie Gras Torchon 200g",78]
[2003353,"Goose Foie Gras En Gelee 180G",70]
[2207908,"Pork Pie 1.36kg",29.95]
[5033867,"Box of 6 x Streaky Bacon Scotch Eggs",22.95]
[2175755,"Potted Welsh Rarebit 250g",12.95]
[2002939,"Langres",7.95]
[5026260,"Strawberry Kefir",3.95]
[5028518,"River Cottage Blackcurrant Yoghurt",2.25]
[2002940,"Mimolette Affinage 15 months",36]
[2003314,"Aludes Kintoa Saucisson",55]
[2204436,"Anglum KG",30]
[2215089,"Coppa Spiced",60]
[2215088,"King Peter Ham",84]
[2003197,"Whole Clove & Demerara Glazed Ham",20]
[8024812,"Chorizo Picante",30]
[4004401,"Aged Londonshire",35]
[2003253,"Porchetta D Ariccia",32]
[2209284,"Ultimate French Cheese Selection",60]
[2136120,"Mini Spiced Orange Ham 900g",28]
[2158654,"Whole Smoked Chicken",10]
[2215404,"Pre Packed King Peter Ham 75g",9.5]
[8023476,"Greaseproof Paper LGF 250x375",0]
[2205658,"Munster",49]
[2088473,"Beauvale",22]
[8027031,"Truffle Ham Half",30]
[8023576,"Abe Rot",45]
[2199944,"Original Biltong Loose",65]
[2198779,"Arturo Sanchez Guijelo Jamon Iberico",250]
[5030495,"Señorío de Montanera Jamón de Bellota 100% Iberico DOP",250]
[2117968,"Jamon Iberico de Bellota Maldonado",225]
[2184883,"Queso Iberico",28]
[8019181,"Kirkham's Lancashire Wheel 11kg",325]
[8019178,"Appleby's Cheshire Wheel 9kg",245]
[5002535,"Rogue River Blue",128]
[2117970,"Lomo Iberico Bellota",85]
[5013884,"Baron Bigod with Truffle",77]
[2002944,"Brie A La Truffe",70]
[2199948,"Ostrich Loose Biltong",70]
[8020595,"Highfields",65]
[8023102,"Old Ford",62]
[2215091,"Spiced Loin",60]
[2152663,"Riseley",52]
[2199638,"AH Lobster Ravioli",50]
[2204945,"Robiola Chestnut Leaves",50]
[2214805,"Mother's Day Breakfast Box",50]
[2003310,"Aldudes Kintoa Chorizo",45]
[2142796,"Chicken Liver Parfait",45]
[2202519,"Yorkshire Pecorino",42]
[2213635,"Seator's Orkney",42]
[8023101,"Bermondsey Frier",40]
[2002967,"Monte Enebro",38]
[4004402,"Baby Blue",32]
[4004403,"Ellis",32]
[4004405,"Alexandra",32]
[2184882,"Queso de Cabra",30]
[8025449,"Pate en Croute Richelieu              ",28]
[2142942,"Finocchiona Salami",26]
[2190135,"Raclette French",26]
[2003333,"Wild Boar Pate with Juniper Berries",25]
[2212617,"Heritage Carrot Salad",20]
[5009774,"Citrus Salad",20]
[5009775,"Beetroot and Salsify Salad",20]
[2207674,"AH Bolognese Pasta Sauce",18]
[2003260,"Venison Pepperoni",49]
[2215093,"Achari Spiced Salami",48]
[2003331,"Pheasant Terrine",25]
[2215095,"Air-dried Dairy Beef",68]
[2003330,"Terrine de Campagne",23]
[2199947,"Garlic Biltong Loose",65]
[8026538,"Rolled Glenarm Ribeye",55]
[2199541,"Rollright 1kg",45]
[2212615,"Broccoli and Kale with Chilli and Garlic",20]
[8019174,"Londonshire",32]
[2207675,"AH Courgette and Ricotta Ravioli",25]
[2214168,"Vegetarian Cheese Box",50]
[2209283,"Classic French Cheese Selection",40]
[2136119,"Mini Triple Smoked York Ham 900g",28]
[8019267,"Chicken Salad Plate",20]
[5054206,"SUPPER Beetroot & Feta Lattice, Spinach Dip, Tomato & Peanut",10]
[2202513,"Anglum 250g",8.9499999999999993]
[8022634,"Chopped Chicken Salad",8]
[5029437,"DAD Pork Pie 440g",7.95]
[5029928,"Artichoke, Spinach and Ricotta Pizzette",5]
[5009779,"Spinach and Ricotta Sausage Roll",3.5]
[2065963,"Non Scan Deli 090612",0]
[5027558,"Chorizo",35]
[8017820,"British Mortadella",28]
[2003100,"Cooked Whole Beef Wellington",75]
[2208380,"Classic British Cheese Selection",40]
[5054203,"Supper Fortnum's Brunch Box",30]
[4004073,"Pecorino and Rocket Farfalle Pasta Salad",20]
[2141477,"Culatello di Zibello DOP Rosa dell'Angelo 80g",13.95]
[2118163,"Half Fig and Almond Wheel",11]
[8024401,"Hot Steak & Kidney Pie",6.45]
[2212200,"Baron Bigod",40]
[5066302,"1605 Semi-Cured Manchego",35]
[2209282,"Ultimate British Cheese Selection",60]
[2163573,"The Smoked Salmon Plate",18]
[2003129,"Traiteur Main Beef Wellington For Two",16.95]
[5054205,"SUPPER Green Chicken with  pepper dip, avo sweetcorn salad",12]
[2215268,"Ballylisk Triple Creme Cheese 230g",9.9499999999999993]
[2002917,"Coeur Neufchatel",6.95]
[2214035,"Hot Beef and Ale Pie",6.45]
[2214041,"Hot Vegan Cauliflower Curry Pie",6.45]
[2000668,"Alain Milliat White Peach Nectar 1l",5.95]
[2207856,"Chicken and Ham Mini Pie 150g",2.95]
[2116300,"St.James",65]
[2162251,"Traiteur Salad Avocado Chilli",20]
[2199949,"BBQ Beef Biltong Loose",65]
[5054202,"Supper Box of Fresh Pasta & Sauce",7.5]
[8022514,"Chicken & Ham Pie",5.45]
[2002801,"Greek Style Yoghurt 200g",1.45]
[2199543,"Hafod 10kg",42]
[2141614,"Oven Ready Whole Beef Wellington",65]
[2159781,"Salmon en Croute",40]
[5054204,"SUPPER Yoghurt salmon, Green beans and Tahini, carrot dip",12]
[5007628,"English Mustard Pork Crackling",2]
[2002878,"Mrs Applebys Pink Cheshire",27]
[8019257,"Heritage Tomato Salad",20]
[5066307,"Carrot, pistachio and dill salad with lime, honey dressing",20]
[2002871,"Herb Perroche",5.95]
[2215389,"Mustard Chicken Breast",5]
[2212886,"Triple Cooked Chips",5.95]
[2215147,"I Love Pie Pork Pie 1.36kg",29.95]
[5066309,"Mast-o-esfenaj - spinach and yoghurt with walnuts",20]
[5054207,"SUPPER Fortnum's Cheeseboard",14.95]
[2141478,"felino Salame",7.95]
[2002799,"Creme Fraiche 330g",4.75]
[8019259,"Salmon and Dill Tart",3]
[2002902,"Cropwell Bishop Blue Shropshire",25]
[5066308,"Flame Roasted pepper, pistachio and dill yoghurt",20]
[2180167,"Hot Vegetarian Scotch Egg",4.5999999999999996]
[5066305,"Vegan Green Bean salad with tahini and preserved lemons",20]
[5056426,"Reunion Picnic",500]
[5058765,"Lobster & Crayfish Mayo",40]
[5058764,"Coronation Chicken & Baby Gem Salad Reunion Pic",20]
[5058766,"Ginger Beer Ham Hock",20]
[5058763,"Luxury Crudites Reunion Pic",12]
[5058762,"Smoked Salmon Pate Reunion Pic",3]
[2192119,"AH Gnocchi",15]
[2207676,"AH Leek and Parmesan Ravioli",25]
[8026660,"Alla Norma Pasta Sauce",16]
[4006906,"Milk ice cream",3.95]
[2207852,"Ploughman's Pie 150g",2.95]
[5066306,"Tomato and Peanut Salad",20]
[5066304,"Sweetcorn, black bean and avocado salad",20]
[2199609,"AH Lumache",10]
[2003199,"Whole Hand Carved Alderton Ham",25]
[2192127,"AH Pesto Sauce",28]
[2192129,"AH Puttanesca",14]
[2192124,"AH Ravioli /Tortelli Spinach Ricotta",25]
[2192120,"AH Tagliatelle",10]
[8017719,"The Festival Picnic",280]
[2212333,"Pack of 4 Brioche Rolls",3.95]
[2192123,"AH Rigatoni",10]
[2192126,"AH Tomato Sauce",12]
[2183823,"The Vegetarian Hamperling",15]
[2180169,"Hot Black Pudding Scotch Egg",4.5999999999999996]
[2202524,"London Fettle 220g",6.95]
[2199610,"AH Campanelle",10]
[5058771,"HOT Roast Veg and Pesto Pizzette",6]
[2215046,"La Perla Mozzarella",7.95]
[8017724,"The Family Picnic",180]
[4006905,"Mango sorbet",3.95]
[5006755,"Tart and Salad Box",6.5]
[5058768,"HOT N'Duja, Tomato and Boccocini Pizzette",6]
[2192128,"AH Sausage Fennel Sauce",18]
[2003126,"Traiteur Main Beef Wellington",58]
[2180170,"Hot Smoked Streaky Bacon Scotch Egg",4.5999999999999996]
[2192121,"AH Linguine",10]
[5001415,"Large Salad and Protein",12]
[8026834,"HOT Chorizo and Queso",8.3000000000000007]
[2158754,"Traiture Salad Prawn & Chilli",25]
[5009776,"Tandoori Chicken Breast",6.95]
[5066311,"Green Chicken",6.95]
[2180154,"Hot Spicy Sausage Roll",4]
[4008223,"Pecorino & Farfelle Salad with Rocket Pesto",4.5]
[5066312,"Beetroot and Feta Lattice",3]
[2180168,"Hot Traditional Scotch Egg",4.5999999999999996]
[2139190,"Traditional Scotch Egg",3.95]
[8019261,"Fish Pie",7.95]
[5066310,"Yoghurt Salmon",6.95]
[2180155,"Hot Classic Sausage Roll",4]
[2207678,"Large Hot Filled Pasta and Sauce",10.5]
[2189418,"The Smoked Salmon Hamperling",16]
[2189347,"Chilli Glazed Salmon",6.95]
[5029926,"N'duja, Tomato, Bocconcini Pizzette",5]
[2160313,"Beef Wellington for Two Oven Ready",16.95]
[2158791,"Traiture Main Salmon En Croute Individual",8.9499999999999993]
[5029929,"Roast veg, Rocket Pesto, Olives, Capers Pizzette",5]
[2215388,"Marinated Bavette Steak",5.5]
[2146383,"Staff Sandwich Deal",3.5]
[5054528,"Smoked Salmon and Broad Bean Quiche",3]
[8019262,"Aubergine Parmigiana",5.95]
[2189867,"Chorizo & Queso",6.95]
[5029924,"Ham, Cheese and Chutney Sandwich",5.5]
[2115423,"Traiteur Salad Fortnums Non Protein",20]
[4003792,"Red Onion & Goat's Cheese Tart",3]
[5029930,"Mozzarella, Tomato and Pesto Sandwich",5.5]
[2114031,"Fortnums Spicy Sausage Roll",3.5]
[8026348,"Lobster and Crayfish Roll",9.9499999999999993]
[2207677,"Large Hot Pasta and Sauce",9.5]
[2114032,"The Fortnums Classic Sausage Roll",3.5]
[4004077,"Salad and Protein Box",10]
[2036574,"Duck Breast",0]
[2036575,"Whole Free Range Chicken",0]
[2188424,"Almas Caviar 30g",500]
[2208379,"Caviar Tasting Tin 120g",495]
[5002119,"Glenarm Salt Aged Rib of Beef 4.5kg",170]
[5067527,"Salt Aged Angus Rib of Beef 4.5kg",170]
[5002118,"Glenarm Salt Aged Wing Rib 3.5kg",140]
[2183112,"Glenarm Salt Aged Sirloin Roast 2.5kg",125]
[2105914,"Large Free Range Bronze Turkey 7 - 8.5kg",115]
[2159721,"Goose Free Range Large 5.8-6.4Kg",115]
[2112032,"Large Free Range Bronze Turkey Crown 4.0-4.99kgs",110]
[5002128,"Large Thanksgiving Turkey",110]
[8026311,"Mushroom - Cep (Pre Order)",110]
[2001895,"Medium Free Range Bronze Turkey 5.6-6.9kg",100]
[2159720,"Goose Free Range Medium 5-5.5kg",100]
[5002127,"Medium Thanksgiving Turkey",100]
[5003165,"Yuzu",100]
[5045320,"Meater Plus Meat Thermometer",99]
[2112031,"Medium Free Range Bronze Turkey Crown 3.0-3.99kgs",95]
[8025170,"Smoked Salmon Wooden Gift Box with Knife",95]
[2001260,"Classic Large Fruit Basket",90]
[2001894,"Small Free Range Bronze Turkey 4.5 -5.5Kg",85]
[2159719,"Goose Free Range Small 4-4.5Kg",85]
[5002126,"Small Thanksgiving Turkey",85]
[2001259,"Classic Med Fruit Basket",70]
[8026317,"Mixed Wild Mushrooms",70]
[2214615,"Glenarm Shorthorn Centre Cut Fillet, 1kg",65]
[2001258,"Classic Small Fruit Basket",60]
[5001094,"Rose Veal Fillet",55]
[8023120,"Larder Trimmed Venison Fillet",55]
[5067468,"Sugar Pit Bacon Rack",50]
[5067469,"Spiced Bacon Rack",50]
[2206096,"Girolles Mushroom",50]
[2001893,"Macsweens Traditional Haggis 3.6kg",45]
[2134592,"marrow bones",45]
[5002124,"Glenarm Salt Aged Chateaubriand 900g",45]
[5002131,"Welsh Lamb Shoulder Boned and Rolled 1.5kg",45]
[5026696,"Chinotto",42]
[2155352,"Organic Smoked Salmon Pack 400g",40]
[2214610,"Glenarm Shorthorn Topside Roast, 2kg",40]
[5002129,"Welsh Leg of Lamb Bone In 2kg",38]
[5005281,"Tiger Lemon",37]
[2148690,"PGI Welsh Lamb Whole Shoulder Bone In",36]
[2179344,"Glenarm Salt Aged Seasoned Fiorentina Steak",36]
[2183116,"Glenarm Salt Aged Cote de Boeuf",36]
[2159963,"Large Dried Fruit and Nut Gift Box",34.950000000000003]
[5005275,"Black Corn",34]
[2183119,"Glenarm Salt Aged Cote de Boeuf 900g",32]
[5002123,"Glenarm Salt Aged Côte de Boeuf, 900g",32]
[5002125,"Glenarm Salt Aged Fiorentina Steak 600g",32]
[5003166,"Calamansi",32]
[5067525,"Salt Aged Angus Cote de Boeuf 900g",32]
[2214606,"Rare Breed Pork Shoulder, 2.5kg",30]
[5068422,"70 Day Aged Angus Ribeye Steaks 2 x 300g",30]
[8022110,"Beans Coco Canadian Wonder",28.5]
[2183121,"Glenarm Salt Aged Delmonico Ribeye Steak 2 x 300g",28]
[5002122,"Glenarm Salt Aged Ribeye Steaks 300g x 2",28]
[5067526,"Salt Aged Angus Ribeye Steaks 2 x 300g 35 day aged",28]
[2144486,"Macsweens Traditional Haggis 2.3kg",27]
[5005277,"Limequat",26]
[2001324,"Raisin Muscatel",25]
[2145619,"Wild Mushroom",25]
[2214602,"Glenarm Salt Aged Sirloin Steaks, 2 x 280g",25]
[5001096,"Rose Veal Loin",25]
[5002121,"Glenarm Salt Aged Sirloin Steaks 300g x 2",25]
[5002130,"Welsh Rack of Lamb French Trimmed 700g",25]
[8026370,"Stuffed Lamb Noisette",25]
[2138861,"Venison Saddle",24]
[2001891,"Macsweens Traditional Haggis 1.8kg",23]
[2136132,"F&M 400g D Cut Gravadlax",23]
[2145065,"Rambutan",22.5]
[8019268,"Gariguette Crate 800g",21.95]
[2123568,"Welsh Lamb Loin Chop",21]
[2214596,"Daphne's Lamb Shoulder Bone In, 1.5kg",21]
[2001535,"Kumquat",20]
[2001971,"Outdoor Reared Pork Rack",20]
[2102110,"Delmonico Steaks x 2",20]
[2155353,"Organic Smoked Salmon Pack 200g",20]
[2213320,"Diced Venison",20]
[2214601,"Sugar Pit Bacon Chops, 2x400g",20]
[2214613,"Herb Fed Whole Chicken, 2.25kg",20]
[2214743,"Venison Mince",20]
[5001095,"Rose Veal Rib",20]
[5004894,"Salmon Terrine",20]
[5024051,"Buddha Hand",20]
[2134591,"Dutch Veal Silverside",19.95]
[5065774,"Premium Dried Fruit and Nut Box",19.95]
[2210526,"Pork Tenderloin",18]
[2214611,"Herb Fed Chicken Breast x 2",18]
[5001093,"Rose Veal Topside",18]
[5003927,"Three Oysters and Glass of Champagne",18]
[8026372,"Steak Pinwheels",18]
[8026812,"Aubergine Baby Heirloom",18]
[2214597,"Daphne's Boneless Lamb Shoulder, 1kg",17]
[2212888,"Chestnut and Apricot Pigs in Blankets",16.95]
[2001507,"Banana Baby",16.5]
[2183129,"Green Mandarin",16]
[4008496,"Anchovies in Butter 120g",16]
[2136131,"F&M 200g D Cut Gravadlax",15]
[2187566,"Venison Haunch",15]
[2189508,"Wild Mushroom Punnet",15]
[5005278,"Red Tiger Tomato",15]
[2143590,"Pigs In Blankets",14.95]
[2159878,"Kohlrabi Purple",14.95]
[2001974,"Unsmoked Streaky Bacon",14]
[2063674,"Dried Fruit Boat",12.95]
[2066013,"Nut Boat",12.95]
[2214614,"Glenarm Shorthorn Rump Steaks, 2x250g",12.5]
[2001411,"Kaki Fruit",12]
[2001890,"Macsweens Traditional Haggis 907g",12]
[2193875,"Courgette Round Green",12]
[5002966,"Baby Pear",12]
[5003746,"Sage and Red Onion Stuffing",12]
[5003747,"Cranberry and Orange Stuffing",12]
[5005282,"Baby Pear",12]
[2001387,"Chestnut Pack",11.95]
[2210783,"Custard Apples",11.5]
[2214594,"Daphne's Barnsley Chop, 2x250g",11]
[2129220,"Squab Pigeon",10.95]
[8020155,"Chive Flower Bunch        ",10.95]
[8022512,"British Strawberry Box 900g",10.95]
[2001500,"Grape Muscat",10]
[5001741,"Pumpkin Large",10]
[2087967,"Medjool Date Boat",9.9499999999999993]
[2162879,"Whiskey Barrel Oak Smoked Salmon 125g",9.9499999999999993]
[2214063,"Chocolate Dipped Strawberries Mixed Pack x 6",9.9499999999999993]
[5026261,"Milk Chocolate Dipped Strawberries x 6",9.9499999999999993]
[5026262,"Dark Chocolate Dipped Strawberries x 6",9.9499999999999993]
[5026263,"Ruby Chocolate Dipped Strawberries x 6",9.9499999999999993]
[5026264,"Mixed Chocolate Dipped Strawberries x 6",9.9499999999999993]
[8018093,"Mara de Bois",9.9499999999999993]
[2199300,"Valrhona Dipped Strawberries 6s",9.9499999999999993]
[2214607,"Glenarm Shorthorn Pave, 2 x 200g",9.5]
[2214609,"Glenarm Shorthorn Picanha Steaks, 2 x 200g",9.5]
[2002017,"Avruga",9]
[2147904,"Beechwood Smoked Salmon 125g",9]
[2147905,"Peat Smoked Salmon 125g",9]
[2214595,"Daphne's Lamb Rump",9]
[4008495,"Anchovies in Butter 50g",9]
[2123536,"Wye Valley Purple Asparagus 250g",8.9499999999999993]
[2207980,"F&M Organic Hand Carved Smoked Salmon Bagel",8.9499999999999993]
[8022241,"Strasberry/Framberry",8.9499999999999993]
[2036512,"Graffiti Aubergine",8.5]
[5066315,"Nardin Smoked Anchovies 100g",8.5]
[8025336,"Brogdale Greengages",8.5]
[8026279,"Corno Yellow",8.5]
[2001892,"Macsweens Vegetarian Haggis 454g",8]
[2214612,"Herb Fed Chicken Thighs x 4",8]
[8023130,"Pigeon Breast",8]
[8025334,"Brogdale Victoria Plums",8]
[8025335,"Brogdale TopFive Plums",8]
[2115725,"Clementine Box 2 kg",7.95]
[5006955,"Pished Fish Sozzled Santa",7.95]
[8022237,"Snow White Berry",7.95]
[8022245,"Gooseberry Red",7.95]
[2204327,"Pished Fish Augustus Gloop Smoked Salmon 100g",7.95]
[2204328,"Pished Fish The Gin and Tonic Smoked Salmon 100g",7.95]
[2204329,"Pished Fish The Margarita Smoked Salmon 100g",7.95]
[2204330,"Pished Fish The Old fashioned Smoked Salmon 100g",7.95]
[2204331,"Pished Fish The Classic Smoked Salmon 100g",7.95]
[2204332,"Pished Fish The Dark and Stormy Smoked Salmon 100g",7.95]
[5005279,"Baby Apples",7.8]
[2077767,"Strawberry Gariguette Punnet",7.5]
[2214598,"Sugar Pit Streaky Bacon, 300g",7.5]
[2214599,"Sugar Pig Back Bacon, 300g",7.5]
[5007624,"Goldrush Apples",7.5]
[2210517,"Glenarm Shorthorn Burgers x 4",7]
[2214600,"Glenarm Shorthorn Bavette, 2x 250g",7]
[2214608,"Rare Breed Pork Chops, 2 x 250g",7]
[8023000,"Rare Breed Pork Knuckle",7]
[2105637,"White Asparagus Bunch",6.95]
[2128272,"Strasberry Punnet",6.95]
[2134412,"Watermelon",6.95]
[2204129,"Pine Berry",6.95]
[2205673,"Honeyberry",6.95]
[8023125,"Oven Ready Partridge with Bacon",6.95]
[2002069,"Gull's Egg",6.95]
[2001566,"Dried Fruit Mixed Fruit Nut",6.5]
[2001567,"Dried Fruit Mango Slices 90g",6.5]
[2001568,"Dried Fruit Strawberries 180g",6.5]
[2214715,"Black Truffle Potatoes",6.5]
[5066316,"Nardin Boquerones 100g",6.5]
[8019239,"Pinkberries",6.5]
[8019240,"Yellowberries",6.5]
[8019241,"Whiteberries",6.5]
[8018096,"Instant Light Charcoal 2x1Kg",6.49]
[2001472,"Broad Beans",6]
[2101241,"Shorthorn burgers - 4 x 4oz each",6]
[2183127,"Carrot Chantenay Heritage",6]
[2214603,"Rare Breed Pork & Leek Sausages x 8",6]
[2214605,"Rare Breed Pork Sausages x 8",6]
[5007623,"Cox Orange Pippin",6]
[8019242,"Baby Beetroot Bunch",6]
[8023128,"Partridge Breast",6]
[8023129,"Pheasant Breast",6]
[8026816,"Gem Squash",6]
[2001525,"Pitahaya",5.95]
[2106487,"Strawberry Red Bruce Special Branch",5.95]
[2107039,"Grape Black",5.95]
[2137506,"Clementine Bag of 6",5.95]
[2165296,"Cauliflower Purple",5.95]
[8026373,"Stuffed Chicken Breast",5.95]
[2001569,"Dried Fruit Mixed Berries 180g",5.5]
[2178588,"Turkey Gravy 500ml",5.5]
[5066314,"Oritz Salted Anchovy Fillets 47.5g (tin)",5.5]
[8019868,"Green Strawberry Punnet",5.5]
[8022232,"Tummelberries",5.5]
[8022233,"Boysenberries",5.5]
[8022234,"Tayberries",5.5]
[8022238,"Raspberry Gold",5.5]
[8022239,"Pink Raspberry",5.5]
[8022240,"Loganberry",5.5]
[8024400,"Baby Bunched Leeks",5.5]
[2001538,"Kiwano",5]
[2001565,"Dried Fruit Almond Cranberry 180g",5]
[2001570,"Dried Fruit Apricots 200g",5]
[2001571,"Dried Fruit Dates 180g",5]
[2001572,"Dried Fruit Figs 200g",5]
[2001573,"Dried Fruit Prunes 250g",5]
[2068674,"Heritage Potatoes Aura",5]
[2145082,"Dragon Fruit Purple",5]
[2210550,"Plum President",5]
[2214604,"Rare Breed Pork & Black Pudding Sausages x 6",5]
[8022108,"Orange Cauliflower",5]
[8023127,"Mallard Duck Legs",5]
[8026374,"Schnitzel",5]
[2001399,"Cranberry Bag",4.95]
[2001515,"Ruby Plum",4.95]
[2117975,"Veal Jus",4.95]
[2178982,"Herb Mixed Leaf Salad Punnet",4.95]
[2189507,"Heritage Radishes",4.95]
[2205635,"Golden Raspberries",4.95]
[2001410,"Orange Seville",4.5]
[2001483,"Courgette Flower Each",4.5]
[2036548,"Fresh Potted Basil",4.5]
[2145099,"Papaya Giant",4.5]
[2178978,"Edible Flower Mixed Leaf Salad Punnet",4.5]
[2178981,"Mustard Mixed Leaf Salad Punnet",4.5]
[2001523,"Papaya",4]
[2116844,"Romanesco Cauliflower",4]
[8026813,"Kalibos Cabbage",4]
[2001418,"Salad Peashoots Punnet",3.95]
[2198595,"Crepe Cuisine Cocktail Blinis 162g",3.95]
[2207550,"Tayberry Punnet",3.95]
[8017205,"Alphonso Mango",3.95]
[8023297,"Amalfi Lemons Each",3.95]
[8023621,"Limelons",3.95]
[4008500,"Rainbow Radish",3.8]
[2001511,"Apple Pink Lady",3.5]
[2001526,"Clementine",3.5]
[2117978,"Cranberry Sauce",3.5]
[2183128,"Onion Calcot Bunch",3.5]
[5001742,"Pumpkin Small",3.5]
[5004893,"Smoked Salmon Pate",3.5]
[5005272,"Cabbage Pink Hispi",3.5]
[5007626,"Cheerful Gold Apples",3.5]
[8013675,"Beetroot",3.5]
[2117980,"Bread Sauce",3.25]
[2001498,"Granadillo",3]
[2145568,"Chantenay Carrots",3]
[2210782,"Mixed Squash",3]
[5001745,"Napoletena Pumpkin",3]
[5007622,"Lord Lambourne Apples",3]
[5027361,"Heart Shaped Strawberry Punnet",3]
[2001416,"Salad Mixed Leaf Punnet",2.95]
[2117977,"Turkey Gravy 250ml",2.95]
[2117981,"Chestnut and Golden Raisin Sauce",2.95]
[2164269,"Orange Sauce",2.95]
[2173652,"Poultry Gravy 250g",2.95]
[2178980,"Mixed Soft Leaf Salad Punnet",2.95]
[2001553,"Cranberry Punnet",2.8]
[2119323,"January King Cabbage",2.7]
[5030496,"Pomelo de Corse",2.7]
[2001473,"Radish Bunch",2.6]
[2001383,"Physalis Punnet",2.5]
[2001491,"Sprout Tops",2.5]
[2001534,"Star Fruit",2.5]
[2128278,"Curly Endive",2.5]
[2129210,"PGI Welsh Lamb Kebabs",2.5]
[2183126,"Cabbage Hispi",2.5]
[2189516,"Spring Greens 500g",2.5]
[2213936,"Guava",2.5]
[2118458,"Brussel Sprout Stalk",2.4]
[2183146,"Glenarm Salt Aged Marrow Burger",2.25]
[2145160,"Custard Apple",2.2000000000000002]
[2206095,"Blood Peaches",2.2000000000000002]
[2001522,"Tamarillo",2]
[2213998,"Red King Carrots",2]
[2001274,"Marjoram",1.95]
[2001513,"Guava",1.95]
[2145764,"Bay Leaves",1.95]
[2001364,"Rosemary and Garlic Labelled Bunch",1.75]
[8022111,"White Kohlrabi",1.7]
[2001273,"Herb Flat Leaf Parsley",1.5]
[2164049,"Takeaway Salmon Blini Small",1.5]
[2178516,"Horseradish Root",1.5]
[2214716,"Baby Artichoke",1.5]
[2001528,"Sharon Fruit",1.3540000000000001]
[2001520,"Prickly Pear",1.2]
[2210681,"William Red Pear",1]
[2178589,"Pigs in Blankets 12 Pack",0]
[2178591,"Pigs in Blankets 16 Pack",0]
[2178592,"Pigs in Blankets 20 Pack",0]
[2187567,"Welsh Lamb Leg - Bone In KG",0]
[2187568,"Welsh Lamb Shoulder Bone In KG",0]
[2210518,"Glenarm Shorthorn Pastrami Cured Brisket",0]
[2210527,"Baby Back Ribs",0]
[2210528,"Pork Belly",0]
[2214591,"Daphne's Rack of Lamb, 500g",0]
[2214592,"Daphne's Noisette of Lamb, 400g",0]
[2214593,"Daphne's Bone In Leg of Lamb, 2.5kg",0]
[4007220,"Collard Green Shoots",0]
[4008501,"Loose Golden Cherry Tomatoes",0]
[5000142,"Panko Breadcrumbs",0]
[5002336,"New Royal Fillet Box",0]
[5002337,"Truffle Fillet Box",0]
[5005283,"Castelfranco",0]
[5005896,"Lamb Sausages",0]
[5005897,"Glenarm Shorthorn Beef Sausage",0]
[5024674,"Baerii Caviar 10g",0]
[5033910,"Secret Smokehouse Hot Smoked Salmon Side",0]
[5065778,"Salt Aged Angus Whole Fillet",0]
[5067144,"Corn fed chicken supreme skin on",0]
[5067145,"Ox Tail",0]
[5067146,"Whole Duck Breast",0]
[5067147,"Whole Duck",0]
[5067148,"Quail",0]
[5067150,"Venison sausages   (Venison & Redwine)",0]
[5067151,"Chicken sausages   (Chicken & Apricot)",0]
[5067152,"Chipolatas",0]
[5067153,"Veal forerib",0]
[5067154,"Veal loin",0]
[5067155,"Veal shin",0]
[5067156,"Calf liver",0]
[5067157,"Veal sweetbread",0]
[5067158,"Veal topside",0]
[5067160,"Veal kidney",0]
[5067161,"Poussin",0]
[5067162,"Guinea Fowl",0]
[5067163,"Suckling pig",0]
[5067164,"Beef Fillet",0]
[5067165,"Sausage Meat Tubes",0]
[5067166,"Smoked Gammon",0]
[5067167,"Unsmoked Gammon",0]
[5067168,"Top Quality Pork Loin",0]
[5067169,"Top Quality Pork Belly",0]
[5067170,"Dry Cure Green Back",0]
[5067171,"Dry Cure Smoked Back",0]
[5067172,"Dry Cure Green Streaky",0]
[5067173,"Dry Cure Smoked Streaky",0]
[5067174,"Maple Cure PRE ORDER",0]
[5067175,"Marrow Bones",0]
[5068770,"Secret Smokehouse Salmon Pate",0]
[5068771,"Secret Smokehouse Mackerel",0]
[5068980,"Three Bird Roast",0]
[8013674,"Banana",0]
[8018577,"Glenarm Salt Aged Lamb Saddle",0]
[8018681,"Firecracker Marinade",0]
[8018682,"Greek Desire Marinade",0]
[8018683,"Rusk",0]
[8020956,"Quail",0]
[8020994,"Quail",0]
[8022787,"K11 Beluga OOO Caviar 30G",0]
[8022788,"K11 Beluga OOO Caviar 50G",0]
[8022789,"K11 Beluga OOO Caviar 125G",0]
[8022790,"K11 Baerii Caviar 30G",0]
[8022791,"K11 Baerii Caviar 50G",0]
[8022792,"K11 Baerii Caviar 125G",0]
[8022793,"K11 Golden Oscietra Caviar 50G",0]
[8022794,"K11 Golden Oscietra Caviar 125G",0]
[8022795,"K11 Oscietra Caviar 30G",0]
[8022796,"K11 Oscietra Caviar 50G",0]
[8022797,"K11 Oscietra Caviar 125G",0]
[8022798,"K11 Platinum Caviar 50g",0]
[8022799,"K11 Platinum Caviar 125g",0]
[8022800,"K11 Caviar Tasting Tin 120g",0]
[8023122,"Grouse Fillets",0]
[8023124,"Oven Ready Pheasant with Bacon",0]
[2183131,"Pear Comice (British)",8]
[2123577,"Welsh Whole Lamb",16]
[8022090,"Caviar Box with Small Insert",0]
[8020495,"Rare Breed Pork Rack",20]
[2147903,"Lemon Loose",0.5]
[2205671,"White Peach",1]
[2119513,"Grouse",12.5]
[4008503,"Banana",2]
[2134582,"Dutch Cote De Veal",39.950000000000003]
[2210531,"Herb Fed Chicken Breast",19.95]
[2138648,"Glenarm Salt Aged Whole Ribs Including Cap",14.5]
[2208473,"Glenarm Salt Aged Whole Fillet",65]
[5035804,"Rare Breed Pork & Leek Sausages x 8",5]
[8022089,"Caviar Box with Large Insert",0]
[2138647,"Glenarm Salt Aged Bone In Sirloin Long Fillet",16.95]
[8013811,"Rare Breed Pork Belly",10]
[5005273,"Carrots Bunched",3]
[2101253,"Glenarm Salt Aged Rump",25]
[2148154,"Glenarm Salt Aged Bavette",14]
[2134579,"Dutch Veal Escalope",29.95]
[8013810,"Cumberland Whirl, 900g",10.5]
[5035803,"Rare Breed Pork Sausages x 8",5]
[2001499,"Passionfruit Purple",0.6]
[2210529,"Herb Fed Whole Chicken",8.9499999999999993]
[8026282,"Yellow Nectarine",10]
[5035800,"Glenarm Salt Aged Sirloin Steak 300g x 2",25]
[2001543,"Avocado Hass",1.3]
[2001402,"Broccoli",2.5]
[2129221,"Corn Fed Poussin",5.75]
[2001503,"Blueberry Punnet",2.95]
[2101239,"Glenarm Himalayan Salt-aged Chateaubriand Steak, 900g pac",62]
[2119325,"Lime size 36",0.3]
[2189509,"Lettuce Butterhead",2.8]
[2001945,"Quail",2.95]
[5035801,"Rare Breed Pork Chops, 2 x 250g",7]
[2123928,"Strawberry Punnet",4.5]
[2105847,"Apple Red Delicious",7]
[2001415,"Green Asparagus Bunch",20]
[2123922,"MOP Spoon 4",7]
[2119324,"Pink Grapefruit",0.8]
[2001312,"New Potatoes",2]
[2199240,"Nut Boat",12.95]
[2204308,"Dried Fruit Boat",12.95]
[2210530,"Herb Fed Chicken Thighs",8.9499999999999993]
[2189510,"Red Oakleaf Lettuce",1.3]
[2163960,"Truffle Slicer",25]
[2055327,"Basil Bunch",2]
[2001479,"Rainbow Chard",5]
[2001277,"Rosemary",2]
[2055328,"Cucumbers",1]
[8023340,"Sicilian Lemons",11]
[2001539,"Red Onion",1.2]
[2120666,"Globe Artichoke",4]
[2001505,"Grape White Seedless",6]
[5035802,"Rare Breed Pork Shoulder, 2.5kg",30]
[2159961,"Regular Nut Gift Box",19.95]
[2164035,"Fig and Nut Boat",9.9499999999999993]
[2214015,"Fruit Pig White Pudding Chubb 400g",5.5]
[2192857,"Flat Peach",7]
[2001377,"Grape Red Seedless",5.5]
[2159960,"Regular Dried Fruit Gift Box",19.95]
[2105332,"Potato Jersey Royal",2]
[2140414,"Beef Dripping",5.95]
[2166075,"Welsh Rack of Lamb French Trimmed 600g",25]
[2002060,"Salmon Keta 100G",18.5]
[2144465,"Braeburn Apples",5]
[2001501,"Pineapple Large 6s",2.2000000000000002]
[2190884,"F&M Royal Fillet Scottish Smoked Salmon 300g",45]
[2001363,"Mint Labelled Bunch",3]
[2001942,"Marrow Bones Split",4]
[2136125,"F&M Scottish Smoked Salmon Pack 400g",21]
[2123923,"MOP Dish 3.5",15]
[8022112,"Purple Kohlrabi",1.5]
[2001838,"Duck Breast",28]
[8020561,"Glenarm Salt Aged Ribeye Steak 2x300g",28]
[2001356,"Cabbage Savoy",2]
[2001521,"Large Navel Orange",0.7]
[2001454,"Coconut",0.9]
[5068611,"Pumpkin Violino",4]
[8026815,"Reine Claude Plums",12.5]
[2001398,"Curly Parsley Bunch",2]
[2120663,"Leeks",2.5]
[2001412,"Apple Granny Smith",2.5]
[2075271,"Date Medjool",14]
[2128894,"Heritage Carrots Kg",4]
[2001544,"Beans Extra Fins",10]
[2209611,"Purple Garlic",10]
[2148691,"Welsh Lamb Whole Shoulder Boned and Rolled 1.5kg",45]
[2159962,"Large Dried Fruit Gift Box",34.950000000000003]
[4005906,"Secret Smokehouse Smoked Trout",14.95]
[5005284,"Watercress Bunch",1.5]
[2001358,"Celeriac",1.5]
[2148693,"Welsh Leg of Lamb Bone In 1.5kg",38]
[2136123,"F&M Scottish Smoked Salmon Pack 200g",12]
[4005904,"Secret Smokehouse Hot Smoked Salmon 200g",9.9499999999999993]
[2001404,"Aubergines",3]
[2001929,"Guinea Fowl",9.5]
[2105864,"Lettuce Frisee Fine Cuadras",2.5]
[2214016,"Fruit Pig Black Pudding Chubb 400g",5.5]
[2001506,"Blackberry Punnet",3.95]
[2157867,"Large Red Pepper",4.5]
[2105862,"Apple Bramley",3]
[2001388,"Courgette Green",4]
[8026314,"Mushroom - Scottish Girolle",30]
[5033909,"Secret Smokehouse London Cure Smoked Salmon 200g",14.95]
[4006899,"Comice Pear",1.2]
[2001323,"Vine Plum Tomato",3]
[2210524,"Rare Breed Pork & Black Pudding Sausages",10]
[2001414,"Onions White",3]
[2180892,"Organic Smoked Salmon Pack 300g",30]
[2123924,"MOP Dish 5",20]
[2164387,"Organic Smoked Salmon Pack 100g",10]
[2001285,"Tomatoes Beefsteak",2]
[2157678,"Tomato San Marzano",7]
[2110240,"Glenarm Salt Aged Bone In Rib Of Beef 4.5kg",170]
[2163927,"Baerii Caviar 50G",85]
[2166076,"Welsh Loin of Lamb Boned and Rolled 600g",28]
[4005905,"Secret Smokehouse Kippers",9.9499999999999993]
[2123920,"MOP Knife",7]
[2115806,"Tenderstem Broccoli kg",5]
[2174933,"Beef Stock 500g",3.95]
[2001397,"Thyme",2]
[2001452,"Chives Bunch",2]
[2001392,"Celery",1.2]
[2001537,"Kiwi Jumbo",0.5]
[8020154,"Rainer Cherries                ",24]
[2165297,"Tomato Datterino",13.95]
[2001367,"Curly Kale",4]
[2162504,"Glenarm Organic Smoked Salmon",95]
[2001271,"Dill",2]
[2001278,"Sage",2]
[2001382,"Melon Canteloup",2]
[2107171,"Coriander",2]
[2001546,"Fennel",3]
[2001514,"Apricots",12]
[2001368,"Butternut Squash",1.8]
[8026281,"Bull's Heart Cure del Vesuvio",9.5]
[8022113,"Sun Sweet Melon",7]
[5068610,"Fig KG",25]
[2036524,"Sweet Potato",2.2999999999999998]
[2163933,"Oscietra Caviar 50G",130]
[2194195,"Secret Smokehouse Salmon Side",65]
[2105858,"Courgette Yellow KG",4]
[2163925,"Baerii Caviar 125G",210]
[2163931,"Golden Oscietra Caviar 30G",100]
[2163928,"Baerii Caviar 30G",55]
[8022943,"F&M Truffled Royal Fillet 300g",50]
[2148692,"Welsh Lamb Leg Boneless 1.5kg",40]
[2117976,"Red Wine Jus",3.25]
[2001509,"Lychee",30]
[8026748,"Hopi Corn",5]
[8018094,"Courgette Trombetta",20]
[2001378,"Shallots",1.6]
[2139557,"F&M Smoked Salmon Side",50]
[2001927,"Ox Tail",10]
[8019358,"Beetroot Gravadlax",65]
[2214796,"Cherries",14]
[8023488,"Glenarm Short Ribs",12.95]
[2136135,"Beluga Caviar XX 100g",680]
[2163924,"Beluga OOO Caviar 30G",225]
[2136133,"Beluga Caviar XX 30g",210]
[2163930,"Golden Oscietra Caviar 50G",165]
[2002012,"Sevruga Caviar 30G",110]
[2163937,"Oscietra Caviar 30G",80]
[2192252,"Platinum Caviar 30g",65]
[5068614,"Pineapple Tomatoes",9]
[2173144,"Beef Gravy",3.75]
[5068613,"Magenta Lettuce",2.5]
[2001495,"Pomelo",1.8]
[2208481,"Guanciale",30]
[8018092,"Chilli and Fennel Sausage",16]
[2001371,"Rhubarb",7]
[2212744,"Comice Pear",6]
[2163921,"Beluga OOO Caviar 125G",850]
[2002054,"Sevruga Caviar 125G",440]
[2163922,"Beluga OOO Caviar 50G",370]
[2163932,"Oscietra Caviar 125G",300]
[2192260,"Platinum Caviar 125g",270]
[2002056,"Sevruga Caviar 50G",180]
[2192259,"Platinum Caviar 50g",100]
[2193854,"F&M Scottish Smoked Salmon Pack 1kg",47.5]
[8023123,"Feathered Grouse",14.95]
[2001476,"Gooseberry Punnet",2.5]
[2001405,"Cherry Tomato on Vine",3]
[5068612,"Plum Quetsche",5]
[2001532,"Plum Mirabelle",15]
[2210682,"French Ratte Potatoes",6]
[2002040,"Oscietra Caviar 500g",1750]
[2163929,"Golden Oscietra Caviar 125G",400]
[2136134,"Beluga Caviar XX 50g",340]
[5002120,"Glenarm Salt Aged Rolled Sirloin 2.5kg",125]
[2162032,"Mushroom Ceps",60]
[2174931,"Chicken Stock 500g",3.95]
[2163743,"Hederman Beech Smoked Salmon",85]
[2179331,"Moyallan Thick Cut Sugar Pit Back Bacon",25]
[2001837,"Whole Duck",10]
[2001972,"Smoked Back Bacon",16]
[2001370,"Turnips",4.2]
[2055310,"Brussel Sprouts",3.5]
[2003366,"Fresh Black Winter Truffles",2200]
[8022987,"Australian Black Winter Truffle",2000]
[2003365,"Fresh Black Summer Truffles",450]
[8026313,"Mushroom - Graded Morels (Pre Order)",150]
[2001467,"Morels",100]
[2001261,"Classic Champ Fruit Basket Sml",80]
[8026316,"Pied Bleu (Pre Order)",68]
[2183069,"Glenarm Salt Aged Chateaubriand",60]
[8026310,"Mushroom - Cauliflower (Sparassis)",60]
[8026312,"Mushroom - chicken of the woods (Pre Order)",60]
[8026315,"Mushroom - Trompette de la Mort",60]
[2134585,"Dutch Veal Fillet",55]
[5003167,"Buddha",54]
[2155351,"Gravadlax Trimmed Side Loose",53]
[5024050,"Kaffir Lime",50]
[2134588,"Dutch Veal Loin B/R",45.95]
[2183137,"Glenarm 70 Day + Salt Aged Rack of Beef",43]
[4006791,"Pistachio Stuffed Dates",39.5]
[4006792,"Marzipan Stuffed Dates",39.5]
[4006793,"Walnut Stuffed Dates",39.5]
[4006794,"Orange Stuffed Dates",39.5]
[4006795,"Cashew Nut Stuffed Dates",39.5]
[5003680,"Pistachio Stuffed Dates",39.5]
[5003681,"Marzipan Stuffed Dates",39.5]
[5003682,"Walnut Stuffed Dates",39.5]
[5003683,"Orange Stuffed Dates",39.5]
[5003684,"Cashew Nut Stuffed Dates",39.5]
[5003168,"Limequat",39]
[2183117,"Glenarm Salt Aged Rack of Beef",36]
[2183118,"Glenarm Salt Aged Delmonico Ribeye",36]
[2123572,"Welsh Noisette of Lamb",34]
[5001744,"Crosne",34]
[2115730,"Girolle Mushroom Kg",30]
[5003169,"Big Citron (Etrog)",30]
[4008499,"Moscatel Grapes",28]
[5005276,"Purple Sweet Potato",24]
[2157451,"French Squab Pigeon",23]
[2141386,"Welsh Lamb Saddle",22]
[8026280,"Organic mixed Yellow and Purple Fine Beans",21.5]
[2213950,"Camone Tomatoes",20]
[5003164,"Meyer Lemon",20]
[5003745,"Pigs in Blankets",20]
[2069193,"Cultivated Exotic Mushroom Mix",19.95]
[2134578,"Dutch Veal Osso Bucco",19.95]
[8017818,"Fresh Almonds",18.95]
[2211142,"Fresh Chestnuts",18]
[2150368,"Welsh Leg of Lamb Gigot Steak",17]
[5010075,"Walnuts with Shell",17]
[8024398,"Green Walnuts",17]
[8022114,"Elephant English Garlic",16.5]
[2210495,"Chasselas Grapes",16]
[2001975,"Unsmoked Back Bacon",15]
[2160307,"Walnut Wet",15]
[5002965,"Tiger Lemon",15]
[2001400,"Beans Borlotti",14]
[8025801,"Fragola Grapes",14]
[2001385,"Chestnuts 103",12.95]
[8026814,"Fresh Dates",12.5]
[2001289,"Isle of Wight Heirloom Tomatoes",12]
[2137249,"Cobnuts",10.5]
[5005280,"Cotton Candy Grapes",10.5]
[2001394,"Mixed Gourdes",10]
[2001970,"Outdoor Reared Pork Belly",10]
[2001997,"Pork & Leek Sausage Loose",10]
[4008502,"Yellow Vine Tomatoes",10]
[2001440,"Mushrooms Oyster Grey",9.9499999999999993]
[2001376,"Horseradish",9.5]
[5001743,"Pink Navel Orange",9.5]
[2214185,"Passe Crasanne Pear",9]
[5010074,"Mandarin Tacle",9]
[2001448,"Williams White Pears",8]
[8023339,"Lamb Neck",8]
[8023623,"Green Tomatoes",8]
[8024399,"Crystal Lemon Cucumber",8]
[8025403,"Game Chips",8]
[2001386,"Walnuts",7.95]
[5005274,"Purple Brussel Sprouts",7.8]
[2165975,"Radicchio Tardivo",7.6]
[8017819,"Radicchio di Chioggia",7.5]
[8025800,"White Aubergine",7.5]
[2001352,"Mushrooms Portabello",6.95]
[2214717,"Golden Turnips",6.5]
[2137341,"Apple Discovery",6.2]
[8027189,"Red Devil Apples",6.2]
[2001407,"Onions Roscoff",6]
[2001547,"Chicory",6]
[2140535,"Clementine Leafy",6]
[2212871,"Brogdale Pears",6]
[2214118,"Pink Fir Potatoes",6]
[4008508,"Squash Patty Pan",6]
[8025799,"Florence Onions",6]
[8026817,"William Red Pear",6]
[2001373,"Artichokes Jerusalem",5]
[2116866,"Cavolo Nero",5]
[2145101,"Candy Beetroot",5]
[2210680,"Plum African Rose",5]
[5007631,"Rib Stone Pippin",5]
[2116871,"Trevise",4.9000000000000004]
[2157866,"Pepper Yellow",4.75]
[2001293,"Quince",4.5]
[2001401,"White Carrots",4.5]
[2001408,"Orange Blood",4.5]
[2001381,"Parsnips",4]
[2145159,"Baby Parsnips",4]
[2145100,"Golden Beetroot",3.95]
[2001395,"Ginger Root",3.5]
[2119319,"Wye Valley Rhubarb",3.5]
[5007627,"Brussel Sprout Tops",3.5]
[2001366,"Leeks",3]
[8027188,"Cox Apples",3]
[2001447,"Onion Squash",2.5]
[2138024,"Crown Prince Squash",2.5]
[2001309,"Maris Piper Potatoes",2]
[2001389,"Cabbage Red",1.9]
[2001369,"Swede",1.8]
[8018578,"Glenarm Salt Aged Lamb Noisette",0]
[8018579,"Glenarm Salt Aged Lamb Loin Chop",0]
[8022999,"Welsh Lamb Neck Scrag",0]
[8026283,"Pink Fresh Pistachios",10]
[2164257,"Satsuma Easy Peel",5.5]
[5007625,"Tokyo Turnips",4.5]
[2001458,"Apple Russet (British)",2.5]
[2128663,"Welsh Lamb Carcass Without Shoulders",0]
[8023626,"Breme Onions",7.95]
[2213949,"Black Iberico Tomatoes",20]
[2214000,"Orange King Carrots",2]
[2120665,"Cherry Loose",30]
[4008498,"Angelys Pear",3]
[2137618,"British Conference Pear",3]
[2109221,"Mixed Spanish Heritage Tomatoes",8.5]
[5024052,"Leafy Navel Oranges",7.5]
[2134580,"Dutch Veal Diced",15]
[8022289,"Courgette Round Yellow              ",12]
[8022244,"Taccole Green Beans",9.9499999999999993]
[2001973,"Smoked Streaky Bacon",14]
[2140689,"Lemon Unwaxed",9.9499999999999993]
[2214718,"Kumato Tomato",8.5]
[2213999,"Yellow King Carrots",2]
[2001286,"Isle of Wight Classic Vine Tomatoes",8.9]
[2212887,"The Fortnum's Steak and Chips Box",35]
[2128269,"Mango",9.5]
[2204422,"Hand Carved Smoked Salmon Bagel Tier Two",8.9499999999999993]
[2207982,"Hederman Hand Carved Smoked Salmon Bagel",8.9499999999999993]
[8023126,"Mallard Duck Breast",8]
[2123921,"MOP Spoon",5]
[4008507,"Purple Carrots",4.5]
[8019237,"Baby Carrots Bunch",4.5]
[2001420,"Salad Rocket Punnet",3.75]
[2123230,"Black Garlic Bulb",3.5]
[8017206,"Albenga Artichoke",3.5]
[5024174,"Chocolate Orange",2.5]
[2145698,"Lemon Thyme Labelled Bunch",1.95]
[2001425,"Corn on the Cob with Husk",1.75]
[5067149,"Pork sausages (top quality)",0]
[8018576,"Glenarm Salt Aged Lamb Rack",0]
[8020500,"Runner Beans",5]
[2129214,"Chicken Drumstick",8.9499999999999993]
[2214117,"Catriona Heritage Potatoes",6]
[2214742,"Diced Glenarm Beef",12]
[2213317,"Diced Pork",12]
[2193870,"Bull's Heart Tomato",9]
[2183110,"Glenarm Salt Aged Fiorentina Steak 600g",32]
[2129211,"Welsh Lamb Chump Chop",22]
[2210519,"Glenarm Shorthorn Topside Roast",0]
[2213316,"Pork Steak",15]
[2206811,"Burgundy Plums",8.9499999999999993]
[2208733,"Amalfi Lemons",14]
[5000267,"Diced Lamb",15]
[2134581,"Dutch Veal Chops",24.95]
[2129206,"Welsh Lamb Rump Boneless",17]
[5066313,"Ortiz Salted Anchovy Fillets 95g (glass jar)",10.5]
[2001419,"Salad Watercress Punnet",4]
[2001282,"Tarragon",3.5]
[2001429,"Kiwi Jumbo",1]
[2001477,"Greengages",12]
[2183145,"Glenarm 70 Day + Salt Aged Ribeye",46]
[8013812,"Rare Breed Baby Back Ribs",12]
[8023338,"Lamb Breast",8]
[2204421,"Hand Carved Smoked Salmon Bagel Tier One",6.95]
[8019238,"Baby Fennel Bunch",3.95]
[2001502,"Raspberry Punnet",3]
[2001524,"Melon Charentais",8]
[2123570,"Welsh Lamb Shank",7.5]
[8023622,"Mauve Aubergine",5.95]
[2001357,"Little Gem Lettuce",1.2]
[2207981,"Secret Smokehouse Hand Carved Smoked Salmon Bagel",6.95]
[2040525,"Black Pudding Chubb 280g",4.95]
[2036538,"Spring Onion",0.8]
[2214017,"Fruit Pig Haggis 450g",7.5]
[2163802,"Piccadilly Smoked Salmon",45]
[2001379,"Artichoke Globe",3.5]
[2207143,"Flat Peach",1.5]
[2213915,"Rare Breed Pork Mince",12]
[2187069,"Baby Carrots Bunched",3]
[2123576,"Welsh Lamb Neck Fillet",23]
[2123579,"Welsh Leg of Lamb Bone Out",19]
[8020756,"Lamb Kidneys",0.5]
[2210523,"Rare Breed Pork Sausages",10]
[2001508,"Melon Galia",2]
[8019243,"Mango",4.5]
[2123575,"Welsh Lamb Shoulder Bone In",14]
[2040524,"White Pudding Chubb 280g",4.95]
[2123571,"Welsh Leg of Lamb Bone In",17]
[2123580,"Welsh Lamb Shoulder Boned and Rolled",17]
[2001450,"Parsley Bunched",2]
[2207983,"Piccadilly Hand Carved Smoked Salmon Bagel",6.95]
[2101250,"Glenarm Salt Aged Fiorentina Steak",36]
[2213321,"70 Day Cote De Bouef",43]
[2183115,"Glenarm Salt Aged Ribeye",41]
[2129213,"Welsh Lamb Barnsley Chop",22]
[2145097,"Rainbow Swiss Chard",6.5]
[2205672,"Peach Yellow",1.95]
[2078443,"Non Scan Code: Fresh",0]
[2210525,"Rare Breed Pork and Leek Sausages",10]
[2183067,"Glenarm Salt Aged Sirloin",41]
[2123574,"Welsh Rack of Lamb French Trimmed",30]
[2001954,"Poussin",4.75]
[8019765,"PGI Lamb Mince",14]
[2208474,"Sugar Pit Bacon Chops",25]
[2101256,"Glenarm Salt Aged Cote De Boeuf",39]
[2214741,"Veal Mince",15]
[2179343,"Moyallan Sugar Pit Streaky Bacon",25]
[8022801,"Lamb and Mint Burger",1.75]
[2141850,"Rare Breed Pork Loin",12]
[2159107,"Glenarm Mince",14]
[2101246,"Glenarm Aged Centre Cut Fillet",65]
[8023121,"Oven Ready Grouse",16.95]
[2210522,"Rare Breed Pork Shoulder Boneless",12]
[8019882,"Cumberland Whirl KG",12]
[2001504,"Fig",0.96]
[2164048,"Fresh Blini Medium",0.2]
[2001517,"Banana",1.95]
[2001409,"Carrot Bunch",4.5]
[8013678,"Broccoli",2.5]
[8026371,"Chicken Kiev",6.95]
[2207979,"F&M Hand Carved Smoked Salmon Bagel",6.95]
[2164047,"Fresh Blini Small",0.1]
[2175279,"Tea Post 3 Month Subscription",45]
[5028135,"LL Customer Judi Full Green Lizard",5300]
[5068879,"L Cust. Traviata Bttrmilk & Lizard Flap w Holes",2570]
[5027647,"DOXA Chronograph (c.1945)",2350]
[2042241,"L Traviata Patent Leather Black",1900]
[4004784,"FC Surfboard Fiji Wooden",1900]
[2186461,"L Traviata Green Python Flap, Olive Green Calf Body",1736]
[5027638,"MSB Drake's triptych Framed Print",1695]
[8026897,"LL Encore Beige Patene SP",1460]
[5065053,"OMEGA 9K Gold Sub Second Cal 265 / Original Case (1950)",1450]
[5027645,"OMEGA Calibre 30T2 Sub Second (1946)",1250]
[2043071,"L High Society Clutch Black",980]
[5034813,"A Beauvais Velvet Jewelry Box Cinnabar",975]
[2211650,"DP Line D Fp Med Sun Blue/Pall",850]
[2211639,"HS Chess Set Leather Chocolate",725]
[2123273,"Leather Elephant Medium",650]
[2211649,"DP Line D Fp Med Gul Blue/Pall",650]
[5027640,"MSB Dunhill VR Racing Framed Print",595]
[5010343,"DR Finley 1 Navy Men's Hoodie S",545]
[5010344,"DR Finley 1 Navy Men's Hoodie M",545]
[5010345,"DR Finley 1 Navy Men's Hoodie L",545]
[5010346,"DR Finley 1 Navy Men's Hoodie XL",545]
[2178903,"D Line Fp Firehead Goldsmith",505]
[5010347,"DR Finley 1 Navy Men's Trouser S",495]
[5010348,"DR Finley 1 Navy Men's Trouser M",495]
[5010349,"DR Finley 1 Navy Men's Trouser L",495]
[5010350,"DR Finley 1 Navy Men's Trouser XL",495]
[5030022,"CP Comfot Sweat Cream, Blue & Clay S",495]
[5030023,"CP Comfot Sweat Cream, Blue & Clay M",495]
[5065649,"B Arran Reversible 73x183cm Scarf - Sheerwood",470]
[5065527,"MS Exclusive Framed Print - Santa Suit",460]
[5067626,"MS Drakes Animation 2 - Party Hat",460]
[5067627,"MS Drakes Animation 1 - Overcoat",460]
[8025785,"MS The Grey & Olive Glen Check  Framed Print",460]
[5028359,"AH Vanity Kit in AH Logo Velvet Teal",450]
[5030024,"CP Lounge Stripe Hoodie Oatmeal S",450]
[5030025,"CP Lounge Stripe Hoodie Oatmeal M",450]
[8026554,"E CC2051AJR Large Zip Around Purse Ebony",410]
[8026555,"E CC2081E Flap-Over Clutch Purse Ebony",410]
[8026559,"E CC2051AJR Large Zip Around Purse Mahagony",410]
[8026560,"E CC2081E Flap-Over Clutch Purse Mahagony",410]
[5026406,"TA Cashmere Knit Crew Neck Plain Red S",400]
[5026407,"TA Cashmere Knit Crew Neck Plain Red M",400]
[5026408,"TA Cashmere Knit Crew Neck Plain Red L",400]
[5026409,"TA Cashmere Knit Crew Neck Plain Red XL",400]
[5026410,"TA Cashmere Knit V-Neck Plain Navy S",400]
[5026411,"TA Cashmere Knit V-Neck Plain Navy M",400]
[5026412,"TA Cashmere Knit V-Neck Plain Navy L",400]
[5026413,"TA Cashmere Knit V-Neck Plain Navy XL",400]
[5026414,"TA Cashmere Knit V-Neck Plain Blue Denim S",400]
[5026415,"TA Cashmere Knit V-Neck Plain Blue Denim M",400]
[5026418,"TA Cashmere Knit V-Neck Plain Red S",400]
[5026419,"TA Cashmere Knit V-Neck Plain Red M",400]
[5026420,"TA Cashmere Knit V-Neck Plain Red L",400]
[5026421,"TA Cashmere Knit V-Neck Plain Red XL",400]
[2211788,"TS 300 Year Dorset Oak Emerald Resin Pen Fountain",375]
[5034814,"A Enzo Travel Domino Set Fawn",375]
[5032128,"Y Oranges Silk/Spandex PJ Set S",365]
[5032129,"Y Oranges Silk/Spandex PJ Set M",365]
[5032130,"Y Oranges Silk/Spandex PJ Set L",365]
[2211787,"TS White Marble Corian Pen Fountain White",350]
[5013189,"CP Cashmere Slouchy Star Print Sweater Navy",350]
[5013190,"CP Cashmere Slouchy Star Print Sweater Navy",350]
[5013191,"CP Cashmere Slouchy Star Print Sweater Navy",350]
[5013192,"CP Cashmere Slouchy Star Print Sweater Navy",350]
[5013194,"CP Cashmere Slouchy Star Print Sweater Grey",350]
[5013195,"CP Cashmere Slouchy Star Print Sweater Grey",350]
[5028360,"AH Jewellery Pouch in AH Logo Velvet Teal",350]
[5031798,"JR Barisieur Tea & Coffee Alarm Clock - White",345]
[5031799,"JR Barisieur Tea & Coffee Alarm Clock - Black",345]
[5032131,"Y Oranges Silk/Spandex Dressing Gown S",330]
[5032132,"Y Oranges Silk/Spandex Dressing Gown M",330]
[5032133,"Y Oranges Silk/Spandex Dressing Gown L",330]
[8026301,"L Medium Rope Logo Wallet Calf Leather",330]
[5034815,"A Enzo Travel Card Set Fawn",325]
[2204726,"BS Wispy Cashmere Dot Grey Scarf",315]
[5032590,"DD  Soleia Navy Quilted Robe S Quilted Robe S",310]
[5032591,"DD  Soleia Navy Quilted Robe M Quilted Robe M",310]
[5032592,"DD  Soleia Navy Quilted Robe L Quilted Robe L",310]
[5067628,"MS Exclusive FM Unframed Christmas Print 1",310]
[5067629,"MS Exclusive FM Unframed Christmas Print 2",310]
[5067630,"MS Exclusive FM Unframed Christmas Print 3",310]
[5067631,"MS Exclusive FM Unframed Christmas Print 4",310]
[5067632,"MS Exclusive FM Unframed Christmas Print 5",310]
[2178918,"D Defi Fountain Pen Black & Pall",300]
[2196191,"HS Deluxe Dominoes Buffalo Backgammon Chocolate",295]
[5013201,"CP Cashmere Polo Neck Dusty Rose",295]
[5013202,"CP Cashmere Polo Neck Dusty Rose",295]
[5013203,"CP Cashmere Polo Neck Dusty Rose",295]
[5013205,"CP Cashmere Polo Neck Light Blue",295]
[5013207,"CP Cashmere Polo Neck Light Blue",295]
[5013208,"CP Cashmere Polo Neck Light Blue",295]
[5013209,"CP Cashmere Love Sweatshirt Navy",295]
[5013210,"CP Cashmere Love Sweatshirt Navy",295]
[5013211,"CP Cashmere Love Sweatshirt Navy",295]
[5013212,"CP Cashmere Love Sweatshirt Navy",295]
[5013213,"CP Cashmere Love Sweatshirt Dusty Rose XS",295]
[5013214,"CP Cashmere Love Sweatshirt Dusty Rose S",295]
[5013215,"CP Cashmere Love Sweatshirt Dusty Rose M",295]
[5013216,"CP Cashmere Love Sweatshirt Dusty Rose L",295]
[5030032,"CP Soft Colourblock Sweater Black,Smoke and Cream S",295]
[5030033,"CP Soft Colourblock Sweater Black,Smoke and Cream M",295]
[5030034,"CP Soft Colourblock Sweater Black,Smoke and Cream L",295]
[5030035,"CP Soft Colourblock Wide Leg Pant Black,Smoke & Cream S",295]
[5030036,"CP Soft Colourblock Wide Leg Pant Black,Smoke & Cream M",295]
[5030037,"CP Soft Colourblock Wide Leg Pant Black,Smoke & Cream L",295]
[5030041,"CP Lines Wide Leg Pant Grey S",295]
[5030042,"CP Lines Wide Leg Pant Grey M",295]
[5030043,"CP Lines Wide Leg Pant Grey L",295]
[5065519,"NAB Luxe Leather Backgammon Board - Purple & Navy",295]
[5065520,"NAB Luxe Leather Backgammon Board - Emerald & Orange",295]
[8025084,"B CA19 Wispy Scarf Aegean",295]
[2138070,"E Billfold with 12 c c Turquoise",280]
[2138515,"E Saint Crispin Coat Wallet with 8 C/C Cream/Brown",280]
[5029997,"LL Painted Leopard Cashmere Scarf",275]
[5030000,"LL Light Aster Cashmere Scarf",275]
[5030038,"CP Lines V Neck Sweater Grey S",275]
[5030039,"CP Lines V Neck Sweater Grey M",275]
[5030040,"CP Lines V Neck Sweater Grey L",275]
[5065679,"B Wispy 70x200cm Scarf - Oat - CAW20",275]
[2197556,"B Arran Reversible Cashmere Scarf Navy/Vicuna",260]
[8024047,"F&M x Begg  Arran 36x183 Scarf Dark Grey",260]
[8024968,"B CA19 Arran Scarf Aonia + Vicuna",260]
[2183181,"B Wispy Cashmere Scarf Dark Natural",250]
[5010308,"DR Plaza 21 Navy Men's Robe S",250]
[5010309,"DR Plaza 21 Navy Men's Robe M",250]
[5010310,"DR Plaza 21 Navy Men's Robe L",250]
[5010311,"DR Plaza 21 Navy Men's Robe XL",250]
[5010312,"DR Plaza 21 Navy Men's Robe XXL",250]
[5010313,"DR Royal 40 Navy Men's Robe S",250]
[5010314,"DR Royal 40 Navy Men's Robe M",250]
[5010315,"DR Royal 40 Navy Men's Robe L",250]
[5010316,"DR Royal 40 Navy Men's Robe XL",250]
[5010317,"DR Royal 40 Navy Men's Robe XXL",250]
[5027748,"ATTLG The Poetical Works of Robert Browning",250]
[8025066,"B CA19 Magellan Scarf Neville Navy",250]
[4008513,"E Capra Collection Coat Wallet Black",230]
[4008514,"E Capra Collection Coat Wallet Navy",230]
[8026402,"E CP806JS Coat Wallet w. 8 C/C Tan",230]
[8026175,"C Charlotte Black/Natural Weave Panama w/ Contrast Ribbon 56",225]
[5026422,"TA Double Cuff Shirt Plain White Classic fit S/15.5",220]
[5026423,"TA Double Cuff Shirt Plain White Classic fit M/16",220]
[5026427,"TA 3-Button Cuff Oxford Shirt White Classic fit S/15.5",220]
[5026428,"TA 3-Button Cuff Oxford Shirt White Classic fit M/16",220]
[5026429,"TA 3-Button Cuff Oxford Shirt White Classic fit L/16.5",220]
[5026430,"TA 3-Button Cuff Oxford Shirt White Classic fit XL/17",220]
[5026431,"TA 3-Button Cuff Oxford Shirt White Classic fit XXL/17.5",220]
[5026432,"TA 3-Button Cuff Oxford Shirt Blue Classic Fit S/15.5",220]
[5026433,"TA 3-Button Cuff Oxford Shirt Blue Classic Fit M/16",220]
[5026434,"TA 3-Button Cuff Oxford Shirt Blue Classic Fit L/16.5",220]
[5026435,"TA 3-Button Cuff Oxford Shirt Blue Classic Fit XL/17",220]
[5026436,"TA 3-Button Cuff Oxford Shirt Blue Classic Fit XXL/17.5",220]
[5026437,"TA 3-Button Cuff Shirt Blue/White Stripe Classic Fit S/15.5",220]
[5026438,"TA 3-Button Cuff Shirt Blue/White Stripe Classic Fit M/16",220]
[5026439,"TA 3-Button Cuff Shirt Blue/White Stripe Classic Fit L/16.5",220]
[5026440,"TA 3-Button Cuff Shirt Blue/White Stripe Classic Fit XL/17",220]
[5026441,"TA 3-Button Cuff Shirt Blu/White Stripe Classic Fit XXL/17.5",220]
[5026442,"TA Poplin Shirt Plain White Tailored fit S/15.5",220]
[5026443,"TA Poplin Shirt Plain White Tailored fit M/16",220]
[5026444,"TA Poplin Shirt Plain White Tailored fit L/16.5",220]
[5026445,"TA Poplin Shirt Plain White Tailored fit XL/17",220]
[5026446,"TA Poplin Shirt Plain White Tailored fit XXL/17.5",220]
[5026447,"TA Poplin Shirt Blue/White Stripe Tailored fit S/15.5",220]
[5026448,"TA Poplin Shirt Blue/White Stripe Tailored fit M/16",220]
[5026449,"TA Poplin Shirt Blue/White Stripe Tailored fit L/16.5",220]
[5026450,"TA Poplin Shirt Blue/White Stripe Tailored fit XL/17",220]
[5026451,"TA Poplin Shirt Blue/White Stripe Tailored fit XXL/17.5",220]
[5026454,"TA 3-Button Cuff Shirt Plain White Classic fit L/16.5",220]
[5026455,"TA 3-Button Cuff Shirt Plain White Classic fit XL/17",220]
[5026456,"TA 3-Button Cuff Shirt Plain White Classic fit XXL/17.5",220]
[5026457,"TA 3-Button Cuff Shirt Plain Pink Classic fit S/15.5",220]
[5026458,"TA 3-Button Cuff Shirt Plain Pink Classic fit M/16",220]
[5026459,"TA 3-Button Cuff Shirt Plain Pink Classic fit L/16.5",220]
[5026460,"TA 3-Button Cuff Shirt Plain Pink Classic fit XL/17",220]
[5026461,"TA 3-Button Cuff Shirt Plain Pink Classic fit XXL/17.5",220]
[5032125,"Y Lemon Zest Sky Cotton PJ Set S",215]
[5032126,"Y Lemon Zest Sky Cotton PJ Set M",215]
[5026344,"TA Poplin Shirt Blue/White Stripe Check Reg fit M/16",200]
[5026345,"TA Poplin Shirt Blue/White Stripe Check Reg fit L/16.5",200]
[5026346,"TA Poplin Shirt Blue/White Stripe Check Reg fit XL/17",200]
[5026347,"TA Poplin Shirt Blue/White Stripe Check Reg fit XXL/17.5",200]
[5026348,"TA Poplin Shirt Pink/White Stripe Check Reg fit M/16",200]
[5026349,"TA Poplin Shirt Pink/White Stripe Check Reg fit L/16.5",200]
[5026350,"TA Poplin Shirt Pink/White Stripe Check Reg fit XL/17",200]
[5026351,"TA Poplin Shirt Pink/White Stripe Check Reg fit XXL/17.5",200]
[5026352,"TA Poplin Shirt Light Blue/White Stripe Check Reg fit M/16",200]
[5026353,"TA Poplin Shirt Light Blue/White Stripe Check Reg fit L/16.5",200]
[5026354,"TA Poplin Shirt Light Blue/White Stripe Check Reg fit XL/17",200]
[5026355,"TA Poplin Shirt Light Blue/White Stripe Check Reg fit XXL/17",200]
[5026362,"TA Linen Shirt Brown/Blue/White Stripe Reg fit M/16",200]
[5026363,"TA Linen Shirt Brown/Blue/White Stripe Reg fit L/16.5",200]
[5026364,"TA Linen Shirt Brown/Blue/White Stripe Reg fit XL/17",200]
[5026365,"TA Linen Shirt Brown/Blue/White Stripe Reg fit XXL/17.5",200]
[5026366,"TA Linen Shirt Yellow/Blue/White Stripe Reg fit M/16",200]
[5026367,"TA Linen Shirt Yellow/Blue/White Stripe Reg fit L/16.5",200]
[5026368,"TA Linen Shirt Yellow/Blue/White Stripe Reg fit XL/17",200]
[5026369,"TA Linen Shirt Red/Blue/White Stripe Reg fit M/16",200]
[5026370,"TA Linen Shirt Red/Blue/White Stripe Reg fit L/16.5",200]
[5026371,"TA Linen Shirt Red/Blue/White Stripe Reg fit XL/17",200]
[5030002,"LL Navy Mystical Swan Embroidered Silk / Wool Scarf",200]
[2213905,"E Capra Billfold Wallet W/ 6CC Black",195]
[4008511,"E Capra Collection Billfold Wallet w. 6 C/C Navy",195]
[5028361,"AH Girlie Stuff in AH Logo Velvet Teal",195]
[8023611,"ZE  Zhang Enli x Fortnum & Mason Modal/Cashmere Scarf",195]
[8025400,"AH Lotions and Potions in Black Nylon with Capra Trim",195]
[8026395,"E BH953AJR Long Wallet w. Zipped Pocket Black/Tan",195]
[8026400,"E CP030JS Billfold Wallet w. 6 C/C Tan",195]
[2138067,"E Large Stud Box Navy",190]
[8026392,"E BH030CJR Billfold Wallet w. 6 C/C Green/Tan",190]
[5032584,"DD  Soleia Cream Robe S Robe S",188]
[5032585,"DD  Soleia Cream Robe M Robe M",188]
[5032586,"DD  Soleia Cream Robe L Robe L",188]
[5010297,"DR Braemar 32 Navy Men's EW Pyjama Set XXL",185]
[5010302,"DR Regimental RAF Men's EW Pyjama Set Red/Navy XXL",185]
[5010303,"DR Windsor 40 Blue Men's EW Pyjama Set S",185]
[5010304,"DR Windsor 40 Blue Men's EW Pyjama Set M",185]
[5010305,"DR Windsor 40 Blue Men's EW Pyjama Set L",185]
[5010306,"DR Windsor 40 Blue Men's EW Pyjama Set XL",185]
[5010307,"DR Windsor 40 Blue Men's EW Pyjama Set XXL",185]
[2138068,"E Money Clip Wallet Purple",180]
[4003952,"FC Sport Linen Shorts Navy Blue L/32",175]
[4003956,"FC Sport Linen Shorts Melange Navy Blue L/32",175]
[5029994,"LL Curious Zebra Cashmere / Modal Scarf",175]
[5032965,"LL Exlcusive Leopard",175]
[5010289,"DR Arran 24 Blue Men's EW Pyjama Set M",170]
[5010290,"DR Arran 24 Blue Men's EW Pyjama Set L",170]
[5010291,"DR Arran 24 Blue Men's EW Pyjama Set XL",170]
[5010292,"DR Arran 24 Blue Men's EW Pyjama Set XXL",170]
[4003965,"FC Linen Shirt L/S Regular Midnight Blue XL/34",160]
[5032278,"PS Travel Wash Bag Recycled - Black",160]
[8026178,"C Zara Navy Wide Brim Hat with Navy Band 56",159]
[8026179,"C Zara Navy Wide Brim Hat with Navy Band 57",159]
[8026180,"C Zara Navy Wide Brim Hat with Navy Band 58",159]
[5032140,"Y Queen of Hearts Cotton PJ Set S",155]
[5032141,"Y Queen of Hearts Cotton PJ Set M",155]
[5032142,"Y Queen of Hearts Cotton PJ Set L",155]
[8026553,"E CC2034DJR Coin Purse w. Card Pocket Ebony",155]
[8026558,"E CC2034DJR Coin Purse w. Card Pocket Mahagony",155]
[2170113,"Sf Bumble Bee Love Heart Silk Square Scarf 90X90Cm",150]
[5032581,"DD  Soleia Cream Long Set S Long Set S",150]
[5032582,"DD  Soleia Cream Long Set M Long Set M",150]
[5032583,"DD  Soleia Cream Long Set L Long Set L",150]
[5032587,"DD  Soleia Navy Long Set S Long Set S",150]
[5032588,"DD  Soleia Navy Long Set M Long Set M",150]
[5032589,"DD  Soleia Navy Long Set L Long Set L",150]
[5032596,"DD  Deia Long Set S Long Set S",150]
[5032597,"DD  Deia Long Set M Long Set M",150]
[5032598,"DD  Deia Long Set L Long Set L",150]
[8025004,"B CA19 Beaufort Unwashed Scarf Herder Monochrome",150]
[8026149,"C Lyon Navy  Panama w/ Grey Contrast Band L",150]
[8026166,"C St Tropez Wide Brim Anenome Panama Hat 56",149]
[8026168,"C St Tropez Wide Brim Anenome Panama Hat 58",149]
[5032127,"Y Lemon Zest Sky Cotton PJ Set L",145]
[5032134,"Y Leaf Print DewBerry Cotton PJ Set S",145]
[5032135,"Y Leaf Print DewBerry Cotton PJ Set M",145]
[5032136,"Y Leaf Print DewBerry Cotton PJ Set L",145]
[5032137,"Y Lemond Zest Dressing Gown S",145]
[5032138,"Y Lemon Zest Dressing Gown M",145]
[5032139,"Y Lemon Zest Dressing Gown L",145]
[5032143,"Y Queen of Hearts Cotton Dressing Gown S",145]
[5032144,"Y Queen of Hearts Cotton Dressing Gown M",145]
[5032145,"Y Queen of Hearts Cotton Dressing Gown L",145]
[4004160,"FC S/S Linen Shirt Midnight Blue M/30",140]
[5032302,"PS Wide Brim Trilby Hat - Navy L",140]
[5032303,"PS Wide Brim Trilby Hat - Navy M",140]
[5032304,"PS Wide Brim Trilby Hat - Navy S",140]
[5032305,"PS Wide Brim Trilby Hat - Slate L",140]
[5032306,"PS Wide Brim Trilby Hat - Slate M",140]
[5032307,"PS Wide Brim Trilby Hat - Slate S",140]
[5038394,"TA Winged Paisly Texturd Print Tie - Navy",140]
[5038398,"TA Spot Square Embroidered Tie - Navy",140]
[8026393,"E BH143JR Visiting Card Case Green/Tan",140]
[5038409,"TA Embroidered Classic Paisley Tie - Pink",135]
[5065671,"B Bicolour Beanie - Natural - CAW20",132]
[5065673,"B Bicolour Beanie - Red Deer - CAW20",132]
[5032578,"DD  Medina Stripe Towel Robe S Towel Robe S",130]
[5032579,"DD  Medina Stripe Towel Robe M Towel Robe M",130]
[5032580,"DD  Medina Stripe Towel Robe L Towel Robe L",130]
[5065668,"B Alex Cashmere Beanie - Ash Grey - CAW20",126]
[5065669,"B Alex Cashmere Beanie - Dark Navy - CAW20",126]
[2213906,"E Flat Credit Card Case Black",125]
[4008512,"E Capra Collection Flat Card Case Navy",125]
[5026380,"TA Tie Jacquard Silk Geo Pink/Blue",125]
[5026381,"TA Tie Jacquard Silk Geo Navy/Blue",125]
[5026382,"TA Tie Jacquard Silk Grey/Blue Squares Navy",125]
[5026383,"TA Tie Jacquard Silk Grey/Navy Squares Blue",125]
[5026384,"TA Tie Jacquard Silk Grey/Blue Squares Burgundy",125]
[5026385,"TA Tie Jacquard Silk Paisley Blue/Yellow",125]
[5026386,"TA Tie Jacquard Silk Paisley Red/Blue",125]
[5026387,"TA Tie Jacquard Silk Paisley Navy/Blue",125]
[8018403,"D York Lambskin Classic Glove Vent/Handsewn Points XL/9 Maho",125]
[8018404,"D York Lambskin Classic Glove Vent/Handsewn Points XXL/10 Ma",125]
[8018405,"D York Lambskin Classic Glove Vent/Handsewn Points M/8 Black",125]
[8018406,"D York Lambskin Classic Glove Vent/Handsewn Points L/8.5 Bla",125]
[8018408,"D York Lambskin Classic Glove Vent/Handsewn Points XXL/10 Bl",125]
[8026401,"E CP248JS Flat Credit Card Case Tan",125]
[8026394,"E BH248JR Flat Credit Card Case Green/Tan",120]
[2177844,"C Classic Bleached Down Brim Panama w/ Black Band 60",119]
[2209502,"C Classic Bleached Down Brim Panama w/ Black Band 61",119]
[8026172,"C Jessica W/ Navy Band Bleached 56",119]
[8026174,"C Jessica W/ Navy Band Bleached 58",119]
[8026235,"C Jessica W/ Navy Band Natural 56",119]
[8026236,"C Jessica W/ Navy Band Natural 57",119]
[8026237,"C Jessica W/ Navy Band Natural 58",119]
[2133775,"J Plain Cashmere Scarf - Black",115]
[2204741,"Johnstons Plain Cashmere Scarf Black**",115]
[8018256,"D Hannah Sheepskin Glove Black 6.5",115]
[8018257,"D Hannah Sheepskin Glove Black 7",115]
[8018258,"D Hannah Sheepskin Glove Black 7.5",115]
[8018260,"D Hannah Sheepskin Glove Brown 6.5",115]
[8018261,"D Hannah Sheepskin Glove Brown 7",115]
[8018262,"D Hannah Sheepskin Glove Brown 7.5",115]
[8026552,"E CC248JR Flat Credit Card Case Ebony",115]
[8026557,"E CC248JR Flat Credit Card Case Mahagony",115]
[5035776,"GG Brown Nappa Leather Glove W Faux Fur Trim Cuff Brown 6.5",110]
[5035778,"GG Brown Nappa Leather Glove W Faux Fur Trim Cuff Brown 7.5",110]
[5035779,"GG Brown Nappa Leather Glove W/ Faux Fur Trim Cuff Brown 8",110]
[5065664,"B Jura Wilsford 30x170cm Scarf - Grey/Blue - CAW20",110]
[5038415,"TA Adjustable Formal Braces - Black",100]
[5038416,"TA Adjustable Formal Braces - Navy",100]
[8018399,"D Westminster Classic Glove 3 Pt Contrast Cashmere Lining XL",100]
[2204744,"Johnstons Plain Cashmere Scarf Diesel Blue",99]
[4007997,"C Madison Fedora Maroon S",98]
[2190629,"GG Electric Blue Hand-stitched Suede Glove 6.5",95]
[2190630,"GG Electric Blue Hand-stitched Suede glove 30% Cashmere 7",95]
[2190632,"GG Navy Hand-stitched Suede glove 30% Cashmere Mix 7.5",95]
[2190633,"GG Navy Hand-stitched Suede glove 30% Cashmere Mix 8",95]
[5010333,"DR Basel 1 Black Men's L/S R/N T-Shirt S",95]
[5010334,"DR Basel 1 Black Men's L/S R/N T-Shirt M",95]
[5010335,"DR Basel 1 Black Men's L/S R/N T-Shirt L",95]
[5010336,"DR Basel 1 Black Men's L/S R/N T-Shirt XL",95]
[5010337,"DR Basel 1 Black Men's L/S R/N T-Shirt XXL",95]
[5010338,"DR Basel 1 Navy Men's L/S R/N T-Shirt S",95]
[5010339,"DR Basel 1 Navy Men's L/S R/N T-Shirt M",95]
[5010340,"DR Basel 1 Navy Men's L/S R/N T-Shirt L",95]
[5010341,"DR Basel 1 Navy Men's L/S R/N T-Shirt XL",95]
[5010342,"DR Basel 1 Navy Men's L/S R/N T-Shirt XXL",95]
[5027601,"Q F&M Bespoke Set of 25 Note Cards - White/Silver HEADER",95]
[5027603,"Q F&M Bespoke Set of 25 Note Cards - White/Gold HEADER",95]
[5027606,"Q F&M Bespoke Set of 25 Note Cards - Tan/Silver HEADER",95]
[5027608,"Q F&M Bespoke Set of 25 Note Cards - Tan/Gold HEADER",95]
[5027611,"Q F&M Bespoke Set of 25 Note Cards - Grey/Silver HEADER",95]
[5027613,"Q F&M Bespoke Set of 25 Note Cards - Grey/Gold HEADER",95]
[5032575,"DD  Medina Stripe Wide Leg S Wide Leg S",95]
[5032576,"DD  Medina Stripe Wide Leg M Wide Leg M",95]
[5032577,"DD  Medina Stripe Wide Leg L Wide Leg L",95]
[5035780,"GG Hand-Stitched Suede Glove 30% Cashmere Mix Giada 6.5",95]
[5035781,"GG Hand-Stitched Suede Glove 30% Cashmere Mix Giada 7",95]
[5035782,"GG Hand-Stitched Suede Glove 30% Cashmere Mix Giada 7.5",95]
[5035783,"GG Hand-Stitched Suede Glove 30% Cashmere Mix Giada 8",95]
[8019751,"GG Electric Blue Hand-stitched Suede Glove 30% Cashmere 7.5",95]
[8019752,"GG Electric Blue Hand-stitched Suede Glove 30% Cashmere 8",95]
[8019754,"GG Navy Hand-stitched Suede Glove 30% Cashmere Lining 7",95]
[5010351,"DR Braemar 32 Navy Men's Trouser S",90]
[5010352,"DR Braemar 32 Navy Men's Trouser M",90]
[5010353,"DR Braemar 32 Navy Men's Trouser L",90]
[5010354,"DR Braemar 32 Navy Men's Trouser XL",90]
[5010355,"DR Braemar 32 Navy Men's Trouser XXL",90]
[5010356,"DR Felsted 3 Blue Men's Trouser S",90]
[5010357,"DR Felsted 3 Blue Men's Trouser M",90]
[5010358,"DR Felsted 3 Blue Men's Trouser L",90]
[5010359,"DR Felsted 3 Blue Men's Trouser XL",90]
[5010360,"DR Felsted 3 Blue Men's Trouser XXL",90]
[5026390,"TA Bow Tie Jacquard Silk Yellow/Orange Floral Blue",90]
[5026392,"TA Bow Tie Jacquard Silk Floral Beige",90]
[5026393,"TA Bow Tie Jacquard Silk Floral Navy",90]
[5035768,"GG Black Nappa Leather Glove W Faux Fur Trim Cuff Black 6.5",90]
[5035770,"GG Black Nappa Leather Glove W Faux Fur Trim Cuff Black 7.5",90]
[5035771,"GG Black Nappa Leather Glove W/ Faux Fur Trim Cuff Black 8",90]
[5035772,"GG Navy Nappa Leather Glove W/ Faux Fur Trim Cuff In ? 6.5",90]
[5035773,"GG Navy Nappa Leather Glove W/ Faux Fur Trim Cuff In ? 7",90]
[5035774,"GG Navy Nappa Leather Glove W/ Faux Fur Trim Cuff In ? 7.5",90]
[5035775,"GG Navy Nappa Leather Glove W/ Faux Fur Trim Cuff In ? 8",90]
[5065884,"WP The Travel Pack - Navy",90]
[5065885,"WP The Travel Pack - Natural",90]
[8018383,"D Skyfall Leather Unlined Glove L Black",90]
[8018384,"D Skyfall Leather Unlined Glove XL Black",90]
[2191986,"D Mendip Palm Vent Wool Lined Point Glove Black XL/10",85]
[2191987,"D Mendip Palm Vent Wool Lined Point Glove Black XXL/11",85]
[4003991,"FC Linen Towel Blue",85]
[5013199,"CP Cashmere Slippers",85]
[5032326,"PS Scarf PS Collage Stap - Burgundy",85]
[5032328,"PS Scarf PS Collage Stap - Black",85]
[5067516,"ATTLG Sweet William by Richmal Crompton",85]
[8018387,"D Mendip Palm Vent Wool Lined Point Glove - Black L/9*",85]
[8018389,"D Mendip Palm Vent Wool Lined Point Glove Tan L/8.5*",85]
[2191991,"D Mendip Palm Vent Wool Lined Point Glove Tan XXL/11",80]
[5027479,"SET Antinious Vase - Indigo Blue",80]
[5010318,"DR Basel 1 White Men's S/S R/N T-Shirt S",75]
[5010319,"DR Basel 1 White Men's S/S R/N T-Shirt M",75]
[5010320,"DR Basel 1 White Men's S/S R/N T-Shirt L",75]
[5010321,"DR Basel 1 White Men's S/S R/N T-Shirt XL",75]
[5010322,"DR Basel 1 White Men's S/S R/N T-Shirt XXL",75]
[5010323,"DR Ethan 1 Blue Men's S/S R/N T-Shirt S",75]
[5010324,"DR Ethan 1 Blue Men's S/S R/N T-Shirt M",75]
[5010325,"DR Ethan 1 Blue Men's S/S R/N T-Shirt L",75]
[5010326,"DR Ethan 1 Blue Men's S/S R/N T-Shirt XL",75]
[5010327,"DR Ethan 1 Blue Men's S/S R/N T-Shirt XXL",75]
[5010328,"DR Ethan 1 Silver Men's S/S R/N T-Shirt S",75]
[5010329,"DR Ethan 1 Silver Men's S/S R/N T-Shirt M",75]
[5010330,"DR Ethan 1 Silver Men's S/S R/N T-Shirt L",75]
[5010331,"DR Ethan 1 Silver Men's S/S R/N T-Shirt XL",75]
[5010332,"DR Ethan 1 Silver Men's S/S R/N T-Shirt XXL",75]
[5012040,"CH Balmoral Cashmere Cap Navy XL/61",75]
[5030858,"B Hip Flask & Cups",75]
[8026556,"E CC152ATL Stirrup Key Ring Ebony",75]
[8026561,"E CC152ATL Stirrup Key Ring Mahagony",75]
[8026397,"E BH298JR Travel Shoehorn in Pouch Green/Tan",70]
[8018236,"D Isabelle 3 Point Cashmere Lined Glove Mocca 6.5",69]
[8018237,"D Isabelle 3 Point Cashmere Lined Glove Mocca 7",69]
[8018238,"D Isabelle 3 Point Cashmere Lined Glove Mocca 7.5",69]
[5013197,"CP Cashmere Star Eyemask",65]
[5026394,"TA Pocket Square Silk Paisley Blue/Black",65]
[5026395,"TA Pocket Square Silk Paisley Yellow/Black",65]
[5026396,"TA Pocket Square Silk Paisley Red/Black",65]
[5026397,"TA Pocket Square Silk Floral Blue/White",65]
[5026400,"TA Pocket Square Silk Square Spot Blue Edge",65]
[5026402,"TA Pocket Square Silk Square Spot Green Edge",65]
[5026403,"TA Pocket Square Plain White",65]
[5026404,"TA Pocket Square Wh Border Plain Navy",65]
[5062230,"CH Crushable Safari - Camel M/57",65]
[5062231,"CH Crushable Safari - Camel L/59",65]
[5062232,"CH Crushable Safari - Camel XL/61",65]
[8018429,"D Deerhurst Leather Glove 3Pt Elasticated Wrist Faux Fur Lin",65]
[8018430,"D Deerhurst Leather Glove 3Pt Elasticated Wrist Faux Fur Lin",65]
[2210779,"CH x SHouse Safari Crushable Hat S Maroon",60]
[4007805,"C Bretton Wool Black M",60]
[5062242,"CH Harris Tweed 8 Piece Baker Boy - Blue Check M/57",60]
[5062243,"CH Harris Tweed 8 Piece Baker Boy - Blue Check L/59",60]
[5062244,"CH Harris Tweed 8 Piece Baker Boy - Blue Check XL/61",60]
[8018244,"D Lottie Touch Screen Bow Glove Claret M",60]
[8018246,"D Joanna Unlined 3 Pt & Palm Vent Glove 6.5",60]
[8018248,"D Joanna Unlined 3 Pt & Palm Vent Glove 7.5",60]
[8018249,"D Joanna Unlined 3 Pt & Palm Vent Glove 8",60]
[8018416,"D Falmouth Touchscreen Leather Knit Cuff Glove L Black/Charc",60]
[8018494,"CH Harris Tweed 8 Piece Baker Boy Brown Check L/59",60]
[8025956,"IL Polariod Colour film for i-Type – x40 film pack",60]
[5030020,"CP Stripe Eyemask",55]
[5030021,"CP Stripe Lounge Sock",55]
[5032593,"DD  Soleia Navy Slipper S Slipper S",55]
[5032594,"DD  Soleia Navy Slipper M Slipper M",55]
[5032595,"DD  Soleia Navy Slipper L Slipper L",55]
[2215568,"ATLG British Photographers by Cecil Beaton",52]
[2210743,"CH x SHouse Waxed Balmoral Cap M Brown",50]
[2210744,"CH x SHouse Waxed Balmoral Cap L Brown",50]
[2210745,"CH x SHouse Waxed Balmoral Cap XL Brown",50]
[2210746,"CH x SHouse Waxed Balmoral Cap M Navy",50]
[2210748,"CH x SHouse Waxed Balmoral Cap XL Navy",50]
[5012032,"C 8 Piece Baker Boy Wool Melton XL/61",50]
[5032572,"DD Medina Stripe Cami Top S Cami Top S",50]
[5032573,"DD  Medina Stripe Cami Top M Cami Top M",50]
[5032574,"DD  Medina Stripe Cami Top L Cami Top L",50]
[8026234,"C Skye Balmoral Linen Flat Cap Khaki XL",50]
[5032246,"PS Sock Pack - Mixed Burgundy",48]
[8018218,"GG Hand-Stitched Suede Glove 30% Cashmere Mix Rhum 7",47]
[8018219,"GG Hand-Stitched Suede Glove 30% Cashmere Mix Rhum 7.5",47]
[8018220,"GG Hand-Stitched Suede Glove 30% Cashmere Mix Rhum 8",47]
[2211606,"JD Alpine Larkspur 19th Century Flower Paperweight",45]
[4007800,"C Wool Beret Grey",45]
[5027599,"Q F&M Bespoke Set of 10 Note Cards - White/Navy MONOGRAM",45]
[5027600,"Q F&M Bespoke Set of 10 Note Cards - White/Silver MONOGRAM",45]
[5027602,"Q F&M Bespoke Set of 10 Note Cards - White/Gold MONOGRAM",45]
[5027604,"Q F&M Bespoke Set of 10 Note Cards - Tan/Navy MONOGRAM",45]
[5027605,"Q F&M Bespoke Set of 10 Note Cards - Tan/Silver MONOGRAM",45]
[5027607,"Q F&M Bespoke Set of 10 Note Cards - Tan/Gold MONOGRAM",45]
[5027609,"Q F&M Bespoke Set of 10 Note Cards - Grey/Navy MONOGRAM",45]
[5027610,"Q F&M Bespoke Set of 10 Note Cards - Grey/Silver MONOGRAM",45]
[5027612,"Q F&M Bespoke Set of 10 Note Cards - Grey/Gold MONOGRAM",45]
[5029998,"LL Tuxedo Paisley Necktie Silk Twill Scarf",45]
[5030001,"LL Painted Leopard Necktie",45]
[5030770,"B Crieff Flat Cap Charcoal/red/blue S",45]
[5030771,"B Crieff Flat Cap Charcoal/red/blue M",45]
[5030772,"B Crieff Flat Cap Charcoal/red/blue L",45]
[5030773,"B Crieff Flat Cap Dk Olive Check S",45]
[5030774,"B Crieff Flat Cap Dk Olive Check M",45]
[5030775,"B Crieff Flat Cap Dk Olive Check L",45]
[5030841,"B Seaweed Tartan Merino/cashmere Scarf",45]
[5060639,"C Wool Beret Red",45]
[2191931,"D Emily Classic Suede Knit Lined Glove Emily Amethyst L",40]
[2191932,"D Emily Classic Suede Knit Lined Glove Emily Amethyst M",40]
[5030862,"B Wax Washbag - Olive/Brown",40]
[5065792,"BS On the Street by Bill Cunningham",40]
[8018250,"D Emily Classic Suede Knit Lined Glove Emily Navy  L",40]
[8018251,"D Emily Classic Suede Knit Lined Glove Emily Navy M",40]
[8018254,"D Emily Classic Suede Knit Lined Glove Chilli M",40]
[8018255,"D Emily Classic Suede Knit Lined Glove Chilli S",40]
[2203162,"Dents Emily Classic Suede Knit Lined Glove Charcoal L",35]
[5025816,"LMSS #D SUN Yellow honey",35]
[5062399,"SN Exclusive 2 Pair Set - Burghley Conker/Farne Forest O/S",35]
[5062400,"SN Exclusive 2 Pair Set - Burghley Oat/Farne Chestnut O/S",35]
[5067512,"ATTLG The Story of Champagne by Nicholas Faith",35]
[5028339,"MMB Box Of Pressed Flowers",30]
[5030842,"B Tatter Wool Scarf - Seaweed/Tobacco/Blue",30]
[5030844,"B Tatter Wool Scarf - Dk Green/Taupe/Red",30]
[8018229,"D Dogwalker Suede/Knit Glove Sage S",30]
[8018230,"D Dogwalker Suede/Knit Glove Sage M",30]
[8018231,"D Dogwalker Suede/Knit Glove Sage L",30]
[2204759,"Johnstons Ribbed Hat O/S Red",29]
[5032152,"Y Lemon Zest Eye Mask",25]
[5032153,"Y Queen Of Hearts Eye Mask",25]
[5032154,"Y Leaf Print Eye Mask",25]
[5062384,"B Aydon 4 cups in Leather Case - Olive/Brown",25]
[8018217,"GG Hand-Stitched Suede Glove 30% Cashmere Mix Rhum 6.5",23]
[2201531,"ES Ananas Indigo Eye Mask",22]
[5032155,"Y Oranges Mask",20]
[5032156,"Y Queen Of Hearts Scrunchie",20]
[5032157,"Y Leaf Print Scrunchie",20]
[5032599,"DD  Deia Eye Mask OS Eye Mask OS",20]
[5065796,"BS Resident Dog by Nicole England",20]
[5032248,"PS Daley Sock - Polka Petrol Green",19]
[5032249,"PS Daley Sock - Polka Burgundy",19]
[5032250,"PS Daley Sock - Polka Navy",19]
[5032253,"PS Pyat Sock - Stripe Dark Violet",19]
[5032254,"PS Pyat Sock - Stripe Red",19]
[5065804,"BS Booze & Vinyl by André Darlington & Tenaya Darlington",18.989999999999998]
[2200777,"Polaroid B&W Film for 600",18]
[5028058,"MMS Athletica - Issue 4",15]
[5028067,"MMS Salt & Wonder - Issue 3",14]
[5028056,"MMS Apartamento - Issue 24",13.5]
[5009063,"MMS DOG Issue 6: The Airedale Terrier",13]
[2196588,"MMS Article Issue #10",11]
[5009064,"MMS Rucksack Volume 5: The City Issue",10]
[5028066,"MMS Port - Issue 25",8]
[5028409,"MMS The Rake Issue 68",7.5]
[5028057,"MMS ArtReview - Jan/Feb 20",6.5]
[5063129,"Non Scan Code: Gifting",0]
[8017219,"Fortnum and Mason Umbrella Black",25]
[2191748,"Fortnum and Mason Umbrella Eau De Nil",25]
[5002588,"F&M Kensington Walking Umbrella Black",35]
[5002589,"F&M Kensington Walking Umbrella Eau De Nil",35]
[2168496,"C Crushable Safari - Green M/57",65]
[2178937,"D Roller Refills Med.Black (10)",7]
[2168495,"C Crushable Safari - Navy XL/61",65]
[2168498,"C Crushable Safari - Green XL/61",65]
[2168499,"C Crushable Safari - Brown M/57",65]
[2203192,"C Baker Boy - Camel Herringbone XL/61",55]
[5062234,"CH Balmoral Cap - Camel Herringbone L/59",55]
[5062237,"CH 8 Piece Baker Boy - Navy Herringbone L/59",55]
[2203170,"C Balmoral Cap - Grey Herringbone L/59",50]
[2150525,"LMSS Collection D Tortoise Sunglasses +0.00",35]
[2153882,"LMSS Collection D Tortoise Sunglasses +1.50",35]
[2214241,"LMSS SUN #E Red Crystal Soft Grey Lenses +0,00",35]
[5063256,"NU Leather Airpod Case - Brown",35]
[2178935,"D Ink Cartridges/Royal Blue/10X6",6]
[2183135,"SD Multi Crochet Scarf 18",400]
[2168493,"C Crushable Safari - Navy M/57",65]
[2168494,"C Crushable Safari - Navy L/59",65]
[5062233,"CH Balmoral Cap - Camel Herringbone M/57",55]
[5062235,"CH Balmoral Cap - Camel Herringbone XL/61",55]
[5062238,"CH 8 Piece Baker Boy - Navy Herringbone XL/61",55]
[2203174,"C Balmoral Cap - Navy Herringbone L/59",50]
[5063258,"NU Leather Drop Wireless Charger - Tan",50]
[5063253,"NU Leather Airpod Case - Blue",35]
[5063254,"NU Leather Airpod Case - Black",35]
[5063255,"NU Leather Airpod Case - Green",35]
[8026805,"ES Ananas Mauve Velvet Eye Mask",25]
[2186824,"SN Berrington All Over Pheasants - Green O/S",16]
[8024048,"F&M x Begg  Arran 36x183 Scarf Navy",260]
[5027318,"MF Margo Selby Handmade Notebooks - Set of 3",60]
[8018491,"CH Harris Tweed 8 Piece Baker Boy Grey L/59",60]
[5062236,"CH 8 Piece Baker Boy - Navy Herringbone M/57",55]
[5063257,"NU Leather Drop Wireless Charger - Black",50]
[8022918,"NU Belt Cable KV Lightning Rose (3m)",30]
[5001776,"BS Wuthering Heights (Clothbound Classics)",14.99]
[2159129,"SD Multi Crochet Scarf 9",385]
[5026833,"E Rosemont Small Scarf Wallpaper Yellow/Ecru",295]
[5026834,"E Willow Ditsy Black/Blue Scarf 90x90 Silk Twill Scarf",295]
[8024046,"F&M x Begg  Arran 36x183 Scarf Wine",260]
[8018390,"D Mendip Palm Vent Wool Lined Point Glove - Tan M/8*",85]
[8018392,"D Mendip Palm Vent Wool Lined Point Glove - Tan XL/10*",85]
[8020385,"CH Crushable Safari Green L/59",65]
[8018495,"CH Harris Tweed 8 Piece Baker Boy Brown Check XL/61",60]
[8022928,"NU Dock Wireless Fabric Slate",60]
[2203173,"C Balmoral Cap - Navy Herringbone M/57",50]
[2203175,"C Balmoral Cap - Blue Herringbone XL/61",50]
[2209332,"NU Drop Wireless Charger Slate",50]
[5026997,"BS Joseph Dirand: Spaces/Interiors",50]
[5026985,"BS Annie Leibovitz. The Early Years, 1970-1983",40]
[5026991,"BS New York: Places to Write Home About",40]
[8026887,"B The Monocle Guide to Better Living",40]
[2111505,"RS Cashmere Bed Socks Grey",35]
[2111506,"RS Cashmere Bed Socks Light Pink",35]
[2116857,"RS Cashmere Bed Socks Cream",35]
[2150519,"LMSS Collection D Sun Green Sunglasses +0.00",35]
[8025962,"RS Cashmere Bed Socks Atollo Blue",35]
[2211810,"LX Mino Bluetooth Speaker Red",30]
[5026269,"On Flowers",27.99]
[2156197,"B Spotted Hankie Red/Green/Navy Boxed",25]
[2156198,"B Paisley Hankie Red/Green/Navy Boxed",25]
[2161962,"B Barbour Tartan 2 Handkerchief Pack",25]
[2178012,"ES Palmier Rosewater Velvet Wash Bag",25]
[5032251,"PS Party Sock - Stripe Burgundy",19]
[5032252,"PS Party Sock - Stripe Navy",19]
[5032257,"PS Percy Sock - Stripe Navy",19]
[5032258,"PS Percy Sock - Stripe Cobalt Blue",19]
[8025953,"IL Polariod Color Film for 600 - Color Frames",19]
[2140387,"TP Hanky Box Stag",18]
[2140388,"TBP Hanky Box Pheasant",18]
[2143782,"TP Hanky Box Rabbit",18]
[2159860,"LS Ottaway Style Mustard Check Sock L",18]
[2159861,"LS Ottaway Style Mustard Check Sock M",18]
[2159862,"LS Ottaway Style Grey Check Sock L",18]
[2159863,"LS Ottaway Style Grey Check Sock M",18]
[2166747,"TBP Hanky Box Lobster",18]
[2200776,"Polaroid New Color Film for 600",18]
[8027104,"TP Hanky Box Dog",18]
[2186804,"SN Burghley 6X2 Rib With Contrast Top Heel And Toe Brown M",16]
[2186805,"SN Burghley 6X2 Rib With Contrast Top Heel And Toe Brown L",16]
[2186806,"SN Burghley 6X2 Rib With Contrast Top Heel And Toe Blue M",16]
[2186825,"SN Berrington All Over Pheasants - Green L",16]
[2186827,"SN Berrington All Over Pheasants - Navy L",16]
[5026731,"Polaroid Colour wave film for i-type",16]
[5062398,"SN Burghley Heel & Toe Sock - Oatmeal Marl L",16]
[8020197,"SN Farne New Country Fairisle Stripe Petrol Petrol M",16]
[8020198,"SN Farne New Country Fairisle Stripe Petrol Petrol L",16]
[2159846,"LS Spot Of Style White on Black Sock L",15]
[2159848,"LS Spot Of Style Black on Burgandy Sock L",15]
[2159850,"LS Spot Of Style Burgandy on Blue Sock L",15]
[2159851,"LS Spot Of Style Burgandy on Blue Sock M",15]
[2213048,"SN Farne New Country Fairisle Stripe L Forest",15]
[2213049,"SN Farne New Country Fairisle Stripe M Forest",15]
[2213050,"SN Farne New Country Fairisle Stripe L Chesnut",15]
[2213051,"SN Farne New Country Fairisle Stripe M Chesnut",15]
[2213055,"SN Burghley Rib Heel Toe Sock L Forest",15]
[5026729,"Polaroid Color Film for i-Type",15]
[5026730,"Polaroid B&W Film for i-Type",15]
[5001780,"BS Oliver Twist (Clothbound Classics)",14.99]
[2155614,"LS Simply Sartorial Sock Ebony Black L",12]
[2155615,"LS Simply Sartorial Sock Rich Burgundy L",12]
[2155616,"LS Simply Sartorial Sock Cannon Ball Grey L",12]
[2155617,"LS Simply Sartorial Sock British Racing Green L",12]
[2155621,"LS Simply Sartorial Sock East India Saffron L",12]
[2155622,"LS Simply Sartorial Sock Royal Navy L",12]
[2155623,"LS Simply Sartorial Sock Curious Orange L",12]
[2155625,"LS Simply Sartorial Sock Highland Heather L",12]
[2155626,"LS Simply Sartorial Sock Routemaster Red L",12]
[2155635,"LS Simply Sartorial Sock East India Saffron M",12]
[5026982,"BS CITIX60: STOCKHOLM",9.9499999999999993]
[8025097,"B CA19 Wispy Scarf Navy White, Hanover",360]
[8024049,"F&M x Begg  Arran 36x183 Scarf Vicuna",260]
[8024050,"F&M x Begg  Arran 36x183 Drake Green",260]
[8020219,"FU Darkgrained Tubeframe Umbrella Bordeaux",125]
[2168500,"C Crushable Safari - Brown L/59",65]
[2168501,"C Crushable Safari - Brown XL/61",60]
[8018479,"CH Harris Tweed Balmoral Grey L/59",60]
[8018488,"CH Harris Tweed Balmoral Brown L/59",60]
[8018490,"CH Harris Tweed 8 Piece Baker Boy Grey M/57",60]
[2203191,"C Baker Boy - Camel Herringbone L/59",55]
[5062240,"CH 8 Piece Baker Boy - Grey Herringbone L/59",55]
[5062241,"CH 8 Piece Baker Boy - Grey  Herringbone XL/61",55]
[2182989,"LMSS Sun Nautic Polarised Navy Sunglasses",50]
[2203169,"C Balmoral Cap - Grey Herringbone M/57",50]
[2203171,"C Balmoral Cap - Grey Herringbone XL/61",50]
[4008515,"NU Stow Organizer Pouch Fabric Slate",50]
[8013793,"L MINO L Bluetooth Speaker Dark Green",50]
[8022927,"NU Drop Charge Pad Fabric Indigo V2",45]
[2125598,"HM Faux Fur Peter Pan Collar Jet",40]
[2214242,"LMSS #E SUN Tortoise Green Lenses",35]
[5025817,"LMSS #D SUN Warm Orange",35]
[5026265,"In Bloom: Creating and Living with Flowers",32.5]
[2150522,"LMSS Collection D Navy Sunglasses +0.00",30]
[2211808,"LX Mino Bluetooth Speaker Light Gold",30]
[2211809,"LX Mino Bluetooth Speaker Black",30]
[2211811,"LX Mino Bluetooth Speaker Dark Green",30]
[8026889,"B Eat, Drink, Nap: Bringing the House Home",30]
[2178008,"ES Palmier Coral Washbag",25]
[2178010,"ES Ananas Cloud Washbag",25]
[2178011,"ES Ananas Indigo Washbag",25]
[2178013,"ES Ananas Mauve Velvet Wash Bag",25]
[5032262,"PS Bike Sock - Black",19]
[2186826,"SN Berrington All Over Pheasants - Navy O/S",16]
[5026732,"Polaroid Black frame film for i-type",16]
[5062397,"SN Burghley Heel & Toe Sock - Oatmeal Marl M",16]
[2159847,"LS Spot Of Style White on Black Sock M",15]
[2213052,"SN Farne New Country Fairisle Stripe L Denim",15]
[2213053,"SN Farne New Country Fairisle Stripe M Denim",15]
[2213054,"SN Burghley Rib Heel Toe Sock M Forest",15]
[2213364,"MMS Wrap",15]
[5027324,"MF Handmade Exercise Book - Lined Exclusive Tan A5",14]
[2213363,"MMS Openhouse",13]
[5013458,"BS The Art of Noticing by Rob Walker",12.99]
[2155624,"LS Simply Sartorial Sock Pink Friday L",12]
[2155628,"LS Simply Sartorial Sock Ebony Black M",12]
[2155629,"LS Simply Sartorial Sock Rich Burgundy M",12]
[2155636,"LS Simply Sartorial Sock Royal Navy M",12]
[2155638,"LS Simply Sartorial Sock Pink Friday M",12]
[2155639,"LS Simply Sartorial Sock Highland Heather M",12]
[2155640,"LS Simply Sartorial Sock Routemaster Red M",12]
[5009062,"MMS Another Escape Volume 13",12]
[5028059,"MMS Cedar - Issue 2",12]
[5028069,"MMS The Gourmand - Issue 13",12]
[5028070,"MMS The Rugby Journal - Issue 9",10]
[5026272,"Life in the Garden",9.99]
[2151449,"SD Multi Crochet Scarf 6",375]
[5009413,"B Jura Reversible Lambswool Angora Throw Stone Mink",325]
[5030619,"EK Harlowe Fedora Hat In Navy",325]
[5026832,"E Small Square Kati Scarf White/Blue 100% Silk 90x90",295]
[5026835,"E Small Square Dusk Boutique Scarf Black/Pink 100% Silk",295]
[8023041,"F&M x Begg Arran 36x183 Scarf Dark Grey",260]
[8023042,"F&M x Begg Arran 36x183 Scarf Navy",260]
[8023043,"F&M x Begg Arran 36x183 Scarf Vicuna",260]
[8023044,"F&M x Begg Arran 36x183 Drake Green",260]
[5060709,"J Luxury Travel Set Silver Socks & Eye Mask",250]
[2008676,"E ST0303JRBPL Sterling Billfold Purple",195]
[5029996,"LL Tuxedo Paisley Scarf Cashmere / Modal Scarf",175]
[2194896,"SF Jungalista Silk Square Scarf",150]
[5026993,"BS Massimo Listri: Libraries (TD) ",150]
[8021167,"SF Autumn Garden Silk Scarf",150]
[8021168,"SF Quintessentially English Silk Scarf",150]
[2098563,"E ST143JRBOR Sterling Visiting Card Case Orange",145]
[8022937,"NU Dock Wireless Terrazzo Slate",130]
[2022248,"FU Lightwood Tube Frame Umbrella",125]
[8020220,"FU Darkgrained Tubeframe Umbrella Navy",125]
[8027020,"S Sanderson Leather Stud Box Jet/Soft Sand",125]
[5027466,"HS Leather Playing Cards Case Set Almond",110]
[5027467,"HS Leather Playing Cards Case Set Chocolate",110]
[5027468,"HS Leather Playing Cards Case Set Burgundy",110]
[2008024,"M Hunter Flask Tan 10oz",95]
[2008026,"M Croc Hunter Flask Tan 10oz",95]
[2008044,"M Hunter Flask Cheval 10oz",95]
[2008022,"M Hunter Flask Black 8oz",90]
[2008023,"M Windsor Croc Hunter Flask Tan 8oz",90]
[2008019,"M Hunter Flask Black 6oz",85]
[2008042,"M Hunter Flask Cheval 6oz",85]
[2044318,"IF Racehorse Cufflink",85]
[2152191,"HM Faux Fur Vixen Scarf",85]
[2191297,"HM Faux Fur Vixen Scarf Jet",85]
[8018391,"D Mendip Palm Vent Wool Lined Point Glove - Tan L/9*",85]
[8020217,"FU Crook Auto Telescopic Umbrella Dark Green",85]
[8020218,"FU Crook Auto Telescopic Umbrella Navy",85]
[2008003,"M Flask Tan 6ox",70]
[2008005,"M Windsor Croc Flask Tan 6oz",70]
[2008037,"M Hip Flask Cheval 6oz",70]
[2008036,"M Flask Cheval 4oz",65]
[2008048,"M Slim Nile Croc Flask 3oz",65]
[2158572,"M 4oz Hip Flask Sapphire Blue Leather",65]
[2204757,"Johnstons Ribbed Hat O/S Mid Grey",60]
[2211814,"LX Mino Twin Bluetooth Speaker Gold",60]
[5026990,"BS John Derian Picture Book",60]
[8018478,"CH Harris Tweed Balmoral Grey M/57",60]
[8018485,"CH Harris Tweed Balmoral Blue L/59",60]
[8018486,"CH Harris Tweed Balmoral Blue XL/61",60]
[8018487,"CH Harris Tweed Balmoral Brown M/57",60]
[8018489,"CH Harris Tweed Balmoral Brown XL/61",60]
[8018492,"CH Harris Tweed 8 Piece Baker Boy Grey XL/61",60]
[8022929,"NU Dock Wireless Fabric Rose",60]
[2203190,"C Baker Boy - Camel Herringbone M/57",55]
[5062239,"CH 8 Piece Baker Boy - Grey Herringbone M/57",55]
[2187675,"B Round Hip Flask Brown",50]
[5062383,"B Merino/cashmere Scarf - Classic Tartan",50]
[8013792,"L MINO L Bluetooth Speaker Black 6U",50]
[8013794,"L MINO L Bluetooth Speaker Dark Blue",50]
[5032245,"PS Sock Pack - Mixed Navy",48]
[2125591,"HM Faux Fur Tippet Scarf Ermine",45]
[2125594,"HM Faux Fur Tippet Scarf Truffle",45]
[2125603,"HM Faux Fur Pillbox Hat Ermine",45]
[2191293,"HM Faux Fur Pillbox Hat Jet",45]
[2191294,"HM Faux Fur Tippet Scarf Jet",45]
[5026271,"Floral Contemporary",45]
[5026998,"BS The Finer Things: Timeless Furniture, Textiles, and Detai",45]
[8022926,"NU Drop Charge Pad Fabric Rose",45]
[2187800,"B Holden Tartan Navy/Rust Scarf",42]
[2125601,"HM Faux Fur Peter Pan Collar Truffle",40]
[2175885,"B Hip Flask Dark Brown",40]
[2210641,"NU Updated Leather Clic Card Iphone XR Black",40]
[2210642,"NU Updated Leather Clic Card Iphone XS Navy",40]
[2210643,"NU Updated Leather Clic Card Iphone XR Navy",40]
[4007521,"B Holden Scarf Red Tartan",40]
[5030792,"B Lowerfell Beanie - Charcoal",40]
[5030837,"B Rothwell Scarf - Red/Blue",40]
[5030838,"B Robinson Scarf - Navy/Ecru/Olive",40]
[5065801,"BS Great Escapes Europe. The Hotel Book by Angelika Taschen",40]
[8022930,"NU Smart4 USB Fabric Intl Slate",40]
[2125584,"HM Faux Fur Huff Jet",38]
[2125585,"HM Faux Fur Huff Ermine",38]
[2125589,"HM Faux Fur Huff Truffle",38]
[5065794,"BS For the Love of Books by Elizabeth Lane & Thatcher Wine",38]
[2210646,"NU Night Cable Black Cosmos",37]
[8022920,"NU Night Cable KV Lightning Rose",37]
[8022921,"NU Night Cable KV Lightning Indigo",37]
[8022922,"NU Belt Cable KV Universal Zebra (2m)",37]
[2150521,"LMSS Collection D Tortoise Sunglasses +1.00",35]
[2182976,"LMSS Collection E Black Sunglasses",35]
[2156285,"BA Lambswool Scarf Seaweed",30]
[2156286,"B Lambswool Scarf Light Grey Marl",30]
[2156287,"BA Lambswool Scarf Navy",30]
[2168277,"BA Plain Lambswool Scarf",30]
[2201691,"NU Smart charger International - Slate",30]
[2211806,"LX Mino Bluetooth Speaker Dark Blue",30]
[2211812,"LX Mino Bluetooth Speaker Gun Metal**",30]
[4007514,"B Plain Lambswool Scarf Sapphire Blue Mix",30]
[4007515,"B Plain Lambswool Scarf Red",30]
[5030790,"B Carlton Beanie - Grey",30]
[5030793,"B Carlton Beanie - Merlot",30]
[5030843,"B Tatter Wool Scarf - Charcoal/Red",30]
[5054533,"LK Blue Mountain Crepe de Chine Face Mask",30]
[5054534,"LK Green Mountain Crepe de Chine Face Mask",30]
[5065795,"BS Sunday Sketching by Christoph Niemann",30]
[8019149,"L MINO Bluetooth Speaker -  Dark Green",30]
[8022919,"NU Belt Cable KV Lightning Indigo 3m",30]
[8022925,"NU Night Cable KV Type A C Zebra (3m)",30]
[8026878,"B The World of Whisky: Taste, Try and Enjoy Whiskies",30]
[8026890,"B Morning, Noon, Night: A Way of Living",30]
[5026996,"BS The Birth of the Idea of Photography",28]
[2210648,"NU Key Cable Black Cosmos",27]
[8022913,"NU Key Cable KV Lightning Rose",27]
[8022914,"NU Key Cable KV Lightning Indigo",27]
[2178009,"ES Palmier Chambray Washbag",25]
[2191043,"ES Jungle Leaf Natural Pouch",25]
[5026989,"BS Cocktail Codex: Fundamentals, Formulas, Evolutions",25]
[5065793,"BS Bibliostyle: At Home with Books by Nina Freudenberger",25]
[5065882,"WP Carry On Cocktail Kit - Champagne Cocktail",25]
[5065883,"WP Carry On Cocktail Kit - Margarita",25]
[5065886,"WP Carry On Cocktail Kit - Hot Toddy",25]
[5065887,"WP Carry On Cocktail Kit - Italian Spritz",25]
[8022924,"NU Belt Cable KV Type A C Zebra (3m)",25]
[5026275,"Flower Expert (T&H)",24.95]
[2210647,"NU Belt Cable 1.2m Black Cosmos",23]
[8022915,"NU Belt Cable KV Lightning Rose 1.2m",23]
[8022916,"NU Belt Cable KV Lightning Indigo 1.2m",23]
[2201530,"ES Lemon Chambray Eye Mask",22]
[2201532,"ES Jungle Leaf Eye Mask",22]
[5026270,"Flower Fix",20]
[8022923,"NU Key Cable KV Type A C Zebra",20]
[5032256,"PS Dalmation Sock - Navy",19]
[5032263,"PS Bike Sock - Red",19]
[2186807,"SN Burghley 6X2 Rib With Contrast Top Heel And Toe Blue L",16]
[5027322,"MF Handmade Exercise Book - Plain Exclusive Dark Blue A4",16]
[5027323,"MF Handmade Exercise Book - Plain Exclusive Charcoal A4",16]
[2159849,"LS Spot Of Style Black on Burgandy Sock M",15]
[5065806,"BS 500 HIDDEN SECRETS OF DUBLIN",14.95]
[5065807,"BS 500 HIDDEN SECRETS OF PARIS",14.95]
[5065808,"BS 500 HIDDEN SECRETS OF COPENHAGEN",14.95]
[5065809,"BS 500 HIDDEN SECRETS OF AMSTERDAM",14.95]
[5027325,"MF Handmade Exercise Book - Lined Exclusive Dark Green A5",14]
[5027326,"MF Post-Its (Set of 3 Pads)",12.5]
[2155637,"LS Simply Sartorial Sock Curious Orange M",12]
[5028061,"MMS Ernest - Issue 9",10]
[5065797,"BS Eat Like a Local: LONDON",9.99]
[5065798,"BS Eat Like a Local: NEW YORK",9.99]
[5065800,"BS Eat Like a Local: BARCELONA",9.99]
[5065802,"BS Tequila Made Me Do It by Cecilia Rios Murriet",9.99]
[5065803,"BS Whisky Made Me Do It by Lance J. Mayhew",9.99]
[5026977,"BS CITIX60: LONDON",9.9499999999999993]
[5026979,"BS CITIX60: PARIS",9.9499999999999993]
[5026981,"BS CITIX60: BERLIN",9.9499999999999993]
[5060860,"HM Faux Fur Vixen Scarf Ermine",0]
[5009415,"B Tawny Abstract Lambswool Angora Throw Ochre",605]
[5009416,"B Tawny Abstract Lambswool Angora Throw Klein Blue",605]
[5062467,"Dining Set, 4 Glass Markers 4 Woven Napkin Holders",435]
[8025010,"B CA19 Filigree Scarf Drainpipe",375]
[5009411,"B Valley Vector Lambswool Cashmere Throw Grey Ochre",340]
[5030620,"EK Harlowe Fedora Hat In Black",335]
[5009412,"B Jura Reversible Lambswool Angora Throw Flannel Denim",325]
[5025874,"B Wispy Cashmere Scarf Kingfisher",295]
[5025875,"B Wispy Cashmere Scarf Bluebell",295]
[5026830,"E Crystal Bow Hair Barette Blue",295]
[5026831,"E Cluster Crystal Hair Barrette",275]
[2189994,"B Wispy Cashmere Scarf Silver",265]
[8023040,"F&M x Begg Arran 36x183 Scarf Wine",260]
[2008572,"E ST141JRBPL Sterling Billfold with Coin Purse Purple",235]
[2098564,"E ST141JRBOR SterlingBillfold Wallet w 3cc/ Coin Purs Orange",235]
[2118089,"E ST141JR Billfold with 3 C/C and Coin Purse Red",235]
[2008564,"E ST806AJRBPL Sterling Coat Wallet Purple",230]
[2008576,"E BH141JRBKL Bridle Billfold with Coin Purse Black",230]
[2098562,"E ST806AJRBOR Sterling Coat Wallet Orange",230]
[2118091,"E ST806AJR Coat Wallet With 8 C/C Red",230]
[2008570,"E BH806AJRBKL Bridle Coat Wallet Black",225]
[2008571,"E BH806AJRNTL Bridle Coat Wallet Brown",225]
[2177565,"SS Alex Gold Plate Cufflinks",225]
[2098561,"E ST030CJRBOR Sterling Billfold Wallet Orange",195]
[2118086,"E ST030CJR Billfold with 6 C/C Red",195]
[2138058,"E Billfold Wallet 6CC Turquoise",195]
[5062469,"A Bacchus Glass Marker",195]
[2008566,"E BH030CJR Bridle Billfold Black",190]
[2008567,"E BH030CJRNTL Bridle Billfold Brown",190]
[5038513,"J Sports Reversible Scarf Check/Plain - Grey/Camel",190]
[5038514,"J Sports Reversible Scarf Check/Herringbone - Blue/Charcoal",190]
[5038515,"J Sports Reversible Scarf Check/Plain - Merlot/Navy",190]
[5038516,"J Sports Reversible Scarf Glen Check/WindowPane - Blk/Wht",190]
[5060712,"J Luxury Hot Water Bottle & Socks Silver",185]
[2128993,"E Mini Wallet 6CC Orange",180]
[2117810,"E BH975BJR Bridle Collection Mini Wallet Black",175]
[2117811,"E BH975BJR Bridle Collection Mini Wallet Nut",175]
[5029995,"LL Dark Aster Scarf Cashmere / Modal Scarf",175]
[8017337,"C Carry: 1 - Portable Wireless Charger Black",165]
[8017340,"C Catch: 2 - Multi-device Wireless Charger Black",165]
[8017344,"C Carry: 1 - Portable Wireless Charger Ash",165]
[8017345,"C Carry: 1 - Portable Wireless Charger Bone",165]
[8017347,"C Catch: 2 - Multi-device Wireless Charger Ash",165]
[8017348,"C Catch: 2 - Multi-device Wireless Charger Bone",165]
[2111649,"SF Precious Pussies Scarf 90x90cm",150]
[2119980,"SF V Exclusive Scarf Taupe",150]
[2194893,"SF Butterflies And Beasticles Silk Square Scarf",150]
[5035403,"J Exclusive Set Silver Bannockbane Scarf Gloves & Hat",150]
[5035405,"J Exclusive Scarf Set Black Wash with Black Gloves & Hat",150]
[5035406,"J Exclusive Set Campbell of Argyll Weathered w Gloves & Hat",150]
[5038519,"J F&M Exclusive Boxed Set Scarf, Gloves, Hat - Black",150]
[5038520,"J F&M Exclusive Boxed Set Scarf, Gloves, Hat - Granite",150]
[5038521,"J F&M Exclusive Boxed Set Scarf, Gloves, Hat - Navy",150]
[8021169,"SF Intricately Irish Silk Scarf",150]
[2008563,"E ST143JRBPL Sterling Visting Card Case8 Purple",145]
[2118090,"E ST143JR Visiting Card Case Red",145]
[2008568,"E BH143JRBKL Bridle Visiting Card Case Black",140]
[5060705,"Johnstons's Plaid Check Scarf Shadow",125]
[5060706,"Johnstons's Block Check Scarf Orchid",125]
[8019085,"AH Girlie Stuff In Black Nylon With  Capra Trim",125]
[2128995,"E Flat Card Case Red",120]
[2128997,"E Flat Card Case Purple",120]
[2128998,"E Flat Card Case Black",120]
[2128999,"E Flat Card Case Nut",120]
[2138059,"E Flat Card Case Turquoise",120]
[5065050,"Polaroid Now Camera - Red",120]
[2213068,"J Plain Cashmere Scarf Merlot",119]
[5060704,"J Plain Cashmere Scarf Orchid",119]
[2191602,"J Plain Cashmere Scarf - Merlot",115]
[2191603,"J Plain Cashmere Scarf - Camel",115]
[2204839,"J Plain Cashmere Scarf - Granite",115]
[2204841,"J Plain Cashmere Scarf - Dark Navy",115]
[5027469,"HS Leather Playing Cards Case Set Tan",110]
[8018023,"RU Playing Cards",110]
[2213064,"J Plain Cashmere Scarf Dark Navy",99]
[2202411,"C Wimslow Wide Brim Adjustable Hat Black",98]
[2166335,"TA Satin Bow Tie - Black",95]
[2166336,"TA 007 Bow Tie - Black",95]
[5026761,"TS Limited Edition Sumi Pen Black",95]
[5038413,"TA Velvet Bow Tie - Red",95]
[5027591,"NAB Leather Games Set - Monarch - Navy",90]
[2205682,"LS Exclusive Navy/Burgundy Spot 6 Pair Gift Box M",89]
[2044317,"IF Pheasant Cufflink",85]
[2044319,"IF Mallard Cufflink",85]
[2174941,"IF Fox Cufflinks",85]
[8018388,"D Mendip Palm Vent Wool Lined Point Glove - Black XL/10*",85]
[2212259,"C CATCH:1 Wireless Charger Bone",80]
[5027590,"NAB Leather Games Set - Tally Ho - Green",80]
[5065759,"HT Hour Glass - L 15 min Clear",70]
[8026398,"E BH298JR Travel Shoehorn in Pouch Tan",70]
[8026399,"E BH298JR Travel Shoehorn in Pouch Nut/Tan",70]
[8026811,"E BH298JR Travel Shoehorn in Pouch Black",70]
[2008002,"M Windsor Croc Flask Tan 4oz",65]
[2156308,"B Leather Thinsulate Gloves - Black M",65]
[2156309,"B Leather Thinsulate Gloves - Black L",65]
[2044328,"IF Sixpence Cufflink",60]
[2044329,"IF Farthing Cufflink",60]
[2204755,"Johnstons Ribbed Hat O/S Black",60]
[4007807,"C Bretton Wool Grey S",60]
[5027583,"NAB Calfskin Leather Notebook - A5 Navy",60]
[5027585,"NAB Calfskin Leather Notebook - A5 Black",60]
[8018484,"CH Harris Tweed Balmoral Blue M/57",60]
[8018493,"CH Harris Tweed 8 Piece Baker Boy Brown Check M/57",60]
[5027587,"NAB Backgammon Set Red & Blue",55]
[5027588,"NAB Backgammon Set Yellow & Green",55]
[5027589,"NAB Leather Backgammon Black & White",55]
[2204761,"Johnstons Short Cuff Ribbed Glove O/S Navy",49]
[2125607,"HM Faux Fur Pillbox Hat Truffle",45]
[2204760,"Johnstons Short Cuff Ribbed Glove O/S Black",45]
[2204762,"Johnstons Short Cuff Ribbed Glove O/S Mid Grey",45]
[5065761,"HT Hour Glass - M 5 min Amber",45]
[5063355,"P Photo Allbum Life In Pictures - Orange",42]
[5063358,"P Photo Allbum A Blast From The Past - Pink",42]
[5063359,"P Photo Album Good Times - Black",42]
[5063360,"P Photo Album Good Times - Yellow (S)",42]
[2202654,"B Lowerfell Beanie - Dk Green",40]
[2207058,"BH Alphabet Brush Pot - &",40]
[5027616,"LLC Marbled Brown Leather A5 Notebook Blue/Black/Yellow",40]
[5027617,"LLC Marbled Brown Leather A5 Notebook Blue/Brown",40]
[5027618,"LLC Marbled Brown Leather A5 Notebook Blue/Green/Yellow",40]
[5027619,"LLC Marbled Black Leather A5 Notebook Black/Blue/Grey",40]
[5027620,"LLC Marbled Black Leather A5 Notebook Teal/Blue/Grey",40]
[5027621,"LLC Marbled Black Leather A5 Notebook Green/Black",40]
[5065714,"UOEPS Pipe Kit",38]
[5065755,"HT Hour Glass - S 3min Turquoise",38]
[5065757,"HT Hour Glass - S 3min Clear",38]
[5065760,"HT Hour Glass - S 3min Amber",38]
[5065763,"HT Hour Glass - S 3min Green",38]
[2214244,"MMS NL1 Northletters",35.5]
[2153883,"LMSS Collection D Tortoise Sunglasses +2.00",35]
[2153884,"LMSS Collection D Tortoise Sunglasses +2.50",35]
[2199962,"Letmeseesun #D Light Tortoise Soft Grey Lenses +0.00",35]
[5025818,"LMSS #D SUN Neutral Beige",35]
[5025819,"LMSS #D SUN Defty grey",35]
[5025820,"LMSS #E SUN Light Tortoise Soft Grey Lenses",35]
[5027311,"MF Mark One Gift Box",35]
[2211813,"LX Mino Bluetooth Speaker Gun Metal",30]
[5030791,"B Carlton Beanie - Sandstone",30]
[5054531,"LK Gladys Floral Print Crepe de Chine Face Mask",30]
[5054532,"LK Dandelion Print Crepe de Chine Face Mask",30]
[5065710,"UOEPS Coffee Measure Kit",30]
[8019867,"D Dogwalker Suede Knit 3 Point Glove - Brown XL/10",30]
[8026885,"B The New York Times: 36 Hours USA & Canada, 3rd Edition",30]
[2187745,"B Coopworth Sports Cap Navy O/S",25]
[5030823,"B Coopworth Sports Cap Black",25]
[5030826,"B Coopworth Cap - Sage",25]
[5063327,"CD Popline Bullpoint Pen W/Case - Orange",25]
[5063328,"CD Popline Bullpoint Pen W/Case - Green",25]
[5063329,"CD Popline Bullpoint Pen W/Case - White",25]
[5063330,"CD Popline Bullpoint Pen W/Case - Turquoise",25]
[5063331,"CD Popline Bullpoint Pen W/Case - Red",25]
[5065715,"UOEPS Pachinko Sling Shot Kit",25]
[5065880,"WP Carry On Cocktail Kit - Old Fashioned",25]
[5065881,"WP Carry On Cocktail Kit - Gin & Tonic",25]
[5063361,"P Jigsaw Puzzle - Dawn",22]
[5063362,"P Jigsaw Puzzle - Dusk",22]
[5063363,"P Jigsaw Puzzle - Night",22]
[2125599,"HM Faux Fur Peter Pan Collar Ermine",20]
[5065711,"UOEPS Chop Stick Kit",20]
[5065712,"UOEPS Dog Teether Kit",20]
[5065713,"UOEPS Butter Knife Kit",20]
[5026984,"BS The American Bar: The Artistry of Mixing Drinks",19.95]
[5027500,"WW Dual Purpose Calligraphy Pen",18]
[5027327,"MF Week Planner",16]
[5027328,"MF Planner Pad",16]
[2180700,"MMS Article Issue 8",11]
[2138135,"E Leather Balm",10]
[5009066,"MMS Ernest Journal Issue 9",10]
[5065799,"BS Eat Like a Local: PARIS",9.99]
[2211839,"CD Ball Pen Goliath Medium Refill Blue",8]
[2211840,"CD Ball Pen Goliath Medium Refill Black",8]
[4006064,"MMS The Gentlewoman SS19",8]
[2178942,"D Bpp Refills/Defi-Black Medium",7]
[2178940,"D Bpp Refills Medium Black (10)",6.5]
[8027016,"L Traviata Ultra Marine Blue Lizard Flap Royal Blue - SP",2570]
[2141545,"L Traviata Blue Lizard Flap Indigo Calf Leather Body",2450]
[8026898,"LL Traviata Blue Lizard Calf SP",2450]
[2175287,"L Judi Full Natural Python",2270]
[2193847,"L Traviata Ruby Reb Claf Flap, Python Body",2032]
[2186463,"L Judi Full Green Python",1816]
[2174796,"L Traviata Python Flap, Easter Rose Body",1736]
[2214046,"L Traviata Black Patent, Python Flap",1736]
[2214047,"L Traviata Green Patent, Python Flap",1736]
[8026299,"L Judi Indigo Blue",1475]
[8026901,"LL Judi Python Flap Traffic Red Calf SP",1400]
[2076696,"L Lydia Calf Leather Black",1280]
[2141554,"L High Society Patent Leather Black",980]
[5066963,"B Pair of un-used motoring goggles c.1910",720]
[2196183,"HS Medium Buffalo Backgammon Chocolate",700]
[2196184,"HS Medium Buffalo Backgammon Amande",700]
[2211638,"HS Exclusive Backgammon Leather Buffalo Burgundy",700]
[5009417,"B Tawny Abstract Lambswool Angora Throw Monochrome",605]
[5029503,"L Exclusive Calf & Lizard Billfold 8 Card Wallet Black/Blue",555]
[2211646,"DP Line D Fp Medium Black/Gold",530]
[2090202,"L Calf Lizard Interior Billfold Black",515]
[8027017,"S First Class Tech Case Sapphire Blue/Pale Grey",495]
[5065648,"B Arran Reversible 73x183cm Scarf - Navy/Wine",470]
[5065650,"B Arran Reversible 73x183cm Scarf - Stone/White",470]
[8021343,"B Arran Reversible Scarf Charcoal Derby 73x183",470]
[2211834,"CD Leman Fountain Pen Red",460]
[2211835,"CD Leman Fountain Pen Blue Matt",460]
[2009395,"Leather Corgi Standard",450]
[8021339,"B Arran Reversible Scarf Bluejean Silver 73x183",450]
[2182036,"SD Multi Crochet Scarf 13",430]
[5027455,"EC Pencil Sharpener 23KT Gold & Black",430]
[2196711,"B Arran Cashmere Black Scarf",420]
[5001232,"B Ombre Classic Cashmere Scarf Duomo",400]
[5001233,"B Nuance Ombre Classic Cashmere Scarf Vermeer",400]
[5065642,"B Arran Nuance 36x183cm Scarf - Marble Midnight",395]
[5065658,"B Arran Nuance 36x183cm Scarf - Oxide - CAW20",395]
[8027018,"S First Class Tech Case Jet/Soft Sand",395]
[8025009,"B CA19 Filigree Scarf Blush",375]
[8025011,"B CA19 Filigree Scarf Flax",375]
[2151450,"SD Multi Crochet Scarf 7",365]
[2204613,"DF Exclusive YGP Bee Cufflink",365]
[2204812,"BS Nuance Cashmere Monochrome Ombre Scarf",360]
[5027631,"FG Brown Brogue Framed Print - 30CM X 30CM",350]
[5027634,"FG Pin Stripe Jacket Framed Print - 30CM X 30CM",350]
[5027635,"FG Suit & Tie Framed Print - 30CM X 30CM",350]
[5060814,"S Hester Leather Jewellery Box Black",350]
[5060818,"S The Mini First Class Leather Tech Case Red",350]
[8025039,"B CA19 Kishorn Scarf Black",350]
[8025040,"B CA19 Kishorn Scarf Charcoal",350]
[8025042,"B CA19 Kishorn Scarf Indigo",350]
[8025043,"B CA19 Kishorn Scarf Kelly Green",350]
[8025051,"B CA19 Kishorn Scarf Silver Grey",350]
[8025052,"B CA19 Kishorn Scarf Tobacco",350]
[8025053,"B CA19 Kishorn Scarf Yellow Stewart",350]
[2209631,"DF Sterling Silver Browl Owl Cufflinks With Sapphire",340]
[5009410,"B Valley Vector Lambswool Cashmere Throw Klein Blue",340]
[5030621,"EK Harlowe Fedora Hat In Light Blue",335]
[2175314,"DF Racing Car Cufflinks",325]
[5009414,"B Jura Reversible Lambswool Angora Throw Flannel  Dark Grey",325]
[8025055,"B CA19 Kishorn Washed Scarf Silver Grey",325]
[8025056,"B CA19 Kishorn Washed Scarf Yellow Stewart",325]
[8025057,"B CA19 Kishorn Washed Scarf Red",325]
[8025058,"B CA19 Kishorn Washed Scarf Dark Olive",325]
[8025062,"B CA19 Kishorn Washed Scarf Indigo",325]
[8025063,"B CA19 Kishorn Washed Scarf Natural",325]
[8025064,"B CA19 Kishorn Washed Scarf Oxford Grey",325]
[8025397,"AH Vanity Kit in Black Nylon with Capra Trim",325]
[2209634,"DF Rose Gold Shotgun Cufflinks",315]
[2166219,"DF Horse Head Cufflinks",300]
[5030622,"EK Blaine Trilby With Pearls In Black",300]
[2166224,"DF Spitfire with Union Jack Cufflinks",295]
[2209647,"DF Sterling Silver Round Cufflinks w/ Onyx & Diamond",295]
[8025087,"B CA19 Wispy Scarf Dark Kelp",295]
[2166227,"DF Golf Bag Cufflinks",285]
[2172209,"AJ 18Ct Rose Gold Plated Pen",285]
[8026027,"DF Sterling Silver Bi Plane Cufflinks w Enamelled Propeller",285]
[2212453,"B Kishorn Washed 70x180 Scarf Tobacco",280]
[2166242,"DF Silver MOP Sapphire Cufflinks",270]
[5065643,"B Arran Reversible 36x183cm Scarf - Navy/Wine",270]
[5065644,"B Arran Reversible 36x183cm Scarf - Navy/Bluejean",270]
[5065645,"B Arran Reversible 36x183cm Scarf - Charcoal/Derby",270]
[5065646,"B Arran Reversible 36x183cm Scarf - Navy/Vicuna",270]
[5065647,"B Borderland 36x183cm Scarf - Slate/Rust",270]
[5065659,"B Borderland 36x183cm Scarf - Wine/Chocolate -CAW20",270]
[8021333,"B Arran Cashmere Flannel Grey Scarf  36x183",270]
[2177407,"B Wispy Royal Blue Cashmere Scarf",265]
[2183178,"B Wispy Cashmere Scarf Snow",265]
[2183179,"B Wispy Cashmere Scarf French Blue",265]
[2183180,"B Wispy Cashmere Scarf Black",265]
[2183190,"B Wispy Cashmere Scarf Peony",265]
[2189299,"B Wispy Pine Needle Cashmere Scarf",265]
[2189300,"B Wispy Vintage Red Cashmere Scarf",265]
[2189302,"B Wispy Aegean Cashmere Scarf",265]
[2209632,"DF Sterling Silver Yacht Cufflinks",265]
[5026837,"E Beaded Headband Rosemont Wallpaper Cream",265]
[5026839,"E Beaded Headband Black",265]
[8021344,"B Wispy Ballet Shoe Cashmere Scarf",265]
[8021345,"B Wispy Mouse Grey Cashmere Scarf",265]
[2197569,"B Arran Reversible Cashmere Scarf Wine/Charcoal",260]
[2211761,"EC Stapler + Punch Gold Black",260]
[5065680,"B Arran 36x183cm Scarf - Oat - CAW20",260]
[5065681,"B Arran 36x183cm Scarf - Tea Rose - CAW20",260]
[5065682,"B Arran 36x183cm Scarf - Blue Jean - CAW20",260]
[5065683,"B Arran 36x183cm Scarf - Carmine - CAW20",260]
[5065684,"B Arran 36x183cm Scarf - Chocolate - CAW20",260]
[8018367,"B Arran Borderland 100% Cashmere Scarf 36X183 Navy",260]
[4006492,"B CS19 Wispy68 French Blue Scarf",255]
[2183176,"B Wispy Cashmere Scarf Ciel",250]
[2211987,"AJ Brushed Ebony Steel Pen",250]
[5027593,"N Ella Lamp Oxide Red",250]
[5027594,"N Ella Lamp Stone Grey",250]
[5060710,"J Luxury Travel Set Black Socks & Eye Mask",250]
[5060812,"S Gertrude Leather Jewellery Roll Black",250]
[5060813,"S Gertrude Leather Jewellery Roll Red",250]
[5065661,"B Magellan Hammett 70x200cm Scarf - Navy/Yellow - CAW20",250]
[8018021,"RU Notebook Chocolate Nubuck  A4",240]
[2008573,"E BH141JRNTL Billfold with Coin Purse Brown",230]
[2211760,"EC Stapler Gold",230]
[5027313,"MF Leather Diary Set",225]
[8017282,"T Slim Skeleton Gear Rhodium Cufflink",225]
[8025398,"AH Jewellery Pouch in Black Nylon with Capra Trim",225]
[8025399,"AH Make Up in Black Nylon with Capra Trim",225]
[2211762,"EC Stapler + Punch Chrome Black",220]
[5029504,"L Rs Calf Leather Billfold 8 Card Wallet Black/Red",215]
[5032314,"PS Glove Deer Skin - Navy L",215]
[5032315,"PS Glove Deer Skin - Navy M",215]
[5032316,"PS Glove Deer Skin - Navy S",215]
[5032317,"PS Glove Deer Skin - Chocolate L",215]
[5032318,"PS Glove Deer Skin - Chocolate M",215]
[5032319,"PS Glove Deer Skin - Chocolate S",215]
[5032320,"PS Glove Deer Skin - Black L",215]
[5032321,"PS Glove Deer Skin - Black M",215]
[5032322,"PS Glove Deer Skin - Black S",215]
[8024350,"AMT Poppy Patina by Jess Bird",210]
[8024351,"AMT Fuschia Patina by Jess Bird",210]
[8024352,"AMT Thistle Patina by Jess Bird",210]
[8027023,"S Sanderson Watch Roll Sapphire Blue & Pale Grey",205]
[8027024,"S Sanderson Watch Roll Jet/Soft Sand",205]
[2021914,"L Calf Leather Billfold Wallet Black",200]
[2021916,"L Calf Leather Billfold Wallet Multi",200]
[2211764,"EC Perforators Gold",200]
[5027316,"MF Leather Notebook Jacket - Black",195]
[5027317,"MF Leather Notebook Jacket - Avocado",195]
[5028362,"AH Safe Deposit In Vinyl/Recycled Black",195]
[5060817,"S Jeanne Leather Ring Box Red",195]
[5062468,"A Selva Oscura Napkin Holder Sets",195]
[8019084,"AH Inflight In Clear Plastic With Black Capra Trim",195]
[8019086,"AH Lotions And Potions In Black Nylon With Capra Trim",195]
[8019087,"AH Inflight In Clear/Electric Blue Plastic With  Circus",195]
[8026722,"SS Alex Sterling Silver Cufflinks",195]
[2211607,"JD Chart of Small Shells Tray",190]
[5027586,"NAB Leather Perudo Set Dark Green",190]
[8017923,"AMT Bayley - Prussian Patina Cufflink",190]
[8017924,"AMT Bayley - Quink Patina Cufflink",190]
[8018020,"RU Nubuck Chocolate Notebook A5",190]
[5007648,"W Pink Agate 138x138cm Silk Scarf",189]
[5007649,"W Jasper Light Pink 138x138cm Silk Scarf",189]
[5007650,"W Jasper Blue and Green 138x138cm Silk Scarf",189]
[5007651,"W Blue Agate 138x138cm Silk Scarf",189]
[5007652,"W Green Agate 138x138cm Silk Scarf",189]
[5007653,"W  Pink Calcite 138x138cm Silk Scarf",189]
[8018022,"RU Chinese Checkers",189]
[2211612,"JD Citron - Citrus Medica (History of Plants)",185]
[2211622,"JD Pale Purple Marble Desk Cup",185]
[5060711,"J Luxury Hot Water Bottle & Socks Natural",185]
[2128994,"E Mini Wallet 6CC Purple",180]
[2211636,"JD Desk Cup Cerulean Blue Tones",180]
[2155644,"LS 15 Pair Simply Sartorial Gift Box L",175]
[2155645,"LS 15 Pair Simply Sartorial Gift Box M",175]
[2212260,"C CATCH:3 Wireless Charger and Accessory Organiser Black",175]
[2212261,"C CATCH:3 Wireless Charger and Accessory Organiser Ash",175]
[2212262,"C CATCH:3 Wireless Charger and Accessory Organiser Bone",175]
[5027450,"EC Magnifying Glass 23KT Gold",175]
[5065656,"B Arran Kurt 30x170cm Scarf - Natural/Mink - CAW20",170]
[5065657,"B Arran Kurt 30x170cm Scarf - Flannel/Navy -CAW20",170]
[5032308,"PS Glove Concertina - Tan L",165]
[5032309,"PS Glove Concertina - Tan M",165]
[5032310,"PS Glove Concertina - Tan S",165]
[5032311,"PS Glove Concertina - Burgundy L",165]
[5032313,"PS Glove Concertina - Burgundy S",165]
[8020098,"PS Glove Concertina Black S",165]
[8020099,"PS Glove Concertina Black M",165]
[8020100,"PS Glove Concertina Black L",165]
[8024298,"AH Zip Card Case in Black Circus",165]
[8024299,"AH Zip Card Case in Cedar Circus",165]
[2172208,"AJ Natural Spun Brass Pen",160]
[5027452,"EC Tape Dispenser 23KT Gold & Black",160]
[2119979,"SF V Exclusive Scarf Pink",150]
[2170114,"Sf Bumble Bee Cherry Silk Square Scarf 90X90Cm",150]
[2170120,"Sf Autumn Love Heart Silk Square Scarf 90X90Cm",150]
[2172207,"AJ Black Anodised Aluminium Pen",150]
[2194890,"SF Spring Love Silk Square Scarf",150]
[2194895,"SF Flamingo Floral Mint Silk Square Scarf",150]
[2211763,"EC Perforators Chrome",150]
[5027481,"SET Hygeia Epidarus Set of 2 Book Ends - Pine Green",150]
[5007654,"W Jasper Multi 200x70cm Silk Scarf",149]
[5007655,"W Pink Agate 200x70cm Silk Scarf",149]
[2172211,"AJ Spun Aluminium Pen",145]
[8020839,"AJ Classic Brass Pen \n",145]
[2159382,"AMT Alvar Gold Plated Cufflinks",140]
[2159384,"AMT Alvar Cufflinks Rhodium Plated",140]
[2208058,"Polaroid One Step + Black",140]
[5038391,"TA Floral Circle Silk Print Tie - Blue",140]
[5038397,"TA Spot Square Embroidered Tie - Red",140]
[5038400,"TA Embroidered Textured Multi Stripe Tie - Blue",140]
[5038401,"TA Embroidered Textured Multi Stripe Tie - White",140]
[5038407,"TA Embroidered Classic Paisley Tie - Blue",135]
[5038410,"TA Embroidered Classic Floral Silk Tie - Red",135]
[8023746,"TA Cirlce Dot Tie Navy",135]
[8023747,"TA Cirlce Dot Tie Blue/Burgundy",135]
[8023753,"TA Floral Dot Tie Navy",135]
[8023754,"TA Floral Dot Tie Red",135]
[8023755,"TA Embroidered Floral Paisley Tie Navy",135]
[8023756,"TA Embroidered Floral Paisley Tie Burgundy",135]
[8025952,"IL Polaroid Everything Box Polaroid Lab",135]
[5065672,"B Bicolour Beanie - Black Watch - CAW20",132]
[5065670,"B Alex Cashmere Beanie - Dark Natural/Earth - CAW20",126]
[2022247,"FU Darkgrained Tubeframe Umbrella",125]
[2187093,"SF Skinny Silken Bloomers Navy Tassel Scarf",125]
[2187094,"SF Skinny Silken Bloomers Cream Tassel Scarf",125]
[5060815,"S Hester Leather Jewellery Box Red",125]
[5060816,"S Jeanne Leather Ring Box Black",125]
[8019088,"AH Girlie Stuff In Electric Blue Nylon With  Circus",125]
[8025021,"B CA19 Jura Scarf Bamboo",125]
[8025025,"B CA19 Jura Scarf Ingles Beetroot",125]
[8025034,"B CA19 Jura Scarf Tilden Charcoal",125]
[8025038,"B CA19 Jura Scarf Winter White",125]
[8025082,"B CA19 Vigo/Mr/32X180 Cms Scarf Buckley Blue Green",125]
[8027019,"S Sanderson Leather Stud Box Sapphire Blue/Pale Grey",125]
[5027453,"EC Tape Dispenser Chrome & Black",120]
[8025950,"Polaroid PO One Step 2 VF Red**",120]
[5031848,"D Shaftesbury Handsewn Leather Tech Glove - Black M/8",115]
[5031849,"D Shaftesbury Handsewn Leather Tech Glove - Black L/9",115]
[5031850,"D Shaftesbury Handsewn Leather Tech Glove - Black XL/10",115]
[5031851,"D Shaftesbury Handsewn Leather Tech Glove - Brown M/8",115]
[5031852,"D Shaftesbury Handsewn Leather Tech Glove - Brown L/9",115]
[5031853,"D Shaftesbury Handsewn Leather Tech Glove - Brown XL/10",115]
[8017461,"J Plain Cashmere Scarf  Natural",115]
[8017533,"J Plain Cashmere Scarf  Zaffre Blue",115]
[5001754,"AMT Alexander Copper Cufflinks",110]
[5032323,"PS Cashmere Scarf Spots Jacquard - Burgundy",110]
[5032324,"PS Cashmere Scarf Spots Jacquard - Navy",110]
[5032325,"PS Cashmere Scarf Spots Jacquard - Slate",110]
[5032358,"PS iPhone 11 Pro Case Multi Tape - Leather/Black",110]
[5065651,"B Jura Nowell Scarf - Natural/Camel",110]
[5065652,"B Jura Clova Scarf - Grey/Khaki",110]
[5065653,"B Jura Clova Scarf - White/Grey",110]
[5065654,"B Jura Detmar Scarf - Wine",110]
[5065655,"B Jura Venturi Scarf - Natural",110]
[5065662,"B Jura Wilsford 30x170cm Scarf - Grey/Blue - CAW20",110]
[5065663,"B Jura Detmar 30x170cm Scarf - Navy - CAW20",110]
[5065665,"B Jura Wilsford 30x170cm Scarf - Grey/Wine - CAW20",110]
[5065666,"B Jura Tilden 32x180cm Scarf - Navy - CAW20",110]
[5065667,"B Jura Tilden 32x180cm Scarf - Vicuna - CAW20",110]
[2198127,"PS Cufflink Mini Car Enamel",100]
[5027312,"MF Ultimate Stationary Gift Box",100]
[5032329,"PS Scarf Recycled - Navy",100]
[5032347,"PS Cufflink Cameleon - Silver",100]
[5032350,"PS Cufflink Fifties Car - Red",100]
[5032353,"PS Cufflink Lobster - Red",100]
[5032354,"PS Cufflink Pelo Cyclist - Silver/Gold",100]
[5032355,"PS Cufflink Postcard - Blue",100]
[5032356,"PS Cufflink Fish - Orange",100]
[5032357,"PS Cufflink Dog - Multi",100]
[8027021,"S Sanderson Leather Cufflink Box Sapphire Blue/Pale Grey",100]
[8027022,"S Sanderson Leather Cufflink Box Jet/Soft Sand",100]
[2169778,"C Madison Fedora Hat Navy S",98]
[2169780,"C Madison Fedora Hat Navy L",98]
[2202412,"C Wimslow Wide Brim Adjustable Hat Navy",98]
[2202413,"C Wimslow Wide Brim Adjustable Hat Maroon",98]
[4007998,"C Madison Fedora Maroon M",98]
[4007999,"C Madison Fedora Maroon L",98]
[5060641,"C Madison Fedora Hat Black M",98]
[5060642,"C Madison Fedora Hat Black L",98]
[2021920,"L Calf Leather Card Holder Black",95]
[2021922,"L Rs Calf Leather Card Holder Multi",95]
[5001756,"AMT Alexander Cufflinks Steel",95]
[5001757,"AMT Jasper Cufflinks Steel",95]
[5038414,"TA Velvet Bow Tie - Navy",95]
[2169779,"C Madison Fedora Hat Navy M",90]
[2203152,"D Bath Palm Vent Leather Glove - Cashmere Lined - Black M/8",90]
[2203153,"D Bath Palm Vent Leather Glove - Cashmere Lined - Black L/9",90]
[2203154,"D Bath Palm Vent Leather Glove- Cashmere Lined - Black XL/10",90]
[2203156,"D Bath Palm Vent Leather Glove - Cashmere Lined - Brown M/8",90]
[2203157,"D Bath Palm Vent Leather Glove - Cashmere Lined - Brown  L/9",90]
[2203158,"D Bath Palm Vent Leather Glove- Cashmere Lined - Brown XL/10",90]
[2209618,"BW Lobster Cufflinks Red",90]
[5029615,"PS Scarf Chevron - Red",90]
[5029616,"PS Scarf Chevron - Slate",90]
[5029617,"PS Scarf Chevron - Navy",90]
[8026038,"BW Egg and Spoon Cufflinks",90]
[2205683,"LS Exclusive Navy/Burgundy Spot 6 Pair Gift Box L",89]
[2191984,"D Mendip Palm Vent Wool Lined Point Glove Black M/8",85]
[2191988,"D Mendip Palm Vent Wool Lined Point Glove Tan M/8",85]
[2209621,"AMT Austin Brass - Polished Cufflink",85]
[5032359,"PS iPhone 11 Pro Case - Leather/Multi",85]
[2150610,"D Isabelle 3 Point Cashmere Lined Glove Black 6",80]
[2150611,"D Isabelle 3 Point Cashmere Lined Glove Black 7",80]
[2150612,"D Isabelle 3 Point Cashmere Lined Glove Black 7.5",80]
[2150613,"D Isabelle 3 Point Cashmere Lined Glove Black 8",80]
[2150618,"D Isabelle 3 Point Cashmere Lined Glove Navy 6.5",80]
[2150619,"D Isabelle 3 Point Cashmere Lined Glove Navy 7",80]
[2150620,"D Isabelle 3 Point Cashmere Lined Glove Navy 7.5",80]
[2150621,"D Isabelle 3 Point Cashmere Lined Glove Navy 8",80]
[2189632,"BW Retro Jag Cufflinks Black",80]
[2191985,"D Mendip Palm Vent Wool Lined Point Glove Black L/9",80]
[2191989,"D Mendip Palm Vent Wool Lined Point Glove Tan L/9",80]
[2191990,"D Mendip Palm Vent Wool Lined Point Glove Tan XL/10",80]
[5031842,"D Pambrey Sheepskin Tech Glove Leather Palm - Black M/8",80]
[5031843,"D Pambrey Sheepskin Tech Glove Leather Palm - Black L/9",80]
[5031844,"D Pambrey Sheepskin Tech Glove Leather Palm - Black XL/10",80]
[5031845,"D Pambrey Sheepskin Tech Glove Leather Palm - Brown M/8",80]
[5031846,"D Pambrey Sheepskin Tech Glove Leather Palm - Brown L/9",80]
[5031847,"D Pambrey Sheepskin Tech Glove Leather Palm - Brown XL/10",80]
[5033347,"D Isabelle 3 Point Cashmere Lined Glove 6.5",80]
[5033348,"D Isabelle 3 Point Cashmere Lined Glove 7",80]
[5033349,"D Isabelle 3 Point Cashmere Lined Glove 7.5",80]
[5033350,"D Isabelle 3 Point Cashmere Lined Glove 8",80]
[8018232,"D Isabelle 3 Point Cashmere Lined Glove Cognac 6.5",80]
[8018233,"D Isabelle 3 Point Cashmere Lined Glove Cognac 7",80]
[8018234,"D Isabelle 3 Point Cashmere Lined Glove Cognac 7.5",80]
[8026035,"BW Balloon Pig Cufflinks Rose Gold",80]
[2205684,"LS Exclusive Navy Simply Sartorial 6 Pair Gift Box M",79]
[2205685,"LS Exclusive Navy Simply Sartorial 6 Pair Gift Box L",79]
[4008509,"LSC Whisky Sock Box  M",79]
[4008510,"LSC Whisky Sock Box  L",79]
[2209617,"BW Cactus Cufflinks Green",75]
[5031854,"D Henley Leather Tech Glove Knitted Cuff&Strap - Black M/8",75]
[5031855,"D Henley Leather Tech Glove Knitted Cuff&Strap - Black L/9",75]
[5031856,"D Henley Leather Tech Glove Knitted Cuff&Strap - Black XL/10",75]
[5031857,"D Henley Leather Tech Glove Knitted Cuff&Strap - Brown M/8",75]
[5031858,"D Henley Leather Tech Glove Knitted Cuff&Strap - Brown L/9",75]
[5031859,"D Henley Leather Tech Glove Knitted Cuff&Strap - Brown XL/10",75]
[5031860,"D Devon Dogtooth Wool Back Leather Glove - Black M/8",70]
[5031861,"D Devon Dogtooth Wool Back Leather Glove - Black L/9",70]
[5031862,"D Devon Dogtooth Wool Back Leather Glove - Black XL/10",70]
[5031863,"D Devon Dogtooth Wool Back Leather Glove - Brown M/8",70]
[5031864,"D Devon Dogtooth Wool Back Leather Glove - Brown  L/9",70]
[5031865,"D Devon Dogtooth Wool Back Leather Glove - Brown  XL/10",70]
[5032287,"PS Hat Majit Check - Navy L",70]
[5032288,"PS Hat Majit Check - Navy M",70]
[5032289,"PS Hat Majit Check - Navy S",70]
[5032290,"PS Hat Majit Check - Orange L",70]
[5032291,"PS Hat Majit Check - Orange M",70]
[5032292,"PS Hat Majit Check - Orange S",70]
[5038418,"TA Paisley Floral Swirl Silk Pocket Square - Cream / Navy",70]
[5038419,"TA Oversized Paisley Silk Pocket Square - Blue",70]
[5038421,"TA Heart Shaped Paisley Silk Pocket Square - Yellow / Navy",70]
[5038425,"TA Floral Tile Silk Pocket Square - Navy / White",70]
[5065762,"HT Hour Glass - L 15 min Amber",70]
[2150356,"C Safari Crushable Hat Black M",65]
[2150357,"C Safari Crushable Hat Black L",65]
[2150365,"C Safari Crushable Hat Navy M",65]
[2150366,"C Safari Crushable Hat Navy L",65]
[2156312,"B Leather Thinsulate Gloves - Olive M",65]
[2156313,"B Leather Thinsulate Gloves - Olive L",65]
[2171865,"LS Sipsmith Sock and Gin Gift Box M",65]
[2171867,"LS Sipsmith Sock and Gin Gift Box L",65]
[2188672,"C Crushable Safari Hat Navy S",65]
[2188673,"C Crushable Safari - Black S",65]
[2202399,"C Safari Crushable Hat Maroon S",65]
[2202400,"C Safari Crushable Hat Maroon M",65]
[2202401,"C Safari Crushable Hat Maroon L",65]
[2213903,"BW XO Cufflinks",65]
[5027370,"DG Large Paperweight - Painters Palette",65]
[5027374,"DG Floral Paperweight Red Dahlia - Red",65]
[5027375,"DG Floral Paperweight Flowering - Crab Abble",65]
[5027377,"DG Floral Paperweight - Hydrangea Chartreuse",65]
[5027378,"DG Floral Paperweight Pom Pom - Yellow",65]
[5030794,"B Bampton Leather Gloves - Black S",65]
[5030795,"B Bampton Leather Gloves - Black M",65]
[5030796,"B Bampton Leather Gloves - Black L",65]
[5030797,"B Bampton Leather Gloves - Black XL",65]
[5030798,"B Bampton Leather Gloves - Dk Brown S",65]
[5030799,"B Bampton Leather Gloves - Dk Brown M",65]
[5030800,"B Bampton Leather Gloves - Dk Brown L",65]
[5030801,"B Bampton Leather Gloves - Dk Brown XL",65]
[5032293,"PS Hat Flat Cap - Navy L",65]
[5032294,"PS Hat Flat Cap - Navy M",65]
[5032295,"PS Hat Flat Cap - Navy S",65]
[5032299,"PS Hat Flat Cap - Burgundy L",65]
[5032300,"PS Hat Flat Cap - Burgundy M",65]
[5032301,"PS Hat Flat Cap - Burgundy S",65]
[2204756,"Johnstons Ribbed Hat O/S Navy",60]
[4007804,"C Bretton Wool Black S",60]
[4007806,"C Bretton Wool Black L",60]
[4007808,"C Bretton Wool Grey M",60]
[4007809,"C Bretton Wool Grey L",60]
[4007810,"C Bretton Wool Marroon S",60]
[4007811,"C Bretton Wool Marroon M",60]
[4007812,"C Bretton Wool Marroon L",60]
[5027584,"NAB Calfskin Leather Notebook - A5 Red",60]
[8023730,"TA Mosaic Tile Print Pocket Square Burgundy",60]
[8023731,"TA Mosaic Tile Print Pocket Square Navy",60]
[8023742,"TA Floral Dot Pocket Square Blue",60]
[8023743,"TA Floral Dot Pocket Square Red",60]
[8026277,"BW Retro Camera and Film Cufflinks Black",60]
[2213071,"J Solid Cashmere Scarf Black",59.5]
[2189623,"BW Knot Cufflinks Rose Gold",55]
[2189637,"BW Banana Cufflinks",55]
[5027364,"DG Jellyfish Paperweight 6\" - Teal Glow",55]
[5027365,"DG Jellyfish Paperweight 6\" - Orange",55]
[5027366,"DG Jellyfish Paperweight 6\" - Cappuccino",55]
[2210332,"PS Pocket Square Multistripe Multi",50]
[2211618,"JD Round Plate Femme Du Canton",50]
[2211637,"JD 4-- Round Plate Colour Spectrum",50]
[2214243,"LMSS Nautic Tortoise Green Polarized Lenses",50]
[5032341,"PS Pocket Square Quatro - Red",50]
[5032342,"PS Pocket Square Quatro - Turquoise",50]
[5032343,"PS Pocket Square Quatro - Black",50]
[5032344,"PS Pocket Square Pojo - Yellow",50]
[5032346,"PS Pocket Square Pojo - Black",50]
[2155653,"LS Fortnums Exclusive 3 Pairs Boxed M",45]
[2155654,"LS Fortnums Exclusive 3 Pairs Boxed L",45]
[2211611,"JD Round Plate Barnicles",45]
[4007798,"C Wool Beret Black",45]
[4007801,"C Wool Beret Navy",45]
[5027315,"MF Mark Three Gift Box",45]
[5030776,"B Crieff Flat Cap Olive/Navy/Blue S",45]
[5030777,"B Crieff Flat Cap Olive/Navy/Blue M",45]
[5030778,"B Crieff Flat Cap Olive/Navy/Blue L",45]
[5065756,"HT Hour Glass - M 5 min Turquoise",45]
[5065758,"HT Hour Glass - M 5 min Clear",45]
[5065764,"HT Hour Glass - M 5 min Green",45]
[5063357,"P Photo Allbum A Walk Down Memory Lane - Blue",42]
[2207045,"BH Alphabet Brush Pot - N",40]
[2207049,"BH Alphabet Brush Pot - R",40]
[5033351,"D Emily Classic Suede Knit Lined Glove Claret S",40]
[5033352,"D Emily Classic Suede Knit Lined Glove Claret M",40]
[5033353,"D Emily Classic Suede Knit Lined Glove Claret L",40]
[5033354,"D Emily Classic Suede Knit Lined Glove Black S",40]
[5033355,"D Emily Classic Suede Knit Lined Glove Black M",40]
[5033356,"D Emily Classic Suede Knit Lined Glove Black L",40]
[5033357,"D Emily Classic Suede Knit Lined Glove Cognac S",40]
[5033358,"D Emily Classic Suede Knit Lined Glove Cognac M",40]
[5033359,"D Emily Classic Suede Knit Lined Glove Cognac L",40]
[5033360,"D Emily Classic Suede Knit Lined Glove Charcoal S",40]
[5033361,"D Emily Classic Suede Knit Lined Glove Charcoal M",40]
[5033362,"D Emily Classic Suede Knit Lined Glove Charcoal L",40]
[4007424,"B Barlow Flat Cap Olive S",35]
[4007425,"B Barlow Flat Cap Olive M",35]
[4007426,"B Barlow Flat Cap Olive L",35]
[4007427,"B Barlow Flat Cap Olive XL",35]
[4007428,"B Barlow Flat Cap Grey Herringbone S",35]
[4007429,"B Barlow Flat Cap Grey Herringbone M",35]
[4007430,"B Barlow Flat Cap Grey Herringbone L",35]
[4007431,"B Barlow Flat Cap Grey Herringbone XL",35]
[4007432,"B Barlow Flat Cap Navy S",35]
[4007433,"B Barlow Flat Cap Navy M",35]
[4007434,"B Barlow Flat Cap Navy L",35]
[4007435,"B Barlow Flat Cap Navy XL",35]
[4007549,"B Barbour Donegal Gloves Dark Green M",35]
[4007550,"B Barbour Donegal Gloves Dark Green L",35]
[4007551,"B Barbour Donegal Gloves Navy M",35]
[4007552,"B Barbour Donegal Gloves Navy L",35]
[5027371,"DG Large Paperweight - Brigade",35]
[5027498,"WW Lowercase Alphabet Practise Pad",35]
[5027499,"WW Uppercase Alphabet Practise Pad",35]
[5063356,"P Photo Album Forever Young - Grey (S)",35]
[5027319,"MF Notebook Mark One - Plain, Black",32]
[5027321,"MF Notebook Mark Three - Dotted Blue",32]
[2141320,"Dt Dogwalker Knit Suede Glove Navy",30]
[2150624,"D Dogwalker Suede/Knit Glove Black",30]
[2150625,"D Laura Suede/Knit Glove Charcoal S",30]
[2150626,"D Laura Suede/Knit Glove Charcoal M",30]
[2150627,"D Laura Suede/Knit Glove Charcoal L",30]
[2150628,"D Dogwalker Suede/Knit Glove Navy S",30]
[2150629,"D Dogwalker Suede/Knit Glove Navy M",30]
[2173907,"D Dogwalker Suede Knit 3 Point Glove - Black XL/10",30]
[2173908,"D Dogwalker Suede Knit 3 Point Glove - Brown M/8",30]
[2173909,"D Dogwalker Suede Knit 3 Point Glove - Brown L/9",30]
[2191928,"D Dogwalker Suede Glove With Knitted Panels Laura Claret S",30]
[2191929,"D Dogwalker Suede Glove With Knitted Panels Laura Claret M",30]
[2191930,"D Dogwalker Suede Glove With Knitted Panels Laura Claret L",30]
[2191982,"D Dogwalker Suede Knit 3 Point Glove - Oatmeal L/9",30]
[2191983,"D Dogwalker Suede Knit 3 Point Glove - Oatmeal XL/10",30]
[8017985,"Dt Dogwalker Knit Suede Glove",30]
[8017986,"Dt Dogwalker Knit Suede Glove",30]
[8019864,"D Dogwalker Suede Knit 3 Point Glove - Oatmeal M/8",30]
[8019865,"D Dogwalker Suede Knit 3 Point Glove - Black L/9",30]
[8019866,"D Dogwalker Suede Knit 3 Point Glove - Black M/8",30]
[2168183,"B Lambswool Gloves - Navy M",25]
[2168184,"B Lambswool Gloves - Navy L",25]
[2168186,"B Lambswool Gloves - Olive M",25]
[2168187,"B Lambswool Gloves - Olive L",25]
[4007445,"B Lambswool Gloves Grey M",25]
[4007446,"B Lambswool Gloves Grey L",25]
[5026267,"Flower Colour Guide",24.95]
[5027368,"DG Baby Jellyfish Paperweight 4\" - Confetti",20]
[5027369,"DG Baby Jellyfish Paperweight 4\" - Blue",20]
[5027372,"DG Small Paperweight - Arctic Swirl",15]
[5027373,"DG Small Paperweight Feathers - Yellow/Gold",15]
[8020841,"AJ 3 Pack Black Ink Refills",15]
[8020842,"AJ 3 Pack Blue Ink Refills",15]
[8020843,"AJ 3 Pack Red Ink Refills",15]
[8020844,"AJ 3 Pack Green Ink Refills",15]
[5001779,"BS Little Women & Good Wives (Clothbound Classics)",14.99]
[5001781,"BS Alices Adventures In Wonderland (Clothbound Classics)",14.99]
[2213044,"MMS Lodestars Anthology England",14]
[2212899,"MMS Apartamento Issue 22",13.5]
[2198216,"MMS Another Escape #9",12]
[2178934,"D Ink Cartridges/Black (10x6)",10]
[5026983,"BS The Art of the Cocktail",10]
[5028063,"MMS Monocle Forecast - 2020",10]
[2178936,"D Roller Refills Medium Blue(10)",7]
[2178939,"D Bpp Refills Medium Blue (10)",7]
[2194937,"L Traviata Red Crocodile Flap, Easter Rose Body",5640]
[2194938,"L Traviata Green Crocodile Flap, Bottle Green Body",5640]
[2209812,"L Traviata Black Croc Flap Black Calf Body",5640]
[8020545,"DF Gold Dumbell Cufflink",3500]
[8020546,"DF White Gold Dumbell Cufflink",3500]
[5066966,"B Silver Tiffin Tin/Tea Caddy",3200]
[5027649,"ROLEX Oysterdate Precision (1958)",2850]
[8020548,"DF Gold Amethyst Cufflinks",2835]
[5066961,"B Huge Victoria Hip Flask",2700]
[5066968,"B Victoria Claret Jug",2550]
[2141547,"L Traviata Beige Lizard Flap Milkwood Calf Leather Body",2450]
[5027646,"WYLER “Clamshell” Chronograph (c. 1948)",2350]
[5027643,"OMEGA Automatic Chronometer Constellation Cal 551 (1962)",2250]
[5065057,"BAUME&MERCIER Baumatic Automatic / original box (c. 1970s)",2250]
[2196189,"HS Multi-Games Set Couture Backgammon Chocolate",2170]
[8026905,"LL Gloria Red Body Black Calf SP",2160]
[2186352,"L Juliet Black Calf",2130]
[2036185,"L Traviata Calf Leather Black",1900]
[2115193,"L Traviata Calf Leather Bottle Green",1900]
[2118790,"L Traviata Calf Leather Red",1900]
[2208259,"Exclusive Judi Black Python Flap, Two-Tone Thick Strap",1820]
[5066964,"B Large Desk Globe by Geographia c.1950",1800]
[5066962,"B Bell Shaped Cocktail Shaker c.1930",1740]
[5027741,"ATTLG The Complete works of The Bronte Sisters",1600]
[2214054,"L Judi Cherry Patent All Over",1500]
[8020547,"DF Gold Bloodstone Cufflink",1500]
[8026896,"LL Encore Red Patent SP",1460]
[2163371,"L Judi Bottle Green, Natural Python Flap",1400]
[5066960,"B Large Silver Mounted Cut Glass Inkwell c.1910",1380]
[5065056,"OMEGA Fab Suisse Cal 351 Automatic Bumper (1949)",1300]
[5027644,"OMEGA 9k Gold Sub Second Calibre 342 (1949)",1250]
[5065054,"OMEGA Automatic Seamaster Watch (c.1960s)",1250]
[5065055,"OMEGA Military Sub Second Watch (1947)",1200]
[5065052,"JUNOD Chronograph Watch (c.1960s)",1100]
[5065674,"B Arran Border 150x200cm Throw - Charcoal - CAW20",930]
[5066959,"B Large Antique Match Striker c.1912",865]
[2211645,"DP Lighter/L2-Black Lacquered",815]
[2212435,"ATTLG Picturesque Views onthe S. Coast of England JMW Turner",800]
[8027089,"A Beauvais Velvet Jewellery Box Blue",795]
[2211644,"DP Lighter/L2-Pal.& Black Lacq",780]
[5066965,"B WW1 Military Marchin Compass In Case",720]
[8026303,"L Medium Rope Logo Wallet Black Black Lizard",715]
[2211829,"CD Varius Carbon Roller Pen",685]
[2211642,"DP Lighter/L2-Gold Pl-Vert.Lines",655]
[2211648,"DP Line D Fp Medium Goldsmith",650]
[2211827,"CD Varius China Black Gold Plated Roller Pen",635]
[2009425,"Leather Labrador Medium",625]
[5065678,"B Tawny Abstract 140x180cm Throw - Monochrome - CAW20",605]
[5027639,"MSB Dunhill Uber Driver Framed Print",595]
[5065676,"B Valatzu Anton 137x180cm Throw - French Blue - CAW20",595]
[5065677,"B Valatzu Junction 137x180cm Throw - Monochrome - CAW20",595]
[5066967,"B Handheld Binoculars c1920",575]
[2211643,"DP Lighter/L2-Silv.Pl-Vert.Lines",555]
[8026302,"L Medium Rope Logo Wallet Python",540]
[5005522,"ATTLG The four Adventures of Richard Hannay by John Buchan",525]
[2211832,"CD Gold Plated Leman Ebony Black Fountain Pen",515]
[2009400,"Leather Pig Standard",500]
[2123275,"Leather Rhino Standard",500]
[2184745,"Leather Lion Standard",500]
[2178914,"D Streamline R Fp Brushed Pall",475]
[2178915,"D Streamline D Fp Matt Black",475]
[8025783,"MS Fox Bold Prince of Wales Check Framed Print",460]
[8025784,"MS Oversized Prince of Wales Check Framed Print",460]
[8025788,"MS The Barton Glen Check Framed Print",460]
[2009418,"Leather Dachshund Standard",450]
[2190828,"DF C1740 Pave Set Black Spinel Spider Ruby Eyes ; Silver Sma",450]
[5067510,"ATTLG Familiar Garden Flowers by Shirley Hibberd",450]
[2211790,"TS Wood Hazel Pen Fountain Hazel",435]
[2211792,"TS Spalted Sycamore Pen Brown",435]
[5060707,"J Reversible Blanket Stitch Throw Grey / Navy",435]
[5060708,"J Reversible Blanket Stitch Throw Ecru",435]
[2182040,"SD Multi Crochet Scarf 17",425]
[2199413,"SD Multi Crochet Scarf 19",420]
[8025070,"B CA19 Nuance Scarf Ombre Monochrome",400]
[8025072,"B CA19 Nuance Scarf Ombre Oxide",400]
[8025073,"B CA19 Nuance Washed Scarf Islander",400]
[2115204,"L Large Rope Logo Wallet Calf Leather Black",380]
[5028136,"LL Customer Large Logo Wallet In Calf Leather",380]
[2211791,"TS Exclusive Encapsulated Flowers Pen Fountain White/Gold",375]
[5065675,"B Vale Reversible 147x200cm Throw - Navy Ink - CAW20",375]
[5067520,"ATTLG The Life of Samuel Johnson by James Boswell",375]
[8025014,"B CA19 Filigree Scarf Old Gold",375]
[8025015,"B CA19 Filigree Scarf Steel",375]
[5027454,"EC Pencil Sharpener Chrome & Black",370]
[2211789,"TS Black & Gold Marble Chip Pen Roller Ball Black/Gold",365]
[2197589,"B Nuance Washed Cashmere Scarf Ombre Islander",360]
[5027630,"FG Pinstripe Trousers Print Framed - 30CM X 30CM",350]
[5027632,"FG Smart Black Brogue Framed Print - 30CM X 30CM",350]
[5027633,"FG Cup of Coffee Framed Print - 30CM X 30CM",350]
[5027742,"ATTLG The Inimitable Jeeves - P.G. Wodehouse",350]
[5067515,"ATTLG A History of the Second World War by Winston Churchill",350]
[5067519,"ATTLG Matilda by Roald Dahl",350]
[8025041,"B CA19 Kishorn Scarf Flannel Grey",350]
[8025044,"B CA19 Kishorn Scarf Natural",350]
[8025046,"B CA19 Kishorn Scarf Oxford Grey",350]
[8025047,"B CA19 Kishorn Scarf Red",350]
[8025050,"B CA19 Kishorn Scarf Shadow Check Dark Olive",350]
[2194809,"TA Black Enamel Signiture D-Shape Cufflink",349]
[2009403,"Leather Pig Small",345]
[8022284,"ATLG The Poetical Works of John Keats",340]
[2178919,"D Defi Fp Brown Leather & Pall",335]
[2115202,"L Medium Rope Logo Wallet Calf Leather Black",330]
[2138558,"L Medium Rope Logo Wallet Milkwood",330]
[2141550,"L Medium Rope Logo Wallet Calf Leather Easter Rose",330]
[2075881,"Leather Labrador Small",325]
[8025054,"B CA19 Kishorn Washed Scarf Navy",325]
[8025059,"B CA19 Kishorn Washed Scarf Tobacco",325]
[8025060,"B CA19 Kishorn Washed Scarf Dark Denim",325]
[8025061,"B CA19 Kishorn Washed Scarf Flannel Grey",325]
[2215571,"ATLG Ten Years of Motors and Motor Racing by Charles Jarrott",320]
[2197216,"DF Rocket Base Metal Cufflink",315]
[4006436,"B CS19 P Wispy Hanover Dark Natural Black Scarf",315]
[4006535,"B CS19 Filigree Lapis Scarf",315]
[8027094,"A Valentina Velvet Rectangular Tray Blue",315]
[8027095,"A Valentina Velvet Rectangular Tray Cream",315]
[2178920,"D Defi Fountain Pen Gun Metal",295]
[2189996,"B Wispy Cashmere Scarf Dark Kelp",295]
[2196190,"HS Deluxe Dominoes Buffalo Backgammon Amande",295]
[8024952,"B CA19 Arran Scarf Light Blue",295]
[8024957,"B CA19 Arran Scarf Oyster",295]
[8025085,"B CA19 Wispy Scarf Bluebell",295]
[8025086,"B CA19 Wispy Scarf Cinnamon",295]
[8025088,"B CA19 Wispy Scarf Snow",295]
[8025089,"B CA19 Wispy Scarf Pale Denim",295]
[8025090,"B CA19 Wispy Scarf Khaki",295]
[8027092,"A Valentina Velvet Heart Tray Green",290]
[2197605,"B Kishorn Cashmere Scarf Oxford Grey",280]
[2212454,"B Kishorn Design 70x180 Scarf Pin Check Charcoal Grey",280]
[4006405,"B CS19 Kishorn Flannel Grey Scarf",275]
[2166329,"DF Elephant Mother & Baby",270]
[2215551,"KO Blake Black/Brown Fade",265]
[2211830,"CD Gold Plated Ecridor Chevron Fountain Pen",260]
[5001228,"B Arran Doig Classic Cashmere Scarf Mink Natural",260]
[8024951,"B CA19 Arran Scarf Carmine",260]
[8024955,"B CA19 Arran Scarf Flannel Grey",260]
[8024961,"B CA19 Arran Scarf Black",260]
[8024972,"B Arran CA19 Scarf Moore + Pink",260]
[8024974,"B CA19 Arran Scarf Twombly + Oyster Pink",260]
[8024975,"B CA19 Arran Scarf Twombly + Slate",260]
[8024977,"B CA19 Arran Scarf Borderland + Shamrock Fl",260]
[8024981,"B CA19 Arran Reversible Scarf Navy+Black",260]
[8024982,"B CA19 Arran Reversible Scarf Flannel+Oyster",260]
[8024991,"B CA19 Arran Reversible Scarf Flannel+French Gold",260]
[8024993,"B CA19 Arran Reversible Scarf Stone+Flannel",260]
[8024996,"B CA19 Arran Reversible Scarf Charcoal+Derby",260]
[8024997,"B CA19 Arran Reversible Scarf Stone+White",260]
[8025000,"B CA19 Arran Reversible Scarf Charcoal+Saffron",260]
[4006478,"B CS19 Wispy68 Black Scarf",255]
[4006496,"B CS19 Wispy68 Indigo Denim Scarf",255]
[4006499,"B CS19 Wispy68 Kingfisher Scarf",255]
[4006505,"B CS19 Wispy68 Maldives Scarf",255]
[4006549,"B CS19 Wispy68 Sorbet Scarf",255]
[2203930,"BS Wispy Design Scarf Darnock Black White",250]
[2212196,"ATLG Prater Violet by Christopher Isherwood",250]
[5005528,"ATTLG Across the river and into the trees Ernest Hemingway",250]
[5027592,"N Ella Lamp Guillotine Blue",250]
[5027738,"ATTLG You Only Live Twice - Ian Fleming",250]
[5027747,"ATTLG Zara’s Tales - Peter Beard",250]
[5065660,"B Magellan Hammett 70x200cm Scarf - Navy/Red - CAW20",250]
[8025065,"B CA19 Kos Washed Scarf Light Grey",250]
[8027218,"A Astronomical Aluminium Pen in Black & White",250]
[8018029,"RU Nubuck Pen & Pencil Roll",240]
[2138069,"E Coat Wallet with 8 C C Turquoise",230]
[2177558,"SS Daniel 18Ct Gold Plate Cufflinks",225]
[2208806,"ATLG The Life of Samuel Johnson by James Boswell",225]
[5030624,"EK Sabrina Cap With Chain Detail In Black",225]
[8025078,"B CA19 Staffa Scarf Artichoke",225]
[8025382,"AH Make Up in Red Nylon with Circus",225]
[8026177,"C Charlotte Black/Natural Weave Panama w/ Contrast Ribbon 58",225]
[5030623,"EK Blaine Trilby With Velvet Trim In In Jade Green",210]
[8022281,"ATLG Summer Cooking by Elizabeth David",210]
[2076981,"L Rs Calf Leather Billfold Wallet Blue",200]
[4006627,"B CS19 Staffa Mix Konyak Stone Army Scarf",200]
[4006452,"B CS19 Staffa Granite Scarf",195]
[8025077,"B CA19 Orwell Scarf Urban Plaid Red",195]
[8025384,"AH Lotions and Potions in Red Nylon with Circus",195]
[8017926,"AMT Bayley - Teal Patina Cufflink",190]
[8026041,"SS Jonathan Gold Plated Cufflinks",190]
[2177562,"SS Harry Sterling Silver Cufflinks",185]
[2211831,"CD Silver Plated Ecridor Chevron Fountain Pen",185]
[2172210,"AJ Natural Spun Stainless Steel Pen",180]
[5027754,"ATTLG A Spaniard in the Works - John Lennon",175]
[5067511,"ATTLG Cheddar Gorge a Book of English Cheeses by John Squire",175]
[2211641,"DP Metal Base 2 Cigar Case Brown",165]
[5032312,"PS Glove Concertina - Burgundy M",165]
[2212191,"ATLG Thirty Seasons at Monte Carlo with Records of Play by P",160]
[8024612,"PS Leather Billfold Wallet - Black",160]
[8026181,"C Eugenie Bleached Panama w/ Orange Band 56",159]
[8026183,"C Eugenie Bleached Panama w/ Orange Band 58",159]
[2194889,"SF Spring Creams Silk Square Scarf",150]
[2215558,"ATLG The Luck of The Bodkins by P.G.Wodehouse",150]
[5005524,"ATTLG Bill The Conqueror by P.G. Wodehouse",150]
[5027475,"SET Hermes Set of 2 Book Ends - Cloud Blue",150]
[5027480,"SET Hygeia Epidarus Set of 2 Book Ends - Ice White",150]
[5027486,"SET Marathon Boy Set of 2 Book Ends - Powder Green",150]
[5027487,"SET Antious Set of 2 Book Ends - Ice White",150]
[8025005,"B CA19 Beaufort Unwashed Scarf Herder Navy Chocolate",150]
[8025006,"B CA19 Beaufort Washed Scarf Brooklyner Grey",150]
[8026146,"C Porto Panama w/ Embroidered Detail & Navy Band 60",150]
[2008569,"E BH143JRNTL Bridle Visting Card Case Brown",140]
[2212374,"FG Body Language A Numbered Print",140]
[2212375,"FG Body Language B Numbered Print",140]
[2212377,"FG Body Language D Numbered Print",140]
[2212378,"FG Body Language E Numbered Print",140]
[2212379,"FG Body Language F Numbered Print",140]
[2212380,"FG Body Language G Numbered Print",140]
[2212381,"FG Body Language H Numbered Print",140]
[2212382,"FG Body Language I Numbered Print",140]
[2212383,"FG Body Language J Numbered Print",140]
[2212384,"FG Body Language K Numbered Print",140]
[2212385,"FG Body Language L Numbered Print",140]
[2212386,"FG Body Language M Numbered Print",140]
[2212387,"FG Body Language N Numbered Print",140]
[2212388,"FG Body Language O Numbered Print",140]
[2212389,"FG Body Language P Numbered Print",140]
[2212390,"FG Body Language Q Numbered Print",140]
[2212391,"FG Body Language R Numbered Print",140]
[2212392,"FG Body Language S Numbered Print",140]
[2212393,"FG Body Language T Numbered Print",140]
[2212394,"FG Body Language U Numbered Print",140]
[2212395,"FG Body Language V Numbered Print",140]
[2212396,"FG Body Language W Numbered Print",140]
[2212398,"FG Body Language Y Numbered Print",140]
[2212399,"FG Body Language Z Numbered Print",140]
[4006066,"Polaroid OneStep + White",140]
[4006470,"B CS19 Wash Cottlea Windbreaker Pine Scarf",140]
[5027451,"EC Magnifying Glass Chrome & Black",140]
[5038406,"TA Oversized 70s Paisley Print Silk Tie - Blue",140]
[4006528,"B CS19 Fiji Denim White Scarf",135]
[8026042,"SS Mark Silver Plated Cufflinks",135]
[2177560,"SS Jonathan Sterling Silver Cufflinks",125]
[8018402,"D York Lambskin Classic Glove Vent/Handsewn Points L/8.5 Mah",125]
[8018407,"D York Lambskin Classic Glove Vent/Handsewn Points XL/9 Blac",125]
[8025020,"B CA19 Jura Scarf Antler",125]
[8025024,"B CA19 Jura Scarf Derby Grey",125]
[8025028,"B CA19 Jura Scarf Light Blue",125]
[8025029,"B CA19 Jura Scarf Lockwood Conifer Yellow",125]
[8025033,"B CA19 Jura Scarf Teal",125]
[8025036,"B CA19 Jura Scarf Venturi Vicuna Pink",125]
[8025079,"B CA19 Vigo Scarf Carney Flannel Red",125]
[8025081,"B CA19 Vigo Scarf Carney Khaki Yellow",125]
[8025383,"AH Girlie Stuff in Red Nylon with Circus",125]
[8024613,"PS Leather Cardcase - Black",120]
[8026173,"C Jessica W/ Navy Band Bleached 57",119]
[2211758,"EC Stapler Gold Black",115]
[8022283,"ATLG Action Cookbook by Len Deighton",115]
[5027478,"SET Apollo Set of 2  Book Ends - Indigo Blue",110]
[5027744,"ATTLG Madame de Pompadour - Nancy Mitford",100]
[5067514,"ATTLG 1Q84 by Haruki Murakami",100]
[8018393,"D Westminster Classic Glove 3 Pt Contrast Cashmere Lining M/",100]
[8022286,"ATLG The Best Food From Italy by Countess Morphy",100]
[5060640,"C Madison Fedora Hat Black S",98]
[2172217,"AJ Grey Leather Cardholder",95]
[8019753,"GG Navy Hand-stitched Suede Glove 30% Cashmere Lining 6.5",95]
[2211608,"JD Animals Desk Tray",90]
[5027750,"ATTLG Love Among The Ruins - Evelyn Waugh",90]
[5027751,"ATTLG Ulysses - James Joyce",90]
[5035769,"GG Black Nappa Leather Glove W Faux Fur Trim Cuff Black 7",90]
[8022277,"ATLG Alf Francis Racing Mechanic by Peter Lewis",90]
[5027340,"BH Ladder Fern Tray - Green",80]
[5027341,"BH 6X10 Classic Urn Tray - Blue",80]
[5027342,"BH 6X10 Classic Urn Tray - Green",80]
[5027343,"BH 6X10 Classic Urn Tray - Red",80]
[5027344,"BH 6X10 Classic Urn Tray - Yellow",80]
[5027474,"SET Hermes Head Vase - Ice White",80]
[5027743,"ATTLG Don’t Tell Alfred - Nancy Mitford",80]
[8018235,"D Isabelle 3 Point Cashmere Lined Glove Cognac 8",80]
[5027482,"SET Astris Set of 2 Book Ends - Pine Green",75]
[5027483,"SET Lito Set of 2 Book Ends - Powder Green",75]
[5067517,"ATTLG Ventriloquism & Juggling by Harold C.King",75]
[2215563,"ATLG Don Renato by F.R. Rolfe",70]
[5027745,"ATTLG Voltaire in Love - Nancy Mitford",70]
[8022287,"ATLG The Best of Eliza Acton selected by Elizabeth Ray",70]
[5027476,"SET Hermes Bust Medium - Ice White",68]
[5027485,"SET Marathon Boy Medium - Ice White",68]
[2008001,"M Flask Black 4oz",65]
[2150363,"C Safari Crushable Hat Green L",65]
[5027376,"DG Floral Paperweight - Dandelion",65]
[8018427,"D Deerhurst Leather Glove 3Pt Elasticated Wrist Faux Fur Lin",65]
[2204768,"ATLG Hector Guimard by Maurice Rheims",60]
[8018480,"CH Harris Tweed Balmoral Grey XL/61",60]
[8026892,"CH x SHouse Safari Crushable Hat S Green",60]
[2189624,"BW Knot Cufflinks Rhodium",55]
[5027345,"BH Ancient Roman Vase Print - Blue",55]
[5027346,"BH Ancient Roman Vase Print - Yellow",55]
[5027347,"BH Ancient Roman Vase Print - Green",55]
[5027348,"BH Ancient Roman Vase Print - Red",55]
[5027367,"DG Jellyfish Paperweight 6\" - Black",55]
[5027753,"ATTLG A History of the Umbrella - T.S. Crawford",55]
[2210768,"CH x SHouse Balmoral Cap Grey Herringbone M",50]
[5067518,"ATTLG Wyndham Lewis On Art by Walter Michel & CJ. Fox",50]
[8026233,"C Skye Balmoral Linen Flat Cap Khaki  L",50]
[2150361,"C Safari Crushable Hat",45]
[2209522,"C Skye Balmoral Linen Flat Cap Navy 59",45]
[5027331,"BH Picture Brush Pot – Ancient Urn – Khaki",45]
[5027332,"BH Picture Brush Pot – Ancient Urn – Yellow",45]
[5027333,"BH Picture Brush Pot – Athena – Blue",45]
[5027334,"BH Picture Brush Pot – Athena – Pink",45]
[5027335,"BH Picture Brush Pot – Roman Coins – Blue",45]
[5027336,"BH Picture Brush Pot – Roman Coins – Orange",45]
[5027501,"WW Monogram Wax Seal - A",45]
[5027502,"WW Monogram Wax Seal - B",45]
[5027503,"WW Monogram Wax Seal - C",45]
[5027504,"WW Monogram Wax Seal - D",45]
[5027505,"WW Monogram Wax Seal - E",45]
[5027506,"WW Monogram Wax Seal - F",45]
[5027507,"WW Monogram Wax Seal - G",45]
[5027508,"WW Monogram Wax Seal - H",45]
[5027509,"WW Monogram Wax Seal - I",45]
[5027510,"WW Monogram Wax Seal - J",45]
[5027511,"WW Monogram Wax Seal - K",45]
[5027512,"WW Monogram Wax Seal - L",45]
[5027513,"WW Monogram Wax Seal - M",45]
[5027514,"WW Monogram Wax Seal - N",45]
[5027515,"WW Monogram Wax Seal - O",45]
[5027516,"WW Monogram Wax Seal - P",45]
[5027517,"WW Monogram Wax Seal - Q",45]
[5027518,"WW Monogram Wax Seal - R",45]
[5027519,"WW Monogram Wax Seal - S",45]
[5027520,"WW Monogram Wax Seal - T",45]
[5027521,"WW Monogram Wax Seal - U",45]
[5027522,"WW Monogram Wax Seal - V",45]
[5027523,"WW Monogram Wax Seal - W",45]
[5027524,"WW Monogram Wax Seal - X",45]
[5027525,"WW Monogram Wax Seal - Y",45]
[5027526,"WW Monogram Wax Seal - Z",45]
[5027746,"ATTLG The Water Beetle - Nancy Mitford",45]
[5067513,"ATTLG Writings on Art by Man Ray",45]
[2207032,"BH Alphabet Brush Pot - A",40]
[2207033,"BH Alphabet Brush Pot - B",40]
[2207034,"BH Alphabet Brush Pot - C",40]
[2207035,"BH Alphabet Brush Pot - D",40]
[2207036,"BH Alphabet Brush Pot - E",40]
[2207037,"BH Alphabet Brush Pot - F",40]
[2207039,"BH Alphabet Brush Pot - H",40]
[2207040,"BH Alphabet Brush Pot - I",40]
[2207041,"BH Alphabet Brush Pot - J",40]
[2207042,"BH Alphabet Brush Pot - K",40]
[2207043,"BH Alphabet Brush Pot - L",40]
[2207044,"BH Alphabet Brush Pot -M",40]
[2207046,"BH Alphabet Brush Pot - O",40]
[2207047,"BH Alphabet Brush Pot - P",40]
[2207048,"BH Alphabet Brush Pot - Q",40]
[2207050,"BH Alphabet Brush Pot - S",40]
[2207052,"BH Alphabet Brush Pot - U",40]
[2207054,"BH Alphabet Brush Pot - W",40]
[2207056,"BH Alphabet Brush Pot - Y",40]
[2207057,"BH Alphabet Brush Pot - Z",40]
[2211794,"TS Fountain Pen Attachment Medium",40]
[4007519,"B Holden Scarf Black/Grey Tartan",40]
[5027477,"SET Hermes Bust Small - Cloud Blue",40]
[5027484,"SET Marathon Boy Small - Ice White",40]
[8018252,"D Emily Classic Suede Knit Lined Glove Emily Navy S",40]
[2199964,"Letmeseesun #E Black Soft Grey Lenses +1,00",35]
[2214240,"LMSS #D SUN Orange Flash",35]
[5027752,"ATTLG On Human Finery - Quentin Bell",35]
[2211836,"CD Ink Bottle Cosmic Black 50Ml",32]
[2211837,"CD Ink Bottle Idyllic Blue 50Ml",32]
[2150630,"D Dogwalker Suede/Knit Glove Navy L",30]
[5054535,"LK Blue Camo Crepe de Chine Face Mask",30]
[8019147,"L MINO Bluetooth Speaker -  Pink",30]
[5026987,"BS Men and Style: Essays, Interviews & Considerations",21.99]
[5065805,"BS 500 HIDDEN SECRETS OF LONDON",14.95]
[5027527,"WW Glue Gun Wax Sticks Gold",14]
[2193816,"MMS Supplement #4",12]
[2197639,"MMS British Girls Magazine",12]
[2204615,"MMS Rakes Progress Magazine - Issue 7",12]
[2178933,"D Ink Cartridges / Black (10)",10]
[5028064,"MMS Monocle Drinking & Dining - Issue 2 2019",10]
[5026988,"BS Gin Made Me Do It",9.99]
[2194802,"TA Diamond London Eye Cufflink",465]
[2194805,"TA Amethyst Checkerboard Cufflinks",450]
[5003102,"AH Small Postbox Bag in Oxblood Velvet TS",447.5]
[2199611,"TA Chrysanthemum Cufflink Rose Gold",425]
[2194804,"TA Signature Satin Chrysanthemum Cufflink",365]
[2194876,"TA Signature Brushed Flat Top Cufflink Black",349]
[2196158,"TA Silver Shark Jaw Cufflink",325]
[2194856,"TA Panorama Watch Cufflink",239]
[2194859,"TA Fortune Wheel Rotating Cufflink Rhodium",195]
[8026040,"SS Mark Gold Plated Cufflinks",190]
[2194797,"TA Resin Scorpian Gunmetal Cufflink",165]
[8025003,"B CA19 Beaufort Unwashed Scarf Herder Denim",150]
[8026145,"C Porto Panama w/ Embroidered Detail & Navy Band 59",150]
[8026150,"C Lyon Navy  Panama w/ Grey Contrast Band XL",150]
[8026151,"C Oslo Grey Panama w/ Navy Band  M",150]
[8026152,"C Oslo Grey Panama w/ Khaki Band  L",150]
[8026153,"C Oslo Grey Panama w/ Navy Band  XL",150]
[5003109,"AH Thin Shoulder Strap Jewels in Claret Nastro with Red Crys",147.5]
[2209515,"C Hugo Parquet Panama w/ Khaki Band 61",125]
[2177828,"C Classic Bleached Down Brim Panama w/ Black Band 59",119]
[8026139,"C Varsity Yorkie Panama w/ Navy Orange Band 59",100]
[8026140,"C Varsity Yorkie Panama w/ Navy Orange Band 60",100]
[8026141,"C Varsity Yorkie Panama w/ Navy Orange Band 61",100]
[8026229,"C Varsity Yorkie Panama w/ Navy Khaki  Band 59",100]
[8026230,"C Varsity Yorkie Panama w/ Navy Khaki  Band 60",100]
[8026231,"C Varsity Yorkie Panama w/ Navy Khaki  Band 61",100]
[2191945,"D Isabelle Classic Three Point Cashmere Lined Glove 7",75]
[2209526,"C Jermyn Tailored Driver Blue Linen Cotton 60",60]
[2209527,"C Jermyn Tailored Driver Blue Linen Cotton 61",60]
[2209529,"C Jermyn Tailored Driver Black Linen Cotton 60",60]
[8026157,"C Bruin Tailored Driver Houndstooth Check M",55]
[8026158,"C Bruin Tailored Driver Houndstooth Check L",55]
[8026159,"C Bruin Tailored Driver Houndstooth Check XL",55]
[8026160,"C Bruin Tailored Driver Grey Check M",55]
[8026161,"C Bruin Tailored Driver Grey Check L",55]
[8026162,"C Bruin Tailored Driver Grey Check XL",55]
[8026163,"C Bruin Tailored Driver Blue Check M",55]
[8026164,"C Bruin Tailored Driver Blue Check L",55]
[8026165,"C Bruin Tailored Driver Blue Check XL",55]
[8026232,"C Skye Balmoral Linen Flat Cap Khaki M",50]
[2209516,"C Skye Balmoral Linen Flat Cap Grey 59",45]
[2209517,"C Skye Balmoral Linen Flat Cap Grey 60",45]
[2209518,"C Skye Balmoral Linen Flat Cap Grey 61",45]
[2209523,"C Skye Balmoral Linen Flat Cap Navy 60",45]
[2211793,"TS Fountain Pen Attachment Fine",40]
[2211795,"TS Fountain Pen Attachment Broad",40]
[5026994,"BS Civilization: The Way We Live Now",39.950000000000003]
[5013460,"Splash by Philipp Keel",38]
[5027000,"BS Funland by Rob Ball",30]
[2210447,"B London Lives: 24 Iconic People and Places Around the Clock",20]
[5026986,"BS Men of Style by Josh Sims",19.95]
[2209524,"C Skye Balmoral Linen Flat Cap Navy 61",11]
[8025094,"B CA19 Wispy Scarf Dark Natural Black, Hanover",360]
[8025098,"B CA19 Wispy Scarf Saffron Black, Hanover",360]
[2194871,"TA Signature Round Silver MOP Cufflink",349]
[8026176,"C Charlotte Black/Natural Weave Panama w/ Contrast Ribbon 57",225]
[8026147,"C Porto Panama w/ Embroidered Detail & Navy Band 61",150]
[5035777,"GG Brown Nappa Leather Glove W/ Faux Fur Trim Cuff  Brown 7",110]
[5013200,"CP Cashmere Heart Eyemask",65]
[8018247,"D Joanna Unlined 3 Pt & Palm Vent Glove 7",60]
[2155631,"LS Simply Sartorial Sock British Racing Green M",12]
[8018362,"B Arran Reversible Cashmere Scarf Navy/Blue Jean 36X183",260]
[8026182,"C Eugenie Bleached Panama w/ Orange Band 57",159]
[2059040,"Non-Scan Code:Accessories",0]
[2065978,"Non Scan Code: Ladies Accessories",0]
[2210924,"Fortnum's Feasting Advent Calendar",200]
[2202036,"Manuka Honey 800+ MGO (UMF 20+) 200g",80]
[5061004,"Mooncake 2020 (EARLYBIRD)",70.927835000000002]
[2215016,"All things Truffle",35.75]
[2215018,"Tall Tin Collection",34.5]
[2210873,"Medjool Date Sticky Toffee Sponge in Ceramic 700g",29.95]
[2215014,"Afternoon Tea Preserves",26.5]
[2215012,"Chefs Honey Collection",26]
[2215203,"Magnifici Florentine Selection 520g",25]
[2215015,"Cocktail Essentials",24.5]
[2215013,"Floral Biscuits Collection",23]
[2112888,"London Honey Stack 240g",22.95]
[2138661,"Hoxton Honey 227g",20]
[2160831,"Bermondsey Honey 200g",20]
[5044682,"Royal Albert Hall Honey 227g",20]
[8026989,"Somerset House Honey 227g",20]
[2004115,"Piccadilly Honey 227g",20]
[2210909,"Vegan Fruit Cake 550g",19.95]
[2215494,"Yosakura Marmalade 135g",19.95]
[8025326,"Gluten Free and Alcohol Free Fruit Cake 550g",19.95]
[2215011,"Smoked Fish Pairings",19.5]
[2212736,"Essential Herb Selection",18.5]
[2212741,"Winter Spices",17.95]
[5003934,"CNY Piccadilly Selection Biscuit Tin, 600g",17.95]
[2208334,"Four Fine Sponge Puddings",16.95]
[2210869,"Raspberry and Rhubarb Sponge 400g",16.95]
[2210870,"Lemon Marmalade Sponge 400g",16.95]
[2210872,"Manjari Chocolate and Hazelnut Sponge 400g",16.95]
[2212740,"World Herbs & Spices Set",16.95]
[5029458,"Forest Honey Bundle",16.7]
[5028673,"Alcohol Free Palace Pudding 2020",15.82]
[5028674,"Gluten Free Palace Pudding 2020",15.82]
[2215008,"Breakfast Essentials",15]
[2207894,"Cherry, Walnut and Ginger Loaf Cake 500g",14.95]
[2212738,"Essential Italian Flavours",14.95]
[5003933,"CNY Musical Piccadilly Biscuit Selection 300g",14.95]
[5024705,"Highgrove Shortbread Selection Tin 255g",14.95]
[5052783,"Fig & Orange Mince Pie with Praline Pastry, 500g",14.95]
[2000138,"Tabasco Sauce 350ml",14.95]
[2215017,"Cheese Board Favourites",14.75]
[5029459,"British Honey Bundle",14.3]
[5029460,"Woodland Honey Bundle",14.3]
[2215009,"Sweet and Sparkling Brunch",14]
[5029461,"British Forage Honey Bundle",13.5]
[2178860,"Deia Prunes in Orange's Syrup 340g",12.95]
[2178861,"Deia Dried Figs in Mandarin's Syrup 340g",12.95]
[2183673,"Damson, Apple and Blackberry Chutney Pantry Jar 650g",12.95]
[2193507,"Pure Maple Grade A Golden Delicate Taste Maple Syrup 330g",12.95]
[2205410,"Canasuc White & Brown Sugar Hearts 120g",12.95]
[2205411,"Canasuc Sugar Roses 105g",12.95]
[2210871,"Stem Ginger Sponge 400g",12.95]
[2210901,"Christmas Almond Topped Mince Pies 500g",12.95]
[2212739,"Gin & Tonic Garnishes",12.95]
[8013833,"Orange Blossom, Kumquat and Yellow Lemon Marmalade 250g",12.95]
[2078014,"Antipasti Olives 700g",12.95]
[2213760,"Dalemain Marmalade Competition + Marmalashes Entry",12]
[2203830,"Canasuc White & Brown Sugar Sticks for Tea 80g",11.95]
[2163953,"Mini Merry Go Round 250g",11.2]
[2210904,"Christmas Almond Topped Petit Four Mince Pies 210g",10.95]
[2212737,"Essential Indian Spices Selection",10.95]
[5029463,"Highgrove Orange Marmalade Bundle",10.3]
[5029465,"Highgrove Strawberry Preserve Bundle",10.3]
[2213759,"Dalemain Marmalade Competition Entry",10]
[5029467,"Hedgerow Preserve Selection",10]
[2152126,"Highgrove Organic 12 Petits Fours Mince Pies 210g",9.9499999999999993]
[2198271,"Highgrove Organic Dark Chocolate Florentines 150g",9.9499999999999993]
[2199797,"Highgrove Royal Garden Honey 250g",9.9499999999999993]
[5039517,"Terrine of Wild Boar 140g",9.9499999999999993]
[5039518,"Pure Rillette of Duck Meat 140g",9.9499999999999993]
[5039519,"Terrine of Pork 140g",9.9499999999999993]
[5039520,"Pure Rillette of Goose Meat 140g",9.9499999999999993]
[8023433,"Pickled Sprouts 570g",9.9499999999999993]
[2196168,"Camisa Porcini Mushrooms 30g",9.5]
[5029454,"Highgrove Shortbread Bundle",9.5]
[5029462,"Highgrove Transylvanian Honey Bundle",9.5]
[5065788,"Easter Hazelnut and Blonde Chocolate Shortbread 200g",8.9499999999999993]
[5029466,"Tropical Marmalade Bundle",8.9]
[2180278,"Highgrove Summer Orchard Honey, 200g",7.95]
[2215495,"Spiced Pumpkin & Seville Orange Marmalade",7.95]
[5005899,"Winter Spiced Nuts 100g",7.95]
[5029456,"Highgrove Harvest Chutney Selection",7.9]
[2165010,"Faugier Whole Chestnuts 439g",7.5]
[2055189,"Strasbourg Terrine 140g",7.45]
[5029468,"Pastry Preserve Bundle",6.8]
[2055190,"Terrine Of Wild Boar 140g",6.75]
[2112076,"Jolly Olly Gin Olives 149g",6.5]
[2175427,"Tonnix Vinegar 500ml",6.45]
[2106270,"Smoked Kalamata 218g",5.95]
[2106272,"Pepper & Jalapeno Stuffed Olives 250g",5.95]
[2106276,"Sticky Garlic Nuts 120g",5.95]
[2170425,"Dalemain's - Janes Thick Cut Marmalade",5.95]
[2170427,"Dalemain's - George's Marmalade",5.95]
[2185559,"Oatcake Fortnum's Biscuit 140g",5.95]
[2185561,"Fruit and Nut Fortnum's Biscuit 140g",5.95]
[2187450,"Fortnum's Hot Sauce 100ml",5.95]
[2187458,"Hot Carrot Pickle 230g",5.95]
[2199795,"Highgrove Transylvanian Hawthorn Honey 200g",5.95]
[2204607,"La Brujula Small Sardines 115g",5.95]
[2207294,"Casale Paradiso Asparagus Risotto 372g",5.95]
[2210905,"Christmas Petits Fours Mixed Mince Pies 70g",5.95]
[2187478,"Hot Peach Chutney 250g",5.5]
[2116778,"Pea Green Boat Cheese Sables Original 80g",4.95]
[2167046,"Pea Green Boat Cheese Sables with Fennel & Chilli 80g",4.95]
[2177155,"Morelli Busiate 500g",4.95]
[2178990,"Gentille Lasagne 500g",4.95]
[2178992,"Gentille l'Alfabeto 500g",4.95]
[2187468,"Hereford Mustard 200g",4.95]
[2200539,"Christmas Figgy Mustard 200g",4.95]
[5024281,"Liliput Capers 210g",4.95]
[5024282,"Cornichons 200g",4.95]
[8017203,"Dark Chocolate & Cranberry Florentines 165g",4.95]
[2199799,"Highgrove Organic Quince Cheese 120g",4.5]
[2000122,"Faugier Cr me de Marron Chestnut Spread 250g",4.5]
[2180529,"Lemon Marmalade 200g",4.25]
[2180530,"Grapefruit Marmalade 200g",4.25]
[2106274,"Martiniberry 167g",3.95]
[2108616,"Caraway Seeds Tin No 31 51g",3.95]
[2108622,"Chervil Tin No 5 5g",3.95]
[2108623,"Chicory Tin No 34 42g",3.95]
[2163469,"Kikkoman Soy Sauce 150ml",3.95]
[2177161,"Sala White Polenta 500g",3.95]
[2177162,"Sala Yellow Polenta 500g",3.95]
[2180686,"Potts Turkey Gravy with Madiera 350g",3.95]
[2180688,"Potts Caramelised Onion Gravy with Ale 350g",3.95]
[2180689,"Potts Beef Gravy with Red Wine 350g",3.95]
[2183654,"Christmas Pudding Conserve 200g",3.95]
[2184733,"Acquerello Rice 250g",3.95]
[2206732,"The Fine Cheese Co. English Gluten Free Water Crackers 170g",3.95]
[2144935,"Non Scan Code For Grocery (Weighted)",3.5]
[2196167,"Fruttibosco Porcini Mushrooms 10g",3.5]
[5001440,"Gordon Rhodes A Jolly Fine Festive Stuffing 125g",3.5]
[5001441,"Gordon Rhodes Apricot, Apple and Bay Leaf Stuffing 125g",3.5]
[5001442,"Gordon Rhodes Sage and Red Onion Stuffing 125g",3.5]
[2188517,"Highgrove Organic Marmalade with Ginger 360g",3.45]
[2087982,"Highgrove Organic Strawberry Preserve 390g",3.45]
[2087993,"Highgrove Organic House Marmalade 390g",3.45]
[2169926,"Chocolate Dipped Cream Digestive Fortnum's Biscuit 135g",2.95]
[2177157,"Campisi Pachino Tomato Sauce 330ml",2.95]
[2180690,"Potts Chicken Stock 400g",2.95]
[2180691,"Potts Fish Stock 400g",2.95]
[2180692,"Potts Vegetable Stock 400g",2.95]
[2180693,"Potts Turkey Stock 400g",2.95]
[2196174,"Mutti Plain Passata Bottle 700g",2.95]
[2000123,"Faugier Cr me de Marron Chestnut Spread Tube 78g",2.5]
[2177146,"Ferron Carnaroli Rice 500g",2.4500000000000002]
[2177156,"Mutti Chopped Plum Tomatoes 400g",1.95]
[2196173,"Mutti Cherry Tomatoes 400g",1.95]
[5002103,"Yuzu Marmalade 200g",0]
[5012318,"Highgrove Selection Tin 270g",0]
[5024941,"Escuminac Extra Rare Harvest Maple Syrup",0]
[5030061,"Seville Orange and Tomato Marmalade 210g",0]
[5031397,"Heda Tachibana Reduced Sugar Marmalade",0]
[5031398,"Orange and Bergamot Marmalade 227g",0]
[5031399,"Meyer Lemon with Fresh Eucalyptus Leaf Marmalade 226g",0]
[5031400,"Lemon & Lime Marmalade",0]
[5035495,"Royal Blend Mooncake Gift Box",0]
[5035496,"2020 Mooncake Box Sku",0]
[5045681,"Coronation Carriage Biscuit Tin",0]
[5045682,"Commonwealth Honey Selection",0]
[5045683,"Jamaican Rum, Ginger & Date Cake",0]
[5045684,"Musical Coronation Tin",0]
[5045685,"Honey Biscuits Tall Tin",0]
[5045686,"English Lavender Shortbread",0]
[5045687,"Kingdom Cake",0]
[5045688,"English Berries Preserve 340g",0]
[5045689,"Jewelled Marmalade 340g",0]
[5045758,"2020 Mooncake Cake Sku",0]
[5052784,"Gingerlossus 600g",0]
[5065787,"Easter GF Simnel Biscuit 150g",0]
[5066726,"Chinese New Year Biscuit Selection 375g",0]
[8023470,"Birthday Biscuit Box 475g",0]
[8026369,"Mini Catering Biscuits",0]
[2210918,"Christmas Cognac Butter 195g",4.95]
[2189412,"Toffolossus Biscuits 600g",17.95]
[2040323,"Pistachio & Clotted Cream Biscuits 250g",12.95]
[2169928,"Piccadilly Salted Caramel Biscuits 200g",7.95]
[5024764,"Piccadilly Clotted Cream Digestive Biscuit 200g",7.95]
[2177303,"Lemon Curd 315g",4.95]
[2210895,"St James Christmas Pudding 227g",8.9499999999999993]
[2210916,"Christmas Pudding Preserve 200g",7.95]
[2201916,"Fortnum & Mason's Relish 71g",18.95]
[2169922,"Piccadilly Stem Ginger Biscuits 200g",7.95]
[2169924,"Piccadilly Macadamia Nut Biscuits 200g",7.95]
[5030499,"Christmas Fig Preserve 200g",7.95]
[2181062,"Traditional Shortbread Fingers 160g",5.95]
[2204267,"Musical House Tin 300g",14.95]
[2210900,"Christmas Traditional Mince Pies 500g",12.95]
[2003730,"Rose Biscuits 250g",12.95]
[2210891,"King George Christmas Pudding 454g",24.95]
[2003760,"Chocolate Macadamia Nut Biscuits 200g",12.95]
[8017838,"Earl Grey Tea Biscuit",9.9499999999999993]
[2185560,"Treacle Fortnum's Biscuit 140g",5.95]
[2177297,"Sir Nigel's Marmalade 340g",4.95]
[2204312,"MarmaladeTrio Taster Gift Pack 300g",14.95]
[5024765,"Free From Christmas Pudding 454g",12.95]
[2169923,"Piccadilly Chocolate Pearl Biscuits 200g",7.95]
[2184981,"Traditional Shortbread 125g",7.95]
[2210903,"Christmas Petit Fours Traditional Mince Pies 210g",10.95]
[8017839,"Fortmason Tea Biscuit",9.9499999999999993]
[2187474,"Fig and Fennel Chutney 250g",5.5]
[2210921,"Christmas Figgy Mustard 200g",4.95]
[5042500,"Mulled Wine Spice Bag 20g",6.95]
[8017841,"Matcha Tea Biscuit",9.9499999999999993]
[2198291,"Highgrove Organic Cinnamon and Orange Shortbread 160g",6.95]
[2210902,"Christmas Mince Pie Medley 560g",19.95]
[2169921,"Piccadilly Lemon Curd Biscuits 200g",7.95]
[2189785,"Orange and Champagne 340g",7.95]
[4007137,"Raspberry Preserve 340g",4.95]
[2187455,"Fortnum's Pickle 220g",4.95]
[2169929,"Piccadilly Selection Biscuit Tin 600g",17.95]
[2194167,"Champagne Butter, 195g",5.95]
[2106686,"Fig & Almond Foie Gras 200g",60]
[2063600,"Goose Foie Gras Entier 75g",30]
[2106678,"Hazelnut Afternoon Tea Biscuit 155g",13.95]
[2210920,"Mulled Wine Spice Jar 320g",7.95]
[2181070,"Salted Hazelnut Shortbread 125g",7.95]
[2169932,"Rose & Pistachio Fine Biscuits 70g",6.95]
[2177298,"Burlington Breakfast Marmalade 340g",4.95]
[2189411,"Cherrilossus Biscuits 600g",17.95]
[2203352,"Truffle Mayonnaise 190g",7.95]
[8022135,"Hazelnut & Chocolate Butter 170g",8.9499999999999993]
[2169930,"Piccadilly Chocolate Selection Biscuit Tin 700g",21.95]
[2106681,"Chocolate Orange Afternoon Tea Biscuit 155g",13.95]
[2159407,"Milk Chocolate Coated Salted Caramel Biscuits 200g",9.9499999999999993]
[2210893,"St James Christmas Pudding, 907g",18.95]
[2066936,"Highgrove Organic Christmas Preserve 454g",6.95]
[2177336,"Rose Petal Jelly 200g",9.9499999999999993]
[2114153,"Highgrove Organic Brandy Butter 210g",4.95]
[2187454,"Piccadilly Piccalilli 200g",4.95]
[2200461,"Shortbread Selection Tin 650g",17.5]
[5024704,"Highgrove Organic Christmas Pudding 454g",14.95]
[2191120,"Squeezy Honey Bear 340g",9.9499999999999993]
[2171535,"Highgrove Organic Christmas Marmalade 454g",6.95]
[2187453,"Fortnum's 181 Sauce 250ml",5.5]
[2177341,"Tayberry Preserve 200g",9.9499999999999993]
[2177333,"Damson and Damson Gin Conserve 195g",6.25]
[5018596,"Christmas Fruit and Spice Biscuit 125g",5.95]
[2187449,"Dill & Mustard Sauce 200g",5.5]
[2159403,"Dark Chocolate Coated Chocolate Pearl 190g",9.9499999999999993]
[2210890,"King George Christmas Pudding 907g",36.950000000000003]
[2106676,"Dark Chocolate Afternoon Tea Biscuit 155g",13.95]
[2159604,"Honey From Portugal - Wild Lavender 200g",9.9499999999999993]
[2181067,"Chocolate Pearl Shortbread 125g",7.95]
[2181063,"Stem Ginger Shortbread Fingers 160g",5.95]
[2180520,"Old English Hunt Marmalade 200g",4.25]
[5024800,"Christmas Cake in a Tin, 900g",35]
[5002104,"Highgrove Royal Estate Honey 350g",25]
[2215288,"Orange & Port Marmalade Amphora 810g",14.95]
[2187456,"Chilli Lilli Pickle 220g",5.5]
[2064662,"Block of Goose Foie Gras 65g",19.95]
[5000006,"Caramelised Mixed Nuts 95g",6.95]
[2177299,"Old English Hunt Marmalade 340g",4.95]
[2210884,"Christmas Mini Musical Tin 130g",14.95]
[2181064,"Cinnamon & Orange Shortbread Fingers 160g",5.95]
[2212695,"Walnut & Seed Crackers 115g",4.95]
[2201135,"London Honeycomb 170g",14.95]
[2199810,"Highgrove Organic Strawberry Marc de Champagne Preserve 340g",6.95]
[2203348,"Blue Cheese Dressing",5.5]
[2185006,"Fortnum's Fruitcake 450g",15.95]
[2182292,"Grain & Bowl Maple'N'Pecan Granola 225g",6.95]
[8022132,"Crunchy Peanut Butter 170g",5.95]
[2187466,"Piccadilly Wholegrain Mustard 200g",4.95]
[2061131,"French Lavender Honey 500g",12.95]
[8017840,"Victoria Grey Tea Biscuit",9.9499999999999993]
[2181066,"Earl Grey Shortbread 125g",7.95]
[2063531,"Mille-feuille of Goose Foie Gras with Truffles 200g",95]
[2003753,"Chocolossus Biscuits 600g",17.95]
[2104004,"Fortnum's Jamboree Olives 215g",5.95]
[2210933,"Highgrove Organic Mulled Wine Spice Bag 20g",6.95]
[2199800,"Highgrove Organic Stem Ginger Shortbread 125g",5.95]
[2187442,"Hot Horseradish Sauce 200g",4.95]
[4007143,"Strawberry Preserve 340g",4.95]
[2180518,"Sir Nigel's Marmalade 200g",4.25]
[2003754,"Lucifer Biscuits 250g",12.95]
[2175235,"Morello Cherry & Chocolate Curd 195g",9.9499999999999993]
[2187469,"Picnic Mustard 200g",4.95]
[2106685,"Prune & Armagnac Foie Gras 200g",60]
[2177338,"Woodland Strawberry Preserve 200g",9.9499999999999993]
[2106269,"Fortnum's Antipasti Olives 218g",5.95]
[2207898,"Highgrove Organic Lemon Biscuits 125g",5.95]
[2159638,"Honey From Shrewsbury - Woodland Honey 200g",8.9499999999999993]
[2200463,"Birthday Biscuit Tin 475g",19.95]
[2106684,"Clotted Cream & Strawberry Afternoon Tea Biscuit 155g",13.95]
[2159598,"Honey From Spain - Lemon Blosson 200g",10.95]
[2171538,"Shropshire Honey 275g",7.95]
[2177318,"Orange & Champagne Marmalade 200g",6.25]
[2177321,"Wild Orange Marmalade 200g",6.25]
[2169934,"Cinnamon Spice Fine Biscuits 70g",9.9499999999999993]
[2208331,"Piccadilly Flapjack Biscuits 200g",7.95]
[2177332,"Raspberry & Rhubarb Conserve 195g",6.25]
[2203351,"Aioli 190g",5.5]
[2177300,"The Monarch Marmalade 340g",4.95]
[2169938,"Chocolate Coated Cinnamon Spice Fine Biscuits 120g",9.9499999999999993]
[2177346,"Rose Petal & Prosecco Jelly 200g",9.9499999999999993]
[2171541,"Spanish Orange Blossom Honey 275g",7.95]
[8019715,"Explorers Biscuit Tin 500g",15]
[5024278,"Smoked Kalamata Olives 200g",6.95]
[4007144,"Victoria Plum Preserve 340g",5.95]
[2181071,"Shortbread Petticoat tails 400g",16.95]
[2159630,"Honey From Welsh Border - Ling Heather 200g",8.9499999999999993]
[4007136,"Raspberry Preserve 200g",4.25]
[2000010,"A l'Olivier Cepes & Truffle Oil 250ml",12.95]
[2210917,"Christmas Mincemeat Pantry Jar 400g",10.95]
[8022134,"Pecan & Maple Butter 170g",8.9499999999999993]
[2177320,"Blood Orange Marmalade 200g",6.25]
[8022133,"Smooth Almond Butter 170g",5.95]
[2055146,"Extra Virgin Olive Oil 100ml",5.95]
[2199818,"Highgrove Organic Rosemary Jelly 220g",4.95]
[2159405,"Dark Chocolate Coated Chocolate Macadamia Nut 180g",9.9499999999999993]
[2177337,"Strawberry & Rose Preserve 200g",9.9499999999999993]
[8022230,"Honey from Kent - Chestnut Honey 200g",8.9499999999999993]
[2187446,"Crab-Apple with Star Anise Jelly 260g",5.5]
[2177302,"Grapefruit Marmalade 340g",4.95]
[2210863,"Dark Chocolate Florentine 150g",7.45]
[2177325,"Whiskey Orange Marmalade 200g",6.25]
[4007130,"Damson & Claret Preserve 200g",6.25]
[4007138,"Strawberry & Champagne Preserve 200g",6.25]
[2187473,"Green Tomato Chutney 230g",5.5]
[4007125,"Apricot Preserve 340g",4.95]
[2171540,"Hungarian Acacia Honey 275g",7.95]
[2210885,"Christmas Nutcracker Biscuits 200g",7.95]
[4007129,"Blackcurrant Preserve 340g",4.95]
[2180531,"Lemon Curd 185g",2.1]
[2215294,"Biscuits for Cheese Selection Tin 400g",19.95]
[8022136,"Pistachio & Rose Butter 170g",9.9499999999999993]
[2187528,"Honey From Shropshire - British Creamed 200g",8.9499999999999993]
[2208333,"Honey From Selection Pack 300g",14.95]
[2200462,"County Biscuit tin 385g",12.95]
[2187445,"Butcher's Sauce 230g",5.5]
[2210865,"Mini Merry Go Round 150g",14.95]
[2003759,"Violet Biscuits 250g",12.95]
[2163030,"Trivelli Tartuffi Pure Minced Summer Truffle 45g",9.9499999999999993]
[4007140,"Strawberry & Champagne Preserve Amphora 820g",14.95]
[2175236,"Traditional Dundee Fruitcake 750g",18.95]
[2177339,"Golden Raspberry Preserve 200g",9.9499999999999993]
[2210877,"Chicken Rillettes with Tarragon and Sage 110g",8.9499999999999993]
[2185005,"Fortnum's Fruitcake 130g",6.95]
[2199801,"Highgrove Organic Chocolate and Orange Shortbread 125g",5.95]
[5027703,"Jonathan Hamel Cooke's Dark & Chunky Marmalade",5.95]
[2177304,"Lime Curd 315g",4.95]
[2204263,"Sweet Hickory Rub 70g",4.95]
[2000144,"Patum Peperium Anglers Finest Relish 37g",2.95]
[2177340,"Purple Raspberry Preserve 200g",9.9499999999999993]
[2199802,"Rose Petal Chutney 250g",9.9499999999999993]
[2180277,"Highgrove Spring Orchard Honey, 200g",7.95]
[2181065,"Macadamia Nut Shortbread 125g",7.95]
[4007134,"Morello Cherry & Cognac Preserve 200g",6.25]
[2187457,"Hot Banana Pickle 230g",5.95]
[2187452,"Tomato Sauce 250ml",5.5]
[2187471,"Caramelised Onion Marmalade 220g",4.95]
[4007128,"Blackcurrant Preserve 200g",4.25]
[2106273,"Lilliput Capers 170g",3.95]
[2184723,"Rose Petal and English Honey Jelly 200g",9.9499999999999993]
[5002391,"Mandarin Marmalade 225g",9.9499999999999993]
[2159631,"Honey From Essex - Borage 200g",8.9499999999999993]
[2116254,"Peters Yard Swedish Crispbread Hole 220g",6.95]
[2177309,"Summer Glory Preserve 200g",6.25]
[2187461,"Pickled Beetroot & Red Cabbage 225g",5.95]
[2181072,"Traditional Shortbread Fingers 400g",16.95]
[2175234,"Blackcurrant & Cassis Curd 195g",9.9499999999999993]
[2210875,"Venison Rillettes with Port and Juniper Berries 110g",9.9499999999999993]
[2177335,"Passionfruit Curd 195g",5.95]
[2210889,"King George Christmas Pudding 1.36kg",44.95]
[5024799,"Figgy Pudding 454g",24.95]
[2180534,"Blood Orange & Rose Petal Marmalade 200g",9.9499999999999993]
[8022231,"Honey from Exmoor - Sycamore Honey 200g",8.9499999999999993]
[2210204,"Smoked Cheese Straw 100g",5.95]
[2199819,"Highgrove Organic Onion Marmalade 200g",4.95]
[2187480,"Fig Cheese 120g",4.5]
[5024276,"Lemon and Parsley Olive Selection 465g",12.95]
[5024798,"Christmas Pecan & Ginger Biscuit, 250g",12.95]
[2210874,"Duck Rillettes with Port and Orange 110g",9.9499999999999993]
[2187447,"Garden Herb Jelly 260g",5.5]
[2199815,"Highgrove Organic Spiced Fruit Chutney 200g",4.95]
[2210866,"Merry Go Round Musical Tin 500g",25]
[8021122,"Rumtopf 1100g",21.95]
[8021125,"Champagne with Berries 720g",21.95]
[2215202,"Gigantissimi Florentine Dark Chocolate 250g",15.95]
[2176258,"Minus8 Veget8 Vinegar 200ml",12.25]
[2000036,"A l'Olivier Pimento Chilli Oil 250ml",9.9499999999999993]
[2159629,"Honey From Dungeness - Wood Sage 200g",8.9499999999999993]
[2210888,"Magnificent Plum Christmas Pudding 907g",39.950000000000003]
[2177312,"Apple, Cherry & Liquorice Preserve 210g",6.25]
[2199820,"Highgrove Organic Orchard Chutney 200g",4.95]
[2000153,"Patum Peperium Poachers Relish 40g",3.95]
[2215290,"Spiced Plum Preserve Amphora 830g",14.95]
[8023334,"Jose Gourmet Mackerel Fillets in Olive Oil 125g",6.95]
[2213151,"Smoky Chipotle Sauce 250ml",5.5]
[2206723,"Don Antonio Tomato & Basil Sauce 500g",4.95]
[8023642,"Peter's Yard Seeded Flatbreads 115g",3.5]
[2064048,"Goose foie gras entier 145g",45]
[5003704,"Honey from Madagascar - Eucalyptus 200g",9.9499999999999993]
[2178311,"Honey from Banbury - Lime Blossom Honey 200g",8.9499999999999993]
[2199794,"Highgrove Transylvanian Acacia Honey 200g",5.95]
[2199814,"Highgrove Organic Farmhouse Chutney 200g",4.95]
[2199821,"Highgrove Organic Damson Jelly 220g",4.95]
[2204317,"Condiment Trio Taster Gift Pack 339g",14.95]
[2159599,"Honey From Zambia - Forest Honey200g",10.95]
[2206733,"Trivelli Tartufi Artichoke & Summer Truffle Pate 45g",9.9499999999999993]
[2175233,"Cinnamon and Apple Curd 195g",5.95]
[2187444,"Cranberry Sauce 230g",5.5]
[4007132,"Ginger Preserve 200g",4.25]
[2201915,"Fortnum & Mason's Relish 14.2g",9.9499999999999993]
[2000009,"A l'Olivier Basil Oil 250ml",9.9499999999999993]
[2000038,"Mymoune Rose Flower Water 250ml",9.9499999999999993]
[8020954,"Japanese Dalemain Yuzu and Sansho Pepper Marmalade 210g",3.75]
[2196073,"The Fine Cheese Co. Fine English Water Crackers 100g",2.95]
[2178339,"St Pancras Honey 200g",20]
[2183670,"Fortnum Pickle Pantry Jar 525g",11.95]
[2183672,"Piccadilly Piccalilli Pantry Jar 575g",11.95]
[2210879,"Mushroom and Bean Pate 110g",8.9499999999999993]
[2177324,"Lime, Orange and Gin Marmalade 200g",6.25]
[2206727,"Don Antonio Garlic Cloves in Chili Oil 180g",4.95]
[2207891,"Highgrove Organic Double Chocolate Shortbread 100g",2.95]
[5024797,"Christmas Biscuit Selection Tin 650g",21.95]
[2097032,"British Honeycomb Taster Pack 240g",20]
[2210881,"Christmas Merrilossus 600g",17.95]
[4007148,"Preserve Trio Taster 300g",14.95]
[5000002,"Hickory Smoke Mixed Nuts 260g",12.95]
[8021127,"Mandarins & Cranberries in Vodka 720g",11.95]
[2210876,"Wild Boar Pate with Apricot and Pistachio 110g",9.9499999999999993]
[5000005,"Garlic and Chilli Nuts 100g",6.95]
[8023335,"Jose Gourmet Tuna Fillets in Olive Oil 120g",6.95]
[2187479,"Damson, Blackberry and Apple Chutney 230g",5.5]
[2205614,"Pea Green Boat Cumin Cheese Sabl s 80g",4.95]
[2000151,"Patum Peperium Gents Relish 42.5g",2.95]
[2098475,"A l'Olivier Virgin Pistachio Nut Oil 150ml",21.95]
[2159601,"Honey From Crete - Wild Thyme 200g",9.9499999999999993]
[2072458,"Mymoune Pomegranate Molasses 250ml",9.9499999999999993]
[2199796,"Highgrove Transylvanian Wildflower Meadow Honey 200g",5.95]
[2205615,"Pea Green Boat Fennel & Chilli Cheese Sabl s 80g",4.95]
[2180533,"Orange Curd 200g",4.25]
[2188167,"Honeycomb Half Frame 600g",40]
[2188182,"Frantoio Franci Moraiolo Olive Oil 250ml",19.95]
[2210878,"Salmon Pate with Dill and Mustard 110g",9.9499999999999993]
[2000790,"Blood Orange & Port Savour 150g",7.95]
[2000015,"Balsamic Jelly 100g",6]
[2199822,"Highgrove Honey Mustard with Chilli 175g",4.95]
[2085691,"Merry Go Round Musical Tin 500g",25]
[2187526,"Honey From Italy - Maple 200g",9.9499999999999993]
[2159633,"Honey From Yorkshire - Field Bean 200g",8.9499999999999993]
[5024279,"Almond Stuffed Olives 205g",6.95]
[2187463,"Pickled Silverskin Onions 225g",5.95]
[2199807,"Highgrove Organic House Marmalade 340g",5.95]
[2187476,"Colonel Skinner Mango Chutney 250g",5.5]
[2108687,"Star Anise Tin No 55 17g",4.95]
[2203350,"Mayonnaise 190g",4.95]
[4007146,"Wild Blueberry Preserve 340g",4.95]
[2208332,"Core Honey Gift Pack 825g",21.95]
[2200529,"Chef Honey Smoked Chipotle 200g",9.9499999999999993]
[2177170,"Mymoune Rose Syrup 250ml",7.95]
[4007139,"Strawberry & Champagne Preserve 340g",7.95]
[2108645,"Kaffir Lime Leaves Freeze Dried Tin No 10 2g",4.95]
[2187482,"Damson Cheese 120g",4.5]
[2064661,"Goose Foie Gras Entier 305g",80]
[2055151,"White Truffle Oil 55ml",45]
[2059089,"Black Summer Truffle 35g",16.95]
[2204313,"Classic Trio Taster Gift Pack 300g",14.95]
[2187462,"Pickled Mixed Vegetables 225g",5.95]
[2177305,"Orange Curd 310g",4.95]
[2206731,"Don Antonio Crostini Spread 180g",4.95]
[5031898,"Verrigni Spaghettini 500g",4.95]
[2188432,"Morgenster Olive Oil 500ml",21.95]
[2201914,"Fortnum & Mason's Relish 42.5g",14.95]
[2177345,"Non Pareil Maramalade with Rose Petal Brandy 200g",9.9499999999999993]
[2200528,"Chef Honey Cinnamon 200g",9.9499999999999993]
[2200125,"Honey from Scotland- Ling Heather 200g",8.9499999999999993]
[2177310,"Banana Preserve 200g",6.25]
[2177319,"Marmalade with Ginger 200g",6.25]
[2204261,"Harissa Rub 65g",4.95]
[8023640,"Peter's Yard Smoked Chilli flatbreads 115g",3.5]
[2202034,"Manuka Honey 300+ MGO 200g",45]
[2115359,"20 Year- Old Balsamic Vinegar 100ml",40]
[5024703,"Highgrove Organic Christmas Pudding in China Bowl 600g",26.95]
[2188433,"Marques de Valdueza Olive Oil 500ml",21.95]
[2106266,"Extra Virgin Olive Oil 500ml",14.95]
[2201918,"Orange & Champagne Marmalade Amphora 820g",14.95]
[2003688,"Sir Nigel's Vintage Marmalade Amphora 890g",14.95]
[2163070,"La Tourangelle Walnut Oil 250ml",9.9499999999999993]
[2163072,"La Tourangelle Avocado Oil 250ml",9.9499999999999993]
[2210864,"White Chocolate Florentine 150g",9.9499999999999993]
[2215149,"Ruby Chocolate Florentines 150g",9.9499999999999993]
[2159406,"Milk Chocolate Coated Lemon 180g",6.95]
[2177326,"Non Pareil Marmalade 200g",6.25]
[2000789,"Honey & Sauterness Savour 150g",6.25]
[2199809,"Highgrove Organic Strawberry Preserve 340g",5.95]
[2187465,"Hot English Mustard 200g",4.95]
[2196163,"Olio d'Oli Grissini Piemontese with Olive Oil 150g",4.95]
[2204262,"Lemon Herb Rub 30g",4.95]
[5024275,"Antipasti Olive Selection 520g",14.95]
[2169935,"Chocolate Coated Fennel & Poppy Seed Fine Biscuits 120g",9.9499999999999993]
[2181069,"Sir Nigel s Marmalade Shortbread 125g",7.95]
[2104003,"Fortnum's Bazaar Olives 218g",5.95]
[2203344,"Spicy Habanero Chili Relish",5.5]
[2108688,"Tandoori Masala Tin No 110 51g",4.95]
[5031896,"Verrigni Penne Rigate 500g",4.95]
[4007126,"Blackberry Preserve 200g",4.25]
[2202035,"Manuka Honey 500+ MGO 200g",65]
[2188177,"Castelines Organic Olive Oil 500ml",25.95]
[2203829,"Canasuc White & Brown Sugar Teapots 80g",12.95]
[2187527,"Honey From Alps - Mountain Flowers 200g",9.9499999999999993]
[2159628,"Honey From Dorset - Bell Heather 200g",8.9499999999999993]
[2178866,"Credenza Colatura di Alici 100ml",8.9499999999999993]
[2177317,"Lemon & Camomile Marmalade 210g",6.25]
[8023333,"Jose Gourmet Sardines in tomato Sauce 125g",5.95]
[2159402,"Dark Chocolate Bountiful Butter Biscuit 170g",4.95]
[2196165,"Minasso Green Olive Spread 180g",4.95]
[2125444,"Acacia Chunk Comb Honey Amphora 908g",24.95]
[2178986,"Vinagiere l'Ancience Walnut 500ml",14.95]
[2163071,"La Tourangelle Virgin Sesame Oil 250ml",9.9499999999999993]
[2203347,"Piccadilly Dressing",5.5]
[2174651,"Martelli Le Penne 500g",4.95]
[2213150,"Apple Sauce 250g",4.95]
[2074712,"Peters Yard Minis 105g",3.75]
[2187448,"Creamed Horseradish Sauce 200g",3.7]
[2193508,"Frantoi Cutrera Sicilia IGP Extra Virgin Olive Oil 500ml",19.95]
[2177344,"Marmalade & Honey 200g",9.9499999999999993]
[2089806,"Fine Cheese Whole Figs for Cheese 370g",8.9499999999999993]
[2177329,"Blackcurrant & Coffee Preserve 200g",6.25]
[2199805,"Highgrove Organic Raspberry and Blackberry Preserve 340g",5.95]
[2187443,"Mint Sauce 220g",5.5]
[2108615,"Bouquet Garni Tin No 3 12g",4.95]
[2205613,"Pea Green Boat Original Cheese Sabl s 80g",4.95]
[5031897,"Verrigni Rigatone 500g",4.95]
[2188183,"Frantoio di Santa Black Olive Olive Oil 500ml",19.95]
[2206738,"Trivelli Tartufi Fettucine With Summer Truffle 250g",14.95]
[2163034,"Trivelli Tartuffi Fine Black Truffle Oil Spray 100ml",12.95]
[2163035,"Trivelli Tartuffi White Truffle Oil Spray 100ml",12.95]
[2206737,"Trivelli Tartufi White Truffle Balsamic Spray 100ml",12.95]
[5000003,"Baked Salted Mixed Nuts 280g",12.95]
[5039521,"Strabourgeoise Terrine 140g",12.95]
[2207084,"Trivelli Tartufi Black Summer Truffle Butter 80g",10.95]
[2169936,"Chocolate Coated Golden Butter Fine Biscuits 120g",9.9499999999999993]
[2181493,"Contadini Baby Artichokes raw in EVO Oil 230g",9.9499999999999993]
[2210862,"Salted Caramel Milk Chocolate Florentine 150g",9.9499999999999993]
[2000008,"A l'Olivier Garlic & Thyme Oil 250ml",9.9499999999999993]
[2159637,"Honey From Salisbury - Downlands 200g",8.9499999999999993]
[2177171,"Mymoune Mulberry Syrup 250ml",7.95]
[2200525,"Dark Navy Marmalade 340g",7.95]
[5000004,"Truffle Nuts 100g",7.95]
[2196119,"Redcurrant Jelly 260g",5.5]
[2108646,"Korma Curry Tin No 112 43g",4.95]
[2165009,"Faugier Chestnut Puree 439g",4.95]
[2177301,"Lemon Marmalade 340g",4.95]
[2212694,"Beetroot Crackers 115g",4.95]
[4007133,"Ginger Preserve 340g",4.95]
[2180521,"The Monarch Marmalade 200g",4.25]
[8023641,"Peter's Yard Sea Salt Flatbreads 115g",3.5]
[2115369,"60 Year-Old Balsamic Vinegar 40ml",60]
[2115368,"40 Year-Old Balsamic Vinegar 40ml",50]
[2064664,"Block of Goose Foie Gras 170g",40]
[2167393,"Ravida Lemon Oil 250ml",21.95]
[2205412,"Herdade Do Espor o Selec o Extra Virgin Olive Oil 500ml",19.95]
[4006959,"Orkney Highland Park Malt Vinegar 250ml",16.95]
[2206736,"Trivelli Tartufi Porcini & Truffle Tomato Sauce 280g",14.95]
[4006958,"Orkney Bere Malt Vinegar 250ml",13.95]
[2181491,"Contadini Cherry Peppers with Tuna in EVO Oil 230g",9.9499999999999993]
[2178309,"Honey from Kent - Orchard Honey 200g",8.9499999999999993]
[2177327,"Dark Navy Marmalade 200g",6.25]
[2170428,"Dalemain's - Kitchen Garden Marmalade",5.95]
[2187459,"Hot Garlic Pickle 230g",5.95]
[2199812,"Highgrove Organic Damson Preserve 340g",5.95]
[2203355,"Bearnaise 190g",5.5]
[2108665,"Peppercorns Black Ling Tin No 83 41g",4.95]
[2174653,"Martelli Spaghetti 500g",4.95]
[2177137,"Casa Vecchio Mulino Rosemary Linguette Flat Bread 120g",4.95]
[2206724,"Don Antonio Arrabbiata Tomato Sauce 500g",4.95]
[2108682,"Salt Fleur de Sel Tin No 97 92g",3.95]
[2205216,"Morocco Gold Olive Oil 500ml",29.95]
[8023527,"Crea Farm Extra Virgin Olive Oil 100ml",21.95]
[2059084,"Black Truffle Oil 55ml",16.95]
[2000029,"Balsamic Syrup 100ml",10]
[2163033,"Trivelli Tartuffi Himalayan Pink Salt Summer Truffle 100g",9.9499999999999993]
[2000006,"A l'Olivier Toast Sesame Oil 250ml",9.9499999999999993]
[2177165,"Barbieri Tangerines Mostarda di Voghera 500g",6.95]
[2182293,"Grain & Bowl Cardamom Spice Granola 225g",6.95]
[2199808,"Highgrove Organic Orange and Scotch Whisky Marmalade 340g",6.95]
[2177322,"Lucifer's Marmalade 200g",6.25]
[2177334,"Sweet Orange and Bergamot Marmalade 195g",6.25]
[2187464,"Pickled Walnuts 225g",5.95]
[2187477,"Wild Garlic and Leek Chutney 250g",5.5]
[2108671,"Peppercorns Pink Tin No 88 30g",4.95]
[2108683,"Salt Grey Tin No 98 92g",4.95]
[2174652,"Martelli Fusilli 500g",4.95]
[2108627,"Chilli Piri Piri Tin No 71 41g",3.95]
[2093468,"12 Year-Old Gold Label Balsamic Vinegar 250ml",25]
[2163059,"Passepartout Chilli Oil 250ml",12.95]
[2000011,"A l'Olivier Herb Oil 250ml",9.9499999999999993]
[2177213,"Ballancourt French Onion Soup 700ml",7.5]
[2177311,"Fig & Lemon Preserve 195g",6.25]
[2177323,"Pale Lime Marmalade 200g",6.25]
[2177330,"Blackberry & Elderberry Conserve 195g",6.25]
[2210202,"Stilton Cheese Straw 100g",5.95]
[2108664,"Peppercorns Black Cubeb Tin No 82 38g",4.95]
[2108668,"Peppercorns Black Vietnamese Tin No 85 50g",4.95]
[2108670,"Peppercorns Green Indian Tin No 87 30g",4.95]
[2175163,"Alfieri Egg Pappardelle 250g",4.95]
[2196162,"Olio d'Oli Grissini Piemontese with Rosemary 150g",4.95]
[2212698,"Butter Crackers 115g",4.5]
[2189328,"Frisino No. 2 Monocultivar Coratina Olive Oil 500ml",29.95]
[8026309,"Esporão Experience Box",25]
[2206735,"Trivelli Tartufi Sliced Summer Truffle 28g",12.95]
[2181490,"Contadini Lampasciono Button Onions in EVO Oil 230g",9.9499999999999993]
[2200527,"Chef Honey Vanilla 200g",9.9499999999999993]
[2176256,"Minus8 Dehydr 8 Vinegar 200ml",9.75]
[2200526,"Pale Navy Marmalade 340g",7.95]
[2004100,"Stem Ginger in Syrup Amphora 700g",6.45]
[2177316,"Tangerine & Cardamom Marmalade 210g",6.25]
[2199813,"Highgrove Organic Orange and Ginger Marmalade 340g",5.95]
[2108655,"Mixed Peppercorns Tin No 108 39g",4.95]
[2108672,"Peppercorns White Indonesian Muntok Tin No 92 60g",4.95]
[2108678,"Saffron Tin No 53 1g",4.95]
[2108692,"Vindaloo Curry Tin No 114 51g",4.95]
[2199817,"Highgrove Organic Crabapple Jelly 220g",4.95]
[2108614,"Bay Tin No 1 17g",3.95]
[2163032,"Trivelli Tartuffi Risotto Rice with Summer Truffle 280g",16.95]
[2176254,"Minus8 Minus 8 Vinegar 200ml",14.95]
[8021126,"Figs in Port 720g",11.95]
[2159635,"Honey From Isle of Purbeck - Hawthorn 200g",8.9499999999999993]
[2171539,"Salisbury Plain Honey 275g",7.95]
[2187460,"Pickled Cucumber 225g",5.95]
[2199811,"Highgrove Organic Blood Orange Marmalade 340g",5.95]
[2108639,"Galangal Tin No 43 38g",4.95]
[2108663,"Peppercorns Black Indoneseian Lampong Tin No 91 50g",4.95]
[2108667,"Peppercorns Black Coarse Tin No 81 35g",4.95]
[2108673,"Pickling Spice Tin No 109 35g",4.95]
[2196164,"Minasso Black Olive Spread 180g",4.95]
[5031899,"Verrigni Mezzi Rigatone 500g",4.95]
[2108608,"Allspice Tin No 26 34g",3.95]
[2108619,"Cayenne Tin No 65 49g",3.95]
[2108653,"Mint Tin No 14 16g",3.95]
[2050371,"White Truffle Oil 250ml",100]
[2188180,"Racalia Olive Oil 500ml",21.95]
[8021123,"Peaches in Brandy 1100g",21.95]
[2175237,"Whisky Dundee Fruitcake 750g",19.95]
[2196075,"The Fine Cheese Co Toast For Cheese Gift Tin 200g",15.95]
[2202037,"Chef Truffle Honey 200g",14.95]
[2210898,"Figgy Christmas Pudding 454g",12.95]
[2163067,"La Tourangelle Almond Oil 250ml",9.9499999999999993]
[2181492,"Contadini Sundried Cherry Tomatoes in EVO Oil 230g",9.9499999999999993]
[2206722,"I Contadini Antipasto 230g",9.9499999999999993]
[2206734,"Trivelli Tartufi Asparagus & Summer Truffle Pate 45g",9.9499999999999993]
[2176257,"Minus8 Concord 8 Vinegar 200ml",9.75]
[2195809,"Flat Brew Espresso Spread 285g",8.5]
[5005898,"Gin and Tonic Nuts 100g",7.95]
[2177212,"Ballancourt Asparagus Soup 500ml",7.5]
[2177215,"Ballancourt Lobster Soup with Cognac 458ml",7.5]
[2177328,"Pale Navy Marmalade 200g",6.25]
[2203345,"Mushroom Ketchup",5.95]
[2108610,"Annatto Seed Tin No 28 55g",4.95]
[2108617,"Cardamom Pods Green Tin No 32 31g",4.95]
[2108631,"Cloves Tin No 37 38g",4.95]
[2108648,"Lemongrass Tin No 11 5g",4.95]
[2108659,"Nutmeg Tin No 50 50g",4.95]
[2108694,"Mustard Powder Tin No 118 43g",4.95]
[2108695,"Dukka Tin No 119 51g",4.95]
[2206725,"Don Antonio Puttanesca Tomato Sauce 500g",4.95]
[2206730,"Don Antonio Semi-dried Tomato Bruschetta 180g",4.95]
[4007145,"Wild Blueberry Preserve 200g",4.25]
[2108630,"Cinnamon Tin No 35 50g",3.95]
[2108632,"Coriander Seed Tin No 38 24g",3.95]
[2108635,"Curry Leaves Tin No 7 4g",3.95]
[2108641,"Ginger Tin No 44 38g",3.95]
[2108657,"Mustard Seed Black Tin No 48 60g",3.95]
[2108675,"Red Chillies Crushed Tin No 66 30g",3.95]
[2108681,"Salt Black Tin No 96 81g",3.95]
[2108689,"Tarragon Tin No 19 14g",3.95]
[2108691,"Tumeric Tin No 56 45g",3.95]
[2000154,"Patum Peperium Gents Relish 71g",3.95]
[2170796,"British Honeycomb in Frame 2kg",95]
[2050380,"Black Winter Truffles 35g",75]
[2215289,"Forest Honey with Walnuts Amphora 902g",22.95]
[2188434,"Monterosa Macanilha Olive Oil 250ml",14.95]
[2000933,"Peters Yard Swedish Crispbread Tin 300g",10.95]
[2163609,"Vinagre de Jerez Reserva 25 Sherry Vinegar 250ml",9.9499999999999993]
[2163610,"Paez Morilla Pedro Ximenez Sherry Vinegar 250ml",9.9499999999999993]
[5003703,"Honey from Greece - Pine 200g",9.9499999999999993]
[2205413,"Ballancourt Gazpacho Andaluz Soup 500ml",7.5]
[2106287,"Scheherazades Nuts 120g",5.95]
[2108628,"Chilli Sundried Habanero Tin No 70 49g",5.95]
[2108642,"Grains of Paradise Tin No 89 65g",5.95]
[2108624,"Chilli Ancho Tin No 67 51g",5.59]
[2108629,"Cinnamon Bark Tin No 36 20g",4.95]
[2108651,"Madras Curry Tin No 113 42g",4.95]
[2108656,"Mixed Spice Tin No 106 46g",4.95]
[2108686,"Peppercorns Sichuan Tin No 90 25g",4.95]
[2108698,"Game Rub Tin No 123 35g",4.95]
[2108699,"Summer Sizzler Rub Tin No 124 50g",4.95]
[2108700,"Poultry Rub Tin No 125 47g",4.95]
[2174654,"Alfieri Riccioli Barolo 250g",4.95]
[2177148,"Roi Basil Pesto 90g",4.95]
[2206728,"Don Antonio Garlic Cloves in Herb Oil 180g",4.95]
[2108613,"Basil Tin No 2 4g",3.95]
[2108625,"Chilli Birdseye Tin No 68 20g",3.95]
[2108634,"Cumin White Tin No 39 42g",3.95]
[2108636,"Dill Weed Tin No 8 16g",3.95]
[2108637,"Fennel Tin No 41 42g",3.95]
[2108638,"Fenugreek Tin No 42 68g",3.95]
[2108643,"Herbes De Provence Tin No 9 19g",3.95]
[2108644,"Juniper Tin No 46 30g",3.95]
[2108658,"Nigella Seeds Tin No 49 48g",3.95]
[2108677,"Rosemary Tin No 17 30g",3.95]
[2108690,"Thyme Tin No 20 24g",3.95]
[2115370,"100 Year-Old Boxed Balsamic Vinegar 50ml",200]
[2188486,"Morellana Picuda Olive Oil 500ml",25.95]
[2148192,"Duchess of Cornwall Spring Honey 227g",20]
[2200392,"British Honeycomb 170g",14.95]
[2210894,"St James Christmas Pudding 454g",12.95]
[2055110,"Ceramic Pot of Salt 150g",12.95]
[2159626,"Honey From Vietnam -Polifloral 200g",10.95]
[2163031,"Trivelli Tartuffi White Truffle & Porcini Mushroom Pate 45g",9.9499999999999993]
[2206721,"I Contadini Aubergines 230g",9.9499999999999993]
[2207893,"Rhubarb & Ginger Curd 200g",9.9499999999999993]
[2177214,"Ballancourt Fish Soup made in Concarneau 720ml",7.5]
[2205697,"Ballancourt Pumpkin Soup 500ml",7.5]
[2187451,"Hot Chilli Sauce 100ml",5.95]
[2108626,"Chilli Chipotle Tin No 69 38g",4.95]
[2108633,"Cornish Sea Salt Tin No 100 92g",4.95]
[2108640,"Garam Masala Indian Tin No 111 48g",4.95]
[2108660,"Paprika Smoked Hot Tin No 74 51g",4.95]
[2108661,"Paprika Smoked Sweet La Vera Tin No 73 51g",4.95]
[2108666,"Peppercorns Black Telicherry Tin No 84 38g",4.95]
[2108684,"Salt Himalayan Tin No 99 100g",4.95]
[2177138,"Casa Vecchio Mulino Sea Salt Linguette Flat Bread 120g",4.95]
[2199816,"Highgrove Organic Wholegrain Mustard 175g",4.95]
[2210923,"Boxing Day Pickle 220g",4.95]
[4007142,"Strawberry Preserve 200g",4.25]
[2108618,"Cassia Tin No 33 19g",3.95]
[2108621,"Celery Seeds Tin No 4 50g",3.95]
[2108674,"Poppy Blue Tin No 51 51g",3.95]
[2108693,"Wild Oregano Tin No 15 16g",3.95]
[2188435,"Eliris Olive Oil 250ml",21.95]
[2188184,"Oro del Desierto Olive Oil 250ml",14.95]
[8019713,"Tasmanian Leatherwood Honey 200g",10.95]
[2192219,"Honey from Surrey - Blueberry 200g",8.9499999999999993]
[2171537,"Welsh Heather Honey 275g",7.95]
[2003359,"Goose Fat 300g",7.95]
[2177331,"Strawberry & Gooseberry Conserve 195g",6.25]
[2170426,"Dalemain's - The Bishops Marmalade",5.95]
[4007131,"English Cherry Preserve 340g",5.95]
[2108697,"Ras el Hanout Tin No 121 35g",4.95]
[2112774,"Peppercorns Black Milled Tin No 80 42g",4.95]
[2174655,"Alfieri Riccioli Nero De Seppia 250g",4.95]
[4007127,"Blackberry Preserve 340g",4.95]
[2187481,"Quince Cheese 120g",4.5]
[2104005,"Cornichons 170g",3.95]
[2108662,"Parsley Tin No 16 11g",3.95]
[2202426,"Cradoc's Pear & Earl Grey Crackers 80g",3.95]
[2063194,"Ceramic Spice Jar Set 275g",35]
[2202501,"Lazzaroni Biscotti Selection Tin 240g",25]
[2055111,"Ceramic Pot of Pepper 85g",12.95]
[8021124,"Cherries in Kirsch 720g",11.95]
[2199806,"Highgrove Organic Lemon Curd 320g",6.95]
[5024277,"Cocktail Olives 205g",6.95]
[2108676,"Rose Petals Tin No 52 6g",4.95]
[2108680,"Salt Australian Murray River Tin No 95 38g",4.95]
[2204310,"Brandy Snaps 100g",4.95]
[4007124,"Apricot Preserve 200g",4.25]
[2108679,"Sage Tin No 18 14g",3.95]
[2156412,"Stockans Triangular Thin Oatcakes 100g",1.5]
[2000065,"Ortiz Bonito In Olive Oil 1.8kg",59.95]
[2003752,"Piccadilly Oval Chocolate Biscuit Selection 675g",23.95]
[8017209,"Duchess of Cornwall Summer Honey 227g",20]
[2093465,"Balsamic Vinegar, 8 Year-Old Black Label 250ml",15]
[2175239,"Amaretto, Apricot & Almond Loaf Cake, 470g",14.95]
[2183669,"Cranberry Sauce Pantry Jar 650g",12.95]
[2055109,"Ceramic Pot of Herbs 40g",12.95]
[2078010,"Jamboree Olives in Oil 700g",12.95]
[2000037,"Mymoune Orange Flower Water 250ml",9.9499999999999993]
[2078005,"Bazaar Olives in Chilli Oil 700g",9.25]
[2187529,"Honey From South Devon 200g",8.9499999999999993]
[2204609,"Flat Brew Caramel Macchiato Spread 285g",8.5]
[5024280,"Pitted Green Olive in Brine 200g",6.95]
[2203346,"Beetroot Ketchup",5.95]
[2210203,"Welsh Rarebit Cheese Straw 100g",5.95]
[2187475,"Major Grey Mango Chutney 250g",5.5]
[2203349,"Soy and Ginger Dressing 250ml",5.5]
[2004101,"Stem Ginger in Syrup 360g",5.5]
[2108620,"Celery Salt Tin No 101 84g",4.95]
[2170429,"Dalemain's - Orchard Marmalade",4.95]
[2177149,"Roi Red Pesto 90g",4.95]
[2187467,"Shropshire Honey Mustard 200g",4.95]
[2187470,"Beer & Chilli Mustard 200g",4.95]
[2196166,"Astorino Trofie Pasta 500g",4.95]
[2212697,"Charcoal & Cumin Crackers 115g",4.95]
[5030500,"Christmas Cranberry and Port Chutney 230g",4.95]
[5031895,"Verrigni Linguini 500g",4.95]
[2187483,"Chipotle Cheese 120g",4.5]
[2180519,"Burlington Breakfast Marmalade 200g",4.25]
[2108654,"English Herbs Tin No 105 20g",3.95]
[2156413,"Stockans Thick Oatcakes 200g",1.95]
[2196176,"Mutti Tomato Paste 130g",1.75]
[2215010,"Beef Pairings",13.75]
[2004134,"Welsh Chunk Honeycomb Amphora, 908g",24.95]
[5029457,"Worldwide Honey Bundle",17.5]
[5029464,"Rose Petal Picnic Selection",15.9]
[2175240,"Orange, Earl Grey & Cardamom Loaf Cake, 490g",14.95]
[2137419,"Morello Cherry & Cognac Preserve 200g",6.25]
[2177154,"Morelli Fregola Sarda 500g",4.95]
[2178993,"Gentille Lumaconi 500g",4.95]
[2206729,"Don Antonio Tuscan Bruschetta 180g",4.95]
[2108685,"Sesame Seeds Tin No 54 47g",3.95]
[2196175,"Mutti San Marzano 400g",3.95]
[2187472,"Chilli and Tomato Jam 250g",5.5]
[2108649,"Mace Tin No 47 16g",4.95]
[2108652,"Marjoram Tin No 13 8g",3.95]
[2000175,"Beef Extract 198g",12.95]
[5029455,"Highrove Indulgant Biscuit Selection",9.5]
[2183674,"Piccadilly Wholegrain Mustard Pantry Jar, 550g",11.95]
[2156414,"Stockans Mini Oatcakes 200g",1.95]
[2065954,"Non Scan Code For Grocery",0]
[2199804,"Highgrove Organic Original Shortbread 125g",2.85]
[2057060,"Non-Scan Code: Grocery",0]
[2172088,"Bonn's & Co Gluten Free Flame Baked Cracker 120g",3.95]
[2158330,"The Wine Quartet Wicker",100]
[8025994,"ANY Heritage Ice Bucket Amethyst Silver",540]
[5031621,"MC CC Compote Customer Order Only",480]
[5003238,"Vintage Cockerel Cocktail Shaker C1950",450]
[8025992,"ANY Heritage Tray Medium Crystal Silver",432]
[8025995,"ANY Heritage Lidded Hors D'oeuvres Amethyst Silver",324]
[5016194,"WY Jasmine Flower Centre Vase 21cm",290]
[2206972,"FH Silver Plated Large Pheasant",275]
[5016212,"WY Shagreen White Frame 8 x 10",275]
[8020724,"ANY Casita Bowl Crystal Silver",250]
[5016196,"WY Jasmine Footed Vase 28cm",190]
[8022846,"NM Large Round Serving Bowl",175]
[8024820,"L White Swan Bowl Large",157]
[8017686,"L Bamboo Butler Tray",147]
[8023018,"B5275 Victorian Pair of Liqueurs Late 19th C",145]
[8024831,"L Bamboo Bowl Large",116]
[8017683,"L Bamboo Round Platter",110]
[8024822,"L Carrousel Gold Candlesticks Large Set of 2",108]
[5033440,"MC Pineapple Candle Holder Large Black",106]
[2215660,"MC Flo Mar Medium Canister White",98]
[8023459,"MC CC Canister Mini",98]
[5025114,"SS Hurricane Boule Amber Candle Holder",95]
[5068559,"A9182 Kosta Boda Posy Vase C1980s",95]
[2215659,"MC Flo Mar Small Canister White",93]
[8017685,"L Bamboo Champagne Bucket",88]
[8024836,"L Ionic Salt & Pepper Mill Black Large",88]
[5024565,"FC To Have & Dinner Plate",85]
[8024833,"L Gold Carrousel Spice Napkin Rings Set of 2",76]
[2211109,"LD Oeno Motion Collector",73]
[5007808,"WS Damask Runner",70]
[8017684,"L Bamboo Ice Bucket",70]
[8024835,"L Ionic Salt & Pepper Mill White Small",70]
[2213828,"B Stripe Table Cloth 145cm x 275cm",68]
[5024567,"FC To Have & Vase",68]
[5007453,"KH Flat Rim Serving Bowl",65]
[5015858,"ATTLG M.L.Allen  Breakfast Dishes",65]
[8017682,"L Bamboo Small Serving Boat",62]
[2206867,"OM Linen Tablecloth Natural",61]
[2209667,"H V60 Coffee Grinder",58]
[8024828,"L Swan White Bowl Medium",57]
[5062577,"S Christmas Tree Dip Dish",55]
[2206974,"FH Silver Plated Frog Salt Dish",52]
[2211161,"FL Sommelier Horn Tip Sand",52]
[8024821,"L Ionic White Plates Set of 4",52]
[2134258,"AR Shagreen Grey 4x6 Frame",50]
[8025452,"CC Set of Four Pheasant Place Card Holders",50]
[5068134,"F&M Lobster Bottle Opener",48]
[2172687,"Wa Gluggle Jug Dark Grey Extra Large 10--",45]
[2172689,"Wa Gluggle Jug Pale Blue Extra Large 10--",45]
[2187896,"AR 5x7 15mm Gold Plate Chiffon Photo Frame",45]
[5015486,"W XL Sage Gluggle Jug",45]
[5015857,"ATTLG Antonia Isola Simple Italian Cookery",45]
[8017688,"L Bamboo Bowl Medium",45]
[8024824,"L Deco Twist Gold Frame 5cm x 7cm",42]
[8024826,"L Braid Gold Frame 5cm x 7xm",42]
[2207095,"Reflections Memphis, Crystal Table D cor - White/Clear/Green",40]
[5015871,"ATTLG Bebe Daniels & Jill Allgood 282 ways of Making a Salad",40]
[8027251,"NM Champagne Cooler",40]
[8024825,"L Braid Gold Frame 4cm x 6cm",38]
[2165408,"H Olivewood 4 Cup Coffee Press",37]
[2208491,"Ha V60 Olive Wood Stand Set",37]
[2202079,"LDV Oeno Motion Solid Wood Bottle Opener",36]
[2211218,"Lateral Cooking",35]
[2213218,"Japan: The Cookbook",35]
[2213219,"Mexico: The Cookbook",35]
[2213220,"Peru: The Cookbook",35]
[5001531,"Nurture: Notes and Recipes from Daylesford Farm",35]
[5007506,"LS Head Vase Short",35]
[5062580,"S Christmas Tree Cheese Plate & Knife",35]
[8024829,"L Deco Twist Gold Napkin Rings Set of 2",35]
[5007468,"J Exotic Wildlife Teal 36 x 28 Tray",34]
[8024830,"L Swan Black Salt Cellar With Spoon",33]
[8024832,"L Gold Braid Napkin Rings Set of 4",33]
[2202078,"LDV Oeno Collection",32]
[2208241,"JJ Ball Handle Pestle and Flat Mortar 23cm",32]
[5005570,"HB Boy On A Bike Mug",32]
[5007452,"KH Medium Serving Bowl Fiore",31]
[2194122,"Collins Beekeeper Bible",30]
[2208832,"Ritz London: The Cookbook",30]
[2209294,"Life of Tea",30]
[5024569,"FC To Have & Gold Handled Jug",30]
[8021295,"The Pig: Tales and Recipes",30]
[8026803,"Clatter of Forks and Spoons",30]
[2213213,"America: The Cookbook",29.95]
[2213214,"China: The Cookbook",29.95]
[2213215,"Cuba: The Cookbook",29.95]
[8018128,"Greece: The Cookbook",29.95]
[2160811,"Olivewood Large Rustic Bowl D23-26cm",28]
[2195759,"River Caf 30",28]
[5005590,"CM Harlequin Mug Pink",28]
[2194126,"Sweet - Yotam Ottolenghi & Helen Goh",27]
[8027248,"NM Ice Bucket & Tongs",27]
[2195762,"Tom Kitchins Meat and Game",26]
[2195763,"Rick Stein: The Road To Mexico",26]
[2199699,"Mary Berry: Classic",26]
[2208240,"JJ Ball Handle Pestle and Flat Mortar 18cm",26]
[5064114,"The Pie Room",26]
[8025638,"Dishoom: From Bombay with Love",26]
[8025639,"Veg: Easy & Delicious Meals for Everyone",26]
[2124862,"Cheese Board With Glass Dome",25]
[2175053,"MM Herb Trivet Antique Bronze",25]
[2211216,"Time: A Year and a Day in the Kitchen",25]
[2215004,"The Clean Plate Delicious, Healthy Recipes for Everyday Glow",25]
[5007458,"J Hydrangea Tray 27cm x 20cm",25]
[5009882,"Cocoa: An exploration of chocolate, with recipes",25]
[8022847,"NM Chopping Board 30cm",25]
[8025631,"Cook Up a Feast",25]
[8025635,"From The Oven To The Table",25]
[8027250,"NM Water Pitcher",25]
[2211670,"WS Sculptural Bunny Family Bowl",24]
[4008438,"Sight Smell Touch Taste Sound by Sybil Kapoor",24]
[5023149,"CF Tapered Jade Dining Candle 10\" x 7\"",24]
[2207099,"Reflections Copenhagen Texas Crystal Table D cor Clear/Black",23]
[2207103,"Reflections Ophelia, Crystal Table D cor - Green/Black",23]
[8019884,"1882 Lustre Dinner Plate Black Stripe",23]
[8019886,"1882 Lustre Dinner Plate Black Dhow",23]
[8025644,"Greenfeast: Autmn, Winter",22]
[2175057,"MM Oak Set of 4 Napkin Rings Antique Bronze",21]
[2184889,"MM Gingko Set of 4 Napkin Rings Antique Bronze",21]
[8019885,"1882 Lustre Salad Plate Black Dhow",21]
[8019890,"1882 Lustre Jug Gold Dhow",21]
[2166516,"A Year in Cheese",20]
[2175052,"MM Herb Set of 4 Napkin Rings Antique Bronze",20]
[2177354,"Everyday Seafood By Nathan Outlaw",20]
[2178682,"World Atlas of Tea",20]
[2208105,"WY Corinne Ice Bucket",20]
[2211677,"WS Floral Meadow Rectangular Platter",20]
[2212772,"The Flavour Thesaurus by Niki Segnit",20]
[4003299,"The Dirty Dishes: 100 fast and delicious recipes",20]
[4003300,"HOOKED Tales from the Shore & the Sea",20]
[4005215,"Infused: Adventures in Tea by Henrietta Lovell",20]
[5001532,"The Consolation of Food: Stories about life and death, seaso",20]
[5007494,"LS Piccola Vase",20]
[5025603,"Zaika: Vegan recipes from India",20]
[8025641,"East: 120 Vegetarian and Vegan Recipes",20]
[8025642,"Time to Eat",20]
[8025643,"Pam the Jam: The Book of Preserves",20]
[8025825,"Ba Coffee Pod Storage Copper",20]
[8027129,"Apple by James Rich",20]
[2202081,"LDV Carafe Bonde",19]
[2205026,"WS Reindeer Salad Plate",18]
[2205032,"WS Ornaments Salad Plate",18]
[2211664,"WS Damask Bunny Large Platter",18]
[5005561,"HB Hedgehogs Egg Cup",18]
[5007451,"KH Pasta Bowl Scalloped",18]
[5007474,"J Exotic Wildlife Pink Placemat",18]
[5007816,"WS Floral Meadow Mug",18]
[8019893,"1882 Lustre Sugar Bowl Black Stripe",18]
[2208246,"JJ Dairy Jug Large",17]
[2211665,"WS Damask Bunny Serving Bowl",17]
[5022400,"MB Grey Sugar Pot",17]
[5064112,"Dumlings and Noodles by Pippy Eats",17]
[2215006,"Round to Ours: Menus For Every Gathering",16.989999999999998]
[4003301,"Jane Grigson's Fish Book",16.989999999999998]
[4005213,"The Art and Craft of Tea",16.989999999999998]
[4008437,"First Catch by Thom Eagle",16.989999999999998]
[5057203,"Charred Vegetarian Grilling and BBQ by Genevieve Taylor",16.989999999999998]
[5066054,"English Wine by Oz Clarke",16.989999999999998]
[8025632,"The Curious Bartender's Whiskey Road Trip",16.989999999999998]
[8025645,"My Last Supper",16.989999999999998]
[2181182,"LD Golden Boy Corkscrew Gift Set",16]
[2184890,"MM Gingko Dish & Spoon Antique Bronze",16]
[2206869,"OM Linen Runner Natural",16]
[2208100,"WY Corinne Pitcher",16]
[8023177,"VC Chard Platter",16]
[2206865,"OM Linen Napkin Grey",16]
[2160863,"Ba Coffee Bag Clips Set of 3",15]
[2175054,"MM Herb Set of 3 Nesting Spoons Antique Bronze",15]
[2211666,"WS Damask Bunny Set of 4 Salad Plates",15]
[5007491,"LS Lyonnais Glass Blue/Olive",15]
[8019894,"1882 Lustre Espresso Cup Black Stripe",15]
[8026804,"One More Croissant for the Road",14.99]
[2205701,"HD Parterre Charger",14]
[2208247,"JJ Classical Platform 28cm",13]
[2211217,"Sunday Night Book",12.99]
[2212771,"Completely Perfect by Felicity Cloake",12.99]
[8025636,"Hugh Johnson's Pocket Wine Book 2020",12.99]
[2172686,"Wa Gluggle Jug White Mini 3.5--",12]
[2211667,"WS Damask Bunny Pitcher",12]
[5000344,"SO Oak Large Serving Platter",12]
[5022363,"MB Malmo Soft Grey Mug",12]
[5022399,"MB Grey Jug",12]
[5024482,"EE Pair of Tapered Bronze Candle 42cm",12]
[5024571,"FC To Have & Treasure Bowl",12]
[5067187,"HD Anit Tall Candle Stand Antique Brass",12]
[2172684,"MB Milton Brook Pestle & Mortar Large D6.5--",11]
[5001423,"KT Winter Berries Posy Vase Candles",11]
[2187863,"Filigree Cotton Tea Towel",10]
[5022360,"MB Navy Large Tea Mug",10]
[5022362,"MB Dusky Pink Large Tea Mug",10]
[5064108,"UB Bar Spoon",10]
[2210070,"Together Our Community Cookbook",9.99]
[4008442,"The Wandering Vine by Nina Caplan",9.99]
[8025633,"The Philosophy of Tea",9.99]
[8023178,"VC Small Pumpkin Tureen",9]
[2208101,"WY Corinne Martini Glass",8]
[2208102,"WY Corinne Coupe Glass",8]
[5005581,"S Bamboo Tart Slicer",8]
[2208099,"WY Corinne Tall Glass",7]
[2208244,"JJ Classical Pinch Pot 10cm",7]
[5000345,"SO Oak Chopping Board 19cm",7]
[5022396,"MB Espresso Navy Coffee Cup",7]
[8020921,"TT Gold Glitter Poppers",7]
[2015753,"Kenneth Turner Stag Tea Light Holder",6]
[2202083,"LDV Coupe-Capsule Metal Chrome",6]
[2211678,"WS Floral Meadow Dinner Plate",6]
[5067186,"HD Anit Small Candle Stand Antique Brass",6]
[2211222,"V Glacier Rocks Set of 6",5]
[5005578,"S Bamboo Dinner Knife",5]
[5005582,"S Bamboo Bottle Opener",5]
[2205027,"WS Nutcracker Salad Plate",4]
[2208103,"WY Corinne Shot Glass",4]
[2211661,"WS Damask Bunny Dinner Plate",4]
[2211663,"WS Damask Bunny Bowl",4]
[2213829,"B Stripe Napkin Pink 45 x 45cm",4]
[5005576,"S Bamboo Dinner Spoon",4]
[5005577,"S Bamboo Dinner Fork",4]
[2027109,"Branded Stripe Chefs Hat",4]
[2197436,"Be Dark Green Linen Napkin",4]
[2208243,"JJ Classical Pinch Pot 7.5cm",3]
[2211658,"WS Vintage Etched Goblet",3]
[2211659,"WS Vintage Etched Tumbler",3]
[2211660,"WS Vintage Etched Wine Glass",3]
[2211662,"WS Damask Bunny Mug",3]
[2211675,"WS Linen Double Hemstitch Napkin Bluebell",3]
[5005579,"S Bamboo Tea Spoon",3]
[8018005,"MM Silly Circus Hats",3]
[2211668,"WS Damask Bunny Appetiser Plate Multi",2]
[2211669,"WS Damask Bunny Dip Bowl Multi",2]
[2212920,"TT Giant Bauble White",2]
[8018003,"MM Silly Circus Cake Toppers",2]
[8018008,"MM Silly Circus Cups",2]
[2046530,"JP Sardine Run Side Plate",1]
[2198620,"C Silver Tablecloth Airlaid",1]
[2205035,"WS Dip Bowl Santa Mixed Design",1]
[2211679,"WS Floral Meadow Dip Bowls Multi",1]
[2212852,"E Purple Coffee Cup",1]
[2212976,"Ca Hummingbird Trellis Dinner Plates",1]
[2212977,"Ca Hummingbird Trellis Salad Plates",1]
[2212978,"Ca Hummingbird Trellis Place Cards",1]
[4004862,"M Neon Party Confetti",1]
[4004866,"M Pastel Party Confetti",1]
[4007244,"MM Happy Birthday Cups",1]
[8020847,"MM Halloween Icons Garland",1]
[8020863,"MM Silver Foil Paper Straws",1]
[8020891,"Ca On the 12th Day Placecard",1]
[8023422,"Bottle Stopper",8]
[2088443,"Champagne Stopper",10]
[2206859,"Waiter's Friend",15]
[8025960,"Cow Cotton Tea Towel",12]
[2207130,"Silver Plated Straw",15]
[8025958,"Lobster Cotton Tea Towel",12]
[5054734,"Willow Cheese Tea Towel",12]
[5061732,"Christmas Pudding Tea Towel",12]
[2190256,"EDN Waffle Tea Towel",12]
[8025959,"County Cotton Tea Towel",12]
[2064762,"Fortnum's Corkscrew",12]
[2137475,"Provisions Tea Towel",12]
[2159098,"Time for Tea Cotton Tea Towel",12]
[2191754,"EDN Glass Cloth",12]
[2190258,"Red Waffle Tea Towel",12]
[2187148,"King Salmon Cotton Tea Towel",12]
[2190257,"Indigo Waffle Tea Towel",12]
[2212364,"Fortnum's Stripe Apron",28]
[2193089,"Willow Cheese Baker",25]
[2207492,"N Robin Napkin 2020",10]
[2207493,"N Holly Napkin 2020",10]
[2207495,"N Tree Napkin 2020",10]
[5045420,"N Nutcracker Napkin 2020",10]
[5045421,"N Reindeer Napkin 2020",10]
[8017690,"N Gold Snowflake Napkin 2020",10]
[5047117,"N Champagne Cocktail Napkin",6]
[5047118,"N Martini Cocktail Napkin",6]
[8025961,"Camellia Cotton Tea Towel",12]
[8026744,"Parmesan Cheese Grater",22]
[2159099,"Teapots & Teacups Cotton Tea Towel",12]
[2101738,"Fortnums Fine Blend Tea Towel",12]
[2212366,"Fortnum's Stripe Tea Cosy",15]
[2118181,"Wooden Cheese Long Board",24]
[2111864,"RD Cat Hat Teatowel",15]
[8025254,"CF Wrapped Ivory Pillar Candle 8\" x 3\"",12]
[2201072,"Olivewood and Gold Plate Honey Drizzler",90]
[5064111,"Simply by Sabrina Ghayour",26]
[2111896,"RD F&M Building Canvas Bag",17]
[5061711,"Fortnum's Stripe Red Apron",28]
[5062569,"S Christmas Tree Dinner Plate 10.5\"",25]
[5062573,"S Christmas Tree Mug",25]
[5062579,"S Christmas Tree Dish",25]
[5062570,"S Christmas Tree Salad Plate 8\"",20]
[5062593,"RD Christmas Stag Coaster",20]
[5062571,"S Christmas Tree Side Plate 6\"",15]
[5062572,"S Christmas Tree Cereal Bowl",15]
[5063509,"TBP Stag and Mistletoe Tea Towel",15]
[5061710,"Fortnum's Stripe Red Double Oven Glove",18]
[2193088,"Willow Cheese Platter D30cm",38]
[2212365,"Fortnum's Stripe Double Oven Glove",18]
[2193090,"Willow Set of 4 Cheese Plates",45]
[2209292,"Etoile Pair of White Wine Glasses",48]
[2111863,"RD Building Teatowel",15]
[2209289,"Etoile Pair of Vintage Champagne Flutes",45]
[2192611,"Repeat Golden Bee Honey Pot",25]
[5047722,"Cu Antler Tealight Holder",20]
[2118182,"Wooden Cheese Ploughman s Board",24]
[2197991,"Mini Cabbage Bowl",10]
[8025630,"World Atlas of Wine 8th Edition",50]
[2192613,"Eau De Nil Hive Honey Pot",35]
[5064109,"Flavour by Ottolenghi",27]
[5064113,"The Cocktail Dictionary by Henry Jeffreys",15]
[2120376,"Olivewood and Sterling Silver Honey Drizzler",68]
[2057103,"World Atlas of Wine",40]
[5011502,"Angela's Kitchen",26]
[2088438,"Single Cheese Knife Boxed",20]
[2209291,"Etoile Pair of Red Wine Glasses",52]
[5028394,"CM Harlequin Tea Plate Green",35]
[5062585,"S Christmas Tree Placemats Set of 6",40]
[2209290,"Etoile Pair of Water Glasses",37]
[5062576,"S Christmas Tree Sandwich Tray",35]
[5062586,"S Christmas Tree Goblets Set of 4",35]
[5062587,"S Christmas Tree Tumblers Set of 4",35]
[5011501,"Angela Harnett's Cucina",30]
[5047716,"Cu Stag Cruet Set",30]
[5063510,"TBP Stag and Mistletoe Apron",30]
[5005589,"CM Harlequin Mug Green",28]
[5063511,"TBP Stag and Mistletoe Double Oven Glove",25]
[2026949,"SP Terracotta Mug",22]
[5005558,"HB Ducks Egg Cup",18]
[5005560,"HB Green Tailed Cockerel Egg Cup",18]
[5007476,"J Exotic Wildlife Teal Placemat",18]
[2163511,"TBP Exc Beehive Tea Towel",14]
[5007473,"J Exotic Wildlife Light Green Coaster",7]
[5007477,"J Exotic Wildlife Teal Coaster",7]
[5061716,"J Lemur Pink Coaster",7]
[5061721,"J Wonder World Green Coaster",7]
[2206962,"UB Bar Spoon",55]
[2209952,"MC Royal Check Mug",50]
[2197995,"Cabbage Leaf Serving Bowl 40 cm",35]
[5028393,"CM Harlequin Tea Plate Yellow",35]
[2136718,"Provisions 1/2 Pint Mug",25]
[8026819,"LHC Slender Candles 9\"",25]
[8027029,"Whole Fish Cookbook by Josh Niland",25]
[8022848,"NM Serving Tongs",20]
[5060368,"SB Falling Flower Paper Tablecloth 160x300",19.5]
[5062584,"S Christmas Tree Coasters Set of 6",12]
[2206852,"P Silver Plate and Wood Pepper Mill 10cm",115]
[2198858,"TBP Rabbit & Cabbage Set of 4 Placemats",42]
[2025250,"CC Mini Cheese Knife 4 Piece",35]
[8025260,"CF Royal Fluted Dining Candles White",35]
[8026820,"LHC Short Candles",35]
[5005568,"HB Man And Dog Mug",32]
[8026821,"LHC Slender Candles 14\"",30]
[5066053,"Simply by Sabrina Gayhour SIGNED COPY",26]
[5047718,"Cu Stag Bottle Opener",20]
[2208425,"CC Bee Honey Drizzler",18]
[5024474,"EE Pair of Tapered Blue Candle 42cm",12]
[2099294,"Kilner Preserve 0.5lt Jar",1]
[2215658,"MC Flo Mar Mug Black",50]
[5005584,"CM Harlequin Dessert Plate Blue",42]
[5062574,"S Christmas Tree Napkin Rings Set of 4",35]
[8025258,"CF Royal Fluted Dining Candles Ivory",35]
[5062582,"S Christmas Tree Nutcracker Tealight Candle Green",32]
[5062583,"S Christmas Tree Nutcracker Tealight Candle Red",32]
[5062581,"S Christmas Tree Footed Candy Dish",30]
[2149182,"TBP Rabbit & Cabbage Double Oven Glove",27]
[2198855,"TBP Rabbit & Cabbage Small Tray",25]
[5047717,"Cu Stag Wine Bottle Stopper",25]
[5062589,"S Christmas Tree Salad Servers",22]
[2198857,"TBP Rabbit & Cabbage Set of 4 Coasters",20]
[5062588,"S Christmas Tree Cake Slice",18]
[5024472,"EE Pair of Tapered  Old Rose Candle 42cm",12]
[5024477,"EE Pair of Tapered Teal Candle 42cm",12]
[2207462,"B Medium Plain Bottle Coaster",210]
[8023619,"VL Oval Tumblers Set of 6",80]
[2212717,"CC Grasmere Old Fashioned Glass",75]
[5015482,"MR Roundy Tumbler",75]
[2124807,"MC CC Enamel Mug",49]
[5028395,"CM Harlequin Bowl Pink",42]
[2190997,"Double Swirl Silver Plated Honey Drizzler",38]
[2198856,"TBP Rabbit & Cabbage Large Tray",36]
[5062578,"S Christmas Tree Cranberry Server with Spoon",36]
[5005585,"CM Harlequin Tea Plate Blue",35]
[5028392,"CM Harlequin Tea Plate Pink",35]
[5005567,"HB Broad Fern Leaf Mug",32]
[5005571,"HB Girl And Two Dogs Mug",32]
[2149188,"TBP Rabbit & Cabbage Apron",30]
[2163512,"TBP Exc Beehive Apron",30]
[2163513,"TBP Exc Beehive Double Oven Glove",27]
[5007463,"J Orange Blossom 27 x 20 Tray",25]
[5063512,"TBP Stag and Mistletoe Small Tray",25]
[8025255,"CF Wrapped Ivory Pillar Candle 10\" x 4\"",24]
[2197992,"Small Cabbage Bowl",22]
[5007497,"LS Pilgrim Tealight Holder Green",20]
[5047720,"Cu Stag Candle Snuffer",20]
[5005556,"HB Bushy Fern Egg Cup",18]
[5033433,"MC Merry Christmas Tea Towel",18]
[2209023,"RD Ink House Book",14.99]
[2149185,"TBP Rabbit & Cabbage Tea Towel",14]
[5024473,"EE Pair of Tapered Iced Blue Candle 42cm",12]
[5060369,"SB Falling Flower Paper Napkins Set of 12",12]
[5047469,"The Way We Eat Now by Bee Wilson",9.99]
[2204658,"HW Carving Board in Ash",230]
[2213678,"TP Small Candlestick",150]
[2212727,"CC Grasmere Tall Champagne Flute",90]
[2214258,"CM Table Mats Circular Exotic Birds",80]
[2136723,"Provisions Butter Dish",70]
[5007481,"EL Dusty Blue Tumbler Orange Rim",58]
[5007483,"EL Apple Gren Tumbler Orange Rim",58]
[2136719,"Provisions Medium 1 Pint Jug",48]
[5028389,"CM Harlequin Desert Plate Pink",42]
[2025251,"CC Knot Scoop And Knife Set",40]
[2174173,"CC Honey Bee Egg CCp Silver Plate",40]
[2214253,"CM Coasters Circular Coral",40]
[2214255,"CM Coasters Square Harlequin",40]
[5024483,"EE Pair of Candle Holder Medium Matt Silver",40]
[5024484,"EE Pair of Candle Holder Medium Matt Brass",40]
[5007459,"J Hydrangea 43 x 33 Tray",38]
[5005587,"CM Harlequin Mug Blue",28]
[5005588,"CM Harlequin Mug Yellow",28]
[2208432,"CC Cheese Wire",25]
[5023150,"CF Taupe Tapered Dining Candle 10\" x 7\"",24]
[2026935,"SP Terracotta Peppercorn Pot",18]
[5005557,"HB Tiny Leaf Fern Egg Cup",18]
[5007472,"J Exotic Wildlife Light Green Placemat",18]
[5024475,"EE Pair of Tapered Stormy Grey Candle 42cm",12]
[2213679,"TP Bowl",510]
[2206853,"P Silver Plate and Wood Salt Mill 10cm",115]
[5033435,"MC Santa Nutcracker Stacking Mugs Set of 4",110]
[2212723,"CC Grasmere Goblet Large",100]
[2206940,"WD 8x10-- Real Guinea Fowl Feather Photo Frame",90]
[2212718,"CC Grasmere Double Old Fashioned Glass",85]
[5033432,"MC Merry Christmas Placemats Set of 4",84]
[2212725,"CC Grasmere Wine Large",80]
[2212726,"CC Grasmere Wine",80]
[2214250,"CM Table Mats Rectangular Audubon Birds",80]
[2214252,"CM Table Mats Circular Coral",80]
[2214256,"CM Table Mats Circular Out of Africa",80]
[5063527,"CM Stag and Goose Placemats Set of Four",80]
[5063529,"CM Game Birds Placemats Set of Four",80]
[5064101,"RB Fluted Highball",80]
[2212719,"CC Grasmere Highball",75]
[5064100,"RB Fluted Double Old Fashioned Glass",75]
[2206963,"RB Diamond SOF Glass",70]
[5064102,"RB Fluted Single Old Fashioned Glass",70]
[5025117,"SS Hurricane Classic Silver Candle Holder Small",60]
[5025118,"SS Hurricane Classic Rose Candle Holder Small",60]
[5007482,"EL Night Blue Tumbler Orange Rim",58]
[2136722,"Provisions Storage Jar Beaded 19.5cm",55]
[2208424,"CC Bee Toast",55]
[2088437,"Cheese Knife Set of 3 Gift Boxed",52]
[2181897,"MC Flo Mar Mug White",50]
[5062575,"S Christmas Tree Sauce Boat & Stand",50]
[5005554,"HB Chair Bowl",48]
[5005583,"CM Harlequin Dinner Plate Blue",48]
[5028386,"CM Harlequin Dinner Plate Pink",48]
[5028387,"CM Harlequin Dinner Plate Yellow",48]
[5028388,"CM Harlequin Dinner Plate Green",48]
[2208426,"CC Bee Napkin Ring",45]
[5005586,"CM Harlequin Bowl Blue",42]
[5028390,"CM Harlequin Desert Plate Yellow",42]
[5028391,"CM Harlequin Desert Plate Green",42]
[5028396,"CM Harlequin Bowl Yellow",42]
[5028397,"CM Harlequin Bowl Green",42]
[2025249,"CC Pair Of Mussel Eaters",40]
[2137493,"CC Bee Honey Jar With Spoon",40]
[2174175,"CC Honey Beehive Salt & Pepper Set Silver Plate",40]
[2174185,"CC Champagne Cork Salt & Pepper Set Silver Plate",40]
[2206961,"UB Slim Jigger",40]
[2214251,"CM Coasters Square Audubon Birds",40]
[2214257,"CM Coasters Circular Out of Africa",40]
[2214259,"CM Coasters Circular Exotic Birds",40]
[5016188,"K White Zali Bread Basket",40]
[5016193,"K White Latha Rattan Coasters",40]
[5047719,"Cu Stag Salad Servers",40]
[5062590,"S Christmas Tree Pitcher",40]
[5063528,"CM Stag and Goose Coasters Set of Four",40]
[5063530,"CM Game Birds Coasters Set of Four",40]
[8019540,"CM Out of Africa Circular Coasters Set 2",40]
[8026739,"CM Green Coasters",40]
[8026741,"CM Blue Coasters",40]
[8026743,"CM Red Coasters",40]
[5007465,"J Orange Blossom 39cm Round Tray",38]
[5007471,"J Exotic Wildlife Teal 39 Tray",38]
[2025254,"CC Coffee Spoon Set 4 Pieces",35]
[5063513,"TBP Stag and Mistletoe Large Tray",35]
[8025259,"CF Royal Fluted Dining Candles Evergreen",35]
[8025261,"CF Royal Fluted Dining Candles Red",35]
[8025262,"CF Tapered Dining Candles Gold",35]
[8025263,"CF Tapered Dining Candles Silver",35]
[5007469,"J Exotic Wildlife Pink 36 x 28 Tray",34]
[5033444,"MC Bands Pillar Candle 6 Inch Gold & White",34]
[5033446,"MC Mini Dinner Candles Set of 6",34]
[5005566,"HB Pointed Fern Leaf Mug",32]
[2197993,"Medium Cabbage Bowl",30]
[5033445,"MC Christmas Tree Pillar Candle 4 Inch",30]
[5047724,"Cu Stag Nibbles Dish",30]
[5063507,"TBP Stag and Mistletoe Placemats Set of Four",30]
[8025453,"CC Pheasant Salt and Pepper Set",30]
[5011496,"PL Cattle Horn Spoon",28]
[5011497,"PL Cattle Horn Spreader",28]
[5033442,"MC Bands Dinner Candles Red & Green Set of 2",28]
[5033443,"MC Christmas Tree Dinner Candles Set of 2",28]
[5047468,"The Vinegar Cupboard by Angela Clutton",26]
[2174184,"CC Champagne Cork Bottle Stopper Silver Plate",25]
[5007467,"J Exotic Wildlife Light Green 27 x 20 Tray",25]
[5016189,"K White Latha Placemats",25]
[8025451,"CC Pheasant Bottle Stopper",25]
[5023151,"CF Rose Blush Tapered Dining Candle 10\" x 7\"",24]
[2206897,"B White Cabbage Dinner Plate",22]
[5057207,"Green Feast Spring Summer by Nigel Slater",22]
[5067194,"GG Clear Glass Ball Candlestick Large",20]
[2208431,"CC Bee Butter Knife",18]
[5005559,"HB Speckled Hen Egg Cup",18]
[5061715,"J Lemur Pink Placemat",18]
[5061720,"J Wonder World Green Placemat",18]
[8025821,"Ba Core Cocoa Shaker Copper",18]
[5057201,"Vegan Treats by Emma Hollingsworth",16.989999999999998]
[2202420,"Bursting Bubbles by Robert Walters",16.95]
[2193569,"Ba Coffee Brew it Stick",16]
[2206896,"B White Cabbage Side Plate",16]
[2025258,"CC Honey Drizzler",15]
[8025819,"Ba Coffee Measuring Spoon Copper",15]
[5063508,"TBP Stag and Mistletoe Coasters Set of Four",14]
[5024471,"EE Pair of Tapered Dark Red Wine Candle 42cm",12]
[5024476,"EE Pair of Tapered Dark Grey Candle 42cm",12]
[5024478,"EE Pair of Tapered Turqouise Green Candle 42cm",12]
[5024479,"EE Pair of Tapered Green Candle 42cm",12]
[5024480,"EE Pair of Tapered Glax Candle 42cm",12]
[5024481,"EE Pair of Tapered White Candle 42cm",12]
[5067192,"GG Clear Glass/Gold Etched Nite Lite Pot",12]
[2175056,"MM Hosta Set of 2 Small Spoons Antique Bronze",11]
[5067193,"GG Clear Glass Ball Candlestick Small",10]
[5000346,"SO Oak Serving Board 30cm",8]
[5067190,"HD Glitz Small Tealight Holder Silver",8]
[5007475,"J Exotic Wildlife Pink Coaster",7]
[5015479,"MR Tea Room Vessel Small",195]
[2213677,"TP Round Board",185]
[2209954,"MC Royal Check Medium Canister",98]
[2212724,"CC Grasmere Goblet",90]
[2212720,"CC Grasmere Brandy Glass",85]
[2213676,"TP Book Stand",85]
[8023615,"VL Lens Champagne Glasses Set of 6",85]
[2136720,"Provisions Large 2 Pint Jug",65]
[5007480,"EL Yellow Tumbler Orange Rim",58]
[5016191,"K Minshin Knives (Set of 4)",55]
[2197994,"Large Cabbage Bowl",48]
[5005555,"HB Wheelbarrow & Beets Bowl",48]
[2172685,"Wa Gluggle Jug White Extra Large 10--",45]
[2136724,"Provisions 1 1/4 Pint Pudding Bowl",40]
[2190996,"Swirl Silver Plated Honey Drizzler",38]
[5007460,"J Hydrangea 39cm Round Tray",38]
[2026916,"SP Terracotta Garlic Cellar",30]
[8025647,"Rick Stein's Secret France",26]
[5033434,"MC Christmas Tea Kettle Tea Towel",18]
[5047725,"Just The Tonic: A Natural History of Tonic Water",18]
[2187143,"King Salmon Round Small Bowl",15]
[2213277,"WN Antique Glasses Black Large Tray",295]
[5049994,"C Model Six Core Red",289]
[2207461,"B Large Plain Bottle Coaster",275]
[5015480,"MR Tea Room Vessel Medium",250]
[5060365,"SB Falling Flower Linen Tablecloth Light Blue 165x250",250]
[5060370,"SB Rainbow Printed Linen Tablecloth 165x250",250]
[2213144,"F&M Camden 10 x 8 Sterling Silver Photoframe",200]
[2213276,"WN Porcelain Turquoise Cream Small Tray",185]
[2213282,"WN Cutlery on White Small Tray",185]
[2206966,"RB Diamond Ice Bucket",165]
[2213680,"TP Long Board",145]
[2178846,"2 Piece Carving Set",105]
[2204661,"HW Serving Board in Oak",100]
[2212230,"RB Water Carafe",95]
[2192228,"VL Stars Wine Glasses Set of 6",90]
[2206967,"RB Diamond Highball",90]
[5004955,"VL Lens Wine Glasses Set of 6",90]
[2173630,"VL Stars Tumblers Set of 6",80]
[2206964,"RB Diamond DOF Glass",80]
[5030965,"B Cheese Plate with Birds",80]
[8019539,"CM Out of Africa Circular Table Mats Set 2",80]
[8026738,"CM Green Placemats",80]
[2173631,"VL Stars Liqueur Glasses Set of 6",75]
[8023617,"VL Lens Liqueur Glasses Set of 6",75]
[2212226,"RB Wine Glass Set of 2",70]
[5005564,"HB Ferns Jug",70]
[2201137,"Coravin Aerator",69.95]
[2124793,"MC Tulip Tassel",68]
[2207909,"AR Light Grey and Silver 8x10 Frame",65]
[5007478,"EL Pink Tumbler Orange Rim",58]
[5007479,"EL Violet Tumbler Orange Rim",58]
[2212229,"RB Water Glass Set of 2",50]
[5016215,"Ba Coffee Press Copper 8 Cup",50]
[5067184,"HD Tristy Candle Stand Brass finish",48]
[2134264,"AR Walnut Veneer 5x7 Frame",45]
[2207913,"AR 3cm Silver 8x10 Frame",45]
[8027234,"AR Miki Blue 5x7 Frame",45]
[5007486,"LS Johnas Vase",40]
[5016217,"Ba Twist Press Coffee Maker",40]
[5047721,"Cu Stag Mini Hurricane Lantern",40]
[5061714,"J Lemur Pink 39 Tray",39]
[5061719,"J Wonder World Green 39 Tray",39]
[5061713,"J Lemur Pink 43 x 33 Tray",38]
[5061718,"J Wonder World Green 43 x 33 Tray",38]
[2134245,"AR 4x6 Double Silver SQ Frame",35]
[2207911,"AR Light Grey and Silver 4x6 Frame",35]
[2207914,"AR 3cm Silver 5x7 Frame",35]
[2210068,"Modern Baking by Donna Hay",30]
[8025256,"CF Wrapped Ivory Pillar Candle 12\" x 4\"",30]
[5007498,"LS Candle Holder Green",28]
[2026914,"SP Terracotta Wine Cooler",25]
[5061712,"J Lemur Pink 27 x 20 Tray",25]
[5061717,"J Wonder World Green 27 x 20 Tray",25]
[8019887,"1882 Lustre Cereal Bowl Inner Black Dhow",23]
[2183258,"SP Terracotta Honey Pot",22]
[2026947,"SP Terracotta Jam Pot",20]
[2215003,"Tom Kerridge's Fresh Start",20]
[5007798,"WS Sculptural Bunny Small Bowl",20]
[5067189,"HD Wilma Large Tealight Holder Brass Finish",18]
[5067191,"HD Glitz Large Tealight Holder Silver",15]
[5067185,"HD Anit Tealight Holder Antique Brass",10]
[5067188,"HD Wilma Small Tealight Holder Brass Finish",10]
[8025253,"CF Wrapped Ivory Pillar Candle 6\" x 3\"",10]
[8025257,"CF Wrapped Ivory Pillar Candle 4\" x 3\"",8]
[2208098,"WY Corinne DOF Glass",7]
[2213271,"WN Porcelain Plates & Cups Cream Large Tray",295]
[2213280,"WN Cutlery on White Large Tray",295]
[5049996,"C Model Six Core Black",289]
[2175230,"C Model 2 Elite Red System",279]
[5007484,"EL Night Blue Pitcher Orange Rim",230]
[2213141,"F&M Soho 10 x 8 Sterling Silver Photoframe",200]
[2213273,"WN Porcelain Plates & Cups Cream Small Tray",185]
[2213279,"WN Antique Glasses Black Small Tray",185]
[5015481,"MR Carafe",165]
[5025112,"SS Hurricane Crystal Black Candle Holder Small",125]
[2124820,"MC CC M Enamel Canister",120]
[2206960,"UB Baron Cocktail Shaker",115]
[2124840,"MC CC Enamel 4 Cup Teapot",109]
[5030966,"B White Lily Cheese Tray",105]
[2213139,"F&M Soho 6 x 4 Sterling Silver Photoframe",100]
[2213142,"F&M Camden 6 x 4 Sterling Silver Photoframe",100]
[5005562,"HB Silver Birch Vase",100]
[2209293,"Etoile Decanter",98]
[2213681,"TP Rectangle Board",95]
[5016195,"WY Jasmine Flower Vase 15.5cm",95]
[2215300,"W 8x10-- Real Duck Feather Photo Frame",90]
[5004956,"VL Ovals Wine Glasses Set of 6",90]
[5025108,"SS Hurricane Crystal Clear Candle Holder Small",90]
[2173629,"VL Stars Champagne Coupes Set of 6",85]
[8023618,"VL Oval Champagne Glasses Set of 6",85]
[2025242,"CC Heart Lovers Flutes",80]
[2204660,"HW Serving Board in Ash",80]
[2214254,"CM Table Mats Square Harlequin",80]
[8026740,"CM Blue Placemats",80]
[8026742,"CM Red Placemats",80]
[2206937,"WD 5x7-- Real Pheasant Feather Photo Frame",75]
[5057199,"Larousse Gastro by Prosper Montagne",75]
[8023620,"VL Oval Liqueur Glasses Set of 6",75]
[5030961,"B Double Leaf Dish with Blue Birds",70]
[2134254,"AR 8x10 15mm White Enamel Photo Frame",65]
[5024564,"FC To Have & Side Plate",60]
[2167310,"C 3 Needles Kit",55.95]
[2204659,"HW Serving Board in London Plane",55]
[5000430,"Footed Cake Stand",55]
[5016190,"K Minshin Spoons (Set of 4)",55]
[2209957,"MC Royal Check Spoon Rest",53]
[2212629,"Pollen Street",50]
[5016216,"Ba Coffee Press Teal 8 Cup",50]
[5033438,"MC Santa Salt & Pepper Set",50]
[5033439,"MC Christmas Tree Salt & Pepper Set",50]
[8027235,"AR Gold Bezel 5x7 Frame with Mount",50]
[2134255,"AR 5x7 15mm White Enamel Photo Frame",45]
[2207910,"AR Light Grey and Silver 5x7 Frame",45]
[2207915,"AR Walnut Veneer 8x10 Frame",45]
[8027233,"AR Miki Grey  5x7 Frame",45]
[8027236,"AR Gold Bezel 4x6 Frame with Mount",45]
[5007496,"LS Pichet Jug Blue",42]
[5007488,"LS Laveno Montebello Light Blue Vase",40]
[5007503,"LS Head Vase",40]
[5007505,"LS Head Vase Blue",40]
[2214262,"RF Old Glass Cake Stand Small",38]
[5016214,"Ba Coffee Press Copper 3 Cup",36]
[2134256,"AR 4x6 15mm White Enamel Photo Frame",35]
[5007507,"LS Head Vase Short Blue",35]
[5047714,"Cu Stag Cheese Knives Set of 3",35]
[2026906,"SP Terracotta Tea Jar",30]
[2026907,"SP Terracotta Coffee Jar",30]
[2026908,"SP Terracotta Sugar Jar",30]
[2202418,"Salt, Fat, Acid, Heat by Samin Nosrat",30]
[5047467,"The Food of Sichuan by Fuchsia Dunlop",30]
[5007501,"LS Piccolo Candle Holder Blue",28]
[5007502,"LS Silhouette Vase Blue",28]
[2195760,"At My Table",26]
[4004958,"Bazaar: VIibrant Vegetarian Recipes",26]
[2026911,"SP Terracotta Utensil Jar",25]
[2212773,"Berber & Q by Josh Katz",25]
[5060367,"SB Falling Flower Linen Napkin Light Blue 50x50cm",25]
[5060373,"SB Rainbow Printed Linen Napkin 50x50cm",25]
[2199700,"Melissa Hemsley: Eat Happy 30 Minute Meals",22]
[2184892,"MM Gingko Serving Utensils Set of 2 Antique Gold",21]
[2026904,"SP Terracotta Sugar Bowl",20]
[5007492,"LS Piccola Vase Green",20]
[5007493,"LS Piccola Vase Light Blue",20]
[5007797,"WS Sculptural Bunny Mini Candy Bowl",20]
[8025823,"Ba Milk Jug Copper",18]
[5048701,"A Half Baked Idea by Olivia Potts",14.99]
[5007489,"LS Lyonnais Glass",12]
[5007490,"LS Lyonnais Glass Light Blue",12]
[2206854,"Glamorous Cocktails by William Yeoward",9.99]
[8020910,"Ca Gold Lunch Napkin Holder",8]
[5016200,"WY Adele Vase 40cm",815]
[5016198,"WY Adele Spherical Vase 28cm",660]
[5016201,"WY Juliet Centrepiece Vase 26cm",650]
[5016199,"WY Adele Vase 29cm",505]
[5011498,"PL Caviar Server",350]
[2212721,"CC Grasmere Wine Decanter",345]
[2212722,"CC Grasmere Square Spirit Decanter",345]
[5025109,"SS Hurricane Crystal Clear Candle Holder Medium",325]
[2213274,"WN Porcelain Turquoise Cream Large Tray",295]
[5049995,"C Model Six Core Silver",289]
[2206965,"RB Diamond Decanter",270]
[5064106,"RB Fluted Decanter",255]
[5016208,"WY Shagreen Dark Brown Frame 5 x 7",240]
[5033436,"MC Santa Cookie Jar",238]
[2124852,"MC CC Enamel 2 Tier Sweet Stand",217]
[2213272,"WN Porcelain Plates & Cups Cream Long Tray",210]
[2213278,"WN Antique Glasses Black Long Tray",210]
[2213281,"WN Cutlery on White Long Tray",210]
[5016207,"WY Shagreen Dark Brown Frame 4 x 6",210]
[5016210,"WY Shagreen White Frame 4 x 6",210]
[5047713,"Cu Stag Small Punch Bowl",200]
[5009903,"LSA Yarn Vase Blue 26cm",190]
[5016187,"K White Savoy Butler's Tray",180]
[5011499,"PL Crystal Caviar Server with Vodka Glasses",175]
[2124830,"MC CC Enamel 3 Quart Tea Kettle",167]
[2124832,"MC Flo Mar Enamel 3 Quart Tea Kettle White",167]
[2201042,"MC Flo Mar Whistling Tea Kettle",167]
[2208135,"MC CC 3 Quart Tea Kettle EDN",167]
[2209955,"MC Royal Check 3 Quart Tea Kettle",167]
[2124848,"MC CC L Enamel Pedestal Platter",160]
[2213140,"F&M Soho 7 x 5 Sterling Silver Photoframe",150]
[5064105,"RB Fluted Ice Bucket",140]
[2124836,"MC CC 2 Quart Tea Kettle",139]
[2124838,"MC Flo Mar 2 Quart Tea Kettle White",139]
[2208134,"MC CC 2 Quart Tea Kettle EDN",139]
[2209951,"MC Royal Check 2 Quart Tea Kettle",139]
[2212228,"RB Old Wine Decanter",125]
[5009902,"LSA Yarn Vase Blue 16cm",125]
[2124817,"MC CC Enamel S Canister",110]
[2124854,"MC CC S Mesh Dome",109]
[2124855,"MC Flo Mar S Mesh Dome",109]
[5007450,"KH Large Pedestal Bowl",106]
[2215664,"MC Flo Mar Squashed Pot White",105]
[2209953,"MC Royal Check Large Canister",102]
[2215657,"MC CC Enamel Canister Large",102]
[2215661,"MC Flo Mar Large Canister White",102]
[2212227,"RB Young Wine Decanter",100]
[5005563,"HB Flowers At Columbia Road Vase",100]
[2201043,"MC CC Medium Practical Pitcher",98]
[2209956,"MC Royal Check Pitcher",98]
[2215663,"MC Flo Mar Pitcher White",98]
[5015483,"MR Tiny Jug",98]
[5025113,"SS Hurricane Boule Clear Candle Holder",95]
[5025115,"SS Boule Smoky Grey Candle Holder",95]
[5025116,"SS Hurricane Boule Sage Candle Holder",95]
[2209950,"MC Royal Check Small Canister",93]
[2206938,"WD 8x10-- Real Pheasant Feather Photo Frame",90]
[5016185,"K White Pegu Tray",90]
[2124858,"MC CC Enamel Utensil Holder",86]
[2209949,"MC Royal Check Squashed Pot",86]
[2215656,"MC CC Enamel Squashed Pot",86]
[5009886,"LSA Light Storm LSA Lantern 35cm",85]
[2201047,"MC CC Tea For Me Pot",83]
[5033441,"MC Pineapple Candle Holder Small Black",81]
[2215650,"MC CC Enamel Lidded Sugar Bowl",80]
[5016186,"K White Strand Ice Bucket",80]
[8023616,"VL Lens Tumblers Set of 6",80]
[5047723,"Cu Antler Hurricane Lantern",75]
[5005565,"HB Girl And 2 Dogs Jug",70]
[5016184,"K White Inle Tray",70]
[2215655,"MC CC Cookie Jar",69]
[2215662,"MC Flo Mar Cookie Jar Black",69]
[5007485,"LS Antichita Vase",68]
[2211164,"FL Sommelier Precious Wood Bark",65]
[5009901,"LSA Umberto Vase 24cm",65]
[2215651,"MC CC Enamel Creamer",60]
[5009885,"LSA Light Storm LSA Lantern 29cm",60]
[2215681,"MC Morning Glory Napkin Holder",58]
[5009888,"LSA Pleat Vase 26cm Clear",55]
[5047715,"Cu Stag Wine Bottle Cooler",55]
[5033437,"MC Santa Nutcracker Cookie Plate",54]
[2215654,"MC CC Enamel Spoon Rest",53]
[5033431,"MC CC Teapot Salt & Pepper Set",50]
[2214261,"RF Old Glass Cake Stand Medium",48]
[5009887,"LSA Pleat Vase 20cm Grey",45]
[5009900,"LSA Umberto Vase 15cm",45]
[5007495,"LS Pichet Jug Green",42]
[5009884,"LSA Light Storm LSA Lantern 17cm",40]
[5009892,"LSA Serve Caviar Dish",40]
[2165402,"H Buono Coffee Kettle 600ml",37]
[2206856,"Rogan by Simon Rogan",30]
[5009890,"LSA Pleat TeaLSA Light Holder 9.5cm Grey",30]
[5007499,"LS Candle Holder Blue",28]
[5007500,"LS Piccolo Candle Holder Green",28]
[5009899,"LSA Umberto Vase 14cm",28]
[8022854,"NM Salt Pot and Scoop Set",25]
[8022855,"NM Small Pestle & Mortar Set",25]
[5009889,"LSA Pleat TeaLSA Light Holder 9.5cm Clear",22]
[2202419,"The Wine Dine Dictionary by Victoria Moore",20]
[8022844,"NM Round Dish 13cm",20]
[2026938,"SP Terracotta Sea Salt Pot",18]
[5016213,"Ba Brew It Stick Teal",16]
[2167309,"C Capsules 2 Pack",15.95]
[2211110,"KL Ceramic Travel Mug",10]
[2161872,"Charles Farris Glass Drip Protectors",4]
[2137065,"Ed Olivewood Spoon 30cm",2]
[8023028,"Vintage Napier Cocktail Shaker C1935",855]
[5025110,"SS Hurricane Crystal Clear Candle Holder Large",825]
[2209002,"B4608 Georgian Fruit Bowl C1800",795]
[2213302,"Vintage Edwardian Wine Cooler C1910",740]
[2144849,"Kenneth Turner Tall 9 Piece Candelabra",525]
[5016203,"WY Juliet Waisted Vase",500]
[5004102,"A9025 Georgian Goblet Engraved A Baker British C1810",495]
[5011500,"PL Caviar Server with Vodka Glasses",495]
[2210663,"B5961 Georgian Taper Decanter British C1790",475]
[5017464,"B5791 Victorian Decanter Engraved with Insects British C1890",475]
[5003233,"Vintage Polar Bear Cocktail Medium C1950",450]
[5015854,"ATTLG Mrs Beeton's Book of Household Management",450]
[5004094,"B6024 Georgian Pair Of Tumblers Engraved Band British C1810",425]
[5004086,"A9872 Thistle Shape Jar & Cover Cut With Bands Early 19th C",325]
[5004100,"B6021 Pair Of Crystal Champagnes Flutes British Late 19th C",325]
[5025119,"SS Hurricane Classic Silver Candle Holder Large",325]
[5025120,"SS Hurricane Classic Rose Candle Holder Large",325]
[5016202,"WY Juliet Centrepiece Vase 18.5cm",290]
[2175229,"C Model 2 Elite Silver System",279]
[2201136,"Coravin Model 2 Elite Champagne System",279]
[2175228,"C Model 2 Elite Gold System",279]
[2210660,"B4370 Large Decorative Glass Jug C1950",275]
[2214099,"B6004 Georgian Pair Of Wines Engraved POW Feathers C1800",275]
[5016206,"WY Shagreen Black Frame 8 x 10",275]
[5016209,"WY Shagreen Dark Brown Frame 8 x 10",275]
[2209012,"B4736 Georgian Pair of Wines C1800",265]
[2213289,"Vintage Pear Serving Tray",260]
[2208161,"HB Jam Jar",250]
[5068558,"B6002 Sea Green Tumbler Vase C1980s",245]
[5068570,"B4961 Georgian Pair of Ports C1800",245]
[5016205,"WY Shagreen Black Frame 5 x 7",240]
[5016211,"WY Shagreen White Frame 5 x 7",240]
[2214094,"B5400 Georgian Petal Moulded Rummer Engraved Hops C1800",235]
[5004099,"B6023 Victorian Crystal Goblet Engraved British C1870",235]
[5068563,"B6019 Pair of Crystal Bowl Champagnes Early 20th C",235]
[5068571,"B5830 Georgian Pair of Spirit Glasses C1800",235]
[2210678,"A3753 Pair of Late Georgian Rinser Bowls British C1835",225]
[2215679,"MC Morning Glory 2 Tier Sweet Stand",225]
[5004091,"B5426 Victorian Claret Jug Engraved British C1880",225]
[5068554,"B6037 Sapphire Bowl Pre-C1946",225]
[5068568,"B6015 Fine Victorian Pair of Ports C1870",225]
[5016197,"WY Jasmine Footed Rose Bowl & Wire 20cm",220]
[2124846,"MC Flo Mar Enamel Cake Carrier White",217]
[5068556,"B5985 Twilight Vase Whitefirars England",215]
[2213275,"WN Porcelain Turquoise Cream Long Tray",210]
[5016204,"WY Shagreen Black Frame 4 x 6",210]
[5015869,"ATTLG Mrs Rundell Domestic Cookery by a Lady",205]
[5015870,"ATTLG The Times Bee Master Bee Keeping",205]
[5015868,"ATTLG Weekly Telegraph Cookery Book",195]
[5068557,"B5987 Ruby Moulded Vase C1950",195]
[5015855,"ATTLG Mrs Beeton's All About Cookery",185]
[5015863,"ATTLG Mrs Beeton's Dictionary of Everyday Cookery",185]
[5068572,"B5908 Victorian Pair of Liqueurs C1870",185]
[5068566,"A3885 Late Georgian Rummer Cut C1830",175]
[2213609,"A9077 Georgian Wrythen Ale C1790",165]
[5004098,"B5945 Victorian Crystal Goblet Engraveds British C1890",165]
[2213143,"F&M Camden 7 x 5 Sterling Silver Photoframe",150]
[5028506,"ATTLG Alfred Praga Appearances",150]
[2215680,"MC Morning Glory Everything Bowl",145]
[5015865,"ATTLG Mrs Beeton's All About Cookery",135]
[5068565,"A9946(c) Victorian Pair of Finger Bowls C1880",135]
[5068567,"A9264 Georgian Ale Glass C1800",135]
[2215678,"MC Morning Glory Pitcher Large",130]
[5068562,"B5517 Pair of Crystal Wines Late 19th C",125]
[5068564,"B4813(a) Fine Victorian Finger Bowl C1880",125]
[2213600,"B5992 Glass Salt Dish C1900",115]
[5068573,"B5972 Crystal Liqueur Late 19th C",115]
[2181898,"MC Flo Mar Recipe Box White",109]
[2215677,"MC Morning Glory Compote Small",105]
[5015860,"ATTLG Mary Hooper Handbook For The Breakfast Table",100]
[8019538,"CD Napoleon Champagne Sabre",98]
[5068555,"B6008 Glass Jug with Amber Handle & Foot C1930s",95]
[8022845,"NM Medium Round Serving Bowl",95]
[8019895,"1882 Lustre Platter Black Dhow",93]
[5068561,"A8199 Regency Scent Bottle C1820",85]
[5030962,"B Appetizer Plate with Bird",80]
[2206939,"WD 5x7-- Real Guinea Fowl Feather Photo Frame",75]
[2215299,"W 5x7-- Real Duck Feather Photo Frame",75]
[5015856,"ATTLG Anne Bowman The New Cookery Book",75]
[5016192,"K Kuki Salad Servers",75]
[5015859,"ATTLG Robert Wells The Pastrycook",65]
[5068569,"B5450 Pair of Crystal Ports C1920s/30s",65]
[8023017,"B5548 Victorian Petal Moulded Jelly C1860",65]
[2206866,"OM Linen Tablecloth White",61]
[5028501,"ATTLG Alfred Praga Easy French Sweets for English Cooks",60]
[5028505,"ATTLG C.Herman-Senn Meatless Dishes",60]
[2214260,"RF Old Glass Cake Stand Large",58]
[2211162,"FL Sommelier Precious Wood Thuya",55]
[5028502,"ATTLG S Beaty-Pownall Queen Cookery Book No 9",55]
[5028504,"ATTLG S Beaty-Pownall Queen Cookery Books Series 1",55]
[5068560,"A7781 Victorian Amber Paperweight Lion C1880",55]
[2211160,"FL Sommelier Horn Tip Black",52]
[5030959,"B Double Leaf Dish with Blue Bird",51]
[5030960,"B Leaf Dish with Blue Bird",46]
[5015489,"W XL Green Rooster Jug",45]
[2134244,"AR 5x7 Double Silver SQ Frame",40]
[2136721,"Provisions Straight Sided Utensil Pot",40]
[5007487,"LS Laveno Montebello Green Vase",40]
[5007504,"LS Head Vase Green",40]
[5015867,"ATTLG C.Herman-Senn M.B.E Breakfast Dishes and Savouries",40]
[5015864,"ATTLG Homely Hints by  Monsieur Alfonse",35]
[8027232,"AR Walnut Veneer 4x6 Frame",35]
[5005569,"HB Chelsea Gardener Mug",32]
[2192612,"Queen Bee Honey Pot",25]
[2203654,"L'Objet Malachite Rectangular Tray - Small",25]
[2204163,"Mazi: Modern Greek Food",25]
[8019891,"1882 Lustre Coffee Cup Black Stripe",23]
[2175055,"MM Hosta Set of 2 Serving Utensils Antique Bronze",22]
[8025646,"Lose Weight and Get Fit",22]
[2193570,"Ba Coffee Pod Cage Gold",20]
[5007461,"J Hydrangea Placemat",18]
[8025822,"Ba Core Cocoa Shaker Black",18]
[2165406,"H Olivewood Coffee Server 600ml",17]
[2212373,"SM White Board 40cm",17]
[5005580,"S Bamboo Salad Servers",17]
[2212764,"A Celebration of British Craftsmanship",15]
[2202080,"LDV Verseur Wine Pourer",13]
[5022359,"MB Soft Grey Large Tea Mug",10]
[2211108,"LD Pince A Bouchon",8]
[4005210,"The Book of Tea",7.99]
[5007462,"J Hydrangea Coaster",7]
[2165404,"H Coffee Scoop Copper",5]
[2206863,"OM Linen Napkin Natural",4]
[2202417,"The Sportsman by Stephen Harris",29.95]
[2211105,"LD Oeno Collection 2",56]
[8024834,"L Gold Han Salt & Pepper Shaker",45]
[5016218,"Ba Shorty Pour Over Jug 600ml Copper",40]
[8024823,"L Deco Twist Gold Frame 4cm x 6cm",38]
[5007449,"KH Oval Serving Bowl",28]
[8019889,"1882 Lustre Coffee Cup Gold Dhow",23]
[8019892,"1882 Lustre Espresso Cup Gold Dhow",20]
[2185250,"L'Objet Cloche",16]
[2208104,"WY Country Caviar Dish & MOP Spoon",16]
[5007455,"KH Cereal Bowl",16]
[5000343,"SO Medium Oak Paddle",12]
[5015488,"W Mini Sage Jug",12]
[5022364,"MB Malmo Peacock Tea Mug",12]
[5022365,"MB Malmo Dusky Pink Tea Mug",12]
[5022361,"MB Peacock Large Tea Mug",10]
[5022395,"MB Espresso Grey Coffee Cup",7]
[5022397,"MB Espresso Peacock Coffee Cup",7]
[2206862,"OM Linen Napkin White",4]
[2211163,"FL Sommelier Precious Wood Juniper",55]
[5007456,"KH Candlestick Holder Scalloped",17]
[5007454,"KH Breakfast Plate Scalloped",8]
[5007457,"KH Pinch Bowl Scalloped",5]
[2204437,"London Fettle",30]
[2195152,"American Crew American Crew Wash Bag Kit",17.5]
[2198176,"American Crew Win Fragrance 100ml",8.75]
[2198177,"American Crew Heavy Hold Pomade 85g",8]
[2198180,"American Crew Face Balm SPF 170ml",7.5]
[2200723,"American Crew Firm Styling Hold Gel 250ml",6.25]
[2198178,"American Crew Fiber Cream 100ml",3.75]
[2198179,"American Crew Shaving Foam 300ml",3]
[5068172,"Atelier Des Ors Leather Backgammon Set 500ml",1550]
[2076378,"Creed Pure White Cologne 250ml",750]
[5004970,"Marcel Franck atomizer black murano glass onion Escale Mount",475]
[2031030,"Bal Versailles Perfum 30ml",350]
[2084020,"Chypre Palatin EDP 75ml Resin",320]
[2084024,"MDCI Vepres Siciliennes EDP 75ml Resin",320]
[2182721,"MDCI Silk Road : Cuir Garamante (Silver)",295]
[8022268,"Micallef Sweet Summer 100ml EDP",295]
[2194784,"Creed Royal Mayfair 100ml",280]
[2161913,"Annick Goutal Eau d'Hadrien Butterfly Bottle 100ml",265]
[5004965,"Marcel Franck atomizer Crystal gold Fizz mount",250]
[5004966,"Marcel Franck atomizer Crystal Palladium Fizz mount",250]
[5004968,"Marcel Franck atomizer Crystal egg palladium Fizz mount",250]
[5004969,"Marcel Franck atomizer Amber Crystal Fizz mount",250]
[5030355,"Chabaud Chic et Boheme 100ml Extract",225]
[2013728,"Creed Love In Black Edp Spray 75ml",220]
[2031396,"Creed Acqua Fiorentina Eau De Perfum 75ml",220]
[2101913,"Creed Fleurs de Gardenia 75ml",220]
[2084030,"MDCI Peche Cardinal EDP 75ml Tassel",210]
[2127777,"Nuit Andalouse EDP 75ml Tassel",210]
[2127778,"Cuir Garamante EDP 75ml Tassel",210]
[2182718,"MDCI F tes Persanes EDP 75ml Tassel",210]
[5059576,"Les Eaux Primordiales Rosewood Superfluide 100ml EDP",200]
[5059579,"Les Eaux Primordiales Encens Superfluide 100ml EDP",200]
[5059580,"Les Eaux Primordiales Magnolia Supercritique 100ml EDP",190]
[5059581,"Les Eaux Primordiales Rose Supercritique 100ml EDP",190]
[2214663,"Caron La Collection Privee Montaigne EDP 100ml",185]
[5059577,"Les Eaux Primordiales Couleur Primaire 100ml EDP",180]
[5059578,"Les Eaux Primordiales Mécanique Intuitive 100ml EDP",180]
[2170320,"Grossmith Betrothal Perfume 10ml",175]
[2137220,"Marcel Frank Murano Glass Bottle Gold",175]
[2123687,"Annick Goutal Rose EDP Spray 100ml",173]
[2175110,"Penhaligons Trade Routes Alazarin EDP 100ml",173]
[5068726,"Penhaligons Halifeti Leather EDP 100ml",172]
[2031475,"Caron Tabac Blond Monument EDP 100ml",167.5]
[2192637,"Caron fountain: Tabac Blond Extract 50ml",165]
[5004979,"Marcel Franck travel atomizer guilloche venice black",150]
[2190765,"Salvador Dali Fabulous Collection: Fabulous Korynthia Gold 2",150]
[5027047,"Penhaligons Brilliantly British EDP 100ml",144]
[5004980,"Marcel Franck travel atomizer guilloche linen rose gold",140]
[2203744,"Penhaligons Kensington Amber EDP 100ml",137]
[2203745,"Penhaligons Belgravia Chypre EDP 100ml",137]
[2203746,"Penhaligons Marylebone Wood EDP 100ml",137]
[5004975,"Marcel Franck travel atomizer leather rose gold",130]
[2175095,"Ormonde Jayne Jardin d'Ombre 120 ml",125]
[5004977,"Marcel Franck travel atomizer guilloche barley palladium",120]
[2183608,"Annick Goutal Tenue de Soiree EDP 100ml",117]
[2190867,"Annick Goutal Nuit et Confidences EDP 100ml",117]
[2099538,"Micallef Royal Vintage EDP 100ml",115]
[4005217,"Atelier des Ors Musc Immortel EDP 100ml Exclusive",112.5]
[2123679,"Annick Goutal Grand Amour EDP Spray 100ml",112]
[2123682,"Annick Goutal Eau d'Hadrien EDP Spray 100ml",112]
[2123684,"Annick Goutal Passion EDP Spray 100ml",112]
[2123685,"Annick Goutal Gardenia EDP Spray 100ml",112]
[2178277,"Guerlain Jicky 16 EDP 100ml Spr",112]
[5004984,"Marcel Franck travel atomizer acrylic green",110]
[2084674,"Ormonde Jayne Champaca EDP 50ml",110]
[2123686,"Annick Goutal Rose EDP Spray 50ml",108]
[2031480,"Caron N'Aimez Que Moi EDP 50ml",105]
[5025225,"Rose Arabia Lily EDP 100ml Vapo",95]
[5025226,"Rose Arabia Taifi EDP 100ml Vapo",95]
[5025227,"Rose Arabia Almond EDP 100ml Vapo",95]
[2191795,"Guerlain Insolence - Eau de Toilette 100ml",92]
[2179628,"Annick Goutal Rose Pompon EDT 100ml",91]
[2179631,"Annick Goutal Un Matin d'Orage EDT 100ml",91]
[2179632,"Annick Goutal Vanille Exquise EDT 100ml",91]
[2029266,"Guerlain Apres L'Ondee EDT 100ml",88]
[2183607,"Annick Goutal Tenue de Soiree EDP 50ml",85]
[2190866,"Annick Goutal Nuit et Confidences EDP 50ml",85]
[5030351,"Rosendo Mateu No 5 Hair mist 100ml",85]
[2133629,"Guerlain L'Homme Ideal EDT 100ml",76]
[2204645,"Goutal Eau D'Hadrien Mixed Eau de Parfum Spray 100ml",66]
[2147552,"Arquiste Infanta en Flor EDP 55ml",65]
[8018361,"Bois 1920 Sushi Imperiale EDT 100ml",65]
[2029343,"Guerlain Aqua Allegoria Herba Fresca EDT 75ml",59]
[2029392,"Guerlain Aqua Allegoria Mandarine Basilic EDT 75ml",59]
[2167462,"Guerlain Aqua Allegoria Pera Granita - 75ml",59]
[2012693,"Penhaligons Blenheim Bouquet Bath Oil 200ml",45]
[2161910,"Annick Goutal Les Asbolus 1001 Ouds 75ml",43]
[2161911,"Annick Goutal Les Asbolus Ambre Sauvage 75ml",43]
[2161912,"Annick Goutal Les Absolus Vanille Charnelle 75ml",43]
[5062305,"Penhaligons Men’s Fragrance Collection 5x5ml X20",40]
[5062306,"Penhaligons Ladies Fragrance Collection 5x5ml X20",40]
[2204652,"Annick Goutal Ninfeo Mio Mixed Eau de Toilette Spray 100ml",27]
[2163052,"Escentric Molecules Escentric 03-200ml-Body Wash",20]
[2157759,"F&M 1707 Miniature Coffret Or & Noir EDP 5ml Each",15]
[2149585,"Caron fountain: Delire de Roses 500ml extract",0.01]
[2031374,"Caron fountain: Tabac Blond Perfume Extract 500ml",0]
[2031503,"Caron fountain: N'Aimez Que Moi EDP 500ml",0]
[2204516,"Micallef Exclusive 20 Years 100ml",275]
[2157760,"F&M 1707 Argent EDP 50ml",195]
[2079699,"F&M Perfumery Blotters",0]
[2215385,"1707 Lilas EDP 100ml",295]
[2031389,"Caron Spray Empty Bottle 50ml",55]
[2200578,"Caron Pois de Senteur Pre-Filled Extrait Spray 50ml",210]
[5064157,"Micallef Hand Sanitiser Anada 60ml",6]
[2171545,"Micallef Mon Parfum Exclusif Fortnum 100ml",265]
[2031384,"Caron Purse Spray Clear",24]
[8017397,"ATELIER DES ORS Pomelo Riviera  100ml EDP",97.5]
[5064158,"Micallef Hand Sanitiser Anada 200ml",10]
[2180903,"Grossmith Sylvan Song EDP 10ml",50]
[8017391,"PERRIS MONTE CARLO Jasmin de Pays 100ml EDP",130]
[2029749,"Houbigant Paris Quelques Fleurs Royale EDP 100ml",130]
[5030353,"Atelier Nuda Veritas 100ml Extract",295]
[2090590,"F&M 1707 Noir EDP 100ml",250]
[8022310,"Xerjoff Apollonia EDP 50ml",240]
[2067088,"F&M 1707 Noir EDP 50ml",195]
[2111585,"F&M 1707 Or EDP 50ml",195]
[2201059,"Nicolai Patchouli Intense 100ml Spray",163]
[2029754,"Houbigant Paris Quelques Fleurs EDP 100ml",130]
[8017390,"PERRIS MONTE CARLO Rose de Mai 100ml EDP",130]
[8017388,"CHABAUD Patchouli 1973 100ml EDP",135]
[2189832,"Xerjoff Alexandria II 100ml",500]
[8027180,"Xerjoff Alexandria III Parfum 50 ml",275]
[2198675,"Goldfield & Banks Pacific Rock Moss 100ml",135]
[2201725,"Caron Les Essentiels Fleur de Rocaille EDP 50ml",80]
[2205166,"Caron Les Essentiels Infini Exclusive EDP 50ml",80]
[2212610,"Elegantes Oud Noblesse EDP 100ml",520]
[2140077,"Micallef Mon Parfum Gold 100ml",230]
[2183540,"Perris Monte Carlo Oud Imperial Extrait 50ml",225]
[2203820,"Houbigant Jardin Anglais EDP 100ml",195]
[8018717,"Xerjoff Accento EDP 50ml",155]
[2208503,"Caron Les Essentiels Fleur de Rocaille EDP 100ml",115]
[2031368,"Caron Pour Un Homme EDT 125ml",80]
[2175090,"Atelier des Ors Rose Omeyyade EDP 100ml",225]
[2165590,"MFK Baccarat Rouge 540 70ml EDP Spray",215]
[2176211,"Penhaligons Portaits The Coveted Duchess Rose EDP 75ml",192]
[2202226,"Ma tre Parfumeur et Gantier Secr te Datura EDP 120ml",185]
[2202230,"Ma tre Parfumeur et Gantier Ambre Mythique EDP 120ml",185]
[2203818,"Houbigant Quelque Fleur Royale Extreme EDP 100ml",160]
[2179036,"Lubin Kismet EDP 100ml",120]
[2199994,"Gallivant London EDP 30ml",65]
[2188589,"Mizensir Ideal Oud 100ml EDP Spray",175]
[2190998,"Mizensir Rose Exaltante 100ml EDP Spray",175]
[2190195,"Xerjoff Naxos EDP",170]
[8018719,"Xerjoff opera EDP 50ml",170]
[8018119,"Roja Parfums Amber Aoud Suprême Hair Mist 50ml",125]
[8018120,"Roja Parfums Elixir Suprême Hair Mist 50ml",95]
[5003194,"Micallef Jasmine 7ml Precieuse Huile",0]
[2212607,"Elegantes Amber Wood EDP 100ml",470]
[2208690,"Maitre Parfumeur et Gantier Oud Extravagant EDP 120ml",370]
[8018688,"Creed Aventus Cologne 100ml Spray",230]
[2030886,"Micallef Mon Parfum EDP 100ml",230]
[8017396,"ATELIER DES ORS Riviera Drive 100ml EDP",195]
[2202232,"Ma tre Parfumeur et Gantier Ambre Pr cieux EDP 120ml",185]
[2193418,"Franck Muller Aeternitas EDP 75ml",170]
[2190763,"Salvador Dali Daligramme Collection: Ma Force",170]
[2202229,"Ma tre Parfumeur et Gantier Bahiana EDP 120ml",165]
[4008310,"SYDNEY ROCK POOL EAU DE PARFUM",160]
[8018701,"Ramon Monegal Cherry Musk 50ml EDP",130]
[8018703,"Ramon Monegal Kiss my Name 50ml EDP",130]
[8018730,"Ormonde Jayne Jardin Infini 120ml Parfum",125]
[2199288,"Chabaud Vintage EDP 100ml",100]
[8018121,"Roja Parfums Enigma Suprême Hair Mist 50ml",95]
[2031467,"Caron Les Essentiels Lady Caron EDP 50ml",80]
[2212609,"Elegantes Ultimate Musk EDP 100ml",470]
[2136616,"F&M 1707 Coffret Or & Noir",350]
[2200992,"1707 Noir Parfum 50ml",325]
[2160995,"Grossmith Sylvan Song EDP 100ml",295]
[2190756,"SD Jewels Collection: Voyage du Papillon de Vie, The Butterf",280]
[2132790,"Grossmith Sylvan Song EDP 50ml",210]
[8020688,"Oryn House Narcotic Oud 100ml",198]
[4008476,"Penhaligons Heartless Helen EDP 75ML",188]
[2214666,"Caron La Collection Privee Tubereuse EDP100ml",185]
[2158590,"Penhaligons Halfeti EDP 100ml",178]
[2188592,"Mizensir Musc Eternel 100ml EDP Spray",175]
[2195641,"Mizensir Perfect Oud 100ml EDP Spray",175]
[2193416,"Franck Muller Crazy Hours EDP 75ml",170]
[2203817,"Houbigant Quelque Fleur Extreme EDP 100ml",160]
[5027045,"Penhaligons The Favourite EDP 100ml",144]
[2165283,"Lorenzo Villoresi Firenze Teint de Neige EDP 100 ml",135]
[2188914,"Houbigant Paris Quelque Fleur Jardin Secret EDP 100ml",130]
[2183539,"Perris Monte Carlo Oud Imperial EDP 100ml",130]
[8018700,"Ramon Monegal Agar Musk 50ml EDP",130]
[2031533,"Lorenzo Villoresi Firenze Teint de Neige EDT 100ml",115]
[2031372,"Caron Le 3 Homme De Caron EDT 125ml",90]
[2029781,"Jean Charles Brosseau Ombre Rose EDP 75ml",80]
[2186554,"Lorenzo Villoresi Firenze Teint De Neige Hair Mist 50ml",50]
[2189023,"Xerjoff Alexandria Imperiale 50ml",340]
[2189831,"Xerjoff Alexandria II 50ml",275]
[2029990,"Casamorati 1888 Bouquet Ideale EDP 100ml",255]
[2167329,"Micallef Pure Extreme EDP 100ml",230]
[4008477,"Penhaligons Terrible Teddy EDP 75ML",192]
[2188593,"Mizensir Original Oud 100ml EDP Spray",175]
[2193417,"Franck Muller Double Mystery EDP 75ml",170]
[2182686,"Sisley Izia 100ml",164]
[2190767,"Salvador Dali Fabulous Collection: Fabulous Srinagar Gold 4",150]
[2052123,"Houbigant Paris Fougere Royale EDP 100ml",130]
[2183537,"Perris Monte Carlo Ambre Gris EDP 100ml",130]
[2183542,"Perris Monte Carlo Rose De Taif EDP 100ml",130]
[2189024,"Ormonde Jayne Jardin d'Ange 120ml",125]
[8020378,"Roja Taif Aoud Supreme Hair Mist 50ml",125]
[2183526,"Houbigant Paris Duc De Vervins EDP 120ml",90]
[2029752,"Houbigant Paris Quelques Fleurs EDP 30ml",50]
[2212608,"Elegantes Rose Elegantes EDP 100ml",470]
[2198685,"Oasis of the Sahara 75ml",295]
[2208518,"Atelier des Ors Nuda Veritas EDP 100ml",195]
[8017398,"ATELIER DES ORS Riviera Lazuli 100ml EDP",195]
[2188595,"Creed Aventus 50ml Spray",195]
[2176210,"Penhaligons Portraits The Revenge of Lady Blanche EDP 75ml",192]
[2214665,"Caron La Collection Privee Or Et Noir EDP 100ml",185]
[8017402,"ROSENDO MATEU Rosendo Mateu No4 100ml EDP",165]
[2193142,"Arquiste l EDP 100ml",160]
[2190766,"Salvador Dali Fabulous Collection: Fabulous Mandawe Gold 3",150]
[2183538,"Perris Monte Carlo Bois D'Oud EDP 100ml",130]
[2208501,"Caron Les Essentiels Infini 100ml EDP",115]
[2061923,"Caron Accord Eau de Parfum 119 50ml",105]
[2199289,"Chabaud Chic et Boheme EDP 100ml",100]
[2199292,"Chabaud Nectar des Fleurs EDP 100ml",100]
[2211969,"Houbigant Paris Essence Rare EDP 100ml",80]
[2031348,"Caron Pour Un Homme EDT 75ml",65]
[5003193,"Micallef Rose 7ml Precieuse Huile",0]
[2198679,"Oud Jamais Vu 75ml",295]
[2198681,"Scent N 13 75ml",295]
[2190182,"Xerjoff Oesel Parfum 50ml",238]
[2215365,"Marianne Venderbosch & M.Micallef EDP 100ml",230]
[2183546,"Perris Monte Carlo Patchouli Nosy Be Extract 50ml",225]
[5025756,"Rosendo Mateu Black Collection Fresh Oud 100ml Parfum",225]
[2176209,"Penhaligons Portraits The Tragedy of Lord George EDP 75ml",192]
[2176212,"Penhaligons Portraits Much Ado About The Duke EDP 75ml",192]
[2029068,"Grossmith Shem-el-Nessim EDP 50ml",185]
[2202225,"Ma tre Parfumeur et Gantier Rose Opulente EDP 120ml",185]
[2193415,"Franck Muller Color Dreams EDP 75ml",170]
[2203819,"Houbigant Secret Jardin Extreme EDP 100ml",160]
[2202228,"Ma tre Parfumeur et Gantier Vocalise EDP 120ml",160]
[2190197,"Xerjoff More Than Words EDP 50ml",155]
[2213585,"Salvador Dali Fabulous Collection Tian Shan 100ml",150]
[2085941,"Penhaligons Ellenisia EDP 100ml",144]
[2179035,"Lubin Upper Ten For him EDP 100ml",140]
[2183536,"Perris Monte Carlo Patchouli EDP 100ml",130]
[2183548,"Perris Monte Carlo Ylang Ylang Nosy Be EDP 100ml",130]
[2186304,"Lubin Epidor 100ml spray EDP",120]
[2014169,"Penhaligons Endymion EDC 100ml",110]
[2031474,"Caron Tabac Blond Monument EDP 50ml",105]
[2093141,"Lalique de Lalique EDP 100ml",100]
[2029753,"Houbigant Paris Quelques Fleurs EDP 50ml",90]
[2150157,"Houbigant Paris Quelques Fleurs Royale EDP 50ml",90]
[2074390,"Caron Atomiser Purse Spray Gold 20ml",35]
[5009116,"Plume Impression Etat du Grace 80ml EDP",0]
[2131712,"Roja Parfums F&M Taif Aoud 50ml",395]
[8023223,"HOC 11:00am 100 ml",300]
[2198684,"Absolute Spring 75ml",295]
[2194321,"MFK Baccarat Rouge 540 70ml Extrait de Parfum",295]
[2190758,"SD Jewels Collection: M lodie du Cygne de la Main, The Hand",280]
[2199167,"Micallef Mon Parfum Pearl EDP 100ml",225]
[2183543,"Perris Monte Carlo Rose De Taif Extrait 50ml",225]
[8018726,"Ormonde Jayne Ta'if Elixir 50ml Parfum",220]
[2177263,"Micallef Secret of Love Sensual 75ml EDP",198]
[8020689,"Oryn House Kalahari Dream 100ml",198]
[2140805,"Nobile 1942 Profumo Rudis 75ml",195]
[2164759,"Ormonde Jayne Montabaco Intensivo 50ml",195]
[2181296,"Penhaligons Portraits Clandestine Clara EDP 75ml",192]
[2207773,"Penhaligons The Changing Constance EDP 75ml",192]
[4008475,"Penhaligons Trade Routes Cairo EDP 100ml",173]
[2190760,"Salvador Dali Daligramme Collection: Ma Muse",170]
[8017403,"ROSENDO MATEU Rosendo Mateu #5 100ml EDP",165]
[8017404,"ROSENDO MATEU Rosendo Mateu #6 100ml EDP",165]
[8017392,"HOUBIGANT Mon Boudoir  100ml EDP",160]
[8018718,"Xerjoff Soprano EDP 50ml",155]
[2190764,"Salvador Dali Fabulous Collection: Fabulous Marudha Gold 1",150]
[2076558,"Penhaligons Juniper Sling EDT 100ml",144]
[2171292,"Penhaligons Luna Eau de Toilette 100ml",144]
[2198673,"Goldfield & Banks White Sandalwood 100ml",135]
[2208504,"Caron Les Essentiels Lady Caron EDP 100ml",115]
[2199290,"Chabaud Innocent Fragilite EDP 100ml",100]
[2199293,"Chabaud Mysterious Oud EDP 100ml",100]
[2031534,"Lorenzo Villoresi Firenze Teint de Neige EDT 50ml",90]
[5050143,"Guerlain Shalimar collector 2020 Edp 50ml",81]
[2044909,"Caron Yuzu Man EDT 75ml",60]
[5009101,"Masque Milano Russian Tea 35ml EDP",0]
[5009115,"Plume Impression Eclat de Joie 80ml EDP",0]
[5009119,"Plume Impression Elegance Cuiree 80ml EDP",0]
[2199169,"Micallef Mon Parfum Gold Pure 100ml",495]
[2205110,"Roja Parfums Fortnum & Mason The Perfume 50ml Exclusive",425]
[2214670,"Ahwaz Midnight Mist EDP 75ml",375]
[2084017,"MDCI Ambre Topkapi EDP 75ml Resin",320]
[2084021,"MDCI Rose de Siwa EDP 75ml Resin",320]
[2084023,"MDCI Peche Cardinal EDP 75ml Resin",320]
[2198680,"Ahwaz King's Harem 75ml",295]
[2198682,"Morning Mist 75ml",295]
[2187337,"Creed Aventus 100ml Spray",280]
[8025965,"MFK Amyris Femme 70ml EDP",270]
[2029069,"Grossmith Shem-el-Nessim EDP 100ml",265]
[8018698,"Ramon Monegal Flamenco 100ml EDP",260]
[2213286,"Casamorati Gentil Uomo 100ml",255]
[2213285,"Xerjoff Ouden Overdose Parfum 50ml",250]
[2030847,"Micallef Ananda EDP 100ml",230]
[2215386,"Micallef Desir Toxic EDP 100ml",230]
[2175092,"Atelier des Ors Lune Feline EDP 100ml",225]
[2183549,"Perris Monte Carlo Ylang Ylang Nosy Be Extract 50ml",225]
[5025757,"Rosendo Mateu Black Collection Sweet Rose 100ml Parfum",225]
[2076552,"Xerjoff Accento EDP 100ml",225]
[2013687,"Creed Love In White 75ml",220]
[2177265,"Micallef Secret of Love Glamour 75ml",198]
[2199168,"Micallef Spiritual Secret of Love 75ml",198]
[2181297,"Penhaligons Portraits Bewitching Yasmine EDP 75ml",192]
[2201053,"Nicolai Incense Oud 100ml Spray",189]
[2214661,"Caron La Collection Privee Farnesiana EDP 100ml",185]
[2190761,"Salvador Dali Daligramme Collection: Ma Flamme",170]
[2190769,"Salvador Dali Daligramme Collection: Ma Vie",170]
[5004175,"Salvador Dali Daligramme - Ma Victoire 100ml",170]
[2047894,"Caron Delire De Roses EDP 100ml",167.5]
[2209374,"Ma tre Parfumeur et Gantier Parfum D'Habit EDP 120ml",165]
[2137236,"Penhaligons Trade Routes Lothair EDT 100ml",144]
[2184098,"Penhaligons Savoy Steam EDP 100ml",144]
[2031459,"Caron Narcisse Noir Parfum 15ml",136]
[2201645,"Penhaligons Quercus EDC 100ml",110]
[2189834,"Xerjoff Alexandria II Perfumed Hair Mist",110]
[2047893,"Caron Delire De Roses EDP 50ml",105.5]
[2127893,"Lalique L'Amour EDP 100ml",100]
[2186277,"Lalique R ve D Infini EDP 100ml Natural Spray",100]
[8022814,"Lalique Soleil 100ml EDP",100]
[2090523,"Lorenzo Villoresi Firenze Teint de Neige EDP 50ml",100]
[8018118,"Roja Parfums 51 Suprême Hair Mist 50ml",95]
[2029796,"Jean Charles Brosseau Ombre Rose EDT 100ml",80]
[2163045,"Escentric Molecules Molecule 01 100ml",72]
[2163040,"Escentric Molecules Escentric 02 30ml Cased",46]
[2163050,"Escentric Molecules Escentric 01-200ml-Body Wash",20]
[5009104,"Masque Milano Mandala 35ml EDP",0]
[5009112,"Masque Milano Mandala 100ml EDP Bespoke 100ml EDP",0]
[2182155,"Elegantes Amber Wood 50ml",750]
[2188389,"Micallef Pure Extreme Parfum 100ml",495]
[2214669,"Ahwaz Majestic Amber EDP 75ml",375]
[2095631,"Houbigant Paris Quelques Fleurs Royale Parfum 100ml",375]
[8017393,"ATELIER DES ORS Rose Omeyyade Extract 100ml Extrait",325]
[2127776,"Cuir Garamante EDP 75ml Resin",320]
[2201050,"Nicolai Patchouli Sublime 35ml Spray",310]
[2198683,"Ahwaz Helwa 75ml",295]
[2164757,"Ormonde Jayne Montabaco EDP 120ml",295]
[5030356,"Masque Milano Dolceaqua EDP 100ml",275]
[5030357,"Masque Milano Petra EDP 100ml",275]
[5052197,"Xerjoff Luxor 50ml Parfum",275]
[8022819,"Lubin Galaor 100ml EDP",250]
[8022821,"Lubin Daimo 100ml EDP",250]
[2190362,"Creed Silver Mountain Water 100ml Spray",245]
[5052196,"Xerjoff Golden Dallah 50ml Parfum",238]
[2030848,"Micallef Royal Muska EDP 100ml",230]
[2175094,"Atelier des Ors Aubre Rubis EDP 100ml",225]
[4005216,"Atelier des Ors Iris Fauve EDP 100ml Exclusive",225]
[5030354,"Atelier Rouge Saray EDP 100ml",225]
[8017385,"CHABAUD La Nuit Danse 100ml Extrait",225]
[8017386,"CHABAUD Ambre du Reve 100ml Extrait",225]
[2214712,"Roja Parfums Elixir EDP 100ml",225]
[2212326,"Pantheon Roma Annone EDP 100ml",220]
[2190190,"Xerjoff Al-Khatt Parfum",220]
[2201565,"Parfums de Marly Delina Exclusif EDP 75ml",215]
[4008268,"SHAMAL EdP",205]
[5025790,"Roos & Roos Oud Vibration\nEdP 100ml",205]
[2215486,"Parfums De Marly Percival 125ml",200]
[2183525,"Micallef Secret of Love Delice 75ml EDP",198]
[8020687,"Oryn House Exclusive Pleasure 100ml",198]
[8020690,"Oryn House Juniper Bonsai 100ml",198]
[8020691,"Oryn House Oryn Oud 100ml",198]
[8020692,"Oryn House Rose Affair 100ml",198]
[8020694,"Oryn House Floromancy 100ml",198]
[2201663,"Philly & Phill Midnight On Max Street EDP 100ml",198]
[2201664,"Philly & Phill Out At The Opera EDP 100ml",198]
[2201665,"Philly & Phill Date Me In Downtown EDP 100ml",198]
[5061695,"Atelier Des Ors Blanc Polychrome 100ml",195]
[2181299,"Penhaligons Portraits Uncompromising Sohan EDP 75ml",192]
[2181939,"Penhaligons Portraits Monsieur Beauregard EDP 75ml",192]
[2215491,"Penhaligons The Ingenue Cousin Flora EDP 75ml",192]
[2186278,"Parfums de Marly Delina 75ml EDP",190]
[2201052,"Nicolai Amber Oud 100ml Spray",189]
[2215490,"Penhaligons The Impudent Cousin Matthew EDP 75ml",188]
[2095618,"Grossmith Saffron Rose EDP 50ml",185]
[8018729,"Ormonde Jayne Ta'if Intensivo 50ml",185]
[5003401,"Ramon Monegal Ole 50ml EDP",180]
[8018697,"Ramon Monegal Flamenco 50ml EDP",180]
[2215374,"Au Pays De La Fleur D'Oranger Poudre de Liberte EDP 100ml",175]
[2213664,"Atkinsons Oud save the King EDP 100ml",165]
[2095904,"Maison Francis Kurkdjian Amyris Pour Femme EDP 70ml",165]
[2177268,"MFK Grand Soir 70ml EDP",165]
[8017400,"ROSENDO MATEU Rosendo Mateu #2 100ml EDP",165]
[2201057,"Nicolai Ambre Cashmere Intense 100ml Spray",163]
[5025215,"MFK L'Eau A la Rose 70ml EDT",160]
[2209733,"Chantecaille Frangipane Parfum 75ml",158]
[2209735,"Chantecaille Vetyver Parfum 75ml",158]
[2190199,"Xerjoff 40 Knots EDP 50ml",155]
[2137802,"MFK Masculine Pluriel 70ml EDT",150]
[8018699,"Ramon Monegal Next to Me 50ml EDP",150]
[2215377,"Au Pays De La Fleur D'Oranger Tubereuse Rosee EDP 100ml",145]
[2171291,"Penhaligons Endymion Concentre EDP 100ml",144]
[2201646,"Penhaligons Artemisia EDP 100ml ORDER 23.04.18",144]
[2215376,"Au Pays De La Fleur D'Oranger Neroli Blanc Intense EDP 100ml",135]
[2211970,"Chabaud Orangerie Musicale Exclusive EDP 100ml",135]
[2211972,"Chabaud Rose Orage Exclusive EDP 100ml",135]
[2198672,"Goldfield & Banks Desert Rosewood 100ml",135]
[2031029,"Bal Versailles Gold Spray EDT 100ml",130]
[2143742,"Perris Monte Carlo Houbigant Paris Iris Des Champs EDP 100ml",130]
[2183545,"Perris Monte Carlo Patchouli Nosy Be EDP 100ml",130]
[2183554,"Perris Monte Carlo Santal EDP 100ml",130]
[2194237,"Perris Monte Carlo Tuberose Absolue EDP",130]
[2194239,"Perris Monte Carlo Cacao Azteque EDP",130]
[5030349,"Perris Lavande Romaine EDP 100ml",130]
[2208408,"Ruth Mastenbroek Amorosa EDP 100ml",130]
[2201063,"Nicolai Fig-tea 100ml Spray",127]
[2110726,"Lubin Nuit de Longchamp 100ml",120]
[2149519,"Lubin Grisette 100ml EDP",120]
[2136942,"Nobile 1942 Pontevecchio EDP 75ml",115]
[2213669,"Atkinsons Love in Idleness EDT 100ml",110]
[2192198,"Penhaligons Blenheim Bouquet 100ml",110]
[2211123,"Penhaligons Signature Sartorial EDT 100ml",110]
[2211137,"Penhaligons Lily of the Valley EDT 100ml Heritage",110]
[2193433,"Ormonde Jayne Jardin d'Ombre 50ml Parfum",95]
[2031028,"Bal Versailles Gold Spray EDT 50ml",90]
[2031530,"Lorenzo Villoresi Firenze Teint de Neige Body Cream",90]
[2201723,"Caron Les Essentiels Nocturnes EDP 50ml",80]
[2209035,"Escentric Molecules Molecule 02 P10 EDT 100ml",80]
[2163047,"Escentric Molecules Molecule 02 100ml",76]
[2209941,"MFK Baccarat Rouge 540 Scented Hair Mist 70ml",75]
[2163044,"Escentric Molecules Escentric 01 100ml",72]
[2097062,"Lalique De Lalique EDP 50ml",72]
[2127892,"Lalique L'Amour EDP 50ml",72]
[2199993,"Gallivant Istanbul EDP 30ml",65]
[8018731,"Ormonde Jayne Montabaco Hair Mist 50ml",60]
[2213651,"Penhaligons Fragrance Library 5 x 10ml",60]
[2193004,"Casamorati Hair Spray La Tosco",55]
[2163038,"Escentric Molecules Escentric 01 30ml Cased",46]
[2163039,"Escentric Molecules Molecule 01 30ml Cased",46]
[2163041,"Escentric Molecules Molecule 02 30ml Cased",46]
[2031385,"Caron Purse Spray Blue",30]
[5009097,"Masque Milano Terralaba 35ml EDP",0]
[5009098,"Masque Milano Montecristo 35ml EDP",0]
[5009099,"Masque Milano Luci ed Ombre 35ml EDP",0]
[5009100,"Masque Milano Tango 35ml EDP",0]
[5009102,"Masque Milano Romanza 35ml EDP",0]
[5009105,"Masque Milano Times Square 35ml EDP",0]
[5009106,"Masque Milano Hemingway 35ml EDP",0]
[5009107,"Masque Milano Kintsugi 35ml EDP",0]
[5009108,"Masque Milano Love Kills 35ml EDP",0]
[5009110,"Masque Milano Russian Tea 100ml EDP Bespoke 100ml EDP",0]
[5003192,"Micallef Aoud 7ml Precieuse Huile",0]
[5009117,"Plume Impression Rivalite Imperiale 80ml EDP",0]
[5009118,"Plume Impression Dualite Magnifique  80ml EDP",0]
[5001225,"MFK Baccarat Rouge 540 200ml Extrait de Parfum",630]
[2100757,"Roja Parfums Aoud Parfum 100ml",595]
[2190186,"Xerjoff Amber Star & Star Musk Parfum 2X50ml",575]
[2190222,"Xerjoff Damarose Parfum 100ml",500]
[2095632,"Houbigant Paris Orangers en Fleurs Parfum 100ml",375]
[2100588,"Roja Parfums Scandal Parfum 50ml",375]
[2110710,"Roja Parfums Enigma Parfum 50ml",375]
[2214713,"Roja Parfums Elixir Parfum 50ml",375]
[2173498,"Royal Creed Royal Exclusives Pure White Cologne 75ml Spray",370]
[2173499,"Creed Royal Exclusives Spice and Wood 75ml Spray",370]
[5030352,"Atelier Lune Feline 100ml Extract",325]
[8023224,"HOC 5:00pm 100 ml",300]
[2198686,"Forbidden Scents 75ml",295]
[2189838,"Xerjoff Alexandria II Perfume Extract",290]
[2190755,"SD Jewels Collection: Regard Scintillant de Mille Beaut s, T",280]
[2029061,"Grossmith Hasu-no-Hana EDP 100ml",265]
[2164999,"Grossmith Diamond Jubilee Bouquet 100ml",265]
[8027179,"Xerjoff V Accento Overdose EDP 100 ml",265]
[2194788,"Creed Virgin Island Water 100ml",245]
[2182210,"Pantheon Roma Notte D'Amore Ext.D.P 100ml",220]
[2200577,"MFK Silk Mood EDP 70ml",215]
[8018686,"Philly and Phill limited edition Railway to The rooftop 100m",215]
[8020693,"Oryn House Orphic Vanilla 100ml",198]
[2208519,"Atelier des Ors Crepuscule Des Ames EDP 100ml",195]
[8018727,"Ormonde Jayne Royal Elixir 50ml Parfum",195]
[2215387,"Philly & Phil Punks in Paradise EDP 100ml",195]
[2181298,"Penhaligons Portraits Roaring Radcliffe EDP 75ml",192]
[2207772,"Penhaligons The Blazing Mister Sam EDP 75ml",192]
[2214667,"Caron La Collection Privee Rose 100ml EDP Spray",185]
[2209738,"Chantecaille Le Wild Parfum 75ml",180]
[2215375,"Au Pays De La Fleur D'Oranger Iberte Boheme EDP 100ml",175]
[2190361,"Creed Silver Mountain Water 50ml Spray",175]
[2031529,"Lorenzo Villoresi Firenze Teint de Neige Pure Perfume 30ml",175]
[2137801,"MFK Feminine Pluriel 70ml EDP",165]
[4006749,"MFK Gentle Fluidity Gold EDP 70ml",165]
[4006750,"MFK Gentle fluidity Silver EDP 70ml",165]
[8017399,"ROSENDO MATEU Rosendo Mateu #1 100ml EDP",165]
[5006768,"Arquiste Misfit Eau De Parfum 100ml",160]
[2182201,"Pantheon Roma Raffaello Ext.D.P 50ml",140]
[2182202,"Pantheon Roma Donna Margherita Ext.D.P 50ml",140]
[8018716,"Xerjoff Erba Pura EDP 50ml",135]
[5030346,"Houbigant Duc De Vervin EDP Extreme 100ml",130]
[2183551,"Perris Monte Carlo Osmanthe EDP 100ml",130]
[2203824,"Perris Mandarino Di Sicilia EDP 100ml",130]
[5030348,"Perris Mimosa Tanneron EDP 100ml",130]
[8018702,"Ramon Monegal Dry Wood 50ml EDP",130]
[4008309,"Ruth Mastenbroek Dagian EdP 100ml",130]
[2213663,"Atkinsons Triple Extract EDC 100ml",125]
[2136943,"Nobile 1942 Pontevecchio EDP 75ml White",115]
[2191792,"Guerlain Idylle Eau de Parfum 100ml",112]
[2201644,"Penhaligons Opus 1870 EDT 100ml",98]
[8026699,"Micallef Pink EDP 50ml",95]
[2028996,"Robert Piguet Fracas EDP 50ml",95]
[2029370,"Guerlain L'Heure Bleue EDP 75ml",93]
[2029793,"Ombre Rose Parfum 7.5ml",92]
[2201722,"Caron Les Essentiels Aimez-Moi EDP 50ml",80]
[2163049,"Escentric Molecules Molecule 03 100ml",76]
[2189837,"Xerjoff Alexandria II Shower Gel",75]
[2066877,"Lorenzo Scented Body Powder Teint De Neige",65]
[2031403,"Lalique Perles Lalique EDP 50ml",57]
[2163051,"Escentric Molecules Escentric 02-200ml-Body Wash",20]
[5009109,"Masque Milano Tango 100ml EDP Bespoke 100ml EDP",0]
[5009111,"Masque Milano L'Attesa 100ml EDP Bespoke 100ml EDP",0]
[5009113,"Masque Milano Times Square 100ml EDP Bespoke 100ml EDP",0]
[5009114,"Plume Impression Murmure d'ete 80ml EDP",0]
[2031499,"Caron fountain: Tabac Blonde EDP 500ml",837.5]
[2086358,"Micallef Rose Extreme EDP 50ml",525]
[2209651,"Nicolai Patchouli Sublime 90ml Spray",485]
[2150705,"Puredistance Antonia Flacon 100 ml",455]
[2189840,"MFK Baccarat Rouge 540 200ml EDP Spray",420]
[2170316,"Grossmith Shem-el-Nessim Perfume 50ml",375]
[2095630,"Houbigant Paris Quelques Fleurs Parfum 100ml",375]
[2095633,"Houbigant Paris Fougere Royale Parfum 100ml",375]
[2143743,"Houbigant Paris Iris Des Champs Parfum 100ml",375]
[2192073,"Houbigant Paris Quelques Fleurs Jardin Secret Perfume",375]
[2203822,"Houbigant Bois Mystique Extrait 100ml",375]
[2100763,"Roja Parfums Amber Aoud Parfum 30ml",375]
[2167035,"Roja Parfums Lily Parfum 50ml",375]
[2193478,"Roja Parfums Elysium Parfum Pour Homme 50ml",375]
[2195815,"Roja Parfums 51 Pour Femme Parfum 50ml",375]
[2190187,"Xerjoff Emery 100ml",375]
[8023225,"HOC 9:00pm 100 ml",300]
[2029065,"Grossmith Phul-Nana EDP 100ml",265]
[2095411,"Casamorati 1888 Damabianca EDP 100ml",255]
[2119385,"Casamorati 1888 EDP 100ml",255]
[8022820,"Lubin Sinbad 100ml EDP",250]
[2194768,"Creed Bois du Portugal 100ml",245]
[2194772,"Creed Green Irish Tweed 100ml",245]
[2204259,"Creed Tabarome EDP Spray 100ml",245]
[2205652,"Roja Parfums Enigma Aoud EDP 50ml",245]
[2190181,"Xerjoff Lua Parfum 50ml",238]
[2213257,"Ahwaz Crocodile Leather Blue Travel Set 10ml",230]
[2213258,"Ahwaz Crocodile Leather Green Travel Set 10ml",230]
[2120650,"Micallef Mon Parfum Cristal 100ml",230]
[2170766,"Micallef Osaito",230]
[2175093,"Atelier des Ors Cuir Sacre EDP 100ml",225]
[2193479,"Roja Parfums Elysium Pour Homme Parfum Cologne 100ml",225]
[2013700,"Creed Spring Flower Spray 75ml",220]
[8018728,"Ormonde Jayne Ormonde Elixir 50ml Parfum",220]
[2182207,"Pantheon Roma Raffaello Ext.D.P 100ml",220]
[2182211,"Pantheon Roma Trastevere Ext.D.P 100ml",220]
[2190189,"Xerjoff Fars Parfum",220]
[2084027,"MDCI Invasion Barbare EDP 75ml Tassel",210]
[2084029,"MDCI Rose de Siwa EDP 75ml Tassel",210]
[2159957,"MDCI Cio Cio San Tassel",210]
[2084272,"Parfums de Marly Pegasus Spray EDP 125ml",200]
[8026694,"Parfums de Marly Kalan EDP 125ml",200]
[2201660,"Philly & Phill Boudoir Belle EDP 100ml",198]
[2031458,"Caron Muguet Du Bonheur Parfum 27ml",195]
[8023143,"Diana Vreeland Simply Divine 100ml",195]
[8023144,"Diana Vreeland Daringly Different 100ml",195]
[8023145,"Diana Vreeland Vivaciously Bold 100ml",195]
[8023146,"Diana Vreeland Full Gallop 100ml",195]
[8023147,"Diana Vreeland Empress of Fashion 100ml",195]
[8027169,"Diana Vreeland Smashingly Brilliant 100ml",195]
[8027170,"Diana Vreeland Devastatingly Chic 100ml",195]
[8023054,"Parfums de Marly Cassili 75ml EDP",195]
[2201051,"Nicolai Rose Oud 100ml Spray",189]
[4005317,"Chantecaille Darby Rose Fragrance 75ml",188]
[2029060,"Grossmith Hasu-no-Hana EDP 50ml",185]
[2145390,"Parfums de Marly Sedbury Spray EDP 75ml",185]
[5002945,"Atkinsons Gold Fair in Mayfair EDP 100ml",180]
[2210506,"Lorenzo Gift Hair Mist 50ml, Body Lotion 250ml & EDT 50ml",180]
[2147113,"Penhaligons Trade Routes As Sawira EDP 100ml",178]
[2175111,"Penhaligons Trade Routes Oud De Nil EDP 100ml",178]
[2182412,"Lorenzo Teint de Neige Perfume in Oil 30 ml",175]
[2210504,"Lorenzo Teint de Neige EDP 100ml in Extra Bottle & Gift Case",175]
[2192677,"Mizensir Tres Chere 100ml EDP Spray",175]
[2204260,"Mizensir Poudre d'Or EDP 100ml",175]
[2193419,"Franck Muller Conquistador EDP 75ml",170]
[5025786,"Roos & Roos Song for a Queen\nEdP 100ml",170]
[5025787,"Roos & Roos White Song\nEdP 100ml",170]
[5025788,"Roos & Roos Nymphessence\nEdP 100ml",170]
[5025789,"Roos & Roos Comme Une Fleur EdP 100ml",170]
[5025791,"Roos & Roos In the Wood for Love\nEdP 100ml",170]
[2190762,"Salvador Dali Daligramme Collection: Ma Reine",170]
[2061924,"Caron Accord Eau de Parfum 119 100ml",168]
[8023301,"Maitre Parfumeur et Gantier Patchouli 1969 EDP 120ml",165]
[8017401,"ROSENDO MATEU Rosendo Mateu No3 100ml EDP",165]
[2201054,"Nicolai Musc Intense 100ml Spray",163]
[5025907,"Nicolai Number One Intense 100ml EDP",163]
[8022677,"Nicolai Baikal Leather Intense 100ml Spray",163]
[2156892,"Arquiste Nanban EDP 100ml",160]
[2178505,"Arquiste Flor y Canto EDP 100ml",160]
[2178506,"Arquiste Infanta en flor EDP",160]
[2193143,"Arquiste Ella EDP 100ml",160]
[5007041,"Ciro Chevalier De La Nuit 100ml",160]
[5007042,"Ciro Floveris 100ml",160]
[5007043,"Ciro Le Chypre Du Nil 100ml",160]
[5007044,"Ciro L'Heure Romantique 100ml",160]
[5007045,"Ciro Maskee 100ml",160]
[5007046,"Ciro Ptah 100ml",160]
[2209737,"Chantecaille Petales Parfum 75ml",158]
[2209740,"Chantecaille Parfums Pour Homme Oud Fume 75ml",158]
[2173883,"Creed Aventus for Her 30ml Spray",155]
[2095902,"MFK Amyris Pour Homme EDT 70ml",150]
[2107646,"Penhaligons Vaara EDP 100ml",144]
[2166850,"Penhaligons Equinox Bloom 100ml",144]
[2201643,"Penhaligons Elisabethan Rose EDP 100ml",144]
[2211124,"Penhaligons Signature Malabah EDP 100ml",144]
[2164178,"Lorenzo Villoresi Firenze 25 insieme EDP 100ml",140]
[5007047,"Orto Parisi Bergamask 50ml",140]
[5007048,"Orto Parisi Brutus 50ml",140]
[5007049,"Orto Parisi Stercus 50ml",140]
[5007050,"Orto Parisi Boccanera 50ml",140]
[5007052,"Orto Parisi Seminalis 50ml",140]
[5007053,"Orto Parisi Terroni 50ml",140]
[5007054,"Orto Parisi Megamare 50ml",140]
[2182204,"Pantheon Roma Notte D'Amore Ext.D.P 50ml",140]
[2182206,"Pantheon Roma Dolce Passione Ext.D.P 50ml",140]
[2212325,"Pantheon Roma Annone EDP 50ml",140]
[2189833,"Xerjoff Alexandria II Travel Perfume",140]
[2173071,"Guerlain Santal Royal EDP 125ml",139]
[5060610,"Ormonde Jayne Levant 50ml",135]
[2031159,"Sisley Eau Du Soir 50ml",133]
[2157535,"Sisley Soir d'Orient 50ml",133]
[2094416,"Houbigant Paris Orangers en Fleurs EDP 100ml",130]
[2203821,"Houbigant Bois Mystique EDP 100ml",130]
[2183535,"Perris Monte Carlo Musk Extreme EDP 100ml",130]
[2203823,"Perris Cedro Di Diamante EDP 100ml",130]
[5030350,"Perris Vanille de Tahiti EDP 100ml",130]
[2208407,"Ruth Mastenbroek Signature EDP 100ml",130]
[2208409,"Ruth Mastenbroek Oxford EDP 100ml",130]
[2208410,"Ruth Mastenbroek Firedance EDP 100ml",130]
[2201062,"Nicolai Cap Neroli 100ml Spray",127]
[2110725,"Lubin Black Jade EDP 100ml",120]
[5021526,"Lorenzo Villoresi Patchouli Eau de Toilette 100ml",116]
[5021527,"Lorenzo Villores Acqua di Colonia Eau de Toilette 100ml",116]
[5021528,"Lorenzo Villores Tropicana Eau de Toilette 100ml",116]
[5021529,"Lorenzo Villores Wild Lavender Eau de Toilette 100ml",116]
[2158779,"Creed 10ml New Atomiser Empty Gold / Camel",115]
[2031525,"Lorenzo Villoresi Firenze Musk EDT 100ml",115]
[2031527,"Lorenzo Villoresi Firenze Uomo EDT 100ml",115]
[2066812,"Lorenzo Villoresi Firenze Iperborea EDT 100ml",115]
[2136944,"Nobile 1942 Casta Diva EDP 75ml",115]
[5022557,"TOCCA Cleopatra Eau de Parfum 100ml",98]
[5022559,"TOCCA Stella Eau de Parfum 100ml",98]
[5022561,"TOCCA Giulietta Eau de Parfum 100ml",98]
[5022565,"TOCCA Colette Eau de Parfum 100ml",98]
[5022567,"TOCCA Gia Eau de Parfum 100ml",98]
[5022569,"TOCCA Maya Eau de Parfum 100ml",98]
[2213662,"Atkinsons 24 Old Bond Street EDC 100ml",95]
[2210505,"Lorenzo Sparkling Body Gel 100ml",95]
[2029350,"Guerlain Mitsouko EDP 75ml",93]
[2178275,"Guerlain Cham 16 EDT 100ml Spr",92]
[5063341,"Bastille Paris Bataille 50ml EDP",85]
[5063342,"Bastille Paris Un Deux Trois Soleil 50ml EDP",85]
[5063343,"Bastille Paris Hors-Piste 50ml EDP",85]
[5063344,"Bastille Paris Pleine Lune 50ml EDP",85]
[5063345,"Bastille Paris Demain Promis 50ml EDP",85]
[2029295,"Guerlain Shalimar EDP 50ml",79]
[2163046,"Escentric Molecules Escentric 02 100ml",76]
[2029252,"Guerlain Imperiale Eau De Cologne 100ml",75]
[2094674,"Lalique Encre Noire EDT 100ml",72]
[2029228,"Guerlain Heritage EDT 100ml",70]
[2029320,"Guerlain Eau De Fleur De Cedrat EDT 100ml",70]
[5022554,"TOCCA Florence Eau de Parfum 50ml",70]
[5022556,"TOCCA Cleopatra Eau de Parfum 50ml",70]
[5022562,"TOCCA Bianca Eau de Parfum 50ml",70]
[5022564,"TOCCA Colette Eau de Parfum 50ml",70]
[5022566,"TOCCA Gia Eau de Parfum 50ml",70]
[5022568,"TOCCA Maya Eau de Parfum 50ml",70]
[2199995,"Gallivant Tel Aviv EDP 30ml",65]
[8024029,"Gallivant Los Angeles EDP 30ml",65]
[2199183,"MFK A la Rose Scented Hair Mist 70ml Spray",65]
[2028887,"Van Cleef Arpels First EDT 100ml",62]
[2198850,"Lorenzo Villoresi Firenze Teint de Neige Body Lotion 250ml",50]
[2130382,"Roja Parfums Roja Haute Luxe 100ml",2500]
[2031409,"Caron fountain: N'Aimez Que Moi Perfume Extract 500ml",1500]
[2031473,"Caron fountain: Pois De Senteur Perfume Extract 500ml",1500]
[2208277,"Roja Parfums Chypre Extraordinaire Parfum 100ml",1450]
[2154767,"Roja Parfums A Good Night Kiss 100ml EDP",1250]
[2193581,"Oud Noblesse 50ml",875]
[2100759,"Roja Parfums Aoud Crystal Parfum 100ml",595]
[2100762,"Roja Parfums Amber Aoud Parfum 100ml",595]
[2100764,"Roja Parfums Amber Aoud Crystal Parfum 100ml",595]
[2114125,"Roja Parfums Musk Aoud Parfum 100ml",595]
[2205651,"Roja Parfums Enigma Aoud Parfum 100ml",595]
[8023302,"Lalique Mon Premier Cristal Sensuel Absolu de Parfum 80ml",550]
[8023304,"Lalique Mon Premier Cristal Lumiere Absolu de Parfum 80ml",550]
[2102197,"Micallef Vanille Extreme 50ml",525]
[2170311,"Grossmith Hasu-No-Hana Perfume 100ml",495]
[2170317,"Grossmith Shem-el-Nessim Perfume 100ml",495]
[2170318,"Grossmith Gift Presentation Triple Perfume 3 x 10ml",475]
[2170310,"Grossmith Hasu-No-Hana Perfume 50ml",375]
[2170313,"Grossmith Phul-Nana Perfume 50ml",375]
[2100758,"Roja Parfums Aoud Parfum 30ml",375]
[2114126,"Roja Parfums Musk Aoud Parfum 30ml",375]
[2201058,"Nicolai Patchouli Intense 250ml + 15ml Spray",326]
[2084018,"MDCI Invasion Barbare EDP 75ml Resin",320]
[5059548,"MFK Gentle Fluidity Gold 200ml EDP",310]
[5059549,"MFK Gentle Fluidity Silver 200ml EDP",310]
[2182719,"MDCI Silk Road : Ambre Topkapi (Silver)",295]
[2182723,"MDCI Silk Road : P ch Cardinal (Gold)",295]
[2182726,"MDCI Silk Road : F tes Persanes (Gold)",295]
[2030859,"Micallef Assorted Crystal 75ml",295]
[8018358,"Bois 1920 ORO 1920 EDP 100ml",284]
[2194786,"Creed Royal Oud 100ml",280]
[2190759,"SD Jewels Collection: Fluidit du Temps Imaginaire, The Clock",280]
[2150704,"Puredistance Antonia Flacon 60 ml",275]
[2190193,"Xerjoff Zafar Parfum",270]
[2073894,"Grossmith Betrothal EDP 100ml",265]
[2095613,"Grossmith Floral Veil EDP 100ml",265]
[2095617,"Grossmith Golden Chypre EDP 100ml",265]
[2095619,"Grossmith Saffron Rose EDP 100ml",265]
[2158706,"Creed Royal Princess Oud 75ml EDP Spray",260]
[2173884,"Creed Aventus for Her 75ml Spray",260]
[2029982,"Casamorati 1888 Mefisto EDP 100ml",255]
[2164611,"Casamorati 1888 La Tosca EDP",255]
[8022822,"Lubin Condottiere 100ml EDP",250]
[8022823,"Lubin Sarmate 100ml EDP",250]
[2194776,"Creed Millesime Imperial 100ml",245]
[2194778,"Creed Neroli Sauvage 100ml",245]
[2194780,"Creed Original Santal 100ml",245]
[2194782,"Creed Original Vetiver 100ml",245]
[8025964,"MFK Amyris Homme 70ml EDP",245]
[5056863,"Micallef RUH Artists Collection 2020 edp 100ml",235]
[2213256,"Ahwaz Crocodile Leather Red Travel Set 10ml",230]
[2213259,"Ahwaz Crocodile Leather Black Travel Set 10ml",230]
[2213260,"Ahwaz Crocodile Leather Purple Travel Set 10ml",230]
[5028285,"Ahwaz White Leather Travel Set",230]
[5025758,"Rosendo Mateu Black Collection Incence Wood 100ml Parfum",225]
[8018360,"Bois 1920 ORO Rosso EDP 100ml",220]
[2013704,"Creed Fleurissimo Spray 75ml",220]
[2182209,"Pantheon Roma Il Giardino Ext.D.P 100ml",220]
[2084028,"Chypre Palatin EDP 75ml Tassel",210]
[2174189,"Parfums de Marly Layton EDP Spray 125ml",200]
[2201662,"Philly & Phill Easy For Ecstasy EDP 100ml",198]
[2181938,"Penhaligons Portraits Countess Dorothea EDP 75ml",192]
[2204257,"Creed Love in White for Summer 75ml",190]
[2095908,"MFK Aqua Universalis Forte EDP 70ml",190]
[5021804,"Robert Piguet EDP Spray L’Entier 3.4 oz. 100 ml",190]
[2214664,"Caron La Collection Privee Pour Une Femme EDP 100ml",185]
[8017692,"Caron Narcisse Noir EDP 100ml Spray",185]
[2029064,"Grossmith Phul-Nana EDP 50ml",185]
[2073833,"Grossmith Betrothal EDP 50ml",185]
[2085812,"Grossmith Diamond Jubilee Bouquet EDP 50ml",185]
[2095612,"Grossmith Floral Veil EDP 50ml",185]
[2095614,"Grossmith Amelia EDP 50ml",185]
[2095616,"Grossmith Golden Chypre EDP 50ml",185]
[2093433,"Parfums de Marly Safanad Spray EDP 75ml",185]
[2171543,"Parfums de Marly Athalia EDP 75ml",185]
[8018357,"Bois 1920 Parana EDP 100ml",175]
[2194773,"Creed Green Irish Tweed 50ml",175]
[2194783,"Creed Original Vetiver 50ml",175]
[2170312,"Grossmith Phul-Nana Perfume 10ml",175]
[2170315,"Grossmith Shem-el-Nessim Perfume 10ml",175]
[5004986,"Marcel Franck travel atomizer python black and gold",175]
[2125801,"Darcy Spray EDP 75ml",175]
[2171077,"Robert Piguet OUD Delice 100ml EDP Spray",175]
[2031481,"Caron N'aimez Que Moi EDP 100ml",167.5]
[2201056,"Nicolai New York Intense 100 ml Spray",163]
[2147555,"Arquiste L'Etrog Acqua EDP 100ml",160]
[5030347,"Houbigant Collection Privee La Belle Saison EDP 100ml",160]
[2084267,"Parfums de Marly Darley Spray EDP 125ml",160]
[2209734,"Chantecaille Tiare Parfum 75ml",158]
[2158780,"Creed 50ml New Atomiser Empty Gold / Dark Pink",155]
[2028991,"Robert Piguet V de Robert Piguet EDP 100ml",155]
[2028997,"Robert Piguet Fracas EDP 100ml",155]
[2149520,"Robert Piguet Notes EDP 100ml",155]
[8018355,"Bois 1920 Notturno Fiorentino EDP 100ml",150]
[2190768,"Salvador Dali Fabulous Collection: Fabulous Bukhara Gold 5",150]
[5004981,"Marcel Franck travel atomizer guilloche linen palladium",140]
[5007051,"Orto Parisi Viride 50ml",140]
[2182203,"Pantheon Roma Il Giardino Ext.D.P 50ml",140]
[2182205,"Pantheon Roma Trastevere Ext.D.P. 50ml",140]
[2212948,"Guerlain Oud Essentiel EDP 125ml",139]
[5060609,"Ormonde Jayne Damask 50ml",135]
[2204644,"Goutal Eau D'Hadrien Eau de Parfum Spray 100ml",132]
[2204646,"Goutal Un Matin D Orage Eau de Parfum Spray 100ml",132]
[2204648,"Goutal Grand Amour Eau de Parfum Spray 100ml",132]
[2204650,"Goutal Ce Soir/Jamais Eau de Parfum Spray 100ml",132]
[2204651,"Goutal Gardenia Passion Eau de Parfum Spray 100ml",132]
[2156893,"Lorenzo Villoresi Firenze Kamasurabhi EDT 100ml",120]
[2110724,"Lubin Gin Fizz EDT 100ml",120]
[2215371,"Micallef Flower 20 Years Coffret EDP 4 x 10ml",120]
[8026696,"Delina Travel Set EDP 3 x 10ml",120]
[2215366,"Micallef Botanic Collection Fleur Poeme EDP 100ml",115]
[2178273,"Guerlain Nahe 16 EDP 100ml Spr",112]
[2204647,"Goutal Rose Pompon Eau de Toilette Spray 100ml",110]
[2204649,"Goutal Vanille Exquise Eau de Toilette Spray 100ml",110]
[2204653,"Goutal Eau Du Sud Mixed Eau de Toilette Spray 100ml",110]
[2066823,"Lorenzo Villoresi Firenze Alamut EDT 100ml",110]
[2099860,"Lorenzo Mare Nostrum Aura Maris EDT 100ml",100]
[5022563,"TOCCA Bianca Eau de Parfum 100ml",98]
[8026698,"Micallef Blue EDP 50ml",95]
[5060543,"Escentric Molecules Escentric 05 100ml EDT",80]
[5060544,"Escentric Molecules Molecule 05 100ml EDT",80]
[2191797,"Guerlain Insolence - Eau de Parfum 50ml",79]
[2178281,"Guerlain L'Instant De Guerlain Pour Homme 16 EDT 100ml Spr",72]
[8026693,"Parfums de Marly Delina Body Cream 200ml",70]
[5022558,"TOCCA Stella Eau de Parfum 50ml",70]
[5022560,"TOCCA Giulietta Eau de Parfum 50ml",70]
[2031472,"Caron L'Anarchiste EDT 125ml",68]
[2213535,"Guerlain Aqua Allegoria Flora Cherrysia EDT 75ml",59]
[2166830,"Casamorati Hair Spray Bouquet Ideale",55]
[2193003,"Casamorati Hair Spray Gran Ballo",55]
[5021803,"Robert Piguet Hair Mist Fracas 1.7 oz. 50 ml",55]
[2183918,"Mon Guerlain 30ml",53]
[2156901,"Lorenzo Teint de Neige Purse Spray EDT 15ml",40]
[2031531,"Lorenzo Villoresi Firenze Teint de Neige Bath & Shower Gel",38]
[5009103,"Masque Milano L'Attesa 35ml EDP",0]
[5059628,"Micallef Musc 7ml Precieuse Huile",0]
[2130848,"Micallef Elephant Crystal 3 Litre Bottle",1795]
[2123870,"Roja Parfums Aoud Parfum de Voyage 3 x 30ml",925]
[2100761,"Roja Parfums Aoud Absolute Precieux 30ml",795]
[2100765,"Roja Parfums Amber Aoud Absolute Precieux 30ml",795]
[2102705,"Roja Parfums Imperial Collection Diaghilev 100ml",795]
[2143738,"Roja Parfums N wa Parfum 100ml",795]
[8023303,"Lalique Mon Premier Cristal Tendre Absolu de Parfum 80ml",550]
[2170314,"Grossmith Phul-Nana Perfume 100ml",495]
[2170319,"Grossmith Gift Presentation Triple EDP 3 x 50ml New",495]
[2170321,"Grossmith Betrothal Perfume 50ml",375]
[2100728,"Roja Parfums Enslaved Parfum 50ml",375]
[2100729,"Roja Parfums Danger Parfum",375]
[2100733,"Roja Parfums Risque Parfum 50ml",375]
[2110713,"Roja Parfums Enigma Parfum Pour Homme 50ml",375]
[2167036,"Roja Parfums Gardenia Parfum 50ml",375]
[2190188,"Xerjoff Aubres 100ml",375]
[2173500,"Creed Royal Exclusives White Flowers 75ml Spray",370]
[2173501,"Creed Royal Exclusives Sublime Vanille 75ml Spray",370]
[2173502,"Creed Royal Exclusives Jardin d'Amalfi 75ml Spray",370]
[2127775,"Nuit Andalouse EDP 75ml Resin",360]
[2159956,"MDCI Cio Cio San Bust",320]
[2182717,"MDCI F tes Persanes EDP 75ml Resin",320]
[2192678,"MFK Oud Satin Mood 70ml Extrait de Parfum",300]
[2182724,"MDCI Silk Road : V pres Siciliennes (Gold)",295]
[2194384,"Creed Viking 100ml EDP Spray",280]
[2095615,"Grossmith Amelia EDP 100ml",265]
[8022824,"Lubin Gajah Mada 100ml EDP",250]
[5004967,"Marcel Franck atomizer Crystal egg gold Fizz mount",250]
[2029347,"Guerlain Mitsouko Pure Perfum 30ml",240]
[2029360,"Guerlain Jicky Pure Perfume 30ml",240]
[2029388,"Guerlain Shalimar Pure Perfum 30ml",240]
[2029367,"Guerlain L'Heure Bleue Perfum",230]
[2078905,"Micallef Royal Rose Aoud 100ml",230]
[2031074,"Sisley Soir De Lune 100ml",194]
[2157536,"Sisley Soir d'Orient 100ml",194]
[8026664,"Sisley Soir D'Orient Merci Set 100ml X19",191]
[2123343,"Xerjoff Erba Pura EDP 100ml",185]
[2194769,"Creed Bois du Portugal 50ml",175]
[2194777,"Creed Millesime Imperial 50ml",175]
[2170309,"Grossmith Hasu-No-Hana Perfume 10ml",175]
[2213665,"Atkinsons Oud save the Queen EDP 100ml",165]
[2147554,"Arquiste Aleksandr EDP 100ml",160]
[2031031,"Bal Versailles Parfum Gold 7.5ml",160]
[8018356,"Bois 1920 Oltremare EDP 100ml",150]
[5004978,"Marcel Franck travel atomizer guilloche venice rose gold",150]
[2190203,"Xerjoff Comandante EDP 50ml",145]
[5004972,"Marcel Franck atomizer leather zebra",140]
[5004973,"Marcel Franck travel atomizer leather leopard",140]
[2212947,"Guerlain Musc Noble EDP 125ml",139]
[2213513,"Guerlain Bois Mysterieux EDP Vapo 125ml",139]
[5004976,"Marcel Franck travel atomizer guilloche barley rose gold",120]
[2213097,"Lorenzo Villoresi Firenze Atman Xaman EDT 100ml",119]
[2150714,"Puredistance Black Spray 100 ml",113]
[2175091,"Atelier des Ors Larmes du Desert EDP 100ml",112.5]
[2191788,"Guerlain Samsara - Eau de Parfum 100ml",112]
[2191798,"Guerlain Insolence - Eau de Parfum 100ml",112]
[5004985,"Marcel Franck travel atomizer acrylic amber",110]
[2183920,"Mon Guerlain 100ML",108]
[2199788,"Guerlain Mon Guerlain Florale Eau de Parfum 100ml Spray",108]
[2029296,"Guerlain Shalimar EDP 90ml",105]
[5022555,"TOCCA Florence Eau de Parfum 100ml",98]
[2167686,"Lorenzo Teint de Neige Solid Perfume 10gr in metal case",95]
[2178274,"Guerlain Vol de Nuit 16 EDT 100ml Spr",92]
[2178276,"Guerlain Jdb 16 EDT 100ml Spr",92]
[2213544,"Guerlain Mon Guerlain Bloom of Rose 100ml EDT",92]
[2029235,"Habit Rouge EDP 100ml",84]
[2191787,"Guerlain Samsara - Eau de Parfum 50ml",79]
[2029232,"Guerlain Habit Rouge EDT 100ml",75]
[2150724,"Guerlain Cologne Parf 10 Edc Fl 100Ml",75]
[2183919,"Mon Guerlain 50ml",75]
[2029351,"Guerlain Mitsouko EDT 50ml",65]
[2029371,"Guerlain L'Heure Bleue EDT 50ml",65]
[2213543,"Guerlain Mon Guerlain Bloom of Rose 50ml EDT",65]
[2213536,"Guerlain Aqua Allegoria Coconut Fizz EDT 75ml",59]
[2163042,"Escentric Molecules Escentric 03 30ml Cased",46]
[2163043,"Escentric Molecules Molecule 03 30ml Cased",46]
[2095886,"Grossmith Baccarat Triple Set x 85ml",17625]
[8017286,"Rose Elegantes Elusive 200ml",3000]
[2182146,"Elegantes Rose Elegantes 200ml - Heritage",2350]
[2164399,"Caron fountain: Caron Les Fontaines Poivre 500ml",1500]
[8017394,"ATELIER DES ORS Delux 5pc Gift Set 5 x 100ml EDP",1250]
[2182147,"Elegantes Rose Elegantes 50ml - Heritage",750]
[2182151,"Elegantes Ultimate Musk 50ml - Heritage",750]
[2196470,"Micallef Crystal Swarovski and/ or hand painted 300ml",750]
[2189534,"Roja Parfums 51 Pour Femme Parfum Edition Sp ciale 100ml",595]
[2213947,"Ahwaz Swarovski Crystal White Travel Set 10ml",590]
[2214671,"Ahwaz Swarovski Crystal Gold Travel Set 10ml",590]
[2074568,"Caron Swarovski Purse Spray Silver 20ml",470]
[2074570,"Caron Swarovski Purse Spray Gold 20ml",470]
[2189527,"Roja Parfums United Arab Emirates Parfum 50ml",425]
[5004971,"Marcel Franck atomizer black murano glass onion Fizz Mount",395]
[2200579,"Creed Royal Exclusives White Amber Spray 75ml",370]
[2190223,"Xerjoff Damarose Parfum 50ml",330]
[5056864,"Jean - Charles Brosseau Ombre Rose Parfum 50ml",295]
[2182720,"MDCI Silk Road : Invasion Barbare (Silver)",295]
[2182722,"MDCI Silk Road : Rose de Siwa (Gold)",295]
[2182725,"MDCI Silk Road : Cio Cio San (Gold)",295]
[2195783,"Parfums de Marly Carlisle 125ml EDP Spray",250]
[2194770,"Creed Erolfa 100ml",245]
[2194774,"Creed Himalaya 100ml",245]
[2029374,"Guerlain Vol De Nuit Parfum 30ml",240]
[2150716,"Puredistance White Spray 60 ml",240]
[2084026,"MDCI Ambre Topkapi EDP 75ml Tassel",210]
[2084031,"MDCI Vepres Siciliennes EDP 75ml Tassel",210]
[2194787,"Creed Royal Oud 50ml",195]
[2201647,"Penhaligons Trade Routes Empressa EDP 100ml",178]
[2215373,"Au Pays De La Fleur D'Oranger Eau de Gina EDP 100ml",175]
[2194781,"Creed Original Santal 50ml",175]
[2149521,"Robert Piguet OUD EDP 100ml",175]
[8018687,"Creed Aventus Cologne 50ml Spray",165]
[5060611,"Ormonde Jayne Byzance 50ml",135]
[5004974,"Marcel Franck travel atomizer leather micro dots silver",130]
[2136945,"Nobile 1942 La Danza Delle Libellule EDP 75ml",115]
[8026449,"Gueralin Mon Guerlain 19 Intense EDP 100ml",112]
[2182688,"Sisley Izia 50ml",103]
[5004982,"Marcel Franck travel atomizer lacquered black",95]
[5004983,"Marcel Franck travel atomizer lacquered rose",95]
[2191785,"Guerlain Samsara - Eau de Toilette 100ml",92]
[2043239,"Guerlain Shalimar EDT 90ml",88]
[2031169,"Sisley Eau Du Soir Moisturising Body Lotion 150ml",86]
[2207672,"L'Instant de Guerlain EDP 100ml",83]
[2163048,"Escentric Molecules Escentric 03 100ml",76]
[2029378,"Guerlain Eau De Coq Cologne 100ml",75]
[2029225,"Guerlain Vetiver EDT 100ml",72]
[2166831,"Casamorati Hair Spray Dama Bianca",55]
[8018359,"Bois 1920 ORO Nero EDP 100ml",110]
[2192630,"Caron fountain: Tabac Blonde EDP 20ml",70]
[2192631,"Caron fountain: French Can Can EDP 20ml",49]
[2192635,"Caron fountain: Delire de Roses Extract 50ml",165]
[2192636,"Caron fountain: Poivre Extract 50ml",165]
[2192632,"Caron fountain: N'aimez que moi EDP 20ml",70]
[5019270,"CF Adult Red Fox Mask",160]
[5018976,"C Hummingbird Trellice Rectangular Tray",110]
[5061538,"The Fortnum's Diary 2021",65]
[5018975,"C Hummingbird Lacquer Placemat",45]
[5068800,"R Garden Party Stationery Tackle Box",40]
[5068798,"R Mixed Florals Essential Card Box Set",36]
[5068799,"R Garden Party Desk Organiser",30]
[5008993,"PK Strawberry Thief Boxes - TO SPLIT",25]
[5068788,"R Botanical Social Stationery Set",25]
[5068792,"R Garden Party Floral Journal",24]
[5019275,"CF Adult Wild Feather Antique Gold Headdress",23]
[5068802,"R Collete Spiral Notebook",20]
[5068793,"R Wild Rose Stitched Journal Set of 3",15]
[5068803,"R Garden Party Blue Weekly Meal Planner",15]
[5068805,"R Juliet Rose Floral Pen",15]
[5068806,"R Strawberry Fields Floral Pen",15]
[5068790,"R Garden Party Set of 12 Pencils",12]
[5068791,"R Modernist Set of 12 Pencils",12]
[5068795,"R Wild Rose Weekly Desk Pad",12]
[5068796,"R Garden Party Memo Tear off Pad",12]
[5068797,"R Kitchen Shelf Recipe Cards",12]
[5068794,"R Rosa Pocket Notebook Set of 2",10]
[8021319,"OD Handpainted Watercolour Greeting Card",10]
[8021320,"OD Event Special Watercolour Greeting Card",10]
[2082340,"OCM A5 Writing Pad Cream Laid (50 sheets)",9]
[5019280,"CF Children Feather Headdress",8]
[5027278,"S&D Pink Heart Card",6.5]
[5011828,"R Birthday Girl Card",4]
[5030392,"WP You Are Divine Card",4]
[2120534,"OCM 6 Cream Laid Place Cards w Gold Border",3.25]
[5030399,"M&G Chinese Blossom Card",3]
[2050463,"Bespoke Stationery",0]
[2213969,"BB 16th Balloon Card",4.75]
[8018693,"MM Circus Single Card",6.5]
[5029003,"PI Westie Dog Card",3]
[5013053,"UWP Sailing Panoramic with Sound Card",9]
[8018690,"MM Cat Party Concertina Single Card",6.5]
[8019405,"WW 'Q' Single Card",4.5]
[8018695,"MM Mermaid Single Card",6.5]
[8019410,"WW 'W' Single Card",4.5]
[8025948,"Fortnum's Table Bomb",40]
[5012768,"FDS 60 Don't Look a Day over Fabulous Card",7]
[2208364,"MM Flamingo Concertina Card",6.5]
[5013041,"UWP Nocturnal Birthday Treasure Light Up Card",7]
[5008899,"AJ Girl and Butterfly Pop Up Single Card",5]
[5008903,"AJ Boy on the Moon Pop Up Single Card",5]
[2213966,"BB Christening Cross Card",4.75]
[5018939,"C Ivory Gilded Cocktail Napkin",4]
[2207354,"SOH New Home Hedgehog Card",3.5]
[2210822,"ED Porsche Birthday Card",6.5]
[2207577,"P&B Vintage 1910's Card Assorted",6]
[2215263,"RMAT Wild Until 9 Card",3.5]
[8025411,"OD Abstract Shapes Hand painted Watercolour Greeting Card",12]
[8018691,"MM Dog Party Concertina Single Card",6.5]
[8027014,"ED Wardian Fern Case Single Card",6.5]
[2164429,"SOH Together X Years Card",3.5]
[2207366,"AG Hip Hip Hooray Card",3.5]
[2215266,"RMAT Leopard Skin Card",3.5]
[5029000,"PI Dachsund Dog Card",3]
[5012760,"FDS Fabulous Birthday Darling Card",7]
[8018694,"MM Pirate Diorama Single Card",6.5]
[2207423,"FDS With Love Wedding Day Card",6]
[8023544,"FDS 40 Million Dollars Card",5]
[2207785,"A Get Well Card",4.5]
[2214788,"A Graduation Owl Card",4.5]
[8019392,"WW 'D' Single Card",4.5]
[8019402,"WW 'M' Single Card",4.5]
[5030200,"RLB Narwal Card",4]
[2207389,"JW Passing Driving Test Card",3.5]
[5012759,"FDS Princess For The Day Card",7]
[2169580,"MM Ballet Dancers Concertina Card",6.5]
[2208366,"MM Space Concertina Card",6.5]
[2208368,"MM Jungle Concertina Card",6.5]
[2207390,"JW Sister Pink Wreath Birthday Card",5]
[2213968,"BB 90th Balloons Card",4.75]
[2207778,"A Great Evening Card",4.5]
[8019393,"WW 'E' Single Card",4.5]
[5011830,"R Magical Birthday Card",4]
[5030202,"RLB Fox Family Card",4]
[2207330,"AF Kaleidoscope Peacocks Card",3.5]
[5011895,"STC Baby Girl Elephant with Balloons Card",3.5]
[5011897,"STC Bear on Unicycle Card",3.5]
[5019093,"L Age 21 Card",3.5]
[5019098,"L Age 70 Card",3.5]
[5029004,"PI Collie Dog Card",3]
[5030395,"M&G Aerial Manoevres Card",3]
[5013048,"UWP Dog Walker Panoramic Card",8]
[5013049,"UWP Party Carts Panoramic Card",8]
[8027007,"ED Congratulations Wedding Bouquet Single Card",6.5]
[8027012,"ED Delphinium Thinking of You Single Card",6.5]
[5013039,"UWP Swan Lake Treasure Card",6]
[2120302,"FDS 30 Look Good Card",5]
[5008900,"AJ Peacock Pop Up Single Card",5]
[5008901,"AJ Fishes Pop Up Single Card",5]
[2213979,"BB Grandma Hummingbird Card",4.75]
[2207380,"JW Brother Beer Birthday Card",4.5]
[2207781,"A Retirement Hammock Card",4.5]
[8019397,"WW 'I' Single Card",4.5]
[8019411,"WW 'Z' Single Card",4.5]
[2214793,"AF Fossile Pelican Card",4]
[2214794,"AF Fossile Lynx Card",4]
[5011827,"R Disco Birthday Card",4]
[2207356,"SOH People our Age Card",3.5]
[2207364,"AG If Kipling Card",3.5]
[2207392,"JW Grandson Trophy Birthday Card",3.5]
[5019100,"L Age 90 Card",3.5]
[5019101,"L Age 100 Card",3.5]
[8023532,"AG Cheese Mouse Card",3.5]
[5029001,"PI Schnauzer Dog Card",3]
[5030101,"WJB Happy Birthday Chrysanthemum Card",3]
[5030104,"WJB Tropial Leaves Card",3]
[8027196,"JB Gold Bee Box of 10 Invitations",24]
[8025410,"OD Assorted London Hand painted Watercolour Greeting Card",12]
[5013056,"UWP Animal Bumper Cars Sight 'n Sound Card",8]
[5012764,"FDS 21 Let the Champagne Flow Card",7]
[2144734,"MM Children Concertina Card",6.5]
[2208365,"MM Unicorn Concertina Card",6.5]
[5013035,"UWP Bird and Flower Bouguet Snow Globe Card",6]
[5013042,"UWP Watercolour Butterflies Treasure Card",6]
[5013045,"UWP Watercolour Bouquet Treasure Card",6]
[2207391,"JW Christening Silver Pram Card",5]
[2207393,"JW Wife Pink Flower Card",5]
[2207412,"FDS Read Without Glasses Card",5]
[2207415,"FDS Amazing Brother Card",5]
[8022308,"BB 100th Balloons Card",4.75]
[2207782,"A Grandad Card",4.5]
[2207786,"A Leaving Mouse Card",4.5]
[5028955,"JW Sorry You're Leaving Hot Air Balloon Card",4.5]
[2214790,"AF Fossile Seahorse Card",4]
[2214792,"AF Fossile Dragonfly & Flowers Card",4]
[2214795,"AF Fossile Whale Card",4]
[5019094,"L Age 30 Card",3.5]
[5019099,"L Age 80 Card",3.5]
[5030196,"AF Vertigo 365 Days Less Refined Card",3.5]
[5000904,"MG Hares and Berries Flat Sheet",3]
[5028996,"PI Sleeping Casey Cat Card",3]
[5029007,"PI Jack Russell Dog Card",3]
[5030410,"PH Talent for Multi-Tasking Card",3]
[5012765,"FDS 30 Let the Champagne Flow Card",7]
[5013044,"UWP Birthday Cake Treasure Light Up Card",7]
[2210814,"ED Lavender Bird Card",6.5]
[8027009,"ED Good Luck Rabbit Single Card",6.5]
[2207419,"FDS Daughter Dress Card",6]
[2207413,"FDS Silver Fox Card",5]
[2207416,"FDS Husband Knight Card",5]
[5028953,"JW Sister Champagne Flute Card",4.5]
[8019394,"WW 'F' Single Card",4.5]
[8019395,"WW 'G' Single Card",4.5]
[8019396,"WW 'H' Single Card",4.5]
[8019401,"WW 'N' Single Card",4.5]
[8019406,"WW 'R' Single Card",4.5]
[8019407,"WW 'S' Single Card",4.5]
[8019408,"WW 'T' Single Card",4.5]
[8019409,"WW 'V' Single Card",4.5]
[2207317,"KH That s Amore Llamas Card",4]
[2214789,"AF Fossile Blue Fish Card",4]
[2138094,"PP Sympathy Card",3.5]
[2207353,"SOH Get Well Soon Sick Bunny Card",3.5]
[2207371,"AG Bon Voyage Swallow Card",3.5]
[2207382,"JW Granddaughter Dress Birthday Card",3.5]
[2207385,"JW Engagement Floral Card",3.5]
[2207408,"PP Wife Birthday Card",3.5]
[5011892,"STC Birthday Animals Card",3.5]
[5011896,"STC Baby Boy Bear with Balloons Card",3.5]
[5030194,"AF Vertigo Long May You Run Card",3.5]
[5030198,"AF Vertigo Happy Birthday Vortex Card",3.5]
[8023543,"SOH One Day No Way Card",3.5]
[5030102,"WJB Happy Birthday Hydrangea Card",3]
[2121265,"PP Complimentary Nuts Card",2.5]
[5018930,"C Square Gold Lacquer Placemat",45]
[5013050,"UWP Midnight Bird Panoramic with Light Card",9]
[5013052,"UWP Classical Music Panoramic with Sound Card",9]
[5013054,"UWP Marching Band with Sound Card",9]
[2212753,"JB Bow Place Cards",8]
[5013055,"UWP Hummingbirds Sight 'n Sound Card",8]
[5030107,"PS Cats with Presents Card",8]
[5030108,"PS Frogs on Lillypads Card",8]
[5030111,"PS Butterfly Medley Card",8]
[5012766,"FDS 40 Sassy, Classy Fabulous Birthday Card",7]
[5018934,"C Acrylic Wine Glass",7]
[5030105,"FDS Sassy, Classy Birthday Girl Card",7]
[2210815,"ED Garden Souvenirs Vases Card",6.5]
[2210817,"ED China Tea Cup Card",6.5]
[2210820,"ED Queen For A Day Card",6.5]
[8027008,"ED Engagement Rings Single Card",6.5]
[8027010,"ED Congratulations Bottle Tag Single Card",6.5]
[8027015,"ED Fan Coral Single Card",6.5]
[5013037,"UWP Unicorn Snow Globe Card",6]
[5013038,"UWP Bird Trio Snow Globe Card",6]
[5013043,"UWP Birthday Wreath Treasure Card",6]
[5013046,"UWP Dino-Mite Birthday Treasure Card",6]
[8027127,"FDS Love For Your Engagement Card",6]
[2207409,"FDS Gone Up A Gear Card",5]
[2207410,"FDS I Detect A Special Day Card",5]
[2207414,"FDS You Magnificent Beast Card",5]
[2207431,"FDS 60 Aged To Perfection Card",5]
[5008902,"AJ Animal Party Pop Up Single Card",5]
[8017224,"FDS 70 That’s 21 In Celsius Card",5]
[8027125,"FDS 18 Licensed To Party Card",5]
[2213967,"BB Floral Mum Card",4.75]
[8022307,"BB 80th Cake Card",4.75]
[2207776,"A Rosy Posy Card",4.5]
[2207779,"A Cup of Tea Card",4.5]
[2207783,"A Champagne Congrats Card",4.5]
[2207784,"A Everything Crossed Good Luck Card",4.5]
[2214784,"A Stork Baby Card",4.5]
[8019389,"WW 'A' Single Card",4.5]
[8019390,"WW 'B' Single Card",4.5]
[8019391,"WW 'C' Single Card",4.5]
[8019398,"WW 'J' Single Card",4.5]
[8019399,"WW 'K' Single Card",4.5]
[8019400,"WW 'L' Single Card",4.5]
[8019403,"WW 'O' Single Card",4.5]
[8019404,"WW 'P' Single Card",4.5]
[2207316,"KH Koala Baby Card",4]
[5030199,"RLB Protea and Moth Card",4]
[5030387,"WP Pink Tile Lovely Birthday Card",4]
[5030389,"WP Hello  Handsome Birthday Card",4]
[5030394,"WP Pink Marbled With Love Card",4]
[2121234,"PP Happy I Do Day Card",3.5]
[2140143,"AG Amazed Anniversary Card",3.5]
[2165381,"AG Time With Cats Card",3.5]
[2185196,"SOH Young And Crazy Card",3.5]
[2185199,"SOH Friends For So Long Card",3.5]
[2185590,"AG Hans Christian Anderson Card",3.5]
[2207333,"AF Kaleidoscope Elephants Card",3.5]
[2207337,"AF Natural History Owl Card",3.5]
[2207358,"SOH Ice Cream Vans Card",3.5]
[2207363,"AG Long Time Friend Card",3.5]
[2207370,"AG Thank You Sun Card",3.5]
[2207396,"PP A Venn Diagram wine Card",3.5]
[2215259,"RMAT Witness The Fitness Card",3.5]
[2215260,"RMAT Downward Doughnut Card",3.5]
[2215261,"RMAT Salad Card",3.5]
[2215262,"RMAT Runner Biscuit Card",3.5]
[2215295,"P Retirement Card",3.5]
[5011893,"STC Car Full of Animals Card",3.5]
[5011894,"STC Circus Animals with Bunting Card",3.5]
[5019092,"L Age 18 Card",3.5]
[5030195,"AF Vertigo Happy Birthday Card",3.5]
[5030382,"FS Hummingbird Card",3.5]
[5030383,"FS Bumblebee and Sunflower Card",3.5]
[5030385,"FS Hares In The Field Card",3.5]
[5030386,"FS Poppies And Butterfly Card",3.5]
[8023529,"AG Big Hugs Card",3.5]
[8023541,"SOH Dangers of Drinking Card",3.5]
[8023542,"SOH I Want To be Younger Card",3.5]
[2139953,"SOH Friendship Card",3]
[2164315,"PH Can We Go For Lunch Now Card",3]
[5028995,"PI Sitting George Cat Card",3]
[5028999,"PI Frenchie Dog Card",3]
[5029002,"PI Pug Dog Card",3]
[5030414,"PH Remote Control Card",3]
[5030415,"PH I've Just Had a Grandchild Card",3]
[2215052,"JB Alphabet Notecards Initial E",25]
[2191154,"Fortnums Table Top Trivia 2017",20]
[8025407,"OD Blue Layered Mountain Hand painted Watercolour Greeting C",12]
[2212755,"JB Bee Place Cards",8]
[5013058,"UWP Sloth Sight 'n Sound Card",8]
[5030106,"PS Birthday Cake on Teal Card",8]
[5030109,"PS Penguins with Happy Birthday Balloons Cards",8]
[5030110,"PS Petit Fours Cakestand Card",8]
[2144709,"MM Sausage Dog Concertina Card",6.5]
[2210818,"ED Balloons For You Card",6.5]
[5027279,"S&D Cat Card",6.5]
[5027280,"S&D Dog Card",6.5]
[5027281,"S&D Sundae Card",6.5]
[5027284,"S&D Presents Card",6.5]
[2207420,"FDS Granddaughter Dress Card",6]
[5013040,"UWP Princess & Unicorn Treasure Card",6]
[2207422,"FDS Thank You So Much Card",5]
[2207379,"JW Dad Birthday Card",4.5]
[5030201,"RLB Parrot and Flowers Card",4]
[2207355,"SOH Mr and Mrs Wedding Card",3.5]
[2207405,"PP Amazing Daughter Card",3.5]
[5030197,"AF Vertigo Keep Rolling Card",3.5]
[8023528,"AG Special Genius Card",3.5]
[5028997,"PI Playful Harry Cat Card",3]
[5029005,"PI Springer Dog Card",3]
[2207399,"PP Things That Age Well Card",2.5]
[8027195,"JB Gold Bow Box of 10 Invitations",24]
[2212728,"JB Bee Note Cards",22]
[8025409,"OD Seaside Hand painted Watercolour Greeting Card",12]
[5027283,"S&D Happy Birthday Flags Card",6.5]
[2207421,"FDS Grandma Butterfly Card",6]
[5013036,"UWP Botanical Cat Snow Globe Card",6]
[8027124,"FDS 80 Hats Off To You Card",5]
[5028340,"A Birdcage and Blossom Card",4.5]
[5011829,"R Dinomite Birthday Card",4]
[5028957,"JW Baby Girl Elephant with Heart Card",4]
[5030391,"WP Ecru With Blue Tile Congratulations Card",4]
[2185589,"AG Rules Card",3.5]
[2207388,"JW Thinking of You Floral Card",3.5]
[8023531,"AG The Importance of Tea Card",3.5]
[2164320,"PH Get Me A Large Glass Of Wine Card",3]
[5030100,"WJB Happy Birthday Rose Card",3]
[5030411,"PH Get A Grip Card",3]
[2215062,"JB Alphabet Notecards Initial O",25]
[5008844,"PS Butterflies Set of 6 Place Cards",15]
[5013051,"UWP Cupcake & Candles Panoramic with Light Card",9]
[5012763,"FDS 18 Girls Just Sparkle Card",7]
[5027282,"S&D Candle Card",6.5]
[2207417,"FDS Wife Tree Card",6]
[5018949,"C Gold Border Set 10 Placecards",5.5]
[2207411,"FDS Wine and Cheese Card",5]
[5008897,"AJ Jazz Music Pop Up Single Card",5]
[5008898,"AJ London Pop Up Single Card",5]
[8017506,"ES Greeting Card Cranes on Green",5]
[5028956,"JW It's a Boy Bear with Balloon Card",4]
[2207334,"AF Kaleidoscope Hares Card",3.5]
[2207350,"SOH Anniversary Penguins Holding Hands Card",3.5]
[2211694,"AG Winston Churchill Pigs Card",3.5]
[2215296,"P Son Birthday Card",3.5]
[5019097,"L Age 60 Card",3.5]
[5030406,"M&G Allium Invasion Card",3.5]
[8023537,"AF Cityscapes London Card",3.5]
[5029006,"PI Labrador Dog Card",3]
[5008836,"PS Ginkgo on Taupe Box of 6 Note Cards",38]
[5008840,"PS Embossed Calla Lily Box of 8 Note Cards",38]
[5018973,"C Ivory with Gold Lunch Lacquer Napkinholder",38]
[2215063,"JB Alphabet Notecards Initial P",25]
[5008846,"PS Gold Border Set of 6 Place Cards",15]
[8019356,"OD Assorted Original Hand painted Watercolour Greeting Card",12]
[8025408,"OD Snowy Mountain Hand painted Watercolour Greeting Card",12]
[5013059,"UWP Feline Birthday Sight 'n Sound Card",8]
[5012767,"FDS 50 Don't Look a Day over Fabulous Card",7]
[2207373,"JW Birthday Pug Card",4.5]
[2121245,"PP Finest Bin Taker-Outerer - Husband Birthday Card",3.5]
[2207335,"AF Natural History Hedgehog Card",3.5]
[2207368,"AG Birthday Octopus Card",3.5]
[2207395,"PP Shop, Wine, Sorted Card",3.5]
[5019095,"L Age 40 Card",3.5]
[2164318,"PH I'm Still Freezing Card",3]
[2206899,"M&G Butterworth Floral Sheet Wrap",3]
[2206900,"M&G Japanese Lanterns Sheet Wrap",3]
[5028998,"PI Standing Tux Cat Card",3]
[2207400,"PP Whisky Business Card",2.5]
[8021317,"Travel Journal",60]
[5008837,"PS Quill Thank You Box of 8 Note Cards",38]
[5008843,"PS Bee on Sunflower Box of 8 Note Cards",38]
[5018974,"C Ivory with Gold Cocktail Lacquer Napkinholder",32]
[5008847,"PS Silver Border Set of 6 Place Cards",15]
[2212762,"JB Bee Gift Tags",9]
[5013057,"UWP Dogs Sight 'n Sound Card",8]
[5027277,"S&D Balloons Card",6.5]
[2207418,"FDS Mum Butterflies Card",6]
[5018950,"C Gold Leaves Placecards",5.5]
[8017508,"ES Greeting Card Pink/Red Hibiscus Exclusive",5]
[5028950,"R Balloons Flat Sheet",4]
[2183165,"AF Natural History Pheasant Card",3.5]
[2207397,"PP Prosecco Flow Chart Card",3.5]
[5019096,"L Age 50 Card",3.5]
[2170782,"MG Marching Guardsmen Wrap",3]
[2206905,"M&G Edward Bear Sheet Wrap",3]
[5030404,"M&G The Elephant's Child Card",3]
[8021314,"Entertaining Book",110]
[8021315,"Photograph Album",95]
[8021313,"Address Book A5",75]
[8021318,"Note Book A5",70]
[5059163,"L Oxford 2021 Slim Black Diary",42]
[5059164,"L Oxford 2021 Slim Red Diary",42]
[5059165,"L Oxford 2021 Slim Navy Diary",42]
[5059158,"L Regent 2021 Black Diary with pencil",38]
[5059159,"L Regent 2021 Red Diary with pencil",38]
[5059160,"L Regent 2021 Navy Diary with pencil",38]
[5059161,"L Regent 2021 Capri Blue Diary",38]
[5059162,"L Regent 2021 Sunrise Orange Diary",38]
[5059155,"L Savoy 2021 Black Diary with pencil",31.5]
[5059156,"L Savoy 2021 Red Diary with pencil",31.5]
[5059157,"L Savoy 2021 Navy Diary with pencil",31.5]
[2215053,"JB Alphabet Notecards Initial F",25]
[2215056,"JB Alphabet Notecards Initial I",25]
[2215068,"JB Alphabet Notecards Initial U",25]
[2215070,"JB Alphabet Notecards Initial W",25]
[2215071,"JB Alphabet Notecards Initial X",25]
[2215072,"JB Alphabet Notecards Initial Y",25]
[2191155,"Fortnums Game Box 2017",15]
[5008845,"PS Hummingbird Set of 6 Place Cards",15]
[5018996,"C Ivory Gilded Diecut Placemat",12]
[5022460,"PK Strawberry Thief Large Gift Box",12]
[2212761,"JB Bow Gift Tags",9]
[5008991,"PK Marigold Large Gift Bag",8.5]
[5018933,"C Acrylic Champagne Flute",7]
[5008992,"PK Strawberry Thief Bottle Gift Bag",5.5]
[5018948,"C Silver Border Set 10 Placecards",5.5]
[5022458,"PK Strawberry Thief Small Gift Box",5]
[2207375,"JW Be A Flamingo Card",4.5]
[5000975,"R Bees Flat Sheet",4]
[5000978,"R Indian Blue Elephants Flat Sheet",4]
[5008988,"PK Strawberry Thief Small Gift Bag",4]
[5008989,"PK Marigold Small Gift Bag",4]
[5028951,"R Dachsund Flat Sheet",4]
[5028952,"JW Happy Birthday Sausage Card",4]
[5030390,"WP Navy Magical Birthday Card",4]
[8023534,"AF Animal Kingdom Butterfly Card",3.5]
[2170781,"MG Strawberry Thief Wrap",3]
[2215301,"MG Piet Mondrian Flat Sheet",3]
[5030103,"WJB Happy Birthday Poppy Card",3]
[5030401,"M&G Café Terrace At Night Card",3]
[2207402,"PP Big Gins And I Cannot Lie Card",2.5]
[5018902,"C Black with Gold Lacquer Lunch Napkinholder",38]
[2215073,"JB Alphabet Notecards Initial Z",25]
[5026029,"JB Duck Family Note Cards",22]
[2082378,"OCM C6 Cello Envelopes White Cotton (25)",12]
[2082356,"OCM 15,5x21/2 Cello Double Cards White Laid",10]
[2082358,"OCM C6 Cello Envelopes White Laid (25)",10]
[5018943,"C Gold Circular Dinner Plate",7]
[5018937,"C Ivory Gilded Guest Napkin",6.5]
[5013047,"UWP Baby Crib Treasure Card",6]
[8023545,"KL Thank You Card",4.5]
[2167324,"R Blue Florentine Style Wrapping Sheet",4]
[5018963,"C Gold Cheers Cocktail Napkins",4]
[5030203,"RLB Yoga In The Park Card",4]
[5030204,"RLB Dinosaurland Card",4]
[2215264,"RMAT Houmous Card",3.5]
[2215265,"RMAT Dance on Tables Wedding Card",3.5]
[5030403,"M&G Up Ahead Card",3.5]
[2215054,"JB Alphabet Notecards Initial G",25]
[2215058,"JB Alphabet Notecards Initial K",25]
[2215059,"JB Alphabet Notecards Initial L",25]
[2215064,"JB Alphabet Notecards Initial Q",25]
[2215067,"JB Alphabet Notecards Initial T",25]
[2215069,"JB Alphabet Notecards Initial V",25]
[5026030,"JB Rabbits Note Cards",22]
[5012679,"MDC Adventures in Oz Musical Card",14]
[2082342,"OCM 10,5x15,5 Cello Cards White Laid (50)",10]
[2082359,"OCM C6 Cello Envelopes Cream Laid (25)",10]
[5022284,"GR Gold Orb Balloons",10]
[2213128,"OCM Mixed Cello Cards And Envelopes",7]
[5012762,"FDS Wonderful Friend Card",7]
[5018936,"C Acrylic Tumbler",7]
[8017509,"ES Greeting Card Blue Birds on Gold Exclusive",5]
[2167318,"R Feathers Wrapping Sheet",4]
[2167322,"R Peacock Feathers Flat Sheet",4]
[2207802,"R Blue Feathers Flat Sheet",4]
[5000976,"R Dandelion Flat Sheet",4]
[5000977,"R Indian Red Tigers Flat Sheet",4]
[5012733,"C White Gemstone Tissue Paper",4]
[5028954,"JW New Pad Frog on Lilypad Card",4]
[2207336,"AF Natural History Bee Card",3.5]
[5030384,"FS Dragonfly and Bearded Iris Card",3.5]
[5030402,"M&G Pink Campion Card",3.5]
[8023530,"AG Wish Bone Card",3.5]
[5000902,"MG The Great Wave Flat Sheet",3]
[5000903,"MG Paddington Bear Flat Sheet",3]
[5030397,"M&G Alond Branches in Bloom Card",3]
[8021316,"Guest Book",90]
[5018932,"C Rectangular Grey Marble Lacquer Placemat",45]
[2215051,"JB Alphabet Notecards Initial D",25]
[2215055,"JB Alphabet Notecards Initial H",25]
[2215065,"JB Alphabet Notecards Initial R",25]
[2212733,"JB Tower Bridge/Buses Note Cards",22]
[2191156,"Fortnums Dinner Party Discourse & Debate 2017",15]
[5012676,"MDC Adventures in Wonderland Musical Card",14]
[5012684,"MDC Jungle Adventure Musical Card",14]
[5022459,"PK Strawberry Thief Medium Gift Box",8]
[5012761,"FDS Let the Champagne Flow Card",7]
[5008990,"PK Strawberry Thief Medium Gift Bag",5]
[2207376,"JW Drink Mojitos Card",4.5]
[2214787,"A Perfume Trio Card",4.5]
[5030388,"WP Blue Marbled Happy Birthday Card",4]
[2206898,"M&G Chinese Tree Sheet Wrap",3]
[2082380,"OCM Sheets & Envelopes Set A5/C6 White Cotton (100sh/50env)",55]
[5018931,"C Round Gold Lacquer Placemat",45]
[2213131,"OCM Navy Blue And Cream Notecard Boxes",28]
[2213134,"OCM Turquoise And White Notecard Boxes",28]
[2215048,"JB Alphabet Notecards Initial A",25]
[2215049,"JB Alphabet Notecards Initial B",25]
[2215050,"JB Alphabet Notecards Initial C",25]
[2215057,"JB Alphabet Notecards Initial J",25]
[2215060,"JB Alphabet Notecards Initial M",25]
[2215061,"JB Alphabet Notecards Initial N",25]
[2215066,"JB Alphabet Notecards Initial S",25]
[2212729,"JB Elephant Note Cards",22]
[2212731,"JB Fred Note Cards",22]
[5012681,"MDC Fun at the Fair Musical Card",14]
[2212759,"JB Bee Thank You Cards",12]
[2082357,"OCM 15,5x21/2 Cello Double Cards Cream Laid",10]
[5017806,"MM Gold Dipped Candles",10]
[5017785,"MM Iredescent Confetti",7]
[5017781,"MM Iridescent Set 8 Cups",6]
[2177018,"C London Map Tissue Paper",4]
[2214791,"AF Fossile Beetle Card",4]
[2215298,"P Old Age Coming For All Of Us Card",3.5]
[8027128,"RMAT Dad Legend Card",3.5]
[5030408,"PH Inner Peace Card",3]
[2212732,"JB Gherkin Etc Note Cards",22]
[2082377,"OCM 10,5x15,5 Cello Cards White Cotton (50)",15]
[5012683,"MDC Circus Adventure Musical Card",14]
[2207426,"FDS Happy Anniversary Tree Card",6]
[5030400,"M&G Arts and Crafts Tile Design Card",3]
[8017500,"ES Medium Album Pink/Red Hibiscus Exclusive",40]
[5018903,"C Black with Gold Lacquer Cocktail Napkinholder",32]
[2213132,"OCM Dark Green And Cream Notecard Boxes",28]
[2213133,"OCM Fuchsia And White Notecard Boxes",28]
[2082351,"OCM C6 Cards & Envelopes White Laid (25+25)",20]
[5012678,"MDC Fairyland Dream Musical Card",14]
[5012682,"MDC London Adventure Musical Card",14]
[2212757,"JB Bow Thank You Cards",12]
[2213135,"OCM Gold Menu Cards",12]
[2213136,"OCM Silver Menu Cards",12]
[8017479,"ES Pencil Set",12]
[5017805,"MM Multicolour Dipped Candles",10]
[5018935,"C Acrylic Wine Goblet",10]
[5018951,"C Gold Birthday Slim Candles",8.5]
[2213137,"OCM Silver Cutlery Placecards",6]
[2213138,"OCM Gold Cutlery Placecards",6]
[5018938,"C Ivory Gilded Lunch Napkin",5]
[5018944,"C Gold Circular Salad Plate",5]
[5018954,"C Gold Duet 25cm Candles",5]
[8017504,"ES Greeting Card Pink Hydrandea on blue",5]
[2207394,"PP Birthday Sausage Card",3.5]
[5030396,"M&G Birds Of Many Climes Card",3]
[5030413,"PH Right Partner Card",3]
[5018928,"C Gold with Ivory Tray",160]
[8017501,"ES Medium Album Blue Birds on Gold Exclusive",40]
[2082327,"OCM A5 Sheets & Envelopes Set Cream Laid (25+25)",22]
[5018945,"C Gold Airlaid Tablecloth",14]
[5012471,"AB Sequin Heart Large Gift Bag",8]
[8017433,"ES Sougara Album Gold Peacocks Gold Silk",225]
[5018927,"C Square Gold/White Fern Tray",130]
[8017503,"ES Large Album Blue Birds on Gold Exclusive",55]
[8017481,"ES Guest book Pink/Red Hibiscus Exclusive",38]
[8017482,"ES Guest Book Blue Birds on Gold Exclusive",38]
[2082362,"OCM Bi-Colour Stationery Set Burgundy A5/C6",28]
[5022282,"GR Gold Balloon Arch",25]
[5000901,"ES Small Address Book Blue Birds on Gold Exclusive",22]
[8017494,"ES Small Journal Blue Birds on Gold Exclusive",20]
[2207339,"AF Natural History Puffin Card",3.5]
[5018901,"C Black with Gold Palm Leaf Tray",160]
[5018929,"C Grey Marble Bar Tray",120]
[2082346,"OCM Sheets & Envelopes Set A5/C6 Cream Laid (100sh/50env)",40]
[2082354,"OCM Bi-Colour Stationery Set Navy Blue A5/C6",28]
[2082361,"OCM A5 Sheets & Envelopes Set White Laid (25+25)",22]
[8017487,"ES Medium Notebook Pink/Red Hibiscus Exclusive",22]
[8017488,"ES Medium Notebook Blue Birds on Gold",22]
[8017497,"ES Small Address book Pink/Red Hibiscus Exclusive",22]
[8017493,"ES Small Journal Pink/Red Hibiscus Exclusive",20]
[2082376,"OCM A4 Writing Pad White Cotton (50 sheets)",18]
[2082379,"OCM DL Cello Envelopes White Cotton (25)",15]
[2082344,"OCM DL Cello Envelopes Cream Laid (25)",12]
[2082360,"OCM DL Cello Envelopes White Laid (25)",12]
[2082375,"OCM A5 Writing Pad White Cotton (50 sheets)",12]
[2048624,"OCM 9,5x14,5 Cello Cards & Envelopes White Cotton",10]
[2082343,"OCM 10,5x15,5 Cello Cards Cream Laid (50)",10]
[8017514,"ES Silk Screen Printed Paper Pink/Red Hibiscus Exclusive",10]
[8017515,"ES Silk Screen Printed Paper Blue Birds on Gold Exclusive",10]
[2082338,"OCM A5 Writing Pad White Laid (50 sheets)",9]
[5012470,"AB Sequin Heart Small Gift Bag",6]
[5011826,"R Layer Cake Card",4]
[5030405,"M&G Gathering Flowers In The Meadow Card",3]
[5019273,"CF Adult Brown Hare",175]
[5019272,"CF Adult White Rabbit",160]
[5019271,"CF Adult White Fox Mask",150]
[5019279,"CF Children White Rabbit Mask",140]
[5019277,"CF Children White Fox Mask",130]
[5024559,"A Adult Velvet Fox Mask",85]
[5024561,"A Adult Black Cat Mask",80]
[5024554,"A Children's Zebra Mask",75]
[5024555,"A Children's Giraffe Mask",75]
[8017502,"ES Large Album Pink/Red Hibiscus Exclusive",55]
[5012677,"MDC Cinderella's Dream Musical Card",14]
[2082341,"OCM A4 Writing Pad Cream Laid (50 sheets)",12]
[5024560,"A Adult White Sequin Swan Mask",185]
[5019276,"CF Adult Brown Bear Mask",140]
[5019278,"CF Children Ginger Fox Mask",130]
[5024558,"A Adult Totem Owl Mask",130]
[5018900,"C Black Redoute Small Rectangle Tray",110]
[5024556,"A Children's Lion Mask",85]
[5024557,"A Adult White Rabbit Mask",85]
[2082339,"OCM A4 Writing Pad White Laid (50 sheets)",12]
[5013164,"TT Set of 5 Gold Star Sparklers",6.5]
[2207378,"JW Cupcake Card",4.5]
[5030393,"WP Blue Tile Birthday Wishes Card",4]
[5030398,"M&G Hand of Dante Card",3]
[5030412,"PH Some Things In Life Card",3]
[5018899,"C Black Redoute Square Tray",130]
[5018977,"C Hummingbird Trellice Square Tray",130]
[2065971,"Non Scan Code: Stationery",0]
[5030059,"Mississippi Sunshine Green Tea Loose kg",1000]
[5030060,"Mississippi Delta Oolong Loose Green Tea Loose kg",1000]
[8023454,"Baozhong Pouchong Loose kg",500]
[2071120,"Jungpana FTGFOP1 Second Flush Loose Kg",200]
[5068537,"Havukal - SFTGFOP1 Frost Tea - Nilgiri Hills",200]
[2214083,"Mother of All Tea Caddies",195]
[5058735,"Tea Wooden Advent Calendar and Refill Pack Bundle",145]
[8019155,"Pu er Tea Cake 200g Giftpack",135]
[8026704,"90 Pyramid Bags Restaurant Box",125]
[5024768,"Rare Tea Advent Refill 2020",90]
[8026703,"60 Pyramid Bags Restaurant Box",85]
[8022102,"Victoria Grey Loose Tea kg",48]
[4008474,"Musea Blend Loose Tea",46]
[2137329,"Decorative Gift Caddy Selection 3 x 50 Tea Bags",45]
[5028209,"Castleton Second Flush Darjeeling Wooden Caddy 90g",37.5]
[5028211,"Lovers Leap Ceylon Wooden Caddy 90g",37.5]
[5028212,"Bi Luo Chun Wooden Caddy 30g",37.5]
[5028213,"Itakhooli Assam Wooden Caddy 90g 2020",37.5]
[5029470,"Classic Coffee and Cake Bundle",27.9]
[5062625,"Whisky Barrel Aged Ground Coffee 125g Tin",25]
[5062565,"Coffee Pod Bundle x4 220g",20]
[5029469,"Parliament Picnic Bundle",18.3]
[5029471,"Elevensies Bundle",16.7]
[2101794,"Half Crown Perfection Decorative Loose Leaf Caddy 250g",16.5]
[2173888,"Tea Post January",15]
[2173889,"Tea Post February",15]
[2173890,"Tea Post March",15]
[2173891,"Tea Post April",15]
[2173892,"Tea Post May",15]
[2173894,"Tea Post June",15]
[2173895,"Tea Post July",15]
[2173896,"Tea Post August",15]
[2173897,"Tea Post September",15]
[2173898,"Tea Post October",15]
[2173899,"Tea Post November",15]
[2173900,"Tea Post December",15]
[2174957,"Tea Post Starter",15]
[2214268,"Musea Blend Tea Caddy 250g",15]
[2171303,"4 Piece Flowering Tea Gift Set 25g",13.95]
[2186320,"Autumn Tea Tin 125g",13.95]
[2213918,"Mothers Day Tea Tin 125g",13.95]
[5065912,"Valentines Tea 2021 50g",13.95]
[2002708,"HAMPER & INTERNATIONAL ONLY-Royal Blend Loose Tea Tin 125g",12.5]
[2002712,"Earl Grey Classic Loose Leaf Tea Tin 125g",12.5]
[2002632,"Queen Anne Loose Bag 250g",11.95]
[2002634,"Irish Breakfast Loose Bag 250g",11.95]
[2002635,"Afternoon Loose Bag 250g",11.95]
[2002645,"Smoky Earl Grey Loose Bag 250g",11.95]
[2002647,"Fortmason Loose Bag 250g",11.95]
[2002648,"Chai Loose Bag 250g",11.95]
[2002649,"Countess Grey Loose Bag 250g",11.95]
[2002598,"Darjee Ftgfop Loose Bag 125g",10.95]
[2214587,"Victoria Grey Decorative Tea Caddy 125g",10]
[5062566,"Coffee Pod Bundle- Kings Blend and Connoisseur Blend 110g",10]
[5062567,"Coffee Pod Bundle- Breakfast Blend and 181 Blend 110g",10]
[2002591,"Assam Tgfop Loose Bag 125g",9.9499999999999993]
[2002600,"Yunnan Loose Bag 125g",8.9499999999999993]
[2002079,"Royal Blend Tin 125g",7.95]
[2002080,"Breakfast Blend Tin 125g",7.95]
[2002083,"Queen Anne Tin 125g",7.95]
[2002085,"Irish Breakfast Blend Tin 125g",7.95]
[2002092,"Earl Grey Classic Loose Leaf Tea Tin 125g",7.95]
[2002093,"Smoky Earl Grey Tin 125g",7.95]
[2102153,"Wedding Breakfast Blend Loose Leaf Tea Tin 125g",7.95]
[2102154,"Jubilee Blend Tin 125g",7.95]
[2115430,"Christening Blend Loose Leaf Tea Tin 125g",7.95]
[2119130,"Christening Blend 125g",7.95]
[4008271,"Victoria Grey Loose Tea Tin 125g",7.95]
[5033342,"Captured Heart Flowering Tea Mini Shopper 8g",7.95]
[2002577,"Green Jasmine Loose Bag 125g",6.95]
[2002578,"Green Apple Loose Bag 125g",6.95]
[2002579,"Green Ginger Loose Bag 125g",6.95]
[2002580,"Green Elderflow Loose Bag 125g",6.95]
[2002581,"Black Strawb Loose Bag 125g",6.95]
[2002582,"Black Apple Loose Bag 125g",6.95]
[2002584,"Black Lemon Loose Bag 125g",6.95]
[2002586,"Black Peach Loose Bag 125g",6.95]
[2002587,"Black Cranberry Loose Bag 125g",6.95]
[2002590,"Assam Superb Loose Bag 125g",6.95]
[2002596,"Ceylon Op Loose Bag 125g",6.95]
[2002597,"Darjeeling Bop Loose Bag 125g",6.95]
[2002601,"Keemun Loose Bag 125g",6.95]
[2002603,"Russian Caravan Loose Bag 125g",6.95]
[2002606,"Lapsang Souchong Loose Bag 125g",6.95]
[2181124,"Chilli and Ginger Odditea 15 Silky teabags 37.5g",6.95]
[5052831,"Gunpowder Green Tea Loose Online Bag 75g",6.95]
[2002588,"Royal Blend Loose Bag 125g",5.95]
[2002589,"Breakfast Blend Loose Bag 125g",5.95]
[2002604,"Class Earl Grey Loose Bag 125g",5.95]
[2209344,"Apricot, Honey & Lavender Infusion Soft Pouch 15 SB 30g",5.95]
[2209345,"English Mint Infusion Soft Pouch 15 Silky Bags 22.5g",5.95]
[2209346,"Camomile & Bee Pollen Soft Pouch 15 Silky Bags 30g",5.95]
[2209347,"Ginger & Sicilian Lemon Infusion Soft Pouch 15 SB 37.5g",5.95]
[2209348,"Elderflower, Strawberry & Rose Infusion Soft Pouch 15SBs 30g",5.95]
[2209349,"Rose & Violet Infusion Soft Pouch 15 Silky Bags 30g",5.95]
[2209350,"Rhubarb, Raspberry & Nettle Infusion Soft Pouch 15 SBs 37.5g",5.95]
[2209351,"Sour Cherry & Orange Infusion Soft Pouch 15 Silky Bags 37.5g",5.95]
[2209352,"Liquorice, Mint & Lemon Verbena Infusion Soft Pouch 37.5g",5.95]
[2209353,"Rooibos Infusion Soft Pouch 15 Silky Bags 37.5g",5.95]
[2209354,"Spiced Rose & Fennel Infusion Soft Pouch 15 Silky Bags 37.5g",5.95]
[2209355,"English Camomile Infusions Soft Pouch 18g",5.95]
[8022103,"Kings Blend Coffee 75g",5.95]
[2002605,"Smoky Earl Grey Loose Bag 125g",5.75]
[2002096,"Fortmason Tin 125g",5.55]
[2002679,"Chai Tin 125g",5.55]
[2105325,"Generic Eau De Nil Caddy 100g",5]
[2177986,"Breakfast Blend Coffee 75g",4.95]
[2099652,"Paper Tea Filters 100s",4.5]
[2215432,"Christmas Black Tea Tin 25g",3.75]
[2215433,"Christmas Green Tea Tin 25g",3.75]
[2215434,"Plum, Apple and Cinnamon Infusion Tin 25g",3.75]
[2002336,"Christmas Coffee Tin 250g",3.1]
[2002387,"Breakfast Blend Tin 25g",2.95]
[2002389,"Assam Superb Tin 25g",2.95]
[2002391,"Queen Anne Tin 25g",2.95]
[2002395,"Darjeeling Bop Tin 25g",2.95]
[2002406,"Black Tea with Strawberry Tin 25g",2.95]
[2002411,"Black Tea with Lemon Tin 25g",2.95]
[2002415,"Black Tea with Peach Tin 25g",2.95]
[2002416,"Black Tea with Cranberry Tin 25g",2.95]
[2102157,"Ceylon Orange Pekoe Tin 25g",2.95]
[2102159,"Green Jasmine 25g Tin",2.95]
[2137039,"Wedding Breakfast 25g",2.95]
[2063728,"80g Sachet Pickadilly Coffee",2.5]
[2139646,"Black Lemon Tea 25g",1.95]
[2139647,"Black Tea Peach 25g",1.95]
[5028214,"Bespoke Blend Tea 125g 5028214",0]
[5028215,"Bespoke Blend Tea 125g 5028215",0]
[5028216,"Bespoke Blend Tea 125g 5028216",0]
[5028217,"Bespoke Blend Tea 125g 5028217",0]
[5028218,"Bespoke Blend Tea 125g 5028218",0]
[5028219,"Bespoke Blend Tea 125g 5028219",0]
[5028220,"Bespoke Blend Tea 125g 5028220",0]
[5028221,"Bespoke Blend Tea 125g 5028221",0]
[5028222,"Bespoke Blend Tea 125g 5028222",0]
[5028223,"Bespoke Blend Tea 125g 5028223",0]
[5028224,"Bespoke Blend Tea 125g 5028224",0]
[5028225,"Bespoke Blend Tea 125g 5028225",0]
[5028234,"Bespoke Blend Tea 125g 5028234",0]
[5028235,"Bespoke Blend Tea 125g 5028235",0]
[5028236,"Bespoke Blend Tea 125g 5028236",0]
[5028237,"Bespoke Blend Tea 125g 5028237",0]
[5028238,"Bespoke Blend Tea 125g 5028238",0]
[5028239,"Bespoke Blend Tea 125g 5028239",0]
[5030053,"1000 Spoons Blue Cornflower Petals Personalised Blending kg",0]
[5030054,"1000 Spoons Dark Pink Cornflower Petal Personalised Blend Kg",0]
[5030055,"1250 Spoons Pale Pink Cornflower Petal Personalised Blend Kg",0]
[5030056,"1250 Spoons White Cornflower Petals Personalised Blending Kg",0]
[5030057,"833 Spoons Marigold Petals Personalised Blending Loose Kg",0]
[5030058,"Safflower Petal Personalised Blending",0]
[5032551,"CNY Decorative Tea Caddies 3 X 50g 2021",0]
[5062629,"Bespoke Blend Tea 125g 5062629",0]
[5062630,"Bespoke Blend Tea 125g 5062630",0]
[5062631,"Bespoke Blend Tea 125g 5062631",0]
[5062632,"Bespoke Blend Tea 125g 5062632",0]
[5062633,"Bespoke Blend Tea 125g 5062633",0]
[5062634,"Bespoke Blend Tea 125g 5062634",0]
[5062635,"Bespoke Blend Tea 125g 5062635",0]
[5062636,"Bespoke Blend Tea 125g 5062636",0]
[5062637,"Bespoke Blend Tea 125g 5062637",0]
[5062638,"Bespoke Blend Tea 125g 5062638",0]
[5062639,"Bespoke Blend Tea 125g 5062639",0]
[5062640,"Bespoke Blend Tea 125g 5062640",0]
[5062641,"Bespoke Blend Tea 125g 5062641",0]
[5062642,"Bespoke Blend Tea 125g 5062642",0]
[5062643,"Bespoke Blend Tea 125g 5062643",0]
[5062644,"Bespoke Blend Tea 125g 5062644",0]
[5062645,"Bespoke Blend Tea 125g 5062645",0]
[5062646,"Bespoke Blend Tea 125g 5062646",0]
[5062647,"Bespoke Blend Tea 125g 5062647",0]
[5062648,"Bespoke Blend Tea 125g 5062648",0]
[5062649,"Bespoke Blend Tea 125g 5062649",0]
[5062650,"Bespoke Blend Tea 125g 5062650",0]
[5062651,"Bespoke Blend Tea 125g 5062651",0]
[5062652,"Bespoke Blend Tea 125g 5062652",0]
[5062653,"Bespoke Blend Tea 125g 5062653",0]
[5062654,"Bespoke Blend Tea 125g 5062654",0]
[5062655,"Bespoke Blend Tea 125g 5062655",0]
[5062656,"Bespoke Blend Tea 125g 5062656",0]
[5062657,"Bespoke Blend Tea 125g 5062657",0]
[5062658,"Bespoke Blend Tea 125g 5062658",0]
[5062659,"Bespoke Blend Tea 125g 5062659",0]
[5062660,"Bespoke Blend Tea 125g 5062660",0]
[5062661,"Bespoke Blend Tea 125g 5062661",0]
[5062662,"Bespoke Blend Tea 125g 5062662",0]
[5062663,"Bespoke Blend Tea 125g 5062663",0]
[5062664,"Bespoke Blend Tea 125g 5062664",0]
[5062665,"Bespoke Blend Tea 125g 5062665",0]
[5062666,"Bespoke Blend Tea 125g 5062666",0]
[5062667,"Bespoke Blend Tea 125g 5062667",0]
[5062668,"Bespoke Blend Tea 125g 5062668",0]
[5062669,"Bespoke Blend Tea 125g 5062669",0]
[5062670,"Bespoke Blend Tea 125g 5062670",0]
[5062671,"Bespoke Blend Tea 125g 5062671",0]
[5062672,"Bespoke Blend Tea 125g 5062672",0]
[5062673,"Bespoke Blend Tea 125g 5062673",0]
[5062674,"Bespoke Blend Tea 125g 5062674",0]
[5062675,"Bespoke Blend Tea 125g 5062675",0]
[5062676,"Bespoke Blend Tea 125g 5062676",0]
[5062677,"Bespoke Blend Tea 125g 5062677",0]
[5062678,"Bespoke Blend Tea 125g 5062678",0]
[5062679,"Bespoke Blend Tea 125g 5062679",0]
[5062680,"Bespoke Blend Tea 125g 5062680",0]
[5062681,"Bespoke Blend Tea 125g 5062681",0]
[5062682,"Bespoke Blend Tea 125g 5062682",0]
[5062683,"Bespoke Blend Tea 125g 5062683",0]
[5062684,"Bespoke Blend Tea 125g 5062684",0]
[5062685,"Bespoke Blend Tea 125g 5062685",0]
[5062686,"Bespoke Blend Tea 125g 5062686",0]
[5062687,"Bespoke Blend Tea 125g 5062687",0]
[5062688,"Bespoke Blend Tea 125g 5062688",0]
[5062689,"Bespoke Blend Tea 125g 5062689",0]
[5062690,"Bespoke Blend Tea 125g 5062690",0]
[5062691,"Bespoke Blend Tea 125g 5062691",0]
[5062692,"Bespoke Blend Tea 125g 5062692",0]
[5062693,"Bespoke Blend Tea 125g 5062693",0]
[5062694,"Bespoke Blend Tea 125g 5062694",0]
[5062695,"Bespoke Blend Tea 125g 5062695",0]
[5062696,"Bespoke Blend Tea 125g 5062696",0]
[5062697,"Bespoke Blend Tea 125g 5062697",0]
[5062698,"Bespoke Blend Tea 125g 5062698",0]
[5062699,"Bespoke Blend Tea 125g 5062699",0]
[5062700,"Bespoke Blend Tea 125g 5062700",0]
[5062701,"Bespoke Blend Tea 125g 5062701",0]
[5062702,"Bespoke Blend Tea 125g 5062702",0]
[5062703,"Bespoke Blend Tea 125g 5062703",0]
[5062704,"Bespoke Blend Tea 125g 5062704",0]
[5062705,"Bespoke Blend Tea 125g 5062705",0]
[5062706,"Bespoke Blend Tea 125g 5062706",0]
[5062707,"Bespoke Blend Tea 125g 5062707",0]
[5062708,"Bespoke Blend Tea 125g 5062708",0]
[5062709,"Bespoke Blend Tea 125g 5062709",0]
[5062710,"Bespoke Blend Tea 125g 5062710",0]
[5062711,"Bespoke Blend Tea 125g 5062711",0]
[5062712,"Bespoke Blend Tea 125g 5062712",0]
[5062713,"Bespoke Blend Tea 125g 5062713",0]
[5062714,"Bespoke Blend Tea 125g 5062714",0]
[5062715,"Bespoke Blend Tea 125g 5062715",0]
[5062716,"Bespoke Blend Tea 125g 5062716",0]
[5062717,"Bespoke Blend Tea 125g 5062717",0]
[5062718,"Bespoke Blend Tea 125g 5062718",0]
[5062719,"Bespoke Blend Tea 125g 5062719",0]
[5062720,"Bespoke Blend Tea 125g 5062720",0]
[5062721,"Bespoke Blend Tea 125g 5062721",0]
[5062722,"Bespoke Blend Tea 125g 5062722",0]
[5062723,"Bespoke Blend Tea 125g 5062723",0]
[5062724,"Bespoke Blend Tea 125g 5062724",0]
[5062725,"Bespoke Blend Tea 125g 5062725",0]
[5062726,"Bespoke Blend Tea 125g 5062726",0]
[5062727,"Bespoke Blend Tea 125g 5062727",0]
[5062728,"Bespoke Blend Tea 125g 5062728",0]
[5062729,"Bespoke Blend Tea 125g 5062729",0]
[5062730,"Bespoke Blend Tea 125g 5062730",0]
[5062731,"Bespoke Blend Tea 125g 5062731",0]
[5062732,"Bespoke Blend Tea 125g 5062732",0]
[5062733,"Bespoke Blend Tea 125g 5062733",0]
[5062734,"Bespoke Blend Tea 125g 5062734",0]
[5062735,"Bespoke Blend Tea 125g 5062735",0]
[5062736,"Bespoke Blend Tea 125g 5062736",0]
[5062737,"Bespoke Blend Tea 125g 5062737",0]
[5062738,"Bespoke Blend Tea 125g 5062738",0]
[5062739,"Bespoke Blend Tea 125g 5062739",0]
[5062740,"Bespoke Blend Tea 125g 5062740",0]
[5062741,"Bespoke Blend Tea 125g 5062741",0]
[5062742,"Bespoke Blend Tea 125g 5062742",0]
[5062743,"Bespoke Blend Tea 125g 5062743",0]
[5062744,"Bespoke Blend Tea 125g 5062744",0]
[5062745,"Bespoke Blend Tea 125g 5062745",0]
[5062746,"Bespoke Blend Tea 125g 5062746",0]
[5062747,"Bespoke Blend Tea 125g 5062747",0]
[5062748,"Bespoke Blend Tea 125g 5062748",0]
[5062749,"Bespoke Blend Tea 125g 5062749",0]
[5062750,"Bespoke Blend Tea 125g 5062750",0]
[5062751,"Bespoke Blend Tea 125g 5062751",0]
[5062752,"Bespoke Blend Tea 125g 5062752",0]
[5062753,"Bespoke Blend Tea 125g 5062753",0]
[5062754,"Bespoke Blend Tea 125g 5062754",0]
[5062755,"Bespoke Blend Tea 125g 5062755",0]
[5062756,"Bespoke Blend Tea 125g 5062756",0]
[5062757,"Bespoke Blend Tea 125g 5062757",0]
[5062758,"Bespoke Blend Tea 125g 5062758",0]
[5062759,"Bespoke Blend Tea 125g 5062759",0]
[5062760,"Bespoke Blend Tea 125g 5062760",0]
[5062761,"Bespoke Blend Tea 125g 5062761",0]
[5062762,"Bespoke Blend Tea 125g 5062762",0]
[5062763,"Bespoke Blend Tea 125g 5062763",0]
[5062764,"Bespoke Blend Tea 125g 5062764",0]
[5062765,"Bespoke Blend Tea 125g 5062765",0]
[5062766,"Bespoke Blend Tea 125g 5062766",0]
[5062767,"Bespoke Blend Tea 125g 5062767",0]
[5062768,"Bespoke Blend Tea 125g 5062768",0]
[5062769,"Bespoke Blend Tea 125g 5062769",0]
[5062770,"Bespoke Blend Tea 125g 5062770",0]
[5062771,"Bespoke Blend Tea 125g 5062771",0]
[5062772,"Bespoke Blend Tea 125g 5062772",0]
[5062773,"Bespoke Blend Tea 125g 5062773",0]
[5062774,"Bespoke Blend Tea 125g 5062774",0]
[5062775,"Bespoke Blend Tea 125g 5062775",0]
[5062776,"Bespoke Blend Tea 125g 5062776",0]
[5062777,"Bespoke Blend Tea 125g 5062777",0]
[5062778,"Bespoke Blend Tea 125g 5062778",0]
[5062779,"Bespoke Blend Tea 125g 5062779",0]
[5062780,"Bespoke Blend Tea 125g 5062780",0]
[5062781,"Bespoke Blend Tea 125g 5062781",0]
[5062782,"Bespoke Blend Tea 125g 5062782",0]
[5062783,"Bespoke Blend Tea 125g 5062783",0]
[5062784,"Bespoke Blend Tea 125g 5062784",0]
[5062785,"Bespoke Blend Tea 125g 5062785",0]
[5062786,"Bespoke Blend Tea 125g 5062786",0]
[5062787,"Bespoke Blend Tea 125g 5062787",0]
[5062788,"Bespoke Blend Tea 125g 5062788",0]
[5062789,"Bespoke Blend Tea 125g 5062789",0]
[5062790,"Bespoke Blend Tea 125g 5062790",0]
[5062791,"Bespoke Blend Tea 125g 5062791",0]
[5062792,"Bespoke Blend Tea 125g 5062792",0]
[5062793,"Bespoke Blend Tea 125g 5062793",0]
[5062794,"Bespoke Blend Tea 125g 5062794",0]
[5062795,"Bespoke Blend Tea 125g 5062795",0]
[5062796,"Bespoke Blend Tea 125g 5062796",0]
[5062797,"Bespoke Blend Tea 125g 5062797",0]
[5062798,"Bespoke Blend Tea 125g 5062798",0]
[5062799,"Bespoke Blend Tea 125g 5062799",0]
[5062800,"Bespoke Blend Tea 125g 5062800",0]
[5062801,"Bespoke Blend Tea 125g 5062801",0]
[5062802,"Bespoke Blend Tea 125g 5062802",0]
[5062803,"Bespoke Blend Tea 125g 5062803",0]
[5062804,"Bespoke Blend Tea 125g 5062804",0]
[5062805,"Bespoke Blend Tea 125g 5062805",0]
[5062806,"Bespoke Blend Tea 125g 5062806",0]
[5062807,"Bespoke Blend Tea 125g 5062807",0]
[5062808,"Bespoke Blend Tea 125g 5062808",0]
[5062809,"Bespoke Blend Tea 125g 5062809",0]
[5062810,"Bespoke Blend Tea 125g 5062810",0]
[5062811,"Bespoke Blend Tea 125g 5062811",0]
[5062812,"Bespoke Blend Tea 125g 5062812",0]
[5062813,"Bespoke Blend Tea 125g 5062813",0]
[5062814,"Bespoke Blend Tea 125g 5062814",0]
[5062815,"Bespoke Blend Tea 125g 5062815",0]
[5062816,"Bespoke Blend Tea 125g 5062816",0]
[5062817,"Bespoke Blend Tea 125g 5062817",0]
[5062818,"Bespoke Blend Tea 125g 5062818",0]
[5062819,"Bespoke Blend Tea 125g 5062819",0]
[5062820,"Bespoke Blend Tea 125g 5062820",0]
[5062821,"Bespoke Blend Tea 125g 5062821",0]
[5062822,"Bespoke Blend Tea 125g 5062822",0]
[5062823,"Bespoke Blend Tea 125g 5062823",0]
[5062824,"Bespoke Blend Tea 125g 5062824",0]
[5062825,"Bespoke Blend Tea 125g 5062825",0]
[5062826,"Bespoke Blend Tea 125g 5062826",0]
[5062827,"Bespoke Blend Tea 125g 5062827",0]
[5062828,"Bespoke Blend Tea 125g 5062828",0]
[5062829,"Bespoke Blend Tea 125g 5062829",0]
[5062830,"Bespoke Blend Tea 125g 5062830",0]
[5062831,"Bespoke Blend Tea 125g 5062831",0]
[5062832,"Bespoke Blend Tea 125g 5062832",0]
[5062833,"Bespoke Blend Tea 125g 5062833",0]
[5062834,"Bespoke Blend Tea 125g 5062834",0]
[5062835,"Bespoke Blend Tea 125g 5062835",0]
[5062836,"Bespoke Blend Tea 125g 5062836",0]
[5062837,"Bespoke Blend Tea 125g 5062837",0]
[5062838,"Bespoke Blend Tea 125g 5062838",0]
[5062839,"Bespoke Blend Tea 125g 5062839",0]
[5062840,"Bespoke Blend Tea 125g 5062840",0]
[5062841,"Bespoke Blend Tea 125g 5062841",0]
[5062842,"Bespoke Blend Tea 125g 5062842",0]
[5062843,"Bespoke Blend Tea 125g 5062843",0]
[5062844,"Bespoke Blend Tea 125g 5062844",0]
[5062845,"Bespoke Blend Tea 125g 5062845",0]
[5062846,"Bespoke Blend Tea 125g 5062846",0]
[5062847,"Bespoke Blend Tea 125g 5062847",0]
[5062848,"Bespoke Blend Tea 125g 5062848",0]
[5062849,"Bespoke Blend Tea 125g 5062849",0]
[5062850,"Bespoke Blend Tea 125g 5062850",0]
[5062851,"Bespoke Blend Tea 125g 5062851",0]
[5062852,"Bespoke Blend Tea 125g 5062852",0]
[5062853,"Bespoke Blend Tea 125g 5062853",0]
[5062854,"Bespoke Blend Tea 125g 5062854",0]
[5062855,"Bespoke Blend Tea 125g 5062855",0]
[5062856,"Bespoke Blend Tea 125g 5062856",0]
[5062857,"Bespoke Blend Tea 125g 5062857",0]
[5062858,"Bespoke Blend Tea 125g 5062858",0]
[5062859,"Bespoke Blend Tea 125g 5062859",0]
[5062860,"Bespoke Blend Tea 125g 5062860",0]
[5062861,"Bespoke Blend Tea 125g 5062861",0]
[5062862,"Bespoke Blend Tea 125g 5062862",0]
[5062863,"Bespoke Blend Tea 125g 5062863",0]
[5062864,"Bespoke Blend Tea 125g 5062864",0]
[5062865,"Bespoke Blend Tea 125g 5062865",0]
[5062866,"Bespoke Blend Tea 125g 5062866",0]
[5062867,"Bespoke Blend Tea 125g 5062867",0]
[5062868,"Bespoke Blend Tea 125g 5062868",0]
[5062869,"Bespoke Blend Tea 125g 5062869",0]
[5062870,"Bespoke Blend Tea 125g 5062870",0]
[5062871,"Bespoke Blend Tea 125g 5062871",0]
[5062872,"Bespoke Blend Tea 125g 5062872",0]
[5062873,"Bespoke Blend Tea 125g 5062873",0]
[5062874,"Bespoke Blend Tea 125g 5062874",0]
[5062875,"Bespoke Blend Tea 125g 5062875",0]
[5062876,"Bespoke Blend Tea 125g 5062876",0]
[5062877,"Bespoke Blend Tea 125g 5062877",0]
[5062878,"Bespoke Blend Tea 125g 5062878",0]
[5062879,"Bespoke Blend Tea 125g 5062879",0]
[5062880,"Bespoke Blend Tea 125g 5062880",0]
[5062881,"Bespoke Blend Tea 125g 5062881",0]
[5062882,"Bespoke Blend Tea 125g 5062882",0]
[5062883,"Bespoke Blend Tea 125g 5062883",0]
[5062884,"Bespoke Blend Tea 125g 5062884",0]
[5062885,"Bespoke Blend Tea 125g 5062885",0]
[5062886,"Bespoke Blend Tea 125g 5062886",0]
[5062887,"Bespoke Blend Tea 125g 5062887",0]
[5062888,"Bespoke Blend Tea 125g 5062888",0]
[5062889,"Bespoke Blend Tea 125g 5062889",0]
[5062890,"Bespoke Blend Tea 125g 5062890",0]
[5062891,"Bespoke Blend Tea 125g 5062891",0]
[5062892,"Bespoke Blend Tea 125g 5062892",0]
[5062893,"Bespoke Blend Tea 125g 5062893",0]
[5062894,"Bespoke Blend Tea 125g 5062894",0]
[5062895,"Bespoke Blend Tea 125g 5062895",0]
[5062896,"Bespoke Blend Tea 125g 5062896",0]
[5062897,"Bespoke Blend Tea 125g 5062897",0]
[5062898,"Bespoke Blend Tea 125g 5062898",0]
[8019159,"Personalised Tea 125g Tin, Assam- Yunnan base light",0]
[8019160,"Personalised Tea 125g Tin, Assam- Yunnan base medium",0]
[8019161,"Personalised Tea 125g Tin, Assam- Yunnan base strong",0]
[8019162,"Personalised Tea 125g Tin, Lapsang light",0]
[8019163,"Personalised Tea 125g Tin, Lapsang medium",0]
[8019164,"Personalised Tea 125g Tin, Lapsang strong",0]
[8019165,"Personalised Tea 125g Tin, Rose light",0]
[8019166,"Personalised Tea 125g Tin, Rose medium",0]
[8019167,"Personalised Tea 125g Tin, Rose strong",0]
[8019168,"Personalised Tea 125g Tin, Chai light",0]
[8019169,"Personalised Tea 125g Tin, Chai medium",0]
[8019170,"Personalised Tea 125g Tin, Chai strong",0]
[8019171,"Personalised Tea 125g Tin, Jasmine light",0]
[8019172,"Personalised Tea 125g Tin, Jasmine medium",0]
[8019173,"Personalised Tea 125g Tin, Jasmine strong",0]
[8026707,"Heath Row Blend Tea 250g",0]
[2002385,"Royal Blend Tin 25g",2.95]
[2002393,"Afternoon Blend Tin 25g",2.95]
[2002397,"Earl Grey Classic 25g tin",2.95]
[2194667,"Kings Blend Coffee Pods 55g",2.95]
[2198289,"Highgrove Organic Wild Berry Infusion Tin",8.5]
[2194668,"Breakfast Blend Coffee Pods 55g",2.95]
[2002378,"Famous 60 Teabag Selection 120g",14.95]
[2002118,"Afternoon Blend 25 Tea Bags 50g",5.25]
[2002129,"Earl Grey Classic 25 Tea Bag 50g",5.25]
[2002365,"Three Mini Famous Teas 75g",15.95]
[2197833,"Cabinet Blend Coffee 250g Tin",15]
[2210786,"Christmas Tea Medley (15 Teabags) 37.5g",13.95]
[2002109,"Royal Blend 25 Teabags 50g",5.25]
[2184669,"Breakfast Blend Pocket Tin 5 Silky Tea bags 12.5g",4.95]
[2106301,"Three Mini Classic World Teas 75g",15.95]
[2166410,"English Mint Infusion Tin 15 Silky Bags 22.5g",8.9499999999999993]
[2002119,"Countess Grey 25 Tea Bags 50g",5.25]
[2055905,"Three Mini Fruit Flavoured Teas 75g",15.95]
[2214586,"Victoria Grey 15 Large Leaf Silky Teabags 37.5g",6.95]
[2137327,"Decorative Gift Caddy Selection Loose Tea 150g",22.95]
[4008270,"Jade Oolong 15 Silky Tea Bags 30g",7.95]
[2194669,"Connoisseur Blend Coffee Pods 55g",2.95]
[2197834,"Club Blend Coffee 250g Tin",11.95]
[2194670,"181 Blend Coffee Pods 55g",2.95]
[2210790,"Christmas Tea Lovers Advent Calendar 57g",25]
[2002678,"Fortmason Loose Leaf Tea Tin 250g",12.95]
[2187067,"Sour Cherry & Orange Infusion Tin 15 Silky Bags 37.5g",8.9499999999999993]
[2187065,"Rooibos Infusion Tin 15 Silky Bags 37.5g",8.9499999999999993]
[2002657,"Royal Blend 250g Tin",12.95]
[2002113,"Assam Superb 25 Tea Bags 50g",5.25]
[2002151,"Royal Blend Loose Tea Carton 200g",9.9499999999999993]
[2120411,"Afternoon Blend Loose Leaf Decorative Caddy 125g",10]
[2187063,"Liquorice, Mint & Lemon Verbena Infusion 15 Silky Bags 37.5g",8.9499999999999993]
[2166411,"Apricot Honey & Lavender Infusion Tin 15 Silky Bags 30g",8.9499999999999993]
[2002112,"Breakfast Blend 25 Tea Bags 50g",5.25]
[2203363,"Tempo 15 Silky Bags Tin 30g",9.9499999999999993]
[2002663,"Irish Breakfast Loose Leaf Tea Tin 250g",12.95]
[2106303,"Classic World 60 Teabag Selection 120g",14.95]
[2184667,"Royal Blend Pocket Tin 5 Silky Tea bags 12.5g",4.95]
[2214585,"Victoria Grey Loose Leaf Tin 250g",12.95]
[2187062,"Elderflower, Strawberry & Rose Infusion Tin 15 Silky Bags 30",8.9499999999999993]
[2203365,"Grace 15 Silky Bag Tin 37.5g",9.9499999999999993]
[2120410,"Afternoon Blend 50 Teabags Decorative Caddy 100g",15]
[2002132,"Lapsang Souchong 25 Tea Bags 50g",5.25]
[2002111,"Breakfast Blend 50 Tea Bags 100g",8.9499999999999993]
[2120406,"Royal Blend 50 Teabags Decorative Caddy 100g",15]
[4008277,"Emrok Kenya Wooden Caddy 90g",37.5]
[2002677,"Rose Pouchong Tin 125g",16.95]
[2002121,"Ceylon Orange Pekoe 25 Tea Bags 50g",5.25]
[4008470,"Borpatra Second Flush Assam Wooden Caddy 90g",37.5]
[2002366,"Six Mini Famous Teas 150g",24.95]
[2184666,"Bloody Mary Tea Odditea 15 Silky teabags 37.5g",6.95]
[2002693,"Black Tea With Cranberry 25 Teabags 50g",5.25]
[2120414,"Earl Grey 50 Teabags Decorative Caddy 100g",15]
[2198287,"Highgrove Organic Earl Grey 20 Silky Teabag Carton 50g",6.95]
[2187068,"Spiced Rose & Fennel Infusion Tin 15 Silky Bags 37.5g",8.9499999999999993]
[2002155,"Earl Grey Classic Loose Tea Carton 200g",9.9499999999999993]
[2200838,"Apricot and Cherry Cold Brew Infusions 60g",8.9499999999999993]
[2002123,"Darjeeling 25 Tea Bags 50g",5.25]
[2196828,"Ethiopia Guji Zone 125g Ground Coffee Tin",25]
[2161201,"Six Mini Black Teas with Fruit 150g",24.95]
[2166413,"Camomile & Bee Pollen Infusion Tin 15 Silky Bags 30g",8.9499999999999993]
[2002379,"Black Tea with Fruit 60 Teabag Selection 120g",14.95]
[2102136,"Chai Loose Leaf Tea Tin 250g",12.95]
[2209341,"Infusions Trio Giftset 30 Silky Teabags 65g",18.95]
[2203366,"Valiance 15 Silky Bags 37.5g",9.9499999999999993]
[2187064,"Rhubarb, Raspberry & Nettle Infusion Tin 15 Silky Bags 37.5",8.9499999999999993]
[2002680,"Black Tea With Strawberry Tin 125g",8.9499999999999993]
[2180487,"Royal Blend 15 Silky Teabags 37.5g",6.95]
[2002659,"Assam Superb Loose Leaf Tin 125g",10.95]
[2166412,"Rose & Violet Infusion Tin 15 Silky Bags 30g",8.9499999999999993]
[8023189,"Yemen Mokha Coffee Beans Tin 125g",35]
[2196829,"Ethiopia Guji Zone 125g Coffee Beans Tin",25]
[2180490,"Earl Grey 15 Silky Teabags 37.5g",6.95]
[2002690,"Black Tea With Peach Tin 125g",8.9499999999999993]
[2002664,"Afternoon Blend Loose Leaf Tea Tin 250g",12.95]
[5015429,"Mint Humbug Odditea 37.5g",6.95]
[2002683,"Black Tea With Apple 25 Teabags 50g",5.25]
[2203367,"Rhapsody 15 Silky Bags Tin 37.5g",9.9499999999999993]
[2197835,"Queens Blend Coffee 250g Tin",15]
[2172264,"Chashaku Bamboo Matcha Tea Scoop",4]
[2120417,"Earl Grey Loose Leaf Decorative Caddy 125g",10]
[2002675,"Smoky Earl Grey Loose Leaf Tea Tin 250g",12.95]
[2180491,"Darjeeling FTGFOP 15 Silky Teabags 37.5g",7.95]
[5015428,"Gisovu White Tea Wooden Caddy 30g",37.5]
[8023188,"Ethiopia Yirgacheffe Coffee Beans Tin 125g",17.95]
[2184202,"Jasmine Pearls Tea Tin 60g",12.95]
[2203364,"Repose 15 Silky Bags Tin 37.5g",9.9499999999999993]
[2198286,"Highgrove Prince of Wales 20 Silky Teabags Carton 50g",6.95]
[2184208,"Fuding Silver Needle, 50g Loose Leaf Tin",24.95]
[2117232,"Famous Gift: Countess Grey & Smoky Earl Grey 250g",16.95]
[2002666,"Countess Grey Loose Leaf Tea Tin 250g",12.95]
[2002658,"Breakfast Blend Loose Leaf Tea Tin 250g",12.95]
[2002686,"Black Tea With Lemon Tin 125g",8.9499999999999993]
[2119131,"Christening Blend 25 Tea bags 50g",5.25]
[2200841,"St Pancras Blend Tea Tin 250g",16.5]
[2102152,"Wedding Breakfast Blend Loose Leaf Tea Tin 250g",12.95]
[2002128,"Earl Grey Classic 50 Tea Bags 100g",8.9499999999999993]
[2166409,"Camomile Infusion Tin 15 Silky Bags 18g",8.9499999999999993]
[2137328,"Decorative Gift Caddy Selection Loose Tea 375g",30]
[2163918,"Matcha Ceremonial Green Tea Powder Tin 30g",25]
[2120408,"Royal Blend Loose Leaf Tea Decorative Caddy 125g",10]
[2198264,"Highgrove Organic Ground Coffee 125g",8.5]
[2181118,"Gin & Tonic Odditea 15 Silky teabags 37.5g",6.95]
[2117230,"Famous Gift: Royal Blend & Earl Grey 250g",16.95]
[2106302,"Three Mini Green Teas 75g",15.95]
[2002334,"Akbar Blend Coffee Tin 250g",12.95]
[2002668,"Darjeeling FTGFOP Loose Leaf Tin 125g",12.95]
[2184672,"Moroccan Mint Tea 15 Silky Tea Bags",7.95]
[2002670,"Yunnan Loose Leaf Tin 125g",10.95]
[2200836,"Apple and Blackberry Cold Brew Infusions 60g",8.9499999999999993]
[2102165,"Russian Caravan 25 Tea Bags 50g",5.25]
[2002130,"Smoky Earl Grey 25 Tea Bag 50g",5.25]
[2184200,"Countess Grey 15 Silky Teabags 37.5g",6.95]
[2184668,"Earl Grey Pocket Tin 5 Silky Tea bags 12.5g",4.95]
[2002337,"Organic Decaffeinated Coffee Tin 250g",12.95]
[2180492,"Assam TGFOP 15 Silky Teabags 37.5g",7.95]
[2210793,"Bukhial Golden Tipped Assam Wooden Caddy 90g",37.5]
[2200839,"Royal Exchange Tea Tin 250g",16.5]
[2002723,"Green Jasmine 25 Tea Bags 50g",5.25]
[8023184,"Jamaica Blue Mountain Coffee Beans Tin 125g",35]
[2002661,"Queen Anne Loose Leaf Tea Tin 250g",12.95]
[2180493,"Rose Pouchong 15 Silky Teabags 37.5g",9.9499999999999993]
[2102164,"Wedding Breakfast Blend 25 Tea Bags 50g",5.25]
[2002317,"Jamaica Blue Mountain Coffee Loose Kg",200]
[8023191,"Hawaii Kona Coffee Beans 125g Tin",50]
[2002721,"Green Earl Grey Classic 25 Tea Bags 50g",5.25]
[2050466,"After Dinner Blend Coffee Tin 250g",12.95]
[5033333,"Behora Special Assam Tea Mini Shopper 7g",7.95]
[5033339,"May Zest Ruby Black Tea Mini Shopper 3g",7.95]
[4008472,"Oriental Beauty Taiwan Wooden Caddy 30g",37.5]
[5033338,"Jasmine Dragon Pearls Tea Mini Shopper 12g",7.95]
[8023186,"Panama Esmeralda Coffee Beans Tin 125g",60]
[8023187,"Panama Esmeralda Ground Coffee Tin 125g",60]
[5028208,"Badamtam First Flush Darjeeling Wooden Caddy 90g",37.5]
[2210795,"Christmas Green Tea 20 Silky Bags 50g",11]
[2002660,"Assam TGFOP Loose Leaf Tin 125g",12.95]
[2102166,"Breakfast Blend 50 Tea Bag Tin 100g",12.95]
[2184203,"Moroccan Mint Tea Tin 60g",9.9499999999999993]
[2198288,"Highgrove Organic Peppermint Infusion Tin",8.5]
[2181121,"Pistachio & Clotted Cream Odditea 15 Silky teabags 37.5g",6.95]
[2002671,"Keemun Loose Leaf Tin 125g",10.95]
[2200837,"Orange and Lemon Cold Brew Infusions 60g",8.9499999999999993]
[2002135,"Green Tea with Ginger 25 Tea Bags 50g",5.25]
[2002152,"Breakfast Blend Loose Tea Carton 200g",9.9499999999999993]
[2002714,"Green Sencha 25 Tea Bags 50g",5.25]
[2002115,"Queen Anne 25 Tea Bags 50g",5.25]
[2002681,"Black Tea With Strawberry 25 Teabags 50g",5.25]
[8023199,"Jamaica Blue Mountain Ground Coffee Tin 125g",35]
[2180488,"Breakfast Blend 15 Silky Teabags 37.5g",6.95]
[2002333,"Connoisseur Blend Coffee Tin 250g",12.95]
[2144608,"Rwanda OP Loose Leaf Tin 125g",10.95]
[2211113,"Colombia El Jordan Estate Coffee Beans 227g bag",10.95]
[2211114,"Colombia El Jordan Estate Coffee Ground 227g bag",10.95]
[2211116,"India Harley Estate Coffee Ground 227g bag",10.95]
[2198283,"Highgrove Organic Prince of Wales Loose Tea Tin 110g",9.9499999999999993]
[2002682,"Black Tea With Apple Tin 125g",8.9499999999999993]
[2002687,"Black Tea With Lemon 25 Teabags 50g",5.25]
[2002529,"Rose Pouchong Loose",128]
[2171304,"Flowering Wooden Tea Gift Set",95]
[2002722,"Green Jasmine Tin 125g",8.9499999999999993]
[5033340,"Gyokuro Tea Mini Shopper 9g",7.95]
[2119129,"Christening Blend Loose Leaf Tea Tin 250g",12.95]
[5033331,"Kotada Silver Tips Tea Mini Shopper 5g",7.95]
[5033332,"Lakyrsiew Highlands Tea Mini Shopper 5g",7.95]
[5033334,"New Vithanakande Tea Mini Shopper 12g",7.95]
[2002752,"Restaurant Box 4 Part",85]
[5024770,"Indian Monsoon Malabar Loose Coffee kg DW",45]
[2184201,"Authentic Japanese Sencha Tea Tin 50g",12.95]
[2210788,"Christmas Blend Coffee 250g",12.95]
[2002667,"Darjeeling BOP Loose Leaf Tin 125g",10.95]
[2002724,"Green Tea with Apple Loose Leaf Tea Tin 125g",8.9499999999999993]
[2002691,"Black Tea With Peach 25 Teabags 50g",5.25]
[2102161,"Fortmason 25 Tea Bag 50g",5.25]
[2208138,"Celebration Tea Blend 250g",16.5]
[2210789,"Plum, Apple and Cinnamon Infusion 50g",11]
[2002701,"Mini Coffee Blend Selection Gift 225g",9.4499999999999993]
[2187066,"Ginger & Sicilian Lemon Infusion Tin 15 Silky Bags 37.5g",8.9499999999999993]
[5033337,"Gardenia Flower Oolong Tea Mini Shopper 3g",7.95]
[2002381,"Famous 120 Teabag Selection 240g",25.95]
[2200840,"Explorer's Blend Caddy 250g",16.5]
[2210787,"Christmas Black Tea Tin 200g",15]
[2002380,"Green Tea 60 Teabag Selection 120g",14.95]
[2002720,"Green Earl Grey Classic Tin 125g",8.9499999999999993]
[2102162,"Irish Breakfast 25 Tea Bags 50g",5.25]
[8023190,"St Helena Coffee Beans Tin 125g",60]
[2117233,"Classic World Gift: Darjeeling BOP & Assam Superb 250g",19.5]
[8023192,"Yunnan Lijiang Coffee Beans 125g Tin",17.95]
[2184207,"Jasmine Silver Needle Tea Tin 50g",24.95]
[2117231,"Famous Gift: Breakfast & Afternoon 250g",16.95]
[2184206,"Gunpowder Tea Tin 75g",9.9499999999999993]
[2198282,"Highgrove Organic Earl Grey Loose Tea Tin 110g",9.9499999999999993]
[2002108,"Royal Blend 50 Teabags",8.9499999999999993]
[2181117,"Lemon Curd Odditea 15 Silky teabags 30g",6.95]
[2181119,"Sundae Odditea 15 Silky teabags 30g",6.95]
[4008269,"Jade Oolong Loose Leaf Tea Tin 60g",12.95]
[2102142,"Jubilee Loose Leaf Tea Tin 250g",12.95]
[2184205,"Genmaicha Tea Tin 50g",9.9499999999999993]
[2102163,"Jubilee Blend 25 Tea Bags 50g",5.25]
[2002665,"Ceylon Orange Pekoe Loose Leaf Tin 125g",10.95]
[2203368,"Nocturne 15 Silky Bag Tin 30g",9.9499999999999993]
[2002725,"Green Tea with Ginger Loose Leaf Tea Tin 125g",8.9499999999999993]
[5033336,"Anji Baicha Tea Mini Shopper 3g",7.95]
[8023953,"Guatemala Santa Clara Coffee Loose kg",46]
[2180474,"Jamaican Blue Mountain Ground 125g Tin",25]
[2181123,"Vanilla Nougat Odditea 15 Silky teabags 37.5g",6.95]
[2002673,"Russian Caravan Loose Leaf Tin 125g",10.95]
[2002692,"Black Tea Cranberry Tin 125g",8.9499999999999993]
[5033341,"Gisovu Hand Twisted White Tea Mini Shopper 3g",7.95]
[2181120,"Summer Cocktail Odditea 15 Silky teabags 37.5g",6.95]
[2075619,"Sweet Heart Flowering Tea Loose Kg",200]
[2172265,"Matcha White Wobbly Bowl",29]
[2102167,"Earl Grey Classic 50 Tea Bag Tin 100g",12.95]
[2211112,"Peru Asproagro Community Estate Coffee Ground 227g bag",10.95]
[4005441,"Afternoon Blend Loose",48]
[5033875,"Tea Wooden Advent Calendar Empty 2020",99]
[8026706,"Albion Tea Tin 250g",16.5]
[2184674,"Genmaicha Tea 15 Silky Tea Bags",7.95]
[5033335,"Tang Yang Gongfu Golden Buds Tea Mini Shopper 4g",7.95]
[4005435,"Royal Blend Loose",48]
[2002653,"Peppermint Loose Infusion Kg",130]
[2075611,"Fengquing Golden Buds Yunnan Loose kg",250]
[4005458,"Black Tea With Apple Loose kg",56]
[2172263,"Bamboo Matcha Whisk",15]
[2002134,"Green Tea with Apple 25 Tea Bags 50g",5.25]
[4005474,"Japanese Sencha Loose KG",240]
[2075618,"Double Dragon Pearl Tea Loose Kg",200]
[2075598,"White Peony King Fujian Loose kg",125]
[4005443,"Darjeeling Bop Loose kg",55]
[2002315,"Organic Decaf Loose Coffee Kg",32]
[4005438,"Assam Tgfop Loose",78]
[4005452,"Chai Loose kg",48]
[8023955,"Whisky Barrel Aged Coffee Loose Kg",90]
[4005439,"Queen Anne Blend Loose kg",48]
[2075623,"Dong Ding Oolong Taiwan Loose kg",200]
[2092060,"Imperial Jasmine Green Tea Loose Kg",150]
[2184204,"Long Jing Tea Tin 35g",12.95]
[2002110,"Royal Blend Decaffeinated 25 Tea Bags 50g",5.25]
[2116235,"St Pancras Blend Loose kg",48]
[4005426,"Countess Grey Loose",48]
[8023453,"Pi Lo Chun Loose kg",650]
[8023452,"Green Fountain Golden Buds Loose kg",300]
[4005434,"Green Tea / Ginger Loose kg",56]
[4005457,"Black Tea With Strawberry Loose kg",56]
[2163508,"Rwanda OP Loose kg",55]
[4008274,"Pussimbing Second Flush Darjeeling Wooden Caddy 90g",37.5]
[2002676,"Lapsang Souchong Loose Leaf Tin 125g",10.95]
[2180489,"Chai 15 Silky Teabags 37.5g",6.95]
[2092074,"Purple Bamboo Shoot Zheijang Loose Kg",500]
[2204630,"Bamboo Shoots - Nilgiri Hills Loose Kg",200]
[4005440,"Irish Breakfast Loose kg",48]
[2092073,"Zhang High Mountain Long Jing Loose Kg",425]
[8017728,"Nanping Yellow Buds Loose Kg",400]
[2075617,"Jasmine Fairy Flowering Tea Loose Kg",200]
[4005472,"Menghai Dayi Ripe Pu Erh Mini Tou Cha",175]
[4005437,"Assam Superb Loose 3kg",55]
[2181592,"May Zest Ruby Black Loose Kg",250]
[4005465,"Margaret's Hope 2nd Flush Darj Loose kg",200]
[2002650,"Camomile Loose Infusion Kg",130]
[4005431,"Green Earl Grey Loose kg",56]
[4005433,"Green Tea / Apple Loose kg",56]
[4005447,"Russian Caravan Loose",55]
[2079210,"Jubilee Blend Tea Loose kg",48]
[8017731,"Badamtam First Flush Darjeeling Loose Tea Kg",300]
[8023455,"Jin Xuan Oolong Loose kg",600]
[2064779,"Green Lia An Gua Pian",500]
[2215429,"Zealong Aromatic Oolong Loose kg",400]
[4005475,"Jasmine Pearls Tea Loose KG",180]
[4005478,"Genmaicha  Tea Loose KG",120]
[4005446,"Keemun Loose kg",55]
[2002674,"Earl Grey Classic Loose Leaf Tea Tin 250g",12.95]
[2211111,"Peru Asproagro Community Estate Coffee Beans 227g bag",10.95]
[2002726,"Green Tea with Elderflower Loose Leaf Tea Tin 125g",8.9499999999999993]
[2181122,"Chocolate Violet Odditea 15 Silky teabags 37.5g",6.95]
[2002131,"Decaf Earl Grey 25 Tea Bag 50g",5.25]
[2002136,"Green Tea with Elderflower 25 Tea Bags 50g",5.25]
[2002222,"Kotada Silver Tips Nilgiri Loose Kg",200]
[8022640,"Phoobsering First Flush Darjeeling Loose kg",400]
[4005462,"Jasmine Dragon Pearls loose kg",250]
[5004344,"Colombian Loose Coffee Kg",46]
[4005456,"Green Tea / Elderflower Loose kg",56]
[2208150,"Black Magnolia Tea Loose Kg",1000]
[2092075,"Old Tree (100 Year) Guandong Loose Kg",900]
[2204633,"China Dancong Oolong Loose kg",750]
[2002210,"Imperial Golden Monkey Fujian Loose Kg",250]
[4005470,"Silver Needle Pekoe Fujian Loose",250]
[2145177,"Menghai Dayi Royal Puer Loose Kg",200]
[4005477,"Long Jing Tea Loose KG",150]
[2002753,"Restaurant Box 12 Part",125]
[4005479,"Gunpowder  Tea Loose KG",60]
[4005432,"Green Jasmine Loose",56]
[4005461,"Black Tea With Cranberry Loose kg",56]
[2115358,"Christening Blend Loose kg",48]
[4005436,"Breakfast Blend Loose",48]
[4005448,"Earl Grey Classic Loose",48]
[4005449,"Smoky Earl Grey Loose",48]
[2159296,"Royal Blend & Tea Strainer Gift 250g",25]
[2159434,"Earl Grey & Tea Strainer Gift 250g",25]
[2002576,"Green Earl Grey Loose Bag 125g",6.95]
[4005450,"Lapsang Souchong Loose",55]
[2204629," Green Slender Nilgiri Hills Loose Kg",200]
[4005460,"Black Tea With Peach Loose kg",56]
[2002320,"Espresso Blend No 1 Coffee Loose Kg",32]
[8022641,"Seeyok First Flush Darjeeling Loose kg",200]
[8025795,"Dancong Honey Orchid Oolong Loose Kg",550]
[2183635,"Handmade Maojian Loose kg",500]
[4005463,"Anji Baicha Zheijang  Loose",500]
[2092064,"Tang Yang Gong Golden Buds 1Kg",300]
[8026708,"Casleton Muscatel FTGFOP Darjeeling Loose kg",300]
[2145175,"Jun Chiyabari Loose Kg",250]
[4005466,"Jasmine Silver Needle Pekoe Loose Kg",250]
[4005445,"Yunnan Loose",72]
[2198849,"Panama 125g Beans Tin",50]
[2002330,"Sandringham Blend Coffee Tin 250g",12.95]
[2102168,"Royal Blend 50 Tea Bag Tin 100g",12.95]
[2215428,"Zealong Pure Oolong Loose kg",400]
[2092066,"Da Hong Pao Oolong Loose Kg",450]
[2120725,"Lakyrsiew Highland Meghalaya Loose kg",225]
[2002651,"Manuka Loose Infusion Kg",130]
[4005444,"Darjeeling Ftgfop Loose",88]
[4005459,"Black Tea With Lemon Loose kg",56]
[2210658,"Royal Exchange Tea Loose Kg",46]
[8017727,"Purple Tea Kenyan Loose Kg",150]
[2075615,"Heart & Heart Flowering Tea Loose Kg",200]
[2002655,"Lemon Verbena Loose Infusion Kg",130]
[4005468,"Kangaita OP Kenya Loose",75]
[2075631,"2002 Yun Nan Jinggu Purple Pu Er First Cake",3800]
[2064775,"Tumsa Devi 2nd Flush Darj Loose Kg",500]
[2064792,"Dan Cong Gardenia Flower Oolong",375]
[2120726,"Yunnan White Buds Jinggu Loose kg",350]
[4005467,"Gyokuro Premium Shincha Loose",350]
[4005442,"Ceylon Op Loose kg",55]
[2198848,"Panama 125g Ground Tin",50]
[2055909,"Wedding Breakfast Loose kg",48]
[2180475,"Jamaican Blue Mountain Beans 125g Tin",25]
[2211115,"India Harley Estate Coffee Beans 227g bag",10.95]
[2078090,"Countess Grey Tin 125g",7.95]
[4005464,"Iron Goddess Oolong Loose kg",400]
[2208148,"Gisovu White Loose Tea Kg",275]
[2183634,"Ginger Flower Oolong Loose kg",900]
[2002654,"Fennel Loose Infusion Kg",130]
[2050432,"China Yellow Buds Yunnan Loose Kg",400]
[2002172,"Lovers Leap Loose FBOP 1Kg",100]
[4005469,"New Vithanakande FBOPF1 Loose",150]
[4005454,"Tregothnan Cornish Tea 1Kg",1500]
[2075621,"Oriental Beauty Loose",300]
[2002314,"Akbar Blend Coffee Loose Kg",32]
[2208149,"Queen Green Tea Loose Kg",1000]
[4005471,"Dikom SSTGFOP1 Loose Kg",300]
[2200844,"Ceylon Uva Highlands - Pekoe Loose kg",75]
[2092069,"Dikom Golden Butterfly 1Kg",450]
[2173285,"Snowview Claws Loose kg",450]
[2204631,"Selimbong FFlush Darjeeling Loose kg",300]
[2204628,"Itakhooli 2nd Flush Assam Loose kg",200]
[2075603,"Junde Authentic Lapsang Fujian Loose kg",150]
[2204627,"Behora 2nd Flush Assam  Loose kg",100]
[4008404,"Moroccan Mint Loose Tea",60]
[2202949,"Bannockburn  FF Darj Loose Tea kg",300]
[2002316,"Kings Blend Coffee Loose Kg",32]
[2002204,"Castleton Moonlight Darjeeling Loose Kg",370]
[2002313,"Connoisseur Blend Coffee Loose Kg",32]
[8023956,"Kenya Kagumoini Coffee Loose Kg",54]
[8025793,"Easter Blend Tea Tin 100g",13.95]
[2002329,"Breakfast Blend Ground Coffee Tin 250g",12.95]
[2002331,"Kings Blend Coffee Tin 250g",12.95]
[4005451,"Fortmason Loose",48]
[5029472,"Celebration Teatime Bundle",19.5]
[2002086,"Afternoon Blend Tin 125g",7.95]
[8023957,"Brazil Ipanema Coffee Loose Kg",54]
[2002318,"Sandringham Blend Coffee Loose Kg",32]
[8023954,"Tanzania Blackburn Estate Coffee Loose Kg",50]
[2117234,"Classic World Gift: Rose & Ceylon 250g",22.5]
[2002319,"Breakfast Blend Coffee Loose Kg",32]
[2002323,"Indian Monsoon Malabar Coffee Loose Kg",45]
[2186522,"181 Blend Espresso Loose Coffee Kg",32]
[5005183,"5234/5 Sterling Silver Bon Bon Dish C1919",675]
[5005172,"5233/9 Pair 12” Sterling Silver Candlesticks C1985",600]
[5026321,"5235/10 SP Oblong 3 Pce Tea Set C1910",525]
[2199173,"Camellia Tea For Two Gift Set - Wholesale Only",385]
[5061730,"HD Parterre Black and Gold Tea Cup and Saucer Set of Six",365]
[5003177,"We Wild Strawberry Teapot, Sugar and Cream",350]
[5024960,"HE Blue Bear with Beehive Figurine",310]
[5024961,"HE Brown Bear with Beehive Figurine",310]
[5024962,"HE EDN Bear with Beehive Figurine",310]
[5007508,"RB Gold Reflect Teapot 660ml",250]
[2212708,"M Wave Tea Pot",229]
[5024970,"HE Blue Baby hedgehog",225]
[2199182,"Camellia 6 Cup Teapot - Wholesale Only",200]
[5066522,"He Fish Scale EDN Sugar Bowl VHTQ1 20472-0-06",195]
[2213203,"He Snail Green 15520-0-00VHV",190]
[8023464,"Gold Plated Tea Caddy",190]
[5007512,"RB Superstripe Teapot 660ml",185]
[2212713,"M Wave Cake Platter",169]
[5003176,"We Wild Strawberry Tea For One",150]
[8024043,"Piccadilly Teapot Black",150]
[2069561,"HD The Royal Albert Hall Music Box",148]
[2197273,"Ka Gold Trolley 56x35x65cm",146]
[2199174,"Camellia Tea for One - Wholesale Only",140]
[2199180,"Camellia 2 Cup Teapot - Wholesale Only",140]
[5060739,"Camellia White Tea for One",140]
[8025377,"HK Camellia White Teapot 2 Cup",140]
[5061722,"HD Parterre Black with Foliage Tea for One ",135]
[2213198,"He Little Pig Lying Pink 05354-0-00VHP",125]
[5006000,"RD Alice in Wonderland Teapot",125]
[5061729,"HD Parterre Black and Gold  13inch Charger Plate",125]
[4004933,"Small Silver Plated Caddy - Special Order Only",120]
[5062592,"RD Christmas Stag Candle",120]
[2212714,"M Wave Sugar bowl",119]
[5061723,"HD Parterre Black with Foliage Lidded Candle ",110]
[5003180,"We Wild Strawberry Teacup & Hostess Tray",95]
[2159341,"6 Cup Elegant Glass Teapot",80]
[2212710,"M Wave Teacup & Saucer",79]
[5061725,"HD Parterre Black with Foliage Mug Set of Two",75]
[8026332,"5230/5 SP O/E Serving Tongs C1900",75]
[2199175,"Camellia Tea Cup & Saucer - Wholesale Only",70]
[5003173,"We Wild Strawberry Teacup & Saucer Peony",70]
[5003184,"M Swan Footed Cake platter",70]
[8025376,"HK Camellia White Teacup & Saucer",70]
[2212715,"M Wave Creamer",69]
[2212716,"M Wave Platter",69]
[5003183,"M Swan Teapot 650ml",62]
[2206891,"We Archive Plates 20cm Set of 4",60]
[5007509,"RB Gold Reflect Milk Jug 100ml",60]
[2190736,"Unboxed Camellia Tea Cup & Saucer Hamper only",55]
[5007513,"RB Superstripe Milk Jug 100ml",55]
[2212668,"F Teapot",50]
[5061726,"HD Parterre Black with Foliage 8inch Plate",50]
[5062594,"RD Christmas Stag Plate 21cm",50]
[5007510,"RB Gold Reflect Sugar Bowl",45]
[2212672,"F Cake Stand",42]
[2199172,"Camellia 6 Inch Tea Plate - Wholesale Only",40]
[5007514,"RB Superstripe Sugar Bowl",40]
[5049012,"A Georgian Christmas Bauble",40]
[8026891,"He Fish Scale EDN Dessert Plate 20517VHTQ1 Customer Order",40]
[2162489,"Silver Plated Tea Strainer With Long Handle - Hamper Only",38]
[5030956,"HD 2020 Trafalgar Square by Night Bauble",38]
[5061724,"HD Parterre Black with Foliage Mug ",38]
[2209039,"RB Chevron Tea for One",36]
[2145148,"St James 8 Inch Plate - Hamper only",35]
[2190737,"Unboxed Camellia Mug - Hamper only",35]
[2199177,"Camellia Mug - Wholesale Only",35]
[2212712,"M Wave Plate",35]
[2105287,"EDN Salam 4 Cup Teapot",32]
[2165667,"HD Antler Trellis Teapot Ivory",32]
[2184235,"HD Antler Trellis Black Teapot",32]
[5003189,"M Swan Sugar Bowl",32]
[2167269,"HD Antler Trellis Tea For One Ivory",31]
[2197271,"Ka Medium Gold Tray 46x30cm",31]
[2209025,"RD Question Mark Teapot",31]
[2209029,"RD Swirly Teapot",31]
[2209030,"RD Big Top Teapot",31]
[2210454,"RD Spotty Teapot",31]
[2212223,"K Medium Light Grey Marble Ribbed Tray",31]
[2212224,"K Medium Dark Grey Marble Ribbed Tray",31]
[2212225,"K Black Marble Ribbed Tray",31]
[2213899,"HD Antler Trellis Midnight Tea for One",31]
[8019545,"HD Vintage Christmas Tree Tea for One",31]
[5003185,"M Swan Cake Dish",30]
[5003188,"M Swan Creamer",30]
[5047706,"We Christmas Tree Ornament",30]
[4008237,"B Blue Asiatic Pheasants Mug 284ml",28]
[2197270,"Ka Small Gold Tray 40x28cm",27]
[2208843,"N Aoyu Matcha Bowl",27]
[2199179,"Camellia Coaster - Wholesale Only",25]
[2209038,"RB Chevron Teapot",25]
[5003182,"M Swan TeaCup & saucer",22]
[8019549,"HD Vintage Chrismtas Garland Sandwich Platter",21]
[2212206,"K LT Teapot 600ml Black",20]
[2212674,"F Egg Cup with Bell Jar",20]
[5003181,"M Swan Mug",20]
[2205065,"F&M Alphabet V Mug - Wholesale Only",18]
[2205066,"F&M Alphabet Y Mug - Wholesale Only",18]
[2205067,"F&M Alphabet D Mug - Wholesale Only",18]
[2205068,"F&M Alphabet N Mug - Wholesale Only",18]
[2205069,"F&M Alphabet C Mug - Wholesale Only",18]
[2205070,"F&M Alphabet E Mug - Wholesale Only",18]
[2205071,"F&M Alphabet L Mug - Wholesale Only",18]
[2205072,"F&M Alphabet M Mug - Wholesale Only",18]
[2205073,"F&M Alphabet S Mug - Wholesale Only",18]
[2205074,"F&M Alphabet X Mug - Wholesale Only",18]
[2205075,"F&M Alphabet T Mug - Wholesale Only",18]
[2205076,"F&M Alphabet Z Mug - Wholesale Only",18]
[2205077,"F&M Alphabet & Mug - Wholesale Only",18]
[2205078,"F&M Alphabet A Mug - Wholesale Only",18]
[2205079,"F&M Alphabet B Mug - Wholesale Only",18]
[2205080,"F&M Alphabet O Mug - Wholesale Only",18]
[2205081,"F&M Alphabet Q Mug - Wholesale Only",18]
[2205083,"F&M Alphabet H Mug - Wholesale Only",18]
[2205084,"F&M Alphabet I Mug - Wholesale Only",18]
[2205085,"F&M Alphabet G Mug - Wholesale Only",18]
[2205086,"F&M Alphabet F Mug - Wholesale Only",18]
[2205087,"F&M Alphabet W Mug - Wholesale Only",18]
[2205088,"F&M Alphabet R Mug - Wholesale Only",18]
[2205089,"F&M Alphabet J Mug - Wholesale Only",18]
[2205090,"F&M Alphabet K Mug - Wholesale Only",18]
[2205091,"F&M Alphabet P Mug - Wholesale Only",18]
[2212670,"F Butter Dish",18]
[5061727,"HD Parterre Black with Foliage Teabag Tidy",18]
[4006044,"Ranelagh Teapot",17]
[5013421,"RD Summer Love Plate Large",17]
[2209037,"RB Chevron Teacup & Saucer",16]
[5015477,"RD Building Espresso Cup *Special Order*",16]
[2165668,"HD Antler Trellis Cream Jug Ivory",13]
[2212675,"F Sugar Bowl",13]
[2213898,"HD Antler Trellis Midnight Covered Sugar",13]
[2213900,"HD Antler Trellis Midnight Teacup & Saucer",13]
[4004921,"HD Antler Trellis Ivory Sugar Bowl",13]
[8022940,"HD Parterre Midnight Teacup & Saucer",13]
[2095840,"Tea Disk",12]
[2095841,"Traditional Tea Strainer",12]
[2207946,"RD Swirling Staircase Medium Plate",12]
[5013420,"RD Summer Love Plate Medium",12]
[2212666,"F Tea Mug",11]
[4004854,"HD Parterre Midnight Platinum 8inch Plate",11]
[4006972,"WE Queen Victoria 200 Plate",11]
[5003187,"M Swan Plate",11]
[2207942,"RD The Ink House Small Plate",10]
[2212665,"F Coffee Mug",10]
[5013419,"RD Summer Love Plate Small",10]
[2209040,"RB Chevron Mug",8]
[2209041,"RB Chevron Creamer",8]
[2209042,"RB Chevron Sugar Bowl",8]
[2209043,"RB Chevron Coupe Plate 16cm",8]
[4004852,"HD Aragon Midnight 6inch Plate",8]
[4004853,"HD Parterre Midnight Platinum Mug",8]
[4006054,"Ranelagh Teacup and Saucer Purple",8]
[4007245,"WE Royal Baby Mug",8]
[8019546,"HD Vintage Christmas Tree White Mug",8]
[2204689,"Hario Tea Glass Bottle Set Black",7]
[2212667,"F Tea Bowl",7]
[2212671,"F Cake Plate",7]
[2212673,"F Jam Pot",7]
[4006049,"Ranelagh Plate 20cm",7]
[2129956,"Coffee Mug EDN",6]
[2211165,"HD Antler Trellis Black Teacup & Saucer",6]
[2212203,"K LT Kyusu Teapot 300ml White",6]
[8017212,"WE Royal Baby Hinged Box",6]
[2184234,"HD Antler Trellis Black Coaster D11cm",5]
[2184238,"HD Antler Trellis Ivory Coaster D11cm",5]
[2198388,"RD Francis Flamingo Majestic Mug",5]
[2198391,"RD Percy Pug Majestic Mug",5]
[2209044,"RB Chevron Coaster",5]
[2212219,"K Rectangular Tray 270mm Willow",5]
[2213902,"HD Antler Trellis Midnight Coaster",5]
[4006048,"Ranelagh Plate 16cm",5]
[5001088,"RD Christmas Love Majestic Mug",5]
[8025375,"H Cold Brew Tea Filter Bottle Red 300ml",5]
[2212221,"K Rectangular Tray 360mm Willow",4]
[4006975,"WE Queen Victoria 200 Mug",4]
[2175654,"Fortnum's Stripe Mug Blue",3]
[2212208,"K LT Cup & Saucer Black",3]
[8027063,"EA Gold Mistletoe Small Plate",2]
[5026162,"Camellia Teapot Lid",0]
[2190771,"Eau De Nil Top Hat Strainer",17.5]
[2190775,"Tea Timer",25]
[2190772,"Eau De Nil Traditional Strainer",15]
[2164240,"Silver Plated Tea Infuser Spoon",38]
[2028270,"Art Deco Tea Strainer With Long Handle",40]
[2190773,"Flower Disc Infuser",15]
[2190781,"Silver Plated Camellia Infuser",48]
[2187318,"Art Deco Revolving Strainer",45]
[2164243,"Silver Plated Tea Pot Infuser",38]
[2190774,"Glass Mug with Infuser & Lid",30]
[2187313,"X Alphabet Mug",18]
[2187304,"O Alphabet Mug",18]
[5057208,"The Christmas Travel Cup",15]
[2027509,"St James Tea Cup & Saucer",60]
[2187290,"A Alphabet Mug",18]
[2187310,"U Alphabet Mug",18]
[2187298,"I Alphabet Mug",18]
[2164242,"Silver Plated Heart Infuser",38]
[2208129,"Decorative Caddy Spoon",30]
[5000840,"Fortnum's Travel Cup Blue",15]
[2187291,"B Alphabet Mug",18]
[2187312,"W Alphabet Mug",18]
[2187302,"M Alphabet Mug",18]
[2187296,"G Alphabet Mug",18]
[8021291,"A Georgian Christmas Tea Mug",35]
[2187292,"C Alphabet Mug",18]
[2187305,"P Alphabet Mug",18]
[2208127,"Decorative Long Handled Tea Strainer",52]
[2187294,"E Alphabet Mug",18]
[2187295,"F Alphabet Mug",18]
[2028519,"Cased Sugar Tongs",30]
[2187315,"Z Alphabet Mug",18]
[2187303,"N Alphabet Mug",18]
[2028518,"Long Handle Caddy Spoon Boxed",30]
[2187300,"K Alphabet Mug",18]
[2105904,"Silver Plated Tea Strainer Bamboo Design",55]
[2113422,"EB Beehive 1/2 Pint Mug",22]
[2187293,"D Alphabet Mug",18]
[2187307,"R Alphabet Mug",18]
[5059953,"Gardens of Lyra Medium Plate",65]
[8021293,"A Georgian Christmas Tea Plate",40]
[2187314,"Y Alphabet Mug",18]
[5000839,"Fortnum's Travel Cup Red",15]
[2028517,"Caddy Spoon Short",30]
[2173797,"Camellia Tea Cup & Saucer",70]
[2187301,"L Alphabet Mug",18]
[2120371,"Gold Plated Bamboo Style Strainer",140]
[2089013,"St James Tea for One",130]
[2164244,"Rose Gold Heart Infuser",48]
[2187297,"H Alphabet Mug",18]
[5059954,"Gardens of Lyra Large Plate",80]
[2173803,"Camellia 6 Inch Tea Plate",40]
[8019544,"HD Dove of Peace Red Bauble",39]
[8024860,"HD Cherub Bauble",39]
[2208128,"Decorative Infuser",38]
[5030955,"HD 2020 Christmas Bauble",38]
[5030957,"HD Antler Trellis & Stag Bauble",38]
[2187309,"T Alphabet Mug",18]
[2137053,"2 Cup Classic Glass Teapot",58]
[5030958,"HD Parterre Black Bauble",38]
[2187316,"& Alphabet Mug",18]
[2198880,"Fortnum's Stripe Mug",18]
[2028205,"High Tea Milk Jug",35]
[2089005,"St James Mug",35]
[2173798,"Camellia Mug",35]
[2155308,"RD Black & White Egg Cup",12]
[2187308,"S Alphabet Mug",18]
[8027222,"B Spout Strainer",8]
[2182044,"Camellia Tea for One",140]
[2204662,"Cloverleaf Tea Cup and Saucer",150]
[5005995,"RD Alice in Wonderland Sugar Bowl",40]
[2101630,"St James 6 Inch Tea Plate",38]
[2111873,"RD Bowl Building with Gold - Small",25]
[2214814,"S Green Italian Mug",25]
[5062591,"RD Christmas Stag Mug",20]
[2187306,"Q Alphabet Mug",18]
[8018133,"N Spoon White",6]
[2028201,"High Tea Mug - EDN",35]
[2172649,"VT Teapot in Hat Box",215]
[2027504,"St James Tea Pot",130]
[2214813,"S Green Italian Teacup & Saucer",28]
[2214812,"S Green Italian 20cm Plate",15]
[2028203,"High Tea Teapot",100]
[8021292,"A Georgian Christmas Tea Candle",75]
[2173489,"VT Bundle of 6 Dinner Knives Assorted",65]
[8021294,"A Georgian Christmas Tea for One",130]
[2116174,"RB Reflect Tea Cup & Saucer",120]
[5005997,"RD Alice in Wonderland Medium Plate White Rabbit Cards",55]
[5005999,"RD Alice in Wonderland Medium Plate White Rabbit Watch",55]
[5059950,"Gardens of Lyra Four Cup Teapot",200]
[5005998,"RD Alice in Wonderland Large Plate Cheshire Cat in Tree",75]
[2120067,"RD Building Teacup & Saucer",70]
[2173490,"VT Bundle of 6 Dinner Forks Assorted",65]
[2173495,"VT Bundle of 6 Fish Knives Assorted",65]
[5005994,"RD Alice in Wonderland Milk Jug",50]
[5005996,"RD Alice in Wonderland Small Plate Mad Hatter Clock",45]
[2207954,"Cloverleaf Dinner Plate 27cm",145]
[2062697,"St James Two Tier Cake Stand",130]
[2204669,"Cloverleaf Mug",90]
[5005024,"Camellia White Lidded Candle",75]
[2173491,"VT Bundle of 6 Dessert Spoons Assorted",65]
[2085912,"Ca La Regence Stilton Scoop",64]
[2173494,"VT Bundle of 6 Cake Forks Assorted",60]
[2028202,"High Tea Cup And Saucer",55]
[2173492,"VT Bundle of 6 Tea/Coffee Spoons Assorted",55]
[2027506,"St James Sugar Pot",52]
[2027507,"St James Creamer",50]
[5005025,"Camellia White 8\" Plate",48]
[2198881,"Fortnum's Stripe Teacup & Saucer",45]
[2085918,"Ca La Regence Coffee Spoon",37]
[5028398,"OW Loop Sugar Bowl",37]
[5003174,"We Wild Strawberry Mug",35]
[5005029,"Coffee Mug EDN and Gold",30]
[5005030,"Coffee Mug Red and Gold",30]
[5005031,"Coffee Mug Purple and Gold",30]
[2085914,"Ca La Regence Mustard Spoon",26]
[2198386,"RD EDN Fortnum s Building Mug",23]
[2198387,"RD EDN Fortnum s Cat Hat Mug",23]
[5006002,"RD Alice in Wonderland Cheshire Cat Mug",20]
[2187311,"V Alphabet Mug",18]
[8019896,"A Red Alphabet Mug",18]
[8019897,"B Red Alphabet Mug",18]
[8019898,"C Red Alphabet Mug",18]
[8019899,"D Red Alphabet Mug",18]
[8019900,"E Red Alphabet Mug",18]
[8019901,"F Red Alphabet Mug",18]
[8019903,"H Red Alphabet Mug",18]
[8019904,"I Red Alphabet Mug",18]
[8019905,"J Red Alphabet Mug",18]
[8019906,"K Red Alphabet Mug",18]
[8019907,"L Red Alphabet Mug",18]
[8019908,"M Red Alphabet Mug",18]
[8019909,"N Red Alphabet Mug",18]
[8019910,"O Red Alphabet Mug",18]
[8019911,"P Red Alphabet Mug",18]
[8019912,"Q Red Alphabet Mug",18]
[8019913,"R Red Alphabet Mug",18]
[8019914,"S Red Alphabet Mug",18]
[8019915,"T Red Alphabet Mug",18]
[8019916,"U Red Alphabet Mug",18]
[8019917,"V Red Alphabet Mug",18]
[8019918,"W Red Alphabet Mug",18]
[8019919,"X Red Alphabet Mug",18]
[8019920,"Y Red Alphabet Mug",18]
[8019921,"Z Red Alphabet Mug",18]
[8019922,"& Red Alphabet Mug",18]
[2208239,"Afternoon Tea Stand",220]
[4008265,"He Gold Fishscale Dessert Plate VHOR-20517-0-00",210]
[2140308,"VT Tea For Two",150]
[8023463,"Silver Plated Tea Caddy",140]
[5005993,"RD Alice in Wonderland Cheshire Cat Teacup & Saucer",75]
[2111875,"RD Small Plate Building Crop with Gold",43]
[2085926,"Ca La Regence Jam Spoon",41]
[2197788,"Loop Teaplate Eau De Nil",35]
[8019902,"G Red Alphabet Mug",18]
[2140310,"VT Tea For Two With Cake Plate",190]
[2153119,"HD Alice Teapot",135]
[2140307,"VT Tea For One",95]
[2173496,"VT Bundle of 6 Fish Forks Assorted",65]
[8026736,"RD Black Heart Small Plate",43]
[8022942,"HD COM Shells Mug Blue",38]
[2085916,"Ca La Regence Tea Spoon",37]
[4008234,"B Blue Asiatic Pheasants Plate 29cm",30]
[5005032,"Coffee Mug Blue and Gold",30]
[2180746,"VT Tea For Four",290]
[2028512,"Louis Philippe Sugar And Milk Jug",280]
[4008263,"He Gold Fishscale Teacup VHOR-20724-2-00",210]
[2140309,"VT Tea For Two With Milk & Sugar",200]
[2172650,"VT 2 Tier Cake Stand",140]
[2091415,"He Queen Victoria Green Teacup VBO 0724-2-00",125]
[2146692,"He Fish Scale EDN Dessert Plate VHTQ1 20515-0-00",125]
[4008264,"He Gold Fishscale Saucer VHOR-20724-1-00",105]
[8024041,"Piccadilly Teapot White",100]
[8021687,"He Appony EDN Teacup ATQ2 00724-2-00",80]
[2201727,"Herend Garden of Herbs Teacup 03034200JDHIG",75]
[5029020,"S 1770 Red Teacup & Saucer",75]
[2206870,"He Garden of Herbs Dessert Plate 03033000JDHIG",72]
[2091108,"He Apponyi EDN Dessert Plate ATQ2 00517-0-00",68]
[2091414,"He Queen Victoria Green Saucer VBO 0724-1-00",62]
[2173497,"VT Set of 2 Serving Spoons Assorted",55]
[5029026,"S 1770 Red Mug",55]
[2129960,"Coffee Cup & Saucer Purple",50]
[2085924,"Ca La Regence Cranberry Spoon",46]
[2201726,"Herend Garden of Herbs Saucer 03045100JDHIG",42]
[2207951,"RD Eku Elephant Small Plate",40]
[8021688,"He Appony EDN Tea Saucer ATQ2 00724-1-00",40]
[5003172,"We Wild Strawberry Plate 20cm",35]
[2085920,"Ca La Regence Butter Spreader",30]
[2085922,"Ca La Regence Pastry Fork",30]
[2197786,"Loop Mug Eau De Nil",30]
[2197790,"Loop Mug Blush & White",30]
[2197791,"Loop Mug Pink & White",30]
[2197792,"Loop Mug Grey & Aqua",30]
[2208131,"Parlour Mug",25]
[2028533,"Ca Silver Polish",20]
[2187299,"J Alphabet Mug",18]
[5005028,"S Green Italian Tea Bag Tidy",18]
[2105945,"Monogram Milk Jug and Sugar Set",525]
[5007516,"RB Reflect Gold Teacup and Saucer - Category 3 on 7 (less ra",180]
[2091194,"He Fish Scale EDN Teacup VHTQ1 20724-2-00",148]
[2101617,"Monogram Cake Slice",105]
[2162509,"Platinum Tea For One",100]
[2204665,"Cloverleaf Sugar Bowl",100]
[2198884,"Fortnum's Stripe Tea for One",95]
[2091196,"He Fish Scale EDN Saucer VHTQ1 20724-2-00",75]
[5005991,"RD Alice in Wonderland White Rabbit Card Teacup & Saucer",75]
[5005992,"RD Alice in Wonderland Mad Hatter Teacup & Saucer",75]
[5029029,"S 1770 Black Teacup & Saucer",75]
[5059955,"Gardens of Lyra Teacup & Saucer",70]
[2197787,"Loop Teacup & Saucer Eau De Nil",55]
[2207947,"RD Charlie Leopard Medium Plate",50]
[2207952,"RD Geraldine Giraffe Medium Plate",50]
[2111893,"RD Tray Large Rectangle Building",40]
[2180747,"VT Silver Plated Sugar Tong Assorted",40]
[8022941,"HD Buckingham Palace Mall Mug",38]
[2214816,"S Green Italian Cream Jug",35]
[5059956,"Gardens of Lyra Mug",35]
[2111892,"RD Tray Small Rectangle Building Crop",30]
[2206876,"We Paeonia Blush Mug Blue Small",30]
[2208132,"Parlour Plate 22cm",30]
[2028531,"Ca Silver Polishing Mit",25]
[2214817,"S Green Italian Sugar",25]
[2028532,"Ca Silver Foam",20]
[2206850,"Vintage Silver Plated Napkin Ring",20]
[5006001,"RD Alice in Wonderland Alice Mug",20]
[5006003,"RD Alice in Wonderland Mad Hatter Mug",20]
[2215201,"S Green Italian 27cm Dinner Plate",18]
[8018633,"RCD Old Imari Teacup & Saucer",280]
[2112270,"RCD Royal Antoinette Tea Cup and Saucer",189]
[2212701,"M Blue Onion Teacup & Saucer",179]
[2212707,"M Blue Onion Plate",169]
[5003190,"RCD Old Imari 16cm Plate",125]
[8018620,"RCD Arboretum Platinum Teacup & Saucer",124]
[2112269,"RCD Royal Antoinette 16CM Plate",120]
[2212706,"M Blue Onion Mug",119]
[8018627,"RCD Carlton Gold Teacup & Saucer",112]
[2208133,"Parlour Tea for One",110]
[2204666,"Cloverleaf Milk Jug",100]
[5029027,"S 1770 Black 27.5cm Plate",75]
[2207949,"RD The Ink House Knocker Large Plate",70]
[8026735,"RD Black Heart Tea Cup and Saucer",70]
[2129958,"Coffee Cup & Saucer Green",50]
[2129961,"Coffee Cup & Saucer Blue",50]
[2207944,"RD Fran ois Frog Small Plate",40]
[4008252,"B Blue Asiatic Pheasants Teacup & Saucer",40]
[2153128,"HD Alice Cheshire Cat Mug",38]
[2206877,"We Paeonia Blush Mug Red Small",30]
[4008233,"B Blue Asiatic Pheasants Plate 25cm",25]
[2111858,"RD Mug Building Gold Windows",23]
[4008248,"B Plum Asiatic Pheasants Plate 17.5cm",20]
[5059959,"Gardens of Lyra Tea for Two Set",395]
[2204663,"Cloverleaf Teapot",300]
[2197755,"HD Alice Set of 4 x 6-- Plates Boxed",135]
[2156669,"Silver Plated Single Milk Jug with Lid",100]
[8018618,"RCD Arboretum Platinum Plate 20cm",95]
[2198883,"Fortnum's Stripe Teapot",90]
[8018625,"RCD Carlton Gold Plate 20cm",80]
[5029018,"S 1770 Red 27.5cm Plate",75]
[2153121,"HD Alice Teacup & Saucer",60]
[2206851,"Vintage Glass and Silver Plate Sugar Sifter",60]
[2206872,"We Paeonia Blush Teacup & Saucer Blue",55]
[2206875,"We Paeonia Blush Teacup & Saucer Coral",55]
[5029028,"S 1770 Black 16.5cm Plate",55]
[5029035,"S 1770 Black Mug",55]
[2028204,"High Tea Tea Strainer",50]
[8027219,"B Black Cast Iron Teapot 0.9L",50]
[4008241,"B Blue Asiatic Pheasants Milk Jug",45]
[4008251,"B Plum Asiatic Pheasants Teacup & Saucer",40]
[2105955,"HD Telephone Box Mug",38]
[2109884,"HD Glorious Reign Mug",38]
[2134344,"HD Changing The Guard Mug",38]
[2153127,"HD Alice Mug",38]
[2153129,"HD Alice Mad Hatter Mug",38]
[2153130,"HD Alice Rabbit Mug",38]
[2164248,"HD London Icon Mug",38]
[2206878,"We Paeonia Blush Mug Green Small",30]
[4008245,"B Grey Asiatic Pheasants Mug",28]
[4008246,"B Pink Asiatic Pheasants Mug",28]
[2173802,"Camellia Coaster",25]
[8027225,"B Cast Iron Tea Mugs Blue",22]
[2198392,"RD Queen Bee Majestic Mug",20]
[2205082,"F&M Alphabet U Mug - Wholesale Only",18]
[2105946,"Monogram Tea Pot",595]
[2197765,"HD Parterre Coffee Set Black",365]
[2204667,"Cloverleaf Cake Stand",295]
[2197757,"HD Alice Teapot Sugar & Creamer Set",235]
[5029024,"S 1770 Red Small Teapot 568ml",165]
[2184242,"HD COM Shell Garden Teapot",150]
[2204668,"Cloverleaf Tea Strainer",150]
[5005026,"Camellia White Teapot 2 Cup",140]
[2209027,"RD Ink House Teapot",125]
[2206871,"He Garden of Herbs Small Oval Dish 03030000JDHIG",100]
[4008235,"B Plum Asiatic Pheasants Teapot Large 800ml ",95]
[2208130,"Decorative Round Strainer & Caddy Spoon Set",85]
[2184868,"Vintage Tea Strainer Assorted Design",75]
[2206882,"We Paeonia Blush Sugar & Cream",70]
[5029030,"S 1770 Black Creamer",70]
[4008244,"B Blue Asiatic Pheasants Sugar Jar",60]
[8027226,"B Cast Iron Teapot Blue 1.25L",60]
[2153123,"HD Alice Covered Sugar Bowl",55]
[2206873,"We Paeonia Blush Teacup & Saucer Red",55]
[5029019,"S 1770 Red 16.5cm Plate",55]
[2197754,"HD Alice Queen of Hearts 8-- plate",45]
[2187317,"Art Deco Double Handled Strainer",40]
[5000428,"Loop Milk Jug Eau Du Nil",40]
[2184259,"HD COM Floral Thistle Mug Lilac",38]
[5005023,"Camellia White Mug",35]
[2200187,"Vintage Preserve Spoon Assorted Design",30]
[2206879,"We Paeonia Blush Mug Coral Small",30]
[4008247,"B Plum Asiatic Pheasants Mug",28]
[2111861,"RD Mug Building Cat",20]
[5005027,"S Green Italian Oatmeal Bowl",20]
[2204670,"Cloverleaf Tea for 2",800]
[4004857,"Gold Teapot",450]
[4008260,"He Gold Fishscale Teapot VHOR-20606-0-06",420]
[2091183,"He Fish Scale EDN 1.2l Teapot Rose Knob VHTQ1 20604-0-06",410]
[5029023,"S 1770 Red Large Teapot 1L",250]
[2214620,"ADV Peggy Teapot",215]
[2101788,"Baby Tea Pot Louis Philippe",200]
[2199181,"Camellia 6 Cup Teapot",200]
[8018127,"Silver Plated Salver 14\"",200]
[2156668,"Silver Plated Plain Georgian Style Coffee Pot",175]
[2173799,"Camellia 2 Cup Teapot",140]
[2184241,"HD COM Shell Garden Tea for One",140]
[2206953,"HD Shell Garden Thistle Tea for One",140]
[2091191,"He Fish Scale EDN Creamer VHTQ1 20644-0-00",130]
[2206880,"We Paeonia Blush Tea for One",130]
[8026822,"Piccadilly Teapot White/ Gold Lid",130]
[2206881,"We Paeonia Blush Teapot Large Coral",125]
[2209026,"RD Love Heart Teapot",125]
[2209028,"RD Leopard Teapot",125]
[2206885,"We Paeonia Blush Plates 20cm Set of 4",120]
[2100059,"Monogram Strainer",105]
[8024042,"Piccadilly Teapot Blue",100]
[2214815,"S Green Italian Teapot",98]
[2197789,"Loop Teapot Eau De Nil",95]
[5029021,"S 1770 Red Creamer",70]
[2184252,"HD COM Floral Primula Teacup & Saucer Yellow",65]
[8027228,"B Cast Iron Teapot Green 1.25L",60]
[2173804,"Camellia Sugar Pot",55]
[2184251,"HD COM Floral Pansies Teacup & Saucer Blue",55]
[2206874,"We Paeonia Blush Teacup & Saucer Green",55]
[2173805,"Camellia Milk Jug",52]
[2190777,"Glass Tea for One",50]
[2214818,"S Green Italian Footed Cake Stand",50]
[5059952,"Gardens of Lyra Small Plate",45]
[4008253,"B Dove Grey Asiatic Pheasants Teacup & Saucer",40]
[4008254,"B Pink Asiatic Pheasants Teacup & Saucer",40]
[2028208,"High Tea Plate Large 22cm Boxed",38]
[2184257,"HD COM Floral Primula Mug Yellow",38]
[8027220,"B Cast Iron Jang Tea Warmer Black",35]
[4008238,"B Blue Asiatic Pheasants Sugar Bowl Small",28]
[8027221,"B Cast Iron Jang Tea Mugs Black",22]
[8027227,"B Cast Iron Tea Mugs Green",22]
[2097679,"Monogram Tea Set",1050]
[8018634,"RCD Old Imari Large Teapot",950]
[2112266,"RCD Royal Antoinette Tea Pot Large Size",700]
[4008259,"He Gold Fishscale Tray VHOR-20400-0-00",700]
[2210596,"He Pelican 05073000VHV",625]
[2028510,"Louis Philippe Three Piece Tea Set",575]
[2091201,"He Fish Scale EDN Tray VHTQ1 20400-0-00",500]
[2091182,"He Fish Scale EDN Teapot Rose Knob VHTQ1 20603-0-06",475]
[2212700,"M Blue Onion Tea Pot",450]
[2201746,"Herend Labrador Figurine 15684000VH",420]
[2213202,"He Roe-buck Lying Black 15589-0-00VHN",400]
[8018628,"RCD Carlton Gold Teapot",380]
[2091116,"He Queen Victoria Green Teapot Rose Knob VBO 00604-0-09",370]
[2214619,"ADV Cendrillon Teapot",365]
[2091093,"He Apponyi EDN Teapot Rose Knob ATQ2 00603-0-09",335]
[2214617,"ADV Carole Teapot",320]
[2214618,"ADV Istanbul Teapot",320]
[2214622,"ADV Setsuko Cat Teapot",305]
[2091133,"He Queen Victoria Green Sandwich Dish VBO 00436-0-00",290]
[2214621,"ADV Setsuko Teapot",285]
[2207955,"He Garden of Herbs Large Teapot 03042012JDHIG",265]
[4008262,"He Gold Fishscale Sugar Bowl VHOR-02492-0-00",265]
[2091199,"He Fish Scale EDN Sandwich Dish VHTQ1 02437-0-00",235]
[2201731,"Herend Garden of Herbs Tray 03041000JDHIG",230]
[2091111,"He Apponyi EDN Sandwich Dish ATQ2 00436-0-00",220]
[2091132,"He Queen Victoria Green Sandwich Dish VBO 00437-0-00",210]
[4008261,"He Gold Fishscale Creamer VHOR-20644-0-00",205]
[2189874,"Silver Plated Foldable Cake Stand",200]
[2121312,"Baby Louis Philippe Sugar & Milk Set",190]
[2101821,"Baby Tea Pot Engraved Victorian Flute Lid",185]
[5007517,"RB Reflect Platinum Teacup and Saucer - Category 3 on 7 (les",180]
[2091237,"He Queen Victoria Green Oval Dish VBO 00212-0-00",168]
[2153120,"HD Alice 3 Tier Cake Stand",165]
[5029033,"S 1770 Black Small Teapot 568ml",165]
[2091122,"He Queen Victoria Green Creamer VBO 00642-0-00",160]
[2198385,"RD Fortnum s Building Tea For One",160]
[2213201,"He Bumble Bee Blue 15065-0-00VHBM",155]
[2201729,"Herend Garden of Herbs Teapot 03035012JDHIG",145]
[8018632,"RCD Old Imari Mug",145]
[2153118,"HD Alice Tea For One",135]
[2204664,"Cloverleaf 21cm Tea Plate",135]
[5003175,"We Wild Strawberry Teapot",130]
[2091120,"He Queen Victoria Green Open Leaf Sugar Bowl VBO 00492-0-00",125]
[2209024,"RD Lightning Bolt Teapot",125]
[2028209,"High Tea Two Tier Cake Stand",120]
[2091099,"He Apponyi EDN Sugar Covered ATQ2 00472-0-09",115]
[5003179,"We Wild Strawberry Two Tier Cake Stand",100]
[2197756,"HD Alice Set of 4 Coasters Boxed",95]
[4008266,"B Blue Asiatic Pheasants Teapot Large 800ml ",95]
[8018619,"RCD Arboretum Platinum Mug",95]
[2091135,"He Queen Victoria Green Strainer Cup VBO 01454-0-00",92]
[2091136,"He Queen Victoria Green Tea Strainer VBO 01453-0-00",86]
[2091204,"He Fish Scale EDN Teabag Holder VHTQ1 02452-0-00",86]
[2028516,"Tea Strainer and Long Handled Caddy Spoon Set",80]
[2091102,"He Apponyi EDN Creamer ATQ2 00644-0-00",80]
[2206884,"We Paeonia Blush Sandwich Tray Large Blue",80]
[4008236,"B Blue Asiatic Pheasants Teapot Small 400ml",80]
[4004855,"HD Alice in Wonderland Mug Set of 2 A/R",75]
[4004856,"HD Alice in Wonderland Mug Set of 2 M/C",75]
[5005990,"RD Alice in Wonderland Teacup & Saucer",75]
[5003178,"We Wild Strawberry Sandwich tray",70]
[5005022,"Camellia White Teacup & Saucer",70]
[2184243,"HD COM Shell Garden Teacup & Saucer",65]
[2184253,"HD COM Floral Rose Teacup & Saucer Pink",65]
[2184254,"HD COM Floral Thistle Teacup & Saucer Lilac",65]
[2201728,"Herend Garden of Herbs Creamer 03036000JDHIG",62]
[8027224,"B Cast Iron Teapot Red 1.25L",60]
[2091113,"He Apponyi EDN Tea Strainer Cup ATQ2 01454-0-00",58]
[2201730,"Herend Garden of Herbs Sugar Bowl 03037000JDHIG",58]
[2208126,"Decorative Tea Strainer",55]
[5029022,"S 1770 Red Sugar Bowl",55]
[5029031,"S 1770 Black Sugar Bowl",55]
[5000429,"Loop Tray White/Eau Du Nil",54]
[2091114,"He Apponyi EDN Tea Strainer ATQ2 01453-0-00",52]
[2129962,"Coffee Cup & Saucer EDN",50]
[5059958,"Gardens of Lyra Milk Jug",50]
[4008255,"B Plum Asiatic Pheasants Breakfast Cup & Saucer",48]
[4008257,"B Dove Grey Asiatic Pheasants Breakfast Cup & Saucer",48]
[4008258,"B Pink Asiatic Pheasants Breakfast Cup & Saucer",48]
[2184244,"HD COM Shell Garden Mug",38]
[2184258,"HD COM Floral Rose Mug Pink",38]
[2184247,"HD COM Shell Garden Coaster",22]
[8027223,"B Cast Iron Tea Mugs Red",22]
[4008250,"B Grey Asiatic Pheasants Plate 17.5cm",20]
[2153126,"HD Alice Tea Bag Tidy",18]
[2165652,"HD Antler Trellis Ivory Mug",8]
[8018635,"RCD Old Imari Small Teapot",790]
[2201744,"Herend Elephant Figurine 15265000VHN",740]
[2213189,"He Panther Black 15353-0-00VHN",715]
[2210595,"He Goldpheasant Green 05080000VHV",685]
[2201735,"Herend Pig Figurine 15663000VH",490]
[8018637,"RCD Old Imari Sugar Bowl",485]
[8018621,"RCD Arboretum Platinum Teapot",470]
[2112271,"RCD Royal Antoinette Three Tier Cake Stand",450]
[2201745,"Herend Rhino Figurine 15333000VHB",420]
[2213192,"He Labrador Black 15684-0-00VHNM",420]
[4004859,"HD Shell Garden Tea for Two Set",395]
[2112267,"RCD Royal Antoinette Covered Sugar",375]
[2206954,"HD Shell Garden Floral Tea Cup & Saucer Box of 5",330]
[8018638,"RCD Old Imari Two Tier Cake Stand",330]
[8018631,"RCD Old Imari Plate 25cm",325]
[8018636,"RCD Old Imari Cream Jug",325]
[2028511,"Single Louis Philippe Teapot",295]
[2214616,"ADV Adelaide Teapot",260]
[5029032,"S 1770 Black Large Teapot 1L",250]
[5024965,"HE Green Rabbit Figurine",240]
[5007518,"RB Reflect Gold Teacup and Saucer - Category 5 on 7 (rare)",230]
[2214623,"ADV Sobre Teapot",225]
[8018623,"RCD Arboretum Platinum Sugar Bowl",225]
[5029025,"S 1770 Red Tea for One",220]
[2112268,"RCD Royal Antoinette Cream Jug",200]
[8018630,"RCD Carlton Gold Sugar Bowl",200]
[2212705,"M Blue Onion Dish",199]
[5005033,"HD 2020 Annual Year Box",195]
[2212704,"M Blue Onion Tea caddy",179]
[2212703,"M Blue Onion Sugar bowl",169]
[2028210,"High Tea Boxed Set Tea Cups And Strainer",165]
[2213200,"He Bumble Bee Eau de Nil 15065-0-00VHTQ1M",155]
[8018622,"RCD Arboretum Platinum Cream Jug",145]
[2206952,"HD Shell Garden Rose Tea for One",140]
[5059951,"Gardens of Lyra Tea for One",140]
[2112272,"RCD Royal Antoinette Tea Strainer and Drip Bowl",125]
[8018626,"RCD Carlton Gold Plate 25cm",120]
[2212702,"M Blue Onion Creamer",119]
[5007515,"RB Superstripe Teacup and Saucer 150ml",115]
[2111872,"RD Teapot Building with Gold",110]
[8018629,"RCD Carlton Gold Cream Jug",110]
[2206886,"We Paeonia Blush Ice Cream Bowls Set of 4",95]
[8018624,"RCD Carlton Gold Plate 27cm",90]
[4008240,"B Blue Asiatic Pheasant Three Tier Cake Stand",80]
[2159340,"2 Cup Elegant Glass Teapot",70]
[2190776,"2 Cup Oriental Glass Teapot",70]
[2159342,"6 Cup Classic Glass Teapot",65]
[5059957,"Gardens of Lyra Sugar Bowl",65]
[2197767,"HD Parterre Coffee Cup & Saucer Black",60]
[4008243,"B Blue Asiatic Pheasants Coffee Jar",60]
[5007511,"RB Gold Reflect Mug 250ml",60]
[4008256,"B Blue Asiatic Pheasants Breakfast Cup & Saucer",48]
[5005034,"HD 2020 Valentines Box",48]
[5005035,"HD 2020 Mother's Day Box",48]
[2197763,"HD Parterre Mug Black",38]
[4008239,"B Blue Asiatic Pheasants Jam Pot",35]
[2213896,"HD Antler Trellis Midnight Teapot",32]
[2028206,"High Tea Sugar Bowl",30]
[8018132,"N Whisk White",30]
[2198882,"Fortnum's Stripe 22cm Plate",28]
[5006004,"RD Alice in Wonderland White Rabbit Mug",20]
[2213897,"HD Antler Trellis Midnight Cream Jug",13]
[2213901,"HD Antler Trellis Midnight Mug",8]
[2129954,"Coffee Mug Purple",6]
[2212676,"F China Spoon",5]
[8023085,"Royal Worcester Hadley Rose Tea Set C1907",3750]
[4008480,"M Flower Painting Teapot",2690]
[4008482,"M Purple Ground Teapot",2490]
[4008483,"M Oriental Floral Splendour Teapot",1990]
[4008479,"M Strewn Flowers Teapot",1490]
[8020354,"Twin Lid Sheraton Tea Caddy C1800",1200]
[2212105,"5211/10 Silver Tea Caddy Box C1916",1175]
[5026318,"5235/7 SP 3 Tier Cake Stand C1920",930]
[5005173,"5233/10 Pair 9” Oval Fluted Silver Candlesticks C1905",900]
[5068050,"5237/7 13.5” Pierced SP Basket C1875",900]
[5026317,"5235/6 SP 3 Tier Cake Stand C1920",870]
[5068032,"5236/1 3 Pce SP Tea Set by Elkington C1865",870]
[2210602,"5206/3 Oblong engraved SP Gallery Tray by Walker & Hall C190",825]
[5068049,"5237/6 8” x 3” Silver Bonbon Dish C1956",825]
[5068040,"5236/9 3 Pce Silver Cased Condiment Set C1973",750]
[8023077,"Hicks & Meigh Cup & Saucer C1825",750]
[2213209,"He The Three Wise Bunnies 05813-0-00VHY-16",740]
[4008481,"M Wild Poppy Teapot",699]
[4008485,"M Vineleaf Garland Teapot",699]
[8023067,"Wileman Trio C1896",690]
[5068034,"5236/3 3 Pce SP Round Engraved Tea Set C1880",675]
[5024966,"HE Chimpanzee",660]
[8020351,"Mahogany Tea Caddy C1840",660]
[4008486,"M Ausschnitt Teapot",649]
[5003250,"5232/8 Victorian SP Teapot C1880",620]
[5068048,"5237/5 6.5” x 4” Silver Bonbon Dish C1911",600]
[8023072,"Spode Imari Cup & Saucer C1810s",600]
[8023078,"Coalport Gold Floral Cup & Saucer C1860s",600]
[8023080,"Rathbone Dark Cobalt Cup & Saucer C1820s",600]
[5005174,"5233/11 Pair 10” Square Base Candlesticks C1900",570]
[8026333,"5230/6 SP Kings pattern Serving Tongs C1900",570]
[5068042,"5236/11 Silver Deco Tea Strainer & Bowl C1948",555]
[5068043,"5236/12 Silver Tea Strainer & Bowl C1936/7",555]
[5068044,"5237/1 Silver Tea Strainer & Bowl C1910",555]
[5068045,"5237/2 Silver Tea Strainer & Bowl C1947",555]
[5068046,"5237/3 Silver Deco Tea Strainer & Bowl C1943",555]
[5024967,"HE Two turtle doves",545]
[5026322,"5235/11 Silver Tea Strainer & Bowl  C1970",540]
[5026323,"5235/12 Silver Tea Strainer & Bowl C1965",540]
[5068033,"5236/2 3 Pce Oval Tea Set C1880",540]
[5068047,"5237/4 5” Silver Bonbon Dish C1924",540]
[8023068,"Samuel Alcock Cup & Saucer C1835",540]
[8023070,"Brownfield Trio C1880s",540]
[8023081,"Ridgway High Loop Cup & Saucer C1825",540]
[5026316,"5235/5 SP Teapot C1840",525]
[5026320,"5235/9 SP Round Fluted Tea Set C1890",525]
[5068035,"5236/4 SP Melon Teapot by Elkington C1875",525]
[5068036,"5236/5 SP Melon Engraved Teapot by Elkington C1875",525]
[8026321,"5231/4 Pair SP 12” Oval Fluted Candlesticks C1920",525]
[2120372,"Silver Plated Plain Victorian Style Tea Set",495]
[5068039,"5236/8 SP Squirrel Nut Dish C1880",480]
[8019726,"He Fishscale Pink Teapot",480]
[4008312,"Royal Worcester Pink Cup & Saucer C1876",450]
[5005178,"5233/15 SP Ornate Basket C1840",450]
[5005180,"5234/2 SP Tea Caddy Box C1880",450]
[5005181,"5234/3 SP Tea Caddy Box C1880",450]
[5068041,"5236/10 Silver Cased Fish Servers C1903",450]
[8022646,"5229/5 SP Montieth Fruit Bowl C1900",450]
[8022664,"5228/11 Sterling Silver Tea Strainer on Feet Dublin C1920",450]
[8023071,"Hemmerseley Rose Cup & Saucer C1920s",450]
[8026325,"5231/8 SP Oblong Tea Caddy Box C1890",450]
[8026340,"5230/13 SP Shaped Engraved Tea Pot C1875",450]
[5024956,"HE EDN Puffin Figurine",435]
[5024964,"HE Kingfisher with Fish Figurine",430]
[8026319,"5231/2 Pair SP 8.5” Candlesticks C1900",420]
[8018766,"5227/5 SP Fluted Teapot C1890",405]
[8018770,"5227/9 SP Asparagus Dish & Sauceboat C1920",405]
[8026326,"5231/9 SP Oval Tea Caddy Box C1890",405]
[2173796,"Camellia Tea For Two Gift Set",385]
[2101541,"He Labrador With Ball Figurine Rust VH15847-0-00",380]
[2142158,"Silver Plated Louis Philippe Bachelor Tea Set",380]
[2027513,"St James Tea For Two Boxed",360]
[5024957,"HE Black & Orange Sitting Spaniel Figurine",350]
[5024971,"HE Fantail Goldfish",345]
[2213205,"He Ghost Crab Red 15096-0-00VH",325]
[5024954,"HE Black Mouse with Cheese Figurine",325]
[5024974,"HE Blue Labrador Sitting",315]
[5024953,"HE Blue & Red Bird on Twig Figurine",295]
[5024972,"HE EDN Puppy chewing a shoe",290]
[5024973,"HE EDN Playful Dolphin",290]
[5024955,"HE Black Dog Figurine",275]
[5068038,"5236/7 SP Toast C1880",270]
[8026327,"5231/10 SP Plain Tea Caddy Box C1900",270]
[5024963,"HE Koala Cub with Twig Figurine",265]
[5026314,"5235/3 SP Toast C1900",255]
[5024969,"HE Blue Dachshund",245]
[5007519,"RB Reflect Platinum Teacup and Saucer - Category 5 on 7 (rar",230]
[5005168,"5233/5 SP Toast C1900",225]
[5068037,"5236/6 SP Toast C1880",225]
[8026324,"5231/7 SP Toast C1890",225]
[5029034,"S 1770 Black Tea for One",220]
[2213208,"He Bulldog Puppy Black 05712-0-00VHN",215]
[2170325,"Coffee Collection Set of 4",200]
[5024968,"HE EDN Praying bunny",195]
[2101815,"Baby Tea Pot Victorian Engraved Melon Style",185]
[2212125,"5210/16 Pair SP Serving Tongs C1890 Henry Atkins",180]
[5024958,"HE Pink Lop Ear Bunny Figurine",180]
[5024959,"HE Lilac Lop Ear Bunny Figurine",180]
[2213204,"He Baby Snail Pink 15518-0-00VHP",150]
[8019923,"Camellia Tea Tray",150]
[2206951,"HD Shell Garden Primula Tea for One",140]
[5059949,"Gardens of Lyra Two Cup Teapot",140]
[5002594,"Piccadilly Teapot Blue/ Gold Lid",130]
[2165632,"High Tea Tea For One",125]
[2028529,"Silver Plated Tea Caddy",85]
[2137052,"6 Cup Oriental Glass Teapot",85]
[4008242,"B Blue Asiatic Pheasants Tea Jar",60]
[2208834,"N Cochin Setsugekka Teapot",50]
[2199519,"Iced Tea Jug",45]
[5061731,"HD Parterre Black and Gold Mug",38]
[2105286,"EDN Salam 2 Cup Teapot",27]
[4006045,"Ranelagh Tea for One",21]
[4008232,"B Blue Asiatic Pheasants Plate 17.5cm",20]
[4008249,"B Pink Asiatic Pheasants Plate 17.5cm",20]
[5003186,"M Swan Dinner Plate",20]
[2207950,"RD Prunella Shears Bee Large Plate",17]
[2165661,"HD Antler Trellis Teacup & Saucer Ivory",13]
[2207945,"RD Sid Parrot Small Plate",10]
[2212669,"F Milk Jug",10]
[4006053,"Ranelagh Teacup and Saucer Green",8]
[2197274,"Ka Gold Rubber Grip Coaster",5]
[4006047,"Ranelagh Sugar Bowl",5]
[4006059,"H Cold Brew Tea Filter Bottle Olive Green 300ml",5]
[5006005,"RD Summer Love Mug",5]
[4006057,"Ranelagh Mug Green",4]
[2095837,"Top Hat Strainer",3]
[5012395,"Brown Westhead Moore Pair of trios",0]
[5012397,"Copeland Pair Of Cups & Saucers",0]
[5012398,"Scandinavian Enamelled Silver Spoon Set",0]
[5012399,"T&S Enamelled Silver Spoon Set",0]
[5012400,"Marius Hammer Enamelled Silver Spoon Set",0]
[5012401,"Mappin & Webb Enamelled Silver Spoon Set",0]
[5012402,"Royal Doulton Coffee Set",0]
[5012403,"Ridgway Foliage Tea Set",0]
[2082272,"Glenfiddich 50 Year Old",25000]
[2172155,"Louis XIII Remy Martin Cognac Magnum",6720]
[2205021,"The Last Drop Centenario Duo of Old Colheita Tawny Ports",4000]
[2192118,"Macallan M Decanter 70cl",3950]
[2005985,"Richard Hennessy In Decanter",3500]
[2005988,"Louis XIII Remy Martin Cognac",2850]
[2088182,"Highland Park 40 Year Old",2500]
[2195509,"Tomintoul 40 yo",2500]
[5067980,"Chateau Petrus 2019 IB",2500]
[4004711,"Tomintoul 1973 45 yo",2250]
[2005832,"Glenfarclas 40 Year Old",830]
[2005774,"Balvenie 30 Year Old",820]
[5028091,"Sigognac 1960 Vintage Armagnac",480]
[2188514,"Laphroaig 1990",440]
[8026840,"Fortnum's Champagne Case",415]
[2200847,"Fortnum's Brut Reserve 12 Bottle Case",400]
[2205236,"Opus One",400]
[2188503,"Pappy Van Winkle Bourbon 23 Yr Old",385]
[2213556,"4.5l Monkey Shoulder Gorilla Blended Malt Scotch Whisky",375]
[5054160,"Hennessy XO Magnum",375]
[2200523,"Premium Bordeaux 12 Bottle Case",365]
[4007273,"Big Weekend Case",350]
[8020761,"£350 Mystery Case",350]
[2188513,"Caol Ila 1980",335]
[2188502,"Pappy Van Winkle Bourbon 20 Yr Old",330]
[2141118,"Glenmorangie 25 year old",325]
[5002610,"IG Half Case A",307.5]
[8020760,"£300 Mystery Case",300]
[8022214,"Puligny 1er Cru Folatieres Domaine Leflaive 2013",300]
[2192619,"Jacques Selosse Substance",285]
[5054159,"Chateau Cos d'Estournel 1995",275]
[2004464,"Perrier Jouet Belle Epoque Magnum",262.5]
[2200730,"Cloudy Bay 12 Bottle Case",255]
[2137340,"Poderi Aldo Conterno Barolo `Romirasco`",225]
[8027275,"Ardbeg 19 Year Old 70cl ltd edition",225]
[2188501,"Pappy Van Winkle Bourbon 15 Yr Old",220]
[8026839,"Weekend Away Case",215]
[2192354,"Jacques Selosse Rose",210]
[5028092,"Sigognac 1970 Vintage Armagnac",210]
[2181114,"Corton Charlemagne Vincent Girardin 2015",200]
[2200729,"Seasonal Case",200]
[2200846,"F&M Brut Reserve Champagne 6 Bottle Case",200]
[5005262,"Pol Roger Cuvee Sir Winston Churchill",200]
[5005978,"F&M Brut Reserve Champagne 6 Bottle Case 15% off",200]
[8020759,"£200 Mystery Case",200]
[2196523,"21 Year Old Single Pot Still Irish Whiskey Redbreast",195]
[4007272,"Route des Vin",195]
[4004681,"MACALLAN 18YO TRIPLE CASK 43%",187.5]
[2196160,"Nyetimber Classic Cuvée Case",175]
[8019313,"Nuits Saint-Georges 1er Cru Aux Bousselots Robert Chevillon",175]
[2142389,"Thomas H Handy BTAC",170]
[2086659,"Hendrick's Gin 1.75L Bathtub Gift Pack",165]
[2188505,"Old Rip Van Winkle 12 Year Old",165]
[2191287,"Jacques Selosse Brut Initial N.V",165]
[4007092,"Four Roses Limited Edition Small Batch Vintage Bottling",165]
[2142390,"Sazerac 18yo Rye Whiskey BTAC",160]
[5054155,"Chateau Leoville Barton 2005",160]
[4007268,"Prosecco Case",155]
[2005069,"Cote Rotie Sereine Noire Yves Gangloff",150]
[2142392,"William Larue Weller Kentucky Straight Bourbon BTAC",150]
[4007271,"Bartender's Case",150]
[5054165,"Meursault 1er Cru Sous le Dos d'Ane Domaine Leflaive 2016",150]
[2155835,"St Nicholas Abbey 12 Year Old Rum",145]
[2179469,"Nikka 12 Years Old",135]
[2200520,"Bordeaux Case",135]
[5000495,"Bimber Distillery London 'The First' Single Malt Whisky",130]
[2200519,"Office Party Case",125]
[5033604,"Daftmill Winter 2007",125]
[8027438,"Red Spot 15 Year Old Irish Whiskey",125]
[2181399,"Puligny-Montrachet - Domaine Pernot-Belicard Magnum",120]
[2004474,"Veuve Clicquot Yellow Label N.V Magnum",115]
[8027276,"Koch Mezcal 4 x 15cl gift set",115]
[2005893,"Balvenie 15 Year Old Single Cask",110]
[2188504,"Old Rip Van Winkle 10 Year Old",110]
[2192202,"Taylors Port 1997",110]
[2200849,"White Wine Case",110]
[4007257,"The Glenrothes 18-year old",110]
[8024817,"Macallan Edition 5",110]
[2056089,"Fonseca Vintage Port 1985",105]
[2195880,"Dingle Irish Whiskey",105]
[2200848,"Red Wine Case",105]
[5008879,"FIS Clients Christmas Gift",101.53]
[2212937,"Empty Blanc de Blancs Champagne Gift Box",0]
[2198668,"Laphroaig Lore",100]
[2198837,"Volnay 1er Cru Fremiet Marquis d'Angerville 2013",100]
[8020758,"£100 Mystery Case",100]
[8026842,"White Burgundy Case",100]
[2115131,"Meursault 1er cru Sous le Dos d ane Domaine Leflaive 2016 IB",97.5]
[2211782,"Kabuki Vintage Sake",95]
[2213650,"Nuits St Georges 1er Cru Vaucrains Chevillon 2014",94.95]
[5012550,"Argiano Brunello di Montalcino Magnum",92.5]
[8026841,"Small Burgundy Case",90]
[2159948,"Quinta do Noval Colheita",85]
[5068778,"Waterford Single Farm Origin Sheestown 1.1",85]
[5068779,"Waterford Single Farm Origin Ballymorgan 1.1",85]
[5068780,"Waterford Single Farm Origin Bannow Island 1.2",85]
[5068781,"Waterford Single Farm Origin Ballykilcavan 1.2",85]
[2005467,"Fonseca Vintage Port 2007",82.5]
[2091950,"Lopez de Heredia Vina Tondonia Tinto Gran Reserva",80]
[2150736,"Bathtub Gin Magnum",80]
[2200731,"Australia 6 Bottle Case",80]
[4007269,"Italian Wine Case",80]
[5000496,"Bimber Distillery London 2nd release London Single Malt 70cl",80]
[8027449,"Batuta Niepoort 2016",80]
[5028094,"Sigognac 1990 Vintage Armagnac",79.5]
[2004188,"Blanc de Blancs Champagne NV Half bottle Old Label",13.96]
[2005095,"Chateau de Beaucastel Chateauneuf-du-Pape 2016",77.5]
[2200521,"Australia Case",75]
[2200522,"Iberian Explorer Case",75]
[2211966,"Rivesaltes Riveyrac 1980",65]
[4006748,"Easter Case",65]
[5046135,"Chateauneuf du Pape Magnum",65]
[5054163,"Gevrey Chambertin Vieilles Vignes Henri Magnien 2017",65]
[8027447,"Charme Niepoort 2017",63.75]
[2152764,"La Hechicera Fine Aged Rum",62.5]
[2104082,"Hazelburn 12 Year Old",62]
[4007278,"Father's Day 6 Bottle Case",60.95]
[2192143,"Suntory Chita 70cl",60]
[5052785,"Vasse Felix Chardonnay",60]
[8019755,"Lorcher Krone Riesling Trocken Grand Cru Eva Fricke",60]
[2140953,"Dalmore 12 Year old",59.95]
[2202768,"Zeltlinger Sonnenuhr Riesling Auslese Gold Markus Molitor",58.5]
[2123607,"Teeling Irish Single Grain Whiskey",57.5]
[2214952,"Puligny-Montrachet Cru Hameau de Blagny Cherisey-Martelet",57.5]
[2212055,"Taylor Vintage Port 1997 Half Bottle",57]
[2004557,"Moet & Chandon Rose Imperial N.V",55]
[2212155,"Seasonal Beer & Cider Case",55]
[2208083,"Blanc de Blancs Champagne N.V Quarter Bottle",14.5]
[2212054,"Gold Label 6 Puttonyos Royal Tokaji",53]
[2202030,"Personalised Rose Champagne in box",51.5]
[2005724,"Terrazas de los Andes Single Vineyard Malbec",50]
[2005938,"Penderyn Single Malt Madeira Cask",50]
[5000498,"Chateauneuf du Pape Hautes Brusquieres de La Charbonnieres",50]
[2195893,"W&H Amontillado en Rama Vintage 2003",49.5]
[2141419,"Centinela Anejo Tequila (100% Agave)",49.45]
[2203283,"Gower Gin",48]
[2006086,"u'Luvka 70cl",47]
[2172758,"UMAMI",46.5]
[2005897,"Springbank 10 Year Old",45]
[2137106,"Babicka Vodka",45]
[2174566,"Chateau Montifaud Sabina VSOP",45]
[2205245,"Chateau Franc Mayne Saint Emilion Grand Cru",45]
[5054162,"Gusbourne Limited release",45]
[5002604,"IG Pair B",43.45]
[2004800,"Sarget de Gruaud Larose 2014",42.5]
[2202505,"Nuits St Georges",42.5]
[4007082,"Nikka Days",42.5]
[5041221,"Chablis Magnum",42.5]
[2006070,"Potocki Wodka",41.5]
[2083552,"Cohiba Siglo V in Tube (CO1502)",40]
[2112684,"Teeling Whiskey Co Poitin",40]
[8017715,"Scarpa Vermouth di Torino Rosso",40]
[8017716,"Scarpa Vermouth di Torino Bianco",40]
[2137680,"Hwayo Soju 41% AVB",39.950000000000003]
[2066597,"Lopez de Heredia Vina Tondonia Reserva Blanco",37.950000000000003]
[2004479,"Louis Roederer Carte Blanche Demi Sec N.V",37.5]
[8019308,"Gevrey Chambertin Domaine Coillot 2016",37.5]
[2106503,"Vasse Felix Heytesbury Chardonnay",36.75]
[2005965,"Frapin VSOP Half Bottle",36]
[2004275,"Riesling Eiswein Half Bottle",35]
[2005524,"Taylor's Quinta de Vargellas",35]
[2040294,"Balvenie Signature 12 Year Old",35]
[5068524,"Chateau La Creation Pomerol 2013",35]
[8026838,"Autumnal Beer Case",35]
[2122061,"Boodles British Gin",34.950000000000003]
[2006026,"Foursquare Spiced Rum",33.950000000000003]
[2069484,"Hacienda de Chihuahua Sotol Plata",33.75]
[2188490,"Fernet Branca 2017",33]
[5003196,"Williams & Humbert Fino En Rama vintage 2015",32.950000000000003]
[2160174,"Glenfiddich Tasting Collection 3x20cl",32.5]
[2204370,"Hunt & Harvest Napa Cabernet Sauvignon",32.5]
[2206819,"Manzanilla En Rama La Goya XL Delgado Zuleta Sanlucar",31.5]
[8027002,"Bedrock Old Vine Zinfandel",31.5]
[2005579,"Mac Forbes RS Series Riesling",30.95]
[2004662,"Chateau Verdignan 2005",29.95]
[2214941,"Meursault Ballot Millot Half Bottle",29.95]
[8019310,"Chateau Le Thil Pessac Leognan 2014",29.95]
[2161244,"Perrier Jouet Grande Brut NV Half Bottle",29.5]
[5002605,"IG Pair C",29]
[2207608,"Pinot 'N', Spatburgunder, Trocken, Kesseler 2015",28.5]
[5030186,"Fayolle Crozes Hermitage Pontaix Rouge 2015",28.5]
[8027001,"Sandhi Santa Barbara County Chardonnay",28.5]
[2118068,"Churchill Port Experience",27.5]
[2141856,"Ridge Geyserville Half Bottle",27.5]
[2157864,"Franca Contea Franciacorta Saten Vintage",27.5]
[2115393,"Rutherford Sauvignon Blanc Frogs Leap",26.95]
[2211780,"Origami Red Sake Yushin Sake Brewery",26.5]
[2205194,"Esprit de Figues",26.25]
[2006177,"Hoyo de Monterrey Epicures No.1 (HO1003)",25]
[2096015,"Cohiba Siglo II (CO1202)",25]
[2205246,"Chante Allouette Cormeil Saint Emilion Grand Cru 2002",25]
[5067983,"Chocolate Chestnut Liqueur",25]
[8019306,"Montagny 1er Cru Les Grappes D’Or 2017",24.95]
[2196312,"Camin Larreyda, 'Le Part Davant', Jurancon Sec 2015",24.5]
[5054146,"Riesling Heiligenkirche Rheinhessen Neiss 2018",24.5]
[2192650,"Saperavi Orgo",23.95]
[2200272,"Nyetimber Rose half bottle",23.95]
[2154625,"Summer Cup",23.5]
[2137679,"Hwayo Soju 25% AVB",22.95]
[5036218,"Montagny 1er Cru Les Crets D’Or",22.95]
[8018976,"Chateau Mauvesin Barton 2012",22.95]
[2105555,"Segla 2014 Half Bottle",22.5]
[2194059,"Dictador Cigar, Grand Toro, 6 x 54",22.5]
[2198670,"Auchentoshan Collection 12x3x0.5l",22.5]
[2203297,"Lapola Dominio do Bibei Ribeira Sacra",22.5]
[5036219,"Flor das Tecedeiras, Douro",22.5]
[8022958,"Romeo y Julieta Short Churchill Tube RJ1002",22.5]
[2100545,"Highgrove Organic Botanicals Gin",22.45]
[2214338,"Rosso di Montalcino Cortonesi",21.95]
[2006186,"Partagas Series D No.5 (PA0809)",21.5]
[2160316,"Montifaud Cognac VSOP 20cl",21.5]
[2211453,"Frappato Pianogrillo Sicily",21.5]
[8019309,"Monteabellon 14 Meses en barrica Tempranillo",21.5]
[2040425,"Highgrove Organic Vodka",21.35]
[2173771,"Combier Creme Rose Liqueur",21]
[2005960,"Delamain Pale & Dry 20cl",20.95]
[2063483,"Carmes de Rieussec",20.6]
[2178469,"Douro Branco Quinta do Poeira",20.5]
[2005683,"Au Bon Climat Santa Barbara County Chardonnay",20.2]
[2195230,"Moet Imperial Crackers",19.95]
[8018098,"Chateau Devise D'Ardilley Haut Medoc Cru Bourgeois",19.95]
[2189539,"Max Ferd Richter M lheimer Sonnenlay Riesling Sp tlese",19.899999999999999]
[4004691,"Xinomavro, Single Vineyard Hedgehog, Amyndeo, Alpha Estate",19.5]
[5054147,"Sancerre Andre Dezat - HAMPER ONLY",19.5]
[8023632,"SUMI - Tokubetsu Junmai Sake",19.5]
[2193135,"COHIBA SIGLO I TUBED (3) TUBED",18.95]
[2006147,"Kahlua",18.75]
[2192344,"Gavi di Riserva, La Raia",18.7]
[2110816,"Moscato d'Asti Vajra",18.5]
[2206817,"Fino En Rama 2018 release Lustau Puerto de Santa Maria",18.5]
[2005940,"Penderyn Tasting Set",18]
[2192649,"Kisi Vita Vinea Kakheti",17.850000000000001]
[2203302,"Tio Pepe Fino En Rama 2020 Saca",17.5]
[5054151,"Chateau de Cardeillan - HAMPER ONLY",17.5]
[5057140,"Fonseca Late Bottle Vintage LBV Port",17.5]
[2127582,"The Port Pairing Box",16.95]
[2189363,"G de Chateau Guiraud",16.850000000000001]
[2188493,"Antica Formula Vermouth Half Bottle 2017",16.5]
[2004261,"Crusted Port",16.45]
[2205670,"Luna Beberide Godello DO Bierzo 2017",16.45]
[8020650,"Graville Lacoste Blanc",16.25]
[2137403,"Martinborough Pinot Noir",16.100000000000001]
[8026997,"Domaine Cauhape Symphonie de Novembre Jurancon Half Bottle",16.100000000000001]
[2005480,"Graham's Quinta dos Malvedos Half Bottle",15.5]
[5001168,"Vino Nobile di Montepulciano Valdipiatta half bottle",14.95]
[2194062,"Joya de Nicaragua Cabinetta Series, Robusto, 5 x 50",14.5]
[2195517,"London White Rum 20cl",14.5]
[4004694,"Essensia' Orange Muscat, California 37.5 cl, Quady",14.5]
[8024813,"Barbeito Boal Reserva",14.5]
[2178490,"Douro Tinto La Rosa Quinta de la Rosa Pinh o",14.2]
[8026990,"Raventos Blanc Blanc de Blancs Brut",16.45]
[2136604,"Dolin Dry Verrmouth de Chambery",13.95]
[5052792,"Chakana Nuna Malbec",13.95]
[5036223,"English Framboise",13.5]
[2004249,"Dolcetto",12.25]
[2006131,"Dubonnet",11.95]
[5054149,"Cotes du Rhone Est-Ouest Brunel - HAMPER ONLY",11.5]
[5054148,"Sancerre Andre Dezat Half  - HAMPER ONLY",11.25]
[2192342,"Consono Verdicchio di Jesi Accadia",10.85]
[2206821,"Pastora Manzanilla Pasada En Rama Barbadillo Sanlucar",10.5]
[2004194,"Saint Emilion Half Bottle",10.46]
[2006184,"Upmann Coronas Junior in Tube (HU1202)",10]
[8022957,"Quintero Tubulares",9.5]
[2004205,"Graves",8.65]
[2197815,"Single Bottle Wood Retail Body",8]
[4006951,"Manzanilla Sherry Alegria Williams & Humbert Half Bottle",6.95]
[2204711,"Fortnum's Mulled Cider with English Cassis",3.75]
[2103927,"Triple Chocolate Stout",3.5]
[2004312,"Christmas Ale",3.25]
[2199600,"Toast Ale 5%",2.95]
[2208500,"Big Drop Stout",2.75]
[4007088,"Sekforde Mixer for Gin & Vodka",1.6]
[5066038,"Double Dutch Lemon",1.35]
[2197816,"Double Bottle Wood Body",0]
[2198001,"Double Bottle Wood Lid",0]
[2198008,"Eau de Nil Rope Handle",0]
[2198667,"Highland Park Dark",0]
[2209552,"New Highgrove Reserve Port",0]
[2208082,"Blanc de Blancs Grand Cru Champagne NV Half bottle",19.95]
[2214931,"Puligny 1er Cru Perrieres Pernot Belicard",0]
[2215127,"Honey Spiced Vodka Liqueur 5cl",0]
[2215128,"London Dry Gin 5cl",0]
[2215129,"Sloe Gin 5cl",0]
[2215140,"Sassicaia 2016 Tenuta San Guido",0]
[5000493,"Highland Park 21 Year Old 70cl",0]
[5028823,"Bourgogne Rouge Domaine Robert Chevillon 2018 IB",0]
[5028824,"Nuits St Georges 1er Cru Chevillon Les Saint Georges 2018 IB",0]
[5028825,"Nuits St Georges 1er Cru Chevillon Les Vaucrains 2018 IB",0]
[5028826,"Nuits St Georges Rouge Chevillon Vieilles Vignes 2018 IB",0]
[5029921,"Marc De Champagne 10l",0]
[5054168,"Tecedeiras Late Bottled Vintage Port 2015",0]
[5057131,"Farr Chardonnay",0]
[5057137,"Graham's 1970 Vintage Port",0]
[8019304,"Teeling 24 Year Old",0]
[8027471,"Niepoort 2017 Vintage Port",0]
[2199231,"Double Dutch Skinny Indian Tonic 20cl",1.2]
[5066036,"Westerham Pilsner",2.75]
[2209709,"Double Dutch Ginger Ale 20cl",1.35]
[5039617,"New Claret Half",6.75]
[2199228,"Double Dutch Ginger Beer 20cl",1.35]
[2188429,"Honey Spiced Vodka Liqueur 20cl",14.5]
[2199599,"Devon Vintage Cider",2.95]
[2118914,"Cotes de Provence Rose",19.5]
[2154186,"Rosso Piceno",10.5]
[2188119,"Avesso Vinho Verde",13.95]
[2155920,"Sir Nigel's Orange Marmalade Vodka 20cl",13.5]
[8023245,"Rose Sparkling Tea",16.95]
[2199229,"Double Dutch Indian tonic 20cl",1.2]
[2208085,"Rose Champagne Magnum",95]
[2188425,"South Island Sauvignon Blanc",13.5]
[2050436,"Le Mesnil Blanc de Blancs Grand Cru N.V",28.85]
[2208078,"Rose Champagne N.V",45]
[2188430,"Sloe Gin 20cl",13.5]
[2205244,"Highgrove Cotes de Gascogne Blanc",10.5]
[2172869,"Late Bottled Vintage Port Giftbox",23.95]
[2208073,"Brut Reserve Champagne N.V.",39.5]
[8019295,"Highgrove Prosecco",15.5]
[2004193,"Bordeaux Blanc",10.5]
[2004259,"Rioja Crianza",15.5]
[2004236,"Pouilly Fume",17.5]
[2004240,"Cotes du Rhone",10.5]
[2208077,"Vintage Champagne",49.5]
[2174848,"Morey Saint Denis",39.5]
[2004266,"Christmas Pudding Madeira",16.5]
[2204146,"Blanc de Blancs Grande Reserve Grand Cru Extra Brut Hostomme",31.85]
[2188111,"Verdicchio di Matelica Riserva",22.5]
[2205704,"Copenhagen Sparkling Tea Rod (5% alc.)",18.5]
[2004294,"Upper Yarra Valley Chardonnay",24.95]
[2199233,"Double Dutch Soda Water 20cl",1.35]
[2140108,"Franciacorta Brut",24.5]
[2004311,"India Pale Ale",3.1]
[2004203,"Saint Emilion",28.95]
[2004272,"Tawny Port 10 Year Old 50cl",25.5]
[2204154,"Fortnum's Speyside Single Malt Dailuaine 8YO 70cl",45]
[2004211,"Pauillac",40]
[5005263,"Exclusive Cold Brew Tea Liqueur by Conker",40]
[2004263,"Vintage Port",39.950000000000003]
[2004250,"Gavi Terrarossa",15.5]
[2214921,"Hautes Cotes de Nuits Blanc Clos Saint-Philibert Meo Camuzet",35]
[2141777,"Personalised Whisky",51.5]
[2170640,"Swartland Chenin Blanc",14.95]
[2004222,"Bourgogne Rouge Half Bottle",8.9499999999999993]
[2204153,"Fortnum's Islay Single Malt Caol Ila 5YO 70cl",55]
[2202074,"English Single Malt Whisky",52.5]
[2004257,"Oloroso Sherry VORS",28.5]
[2198547,"Big Drop Pale Ale",2.75]
[2004604,"Taittinger Les Folies de la Marquetterie N.V",70]
[8023244,"Personalised Sparkling Tea",23.5]
[2106464,"Late Bottled Vintage Port 20cl",7.95]
[2173268,"Vintage Port Giftbox",39.950000000000003]
[2040419,"Highgrove Brut Champagne N.V.",34.950000000000003]
[8019298,"Single Vineyard Mendoza Malbec",32.5]
[2171458,"Bourgueil",14.95]
[2166092,"Personalised Gin",36]
[2203301,"Marsala 37.5cl",14.95]
[2146361,"Furleigh Blanc de Noirs Sparkling Wine",32.5]
[2170639,"Saint Veran",17.95]
[2059027,"Barossa Valley Shiraz",15.5]
[2088015,"Highgrove Organic Cotes du Rhone Nature",13.95]
[2187269,"Vinho Verde",9.5]
[2136506,"Number 3 No.3 London Dry Gin",45]
[2173710,"Highgrove Organic Single Malt Whisky 350ml",29.95]
[2004208,"Claret",8.9499999999999993]
[8023246,"Personalised Rose Sparkling Tea",23.5]
[2130629,"Nyetimber Classic Cuvee Half Bottle",20.95]
[2004224,"Bourgogne Blanc",13.95]
[2199226,"Double Dutch Cucumber & Watermelon tonic 20cl",1.35]
[2208088,"Personalised Rosé Champagne",51.5]
[2157593,"Brandy de Jerez 70cl",40]
[2004227,"Chablis 1er Cru Butteaux Vieilles Vignes",29.5]
[2126281,"Fino Sherry",19.5]
[2204155,"Clare Valley Riesling",12.95]
[2004223,"Bourgogne Blanc Half Bottle",7.5]
[2204383,"Puligny-Montrachet 1er Cru Clavoillon Domaine Leflaive",175]
[8026255,"Charles Heidsieck Millesime 2008",120]
[2005433,"Barbeito Verdelho 10 Year Old",50]
[2050293,"Upper Yarra Pinot Noir",24.95]
[2004226,"Chablis",19.95]
[2205705,"Copenhagen Sparkling Tea Gron (5% alc.)",18.5]
[8019281,"Ausas Interpretacion",55]
[2204152,"Fortnum's Highland Single Malt Blair Athol 8YO 70cl",50]
[2188549,"Honey Spiced Vodka Liqueur 50cl",28.5]
[2004210,"Haut Medoc Tours de Charmail",17.95]
[2154184,"Greco di Tufo",12.95]
[5033602,"Claret - NEW",10.95]
[2208091,"Brut Reserve Champagne N.V Giftbox",39.5]
[2004256,"Amontillado Sherry VORS",28.5]
[2188550,"English Cassis Gin 50cl",26.5]
[2004262,"Late Bottled Vintage Port",23.95]
[4008282,"Sparkling Tea 0%",16.95]
[2004221,"Bourgogne Rouge",15.95]
[2190117,"Camel Valley Rose",14.25]
[2004225,"Chablis Half Bottle",11.5]
[2188175,"Beaujolais",10.5]
[2004281,"English Sparkling Brut NV",28.95]
[8019299,"London White Rum",28.5]
[2085894,"Picolit Half Bottle",24.95]
[2142255,"Highgrove Reserve Port",23.5]
[2094681,"Highgrove Organic Sloe Gin",19.95]
[4004787,"Mount Gay 1703 Master Select 70cl",175]
[2114199,"Nyetimber Tillington Single Vineyard",100]
[2004237,"Chateauneuf du Pape",29.95]
[2129232,"Geyserville Ridge Halves",29.5]
[5030936,"Jurancon Moelleux",19.5]
[2088017,"Highgrove Organic Macon Davaye Croix Senaillet",15.95]
[2141736,"Fortnums London Dry Gin 20cl",14.95]
[2204168,"Sicillian Perricone",9.5]
[2199232,"Double Dutch Pomegranate & Basil tonic 20cl",1.35]
[2214910,"Nuits St Georges Vieilles Vignes Robert Chevillon 2017",60]
[2004246,"Barolo Le Albe",40]
[2004202,"Pomerol",33.950000000000003]
[5025163,"New Muscadet sur Lie",10.95]
[4005484,"Blushing Monkey Pink Gin Jan Erika Artist Painted Bottle",195]
[8018162,"Personalised Rose Champagne Magnum",101.5]
[2093383,"Charles Heidsieck Rose Reserve N.V",70]
[2209375,"Meursault Vieilles Vignes",55]
[2125037,"Chase Marmalade Vodka",49.95]
[5025161,"Saint Romain",33.5]
[2004233,"Sancerre Blanc",18.5]
[2197020,"Chase Smoked Vodka",37.450000000000003]
[2114023,"Gusbourne Pinot Noir",32.5]
[8023628,"Chablis 1er Cru Forets Louis Michel",31.5]
[2178972,"Sobon Estate Zinfandel",20.5]
[2208499,"Cremant d'Alsace",19.5]
[2105817,"Stellenbosch Red",14.5]
[2004415,"Delamotte Blanc de Blancs N.V",35.950000000000003]
[2152758,"Tarquins Dry Gin",42.5]
[2203649,"Highgrove Organic Vintage Champagne",41.25]
[2209556,"New Highgrove Organic London Dry Gin",39.950000000000003]
[8027442,"Château Gazin Rocquencourt, AOC Pessac Léognan",26.25]
[2160467,"Delaire Graff Shiraz",18.95]
[2204149,"Fortnum's Highland Single Malt Blair Athol 8YO 20cl",18.5]
[2205703,"Copenhagen Sparkling Tea Bla (0% alc.)",17.95]
[2215635,"Gevrey Chambertin Coeur Roy Dugat Py 2015",160]
[8027450,"Saint Aubin 1er Cru Charmois Domaine Morey",45]
[5025160,"Valtellina Superiore",35]
[8026992,"Château du Parc, AOC Saint Emilion Grand Cru",33.75]
[2197998,"Double Bottle Wood Retail",10.95]
[5033603,"Muscadet - NEW Half Bottle",6.75]
[2141213,"OTO 2500mg CBD Bitters 10cl",105]
[2004605,"Taittinger Vintage",75]
[2074772,"Ridge Estate Cabernet Sauvignon",68.95]
[2141114,"Glenmorangie Lasanta Sherry Cask 12",60]
[2204144,"Promesse de Franc Maillet Pomerol 2014",31.5]
[2208079,"Rose Champagne N.V Half Bottle",24.95]
[2204150,"Fortnum's Islay Single Malt Caol Ila 5YO 20cl",19]
[2004292,"Marlborough Sauvignon Blanc",18.95]
[2004215,"Fleurie",14.95]
[2004209,"Haut Medoc Half",10.5]
[2004230,"Pouilly Fume Half Bottle",10.25]
[2188174,"Pays d'Oc Blanc",9.5]
[8022959,"EMS Lighter",4.95]
[2208074,"Vintage Champagne Magnum",100]
[2121906,"Gusbourne Sparkling Rose",48.95]
[2176399,"Glenfiddich 21Year Old Gran Reserva 20CL",48]
[8026256,"Batch Brew PX Sherry Cask Rum",37.5]
[2006170,"Romeo Y Julieta Churchill in Tube (RJ0001)",32]
[2085892,"Alsace Grand Cru Riesling Pfersigberg",28.5]
[2188427,"English Barley Vodka 50cl",28.5]
[2211452,"Pecorino Fiobbo Marche",24.5]
[2004212,"Sauternes 50cl",17.5]
[2188110,"Spatburgunder",17.5]
[2004291,"Argentinian Malbec",13.5]
[2188166,"Rheinhessen Dry Riesling",13.5]
[2004273,"Late Bottled Vintage Port Half Bottle",12.5]
[2004283,"English Cassis 10cl",7.5]
[2005545,"Oremus Tokaji 6 Puttunyos 50cl",95]
[2006097,"La Fee Absinthe Parisienne",57.5]
[2208090,"Rose Champagne N.V Giftbox",45]
[2071245,"Pittnauer Saint Laurent Rosenberg",41.5]
[2004198,"Margaux",38.5]
[2085895,"Priorat",23.5]
[2126936,"Aventura Alentejo",19.5]
[2113723,"Highgrove Bordeaux Blanc",8.6]
[2199227,"Double Dutch Cucumber and Watermelon Tonic 50cl",3]
[8018110,"Chateau Gazin Pomerol 2011",95]
[2208080,"Blanc de Blancs Grand Cru Champagne N.V",39.950000000000003]
[2126933,"Suntory Hakushu Distillers Reserve",79.95]
[8020765,"Tokaji Aszu 5 Puttonyos Pajzos 2006",60]
[2004660,"Chateau Charmail Magnum",55]
[2005916,"Talisker 10 Year Old",50]
[2006033,"Pusser's Gunpowder Strength Navy Rum 54.54%",49.5]
[2004478,"Louis Roederer Brut Premier N.V",48.5]
[2005917,"Highland Park 12 Year Old",45]
[8017714,"Lindores Abbey Aqua Vitae",44.5]
[2196527,"Laverstoke Park English Brut Sparkling",39.35]
[2214341,"Laverstoke Park English Rose",39.35]
[2006046,"Hendricks Gin",38.5]
[2197641,"Chase GB Gin 70cl",38.5]
[2161256,"Nyetimber Rose NV",37.5]
[2005201,"Corte Sant'Alda Campi Magri Valpolicella Superiore Ripasso",33.5]
[5005258,"Bourgogne Rouge Meo Camuzet",33.5]
[8022956,"Gusbourne Cherry Garden English Rose",29.5]
[8026999,"Love Red Broc Cellars",25.5]
[2194061,"Alec Prensando Honduras & Nicaragua, Churchill, 7 x 48",20]
[2127569,"Balvenie DoubleWood 12 Years old 20cl",19.95]
[2142109,"Bruichladdich Classic Laddie Scottish Barley 20cl",15]
[8021499,"12 YO Cream Sherry 20cl",11.95]
[2004239,"Crozes Hermitage Half Bottle",8.1999999999999993]
[2196065,"Penderyn Single Cask D161",305]
[5054167,"Chateau Climens 2001",300]
[2200454,"Chateau Pontet Canet",250]
[2209595,"Nyetimber 1086 Vintage 2010",150]
[2005872,"Ardbeg Blaack",125]
[2200458,"Chateau Feytit Clinet Pomerol 2010",125]
[2004647,"Chateau Branaire Ducru",100]
[8022216,"Corton Bressandes Grand Cru Ravaut",90]
[2208076,"Brut Reserve Champagne N.V Magnum",82.5]
[2155025,"The Single Malt Scotch Trio",60]
[2163958,"Brighton Gin",52.5]
[2192034,"Makers 46 70cl",49.5]
[2138717,"Cotswolds Gin",41]
[2192037,"Whittaker s London Dry Pink Particular 70cl",41]
[5039613,"Brunello di Montalcino Cortonesi 2014",40]
[2104169,"Herbert Hall Sparkling Brut",38.950000000000003]
[2204145,"Bodegas Tradicion Fino Sherry",35]
[2150757,"Franca Contea Grappa Chardonnay Rovere Barrel",30]
[2142102,"Williams Chase Sloe & Mulberry Gin",28.45]
[8027205,"Mount Horrocks Watervale Semillon",24.5]
[5054158,"Alpha Xinomavro Reserve Old Vines",22.5]
[2094682,"Isake Classic 30cl",19.5]
[5000497,"Willow 0.5% CBD Infused Low ABV Spirit",19.5]
[5033596,"English Bacchus",15.95]
[5003198,"Bonnes-Mares Grand Cru Frederic Magnien 2011",138.75]
[2214911,"Nuits St Georges 1er Cru Vaucrains Robert Chevillon 2017",120]
[5029550,"Chateau de Beaucastel Rouge 2006",120]
[2213649,"Gevrey 1er Cru Les Champonnets Heresztyn-Mazzini",105]
[8027279,"Glencadam 18",82.5]
[2005639,"Ata Rangi Martinborough Pinot Noir",65]
[2005686,"Frogs Leap Cabernet Sauvignon",57.95]
[2195233,"Ardbeg 10yo Warehouse Pack",55]
[2006018,"Baron de Sigognac 10 Year Old 70cl",50]
[2197021,"Chase Espresso Vodka",49.95]
[2205239,"Fattys Organic Gin",49]
[2174153,"White Hills Chardonnay Liquid Farm",47.95]
[2181937,"Old Bakery Gin",40]
[2187868,"Cap Est Massaya",38.5]
[2004183,"Vintage Champagne Old Label",37.1]
[5029541,"Jukes Cordialities Number 6 Pack [9x3cl]",35]
[2106465,"Ata Rangi Martinborough Pinot Noir Half Bottle",33.950000000000003]
[2195520,"Hven 3x10cl Gift Pack",32.5]
[2004472,"Bollinger Special Cuvee N.V Half Bottle",29.95]
[2141694,"Fortnums London Dry Gin 50cl",29.5]
[2194060,"Oliva Serie V Melanio Nicaragua, Figurado, 6.5 x 52",27.5]
[2004659,"Chateau Charmail Haut Medoc",25.95]
[2004395,"Billecart Salmon Brut Reserve NV Half Bottle",25.5]
[2006122,"Chase Elderflower Liqueur",23.95]
[2004270,"Vintage Port Half Bottle",21.5]
[8022955,"Bardolino Chiaretto Rose",12.95]
[4006943,"Woodchester Valley Bacchus 2017",11.2]
[2125370,"White Port 20cl",7.5]
[2004688,"Chateau L'Eglise Clinet 2005",450]
[2215142,"Chichibu The Peated 2018",245]
[2140699,"Aberfeldy 21yo",180]
[2208093,"Blanc de Blancs Grand Cru Champagne N.V Giftbox",39.950000000000003]
[2212061,"Dow Vintage Port 2016",90]
[2173819,"Veuve Clicquot Artist Rose",65]
[2212147,"Fixin 1er Cru Clos Du Chapitre Meo Camuzet",62.5]
[2156948,"Deutz Rose Gift Box",57.5]
[2207620,"Four Pillar Bloody Shiraz",57]
[2204079,"Patron XO Cafe",50]
[2005645,"Cloudy Bay Te Koko Sauvignon Blanc",47.95]
[8022952,"Vivir Tequila Blanco / 40% / 70cl",45]
[2126125,"Schloss Gobelsburg Pinot Noir Reserve",42.5]
[2005885,"Chivas Regal 12 Year Old",42]
[5001167,"Valtellina Superiore Dirupi Lombardy",41.5]
[2195872,"Nicholson Gin",41]
[5039615,"Santenay Rouge 1er Cru Gravieres Vincent Girardin 2016",40]
[2150756,"Franca Contea Grappa Chardonnay Bianco",37.5]
[2004481,"Billecart Salmon Rose N.V Half Bottle",36.950000000000003]
[2005038,"Chateau du Nozet Pouilly Fume de Ladoucette",35]
[2006049,"Sipsmith London Dry Gin",35]
[2190795,"Chablis 1er Cru Forets Domaine Michel 2017",31.5]
[2005760,"Meerlust Rubicon",29.5]
[2197819,"Martini Riserva Speciale Bitter 75cl 28.5%",27.95]
[2206785,"Mercurey Rouge Vieilles Vignes Domaine Raquillet",27.95]
[2188548,"Sloe Gin 50cl",25.5]
[2004284,"Damson Gin",24.95]
[2006195,"Bolivar Royal Coronas (BO1301)",23.95]
[2123542,"Chase Distillery Union Jack Brand Book Trio",21.5]
[5029542,"Malibran Sottoriva Cloudy Prosecco",20.95]
[2203628,"Malibran Rose Spumante",19.95]
[4006944,"Douro Tinto Anselmo Mendes 2012",19.95]
[2134304,"Williams Chase Rose",18.5]
[2204151,"Fortnum's Speyside Single Malt Dailuaine 8YO 20cl",18]
[2138686,"La Fee Absinthe Tasting Set 2 x 5cl",15]
[5012553,"Intune 10mg CBD Grapefruit & Mint",2.5]
[2040371,"Burrow Hill Medium Dry Cider",2.25]
[2214939,"Gevery Chambertin 1er Cru Estournelles 2017 Henri Magnien",110]
[8027280,"Glencadam 21",101.25]
[2005290,"Bodegas Tradicion Palo Cortado",100]
[2138791,"Brut Nature Louis Roederer",95]
[8027278,"Compass Box Affinity",90]
[8027283,"Admiral Rodney HMS Formidable Rare St Lucia Rum 70cl",87.5]
[2170991,"Casamigos Reposado",75]
[2005898,"Bowmore 15 Year Old",69.5]
[2005923,"Glenfarclas 15 Year Old",69.5]
[2004427,"Veuve Fourny Blanc de Blancs N.V",38.5]
[2188516,"Meerlust Rubicon Magnum",61.5]
[2162506,"Glenfarclas 105 Cask Strength",60]
[2200995,"Nuits St Georges Vieilles Vignes Robert Chevillon 2015",55]
[2137113,"Four Roses Single Barrel",52.5]
[2004489,"Moet & Chandon Brut Imperial 150th Anniversary",50]
[2005393,"Schloss Gobelsburg Riesling Tradition",47.95]
[2004583,"Ruinart Blanc de Blancs N.V Half Bottle",43.5]
[2193000,"Honeybee Gin Warner Edwards",47]
[2114022,"Gusbourne Brut Reserve",38.950000000000003]
[2212654,"Zeca Cachaca",38.5]
[2138056,"Digby English Rose Sparkling wine",37.5]
[2208081,"Personalised Blanc de Blancs Champagne",44.5]
[2102503,"Pernand Vergelesses Les Vieilles Vignes Vincent Girardin",35]
[2202027,"Conciso Branco Niepoort Dao",28.95]
[2207619,"Seedlip Grove 42 Citrus",28.5]
[2158598,"Barolo Massolino Half Bottles",26.95]
[8026384,"Upper Yarra Valley Chardonnay 2015",26.5]
[2005521,"Soalheiro Alvarinho",21.95]
[2005040,"Andre Dezat Sancerre Rouge",21.5]
[2005664,"Neudorf Sauvignon Blanc",17.95]
[2006185,"Montecristo Petit Tubos (MO0701)",16.5]
[2189865,"Highgrove Organic Cassis Liqueur",14.95]
[2154942,"Brandy de Jerez 20cl",13.5]
[2141496,"Angostura Orange Bitters",12.95]
[2199960,"Woodstar Acai Berry Blend 25cl",3.35]
[2006182,"Habanos Cutters",2.95]
[5012552,"Intune 10mg CBD Elderflower & Hops",2.5]
[4007090,"Sekforde Mixer for Light&Spiced Rum",1.6]
[2087995,"Margaux Double Magnum",245]
[2177358,"Chateau d'Yquem Sauternes halves",200]
[2142895,"Chateau Leoville Poyferre",155]
[2207823,"Mars ShinanoTanpopo",145]
[2207844,"Corte Vetusto Ensamble",105]
[2204136,"Chateau Moulin St Georges Saint Emilion 2001",85]
[2004269,"Colheita Port",80]
[2004494,"Moet & Chandon Grand Vintage Rose",80]
[2130152,"Chivas Regal 18 Year Old",79.5]
[2156114,"Perrier Jouet Blason Rose NV Giftbox",75]
[2207842,"Casamigos Blanco Tequila",57.5]
[2006032,"Mount Gay Extra Old",52]
[2168787,"Remy Martin XO 35cl",50.6]
[2005725,"Terrazas de los Andes Single Vineyard Cabernet Sauvignon",50]
[5041222,"Meursault 'Charles Maxime', Domaine Latour Giraud 2017",50]
[2204088,"Smeaton's Bristol Method Dry Gin",49.5]
[2204371,"Kutch Sonoma Coast Pinot Noir",48.95]
[2203296,"Foxhole Gin",48.5]
[2156113,"Perrier Jouet Grand Brut NV",47.5]
[2005920,"Royal Lochnagar 12 Year Old",45]
[2145275,"East London Liquor Company Premium Gin Batch No.1",45]
[2190600,"Jam Jar Gin",45]
[5039611,"Condrieu La Petite Cote Cuilleron 2018",45]
[2040282,"Jacques Picard Brut Reserve N.V",41.5]
[2004418,"Paul Dethune Ambonnay Grand Cru Brut N.V",40]
[2144759,"Massaya Arak",39.5]
[8026895,"Avallen Calvados",39.5]
[2040053,"Descendientes de J Palacios Villa de Corullon",37.950000000000003]
[2066601,"Lopez de Heredia Vina Tondonia Tinto Reserva",37.5]
[2203285,"Asterley Bros Artemis Vermouth",36.5]
[2005399,"Franz Hirtzberger Steinterrassen Riesling Federspiel",35]
[2006043,"Beefeater 24",32.950000000000003]
[2004581,"R de Ruinart Brut N.V Half Bottle",32.5]
[2005559,"Nyetimber Classic Cuvee N.V",32.5]
[2094404,"Black Cow Pure Milk Vodka",32.5]
[5046136,"Chateau Leoube Rose 'Secret de Leoube'",32.5]
[2174520,"Bandol Rose Domaine de Terrebrune",29.95]
[2192345,"Etna Bianco I Custodi",29.95]
[2181024,"Cotswolds Cream Liqueur",29.5]
[2197821,"Martini Riserva Speciale Ambrato 75cl 18%",28.5]
[2196316,"Cava Gramona, Imperial Gran Reserva 2011",25.45]
[2005667,"Isabel Pinot Noir",22.5]
[5039614,"Blaufranksich Johanneshohe Prieler",21.95]
[2006158,"Somerset Cider Brandy Co. Pomona",16.5]
[2192348,"Aulente Rosso, San Patrignano Emilia Romagna",16]
[2056078,"Massaya Rose",14.95]
[2180191,"Ginking",14.95]
[2197820,"Martini Riserva Speciale Rubino 75cl 18%",14.95]
[2004235,"Muscadet Sur Lie Half Bottle",5.05]
[4007091,"Sekforde Mixer for Tequila & Mezcal",1.6]
[5012556,"Mouton Rothschild 1996",815]
[8024344,"Chateau Palmer",450]
[2212148,"Sassicaia Tenuta San Guido 2006",395]
[8022215,"Troplong Mondot 2005",325]
[2005891,"Macallan Sherry Oak 18 Year Old",295]
[2004439,"Perrier Jouet Belle Epoque Rose",250]
[2107079,"Suntory Hakushu 12 Year Old",195]
[2163580,"Dictador 1980 Rum",160]
[2005993,"Remy Martin XO Excellence",155]
[2184881,"Glenmorangie Bacalta",97]
[2050433,"Puligny Montrachet 1er Cru Combette Girardin 2013",92.5]
[2093384,"Charles Heidsieck Millesime Brut Vintage",90]
[2004493,"Veuve Clicquot Vintage Rose",87.5]
[2005039,"Chateau du Nozet Pouilly Fume Baron de L",79.95]
[2005889,"Lagavulin 16 Year Old",77.5]
[2004440,"Veuve Clicquot Vintage",75]
[2141116,"Glenmorangie Nectar D'or Sauternes 12",72.5]
[2145158,"Aultmore 12 years old",65]
[2160010,"Deutz Brut Vintage Gift Box",65]
[2006028,"Havana Club Seleccion de Maestros",62.95]
[5005048,"Chablis Grand Cru Grenouilles Louis Michel",62.5]
[5005049,"Chablis Grand Cru Les Clos Louis Michel",62.5]
[2004430,"Veuve Fourny Vintage",61]
[8019610,"Paringa Estate Pinot Noir",60]
[2004491,"Gosset Grande Reserve N.V",58.5]
[2093674,"Auchentoshan Ultimate Collection 3 x 20cl Gift Pack",57.5]
[2211362,"Macallan 12yo Triple Cask",57.5]
[4007083,"Kavalan Distillery Select",56.5]
[2093382,"Charles Heidsieck Brut Reserve N.V",55]
[2140672,"Woodford Reserve Double Oaked",54.35]
[2192150,"Cotswolds Single Malt English Whisky",52.5]
[2004305,"Folle Blanche VSOP Cognac",50]
[2130857,"Diplomatico Reserva Exclusiva",50]
[2190263,"Ridgeview Rose de Noirs Vintage",50]
[2192152,"Hambledon Premiere Cuvee Brut NV",50]
[2197018,"Chase Pink Grapefruit Gin",50]
[2209376,"Pensador Mezcal",50]
[2211188,"Chase Rhubarb & Bramley Apple Gin",50]
[2211370,"Sing Gin",50]
[2006056,"Plymouth Navy Strength Gin",49.5]
[2204372,"James Eadie Trade Mark X",49.5]
[2141410,"Ferdinand's Saar Dry Gin 44% 50cl",48.5]
[2095397,"Williams Chase Seville Orange Gin",48]
[2196331,"Pinot Noir Jane Eyre Mornington Peninsula",46.5]
[2004187,"Personalised Blanc de Blancs Champagne Old Label",44.5]
[2135318,"Kamm & Sons British Aperitif 70cl",41]
[2172105,"Conker Gin Dorset Gin",40.950000000000003]
[2201640,"Mr Kamm's Gin",39.75]
[2005718,"Achaval Ferrer Quimera",39.5]
[2006048,"Sacred Gin",39.5]
[2004416,"Delamotte Blanc de Blancs Vintage",45]
[2005606,"Grosset Polish Hill Riesling",37.5]
[2040050,"Alvaro Palacios Les Terrasses Vielles Vinyes",36.5]
[8023447,"Viña Arana Gran Reserva  La Rioja Alta S.A.",35]
[2161261,"Catena Alta Malbec",34]
[2209567,"Highgrove English Sparkling Rose N.V.",32.950000000000003]
[2006155,"Peter Heering Cherry Liqueur",32.5]
[2005640,"Ata Rangi 'Craighall' Chardonnay",31.85]
[2005543,"Chateau Musar 2013",29.95]
[2148191,"Gusbourne Guinevere Chardonnay",28.5]
[2174154,"Seedlip Non Alcoholic Spirit Spice 94",28.5]
[2005743,"Warwick Cabernet Franc",27.5]
[4004692,"Mencia 'Coios', Bierzo, Xosé Lois Sebio",26.5]
[2006078,"Zubrowka Bison Grass Vodka",25.95]
[2160464,"Vino Nobile di Montepulciano Tenuta Valdipiatta",25]
[2005135,"Chateau Bouscasse",24.95]
[2211454,"Valtellina Superiore Sandro Fay Lombardy",24.95]
[2159128,"Prosecco Cartizze Zucchetto",24.5]
[2203298,"Lalama Dominio do Bibei Ribeira Sacra",23.5]
[2212177,"Riesling Steinterrassen Stadt Krems",22.95]
[2214946,"Cote de Brouilly Sept Vignes Chateau Thivin",22.5]
[2005154,"Domaine Ott Clos Mireille Rose Half Bottle",21.5]
[2113277,"Highgrove Organic Hedgerow Liqueur 35cl",19.95]
[2005355,"Pazo de Barrantes Albarino",19.899999999999999]
[2005321,"Hidalgo Manzanilla Pasada Pastrana Single Vineyard",18.5]
[2005470,"Taylor's Chip Dry White Port",18.25]
[2141499,"Angostura Bitters",18]
[2163023,"Lagar de Cervera Albarino",16.95]
[2178493,"Joven de Silos, Cillar de Silos, Ribera del Duero",14.95]
[2004248,"Valpolicella",14.5]
[2005552,"Camel Valley Bacchus Dry",14.25]
[2040172,"Camel Valley Atlantic Dry",14.2]
[2085896,"Cream Sherry",13.85]
[2188697,"English Cassis Gin 20cl",13.75]
[8019293,"Tea & Honey Cocktail Bitters",12.95]
[2197997,"Single Bottle Wood Retail",7.95]
[5023706,"Punchy Whisky, Blood Orange, Bitters and Cardamom Hard 4%",4.5]
[4007254,"Longbottom & Co. Virgin Mary Virgin Mary 250ml Bottle",2.95]
[2199225,"Double Dutch Cranberry and Ginger Tonic 20cl",1.35]
[8027443,"Glenmorangie Grand Vintage 1991",595]
[2005957,"Suntory Yamazaki 18 Year Old",575]
[5054164,"Penfolds Grange 2015",575]
[2114120,"Suntory Hibiki 21 Year Old",550]
[2137674,"Glenfiddich 30 Year Old",500]
[2140488,"Armand de Brignac Brut Gold Gift box",350]
[2161481,"Quintarelli Amarone della Valpolicella Classico",325]
[2197818,"Charmes Chambertin Grand Cru Domaine Taupenot Merme",250]
[2214989,"Vosne-Romanne 1er cru Petits Monts Drouhin",240]
[2040290,"Dalmore King Alexander III",235]
[2176597,"Royal Brackla 21YO",235]
[8023088,"Billecart-Salmon Rosé Cuvee Elisabeth 2007",175]
[2005983,"Hennessy X.O",165]
[8019314,"Domaine de Chevalier 2005",150]
[2115173,"Graham 40 Year Old Tawny",120]
[2207622,"Daftmill Seasonal Releases Lowland Single Malt",120]
[2214943,"Volnay 1er Cru Fremiets Marquis d'Angerville",115]
[2005929,"Bowmore 18 Year Old",110]
[2006096,"La Fee X*S Absinthe Suisse",110]
[2005726,"Cheval des Andes",85]
[2005560,"Nyetimber Blanc de Blancs",47.5]
[2207845,"Ron Botran Cobre",75]
[2004444,"Moet & Chandon Grand Vintage",70]
[2004484,"Billecart Salmon Rose N.V",70]
[2004546,"Louis Roederer Vintage Rose",70]
[2176398,"Ailsa Bay",70]
[5039616,"Blanc de Blancs Grand Cru Hostomme 2008",55]
[2005669,"Neudorf Moutere Chardonnay",65]
[2138638,"Crystal Head Vodka",65]
[2004574,"Pol Roger Pure N.V",60]
[2125026,"Bruichladdich Islay Barley",58.5]
[2134411,"Sazerac Straight Rye",57.5]
[2159280,"Kah Tequila Blanco",55]
[2176666,"Grey Goose Citron",55]
[2005231,"Massolino Barolo",52.5]
[8026849,"Belvedere Single Estate Rye Vodka Smogóry Forest",52.5]
[2212180,"La Rioja Alta Gran Reserva 904",51]
[2154063,"Bobby's Schiedam Dry Gin 42%",50]
[2006045,"Williams Chase Elegant Gin",49]
[2183678,"Salcombe Gin Start Point",48.5]
[2005282,"Isole e Olena Vin Santo",47.5]
[2040289,"Konik's Tail Vodka",46.95]
[2006090,"Chartreuse Yellow",45]
[2157196,"Deutz Classic NV",45]
[2160180,"Silent Pool Gin",45]
[2160866,"Hepple Gin",45]
[2121903,"Gusbourne Blanc de Blancs",58.95]
[2204877,"Jack Ratt Lugger Rum",44]
[2196345,"Cote Rotie Cuvee Reviniscence, Faury",43.95]
[2214184,"Vrede Pinot Noir Storm",41]
[2187869,"Rose Cotes de Provence By Ott Magnum",40]
[2161280,"Whittaker's Gin",39.5]
[8019611,"Hautes Cotes de Nuits Blanc Philibert Meo Camuzet",37.5]
[2176667,"Grey Goose Orange",37.450000000000003]
[2160176,"The Duppy Share",36]
[2160380,"Haymans Gin",33.950000000000003]
[2160382,"Martin Miller's Westbourne Strength Gin",33.75]
[2078668,"Shaw and Smith Adelaide Hills Shiraz",33.5]
[2005655,"Dog Point Pinot Noir",31.95]
[2005482,"Henriques & Henriques Bual 15 Year Old",30.95]
[2005563,"Ridgeview Fitzrovia Cuvee Merret Rose",30]
[8019285,"Sipsmith Orange and Cacao Gin",30]
[2005251,"Bruno Rocca Barbera d'Asti",29.95]
[2005209,"Ca dei Frati Lugana Brolettino",29.5]
[2005296,"Gonzalez Byass Del Duque Amontillado VORS",27.95]
[2006132,"Ricard",27.5]
[8019756,"Muscat Beaumes de Venise Vidal-Fleury",27.5]
[2214183,"Granietsteen Scions of Sinai Stellenbosch Chenin Blanc",26.25]
[2107744,"Chakana Ayni Malbec",25.95]
[2154913,"Sir Nigel's Orange Marmalade Vodka 50cl",25.5]
[2005666,"Neudorf Moutere Riesling",24.95]
[2005653,"Dog Point Section 94 Sauvignon Blanc",24.5]
[2006136,"Campari",24.5]
[2196322,"Lower East Southern Blend, Gramercy, Washington",24.5]
[2206812,"Bacardi Anejo Cuatro",24.35]
[2127474,"Cayetano del Pino & Cia Solera Palo Cortado",23.95]
[2006149,"Maison Edmond Briottet Liqueur a la Fraise des Bois",22.95]
[2207610,"Saint Laurent Umathum",21.5]
[5039612,"Erdener Treppchen Riesling Kabinett Richter 2017",21.5]
[4007099,"Pisco Aba 50cl",20.95]
[2131707,"Juve y Camps Reserva la Familia Gran Reserva",20.9]
[2005658,"Isabel Chardonnay",19.95]
[2073379,"Highgrove Organic Damson Liqueur",19.95]
[8021501,"Estate Riesling Kabinett Weingut Dr H Thanisch",19.95]
[2005124,"Domaine Bruno Sorg Gewurztraminer",19.5]
[2005130,"Domaine Bruno Sorg Pinot Noir",19.5]
[8023633,"KUMO - Tokubetsu Nigori Sake",19.5]
[2132450,"Ruca Malen Petit Verdot",15.95]
[2196332,"Pinot Grigio, Gasper, Slovenia 2016",15.95]
[2085897,"Somerset Cherry Ripe Liqueur",14.95]
[4006942,"Woodchester Valley Culver Hill 2017",14.95]
[2004253,"Bardolino Chiaretto Rose - old",13.95]
[2143777,"Dream Sparkling Wine",13.4]
[2101872,"Raza Avesso",13.1]
[8019292,"Highgrove Cotes de Gascogne Rouge",10.5]
[2192509,"Croft Twist",6]
[5023705,"Punchy Blood Orange, Bitters and Cardamom Soft",2.95]
[4007089,"Sekforde Mixer for Whisky & Bourbon",1.6]
[8019288,"Balvenie Stories 26 Year Old Dark Barley 70cl",675]
[2206776,"L'Evangile",450]
[8019317,"Dugat Py Charmes Chambertin 2014",415]
[2208089,"Blanc de Noirs Champagne Giftbox NV",65]
[8018108,"Chateau Pape Clement 2010",295]
[2107754,"Blandy's Terrantez",275]
[8018112,"Chateau Pontet Canet Magnum 2006",250]
[2163737,"The Macallan Rare Cask",235]
[2004589,"Dom Ruinart Rose Vintage",206.25]
[2005967,"Frapin VIP XO",200]
[8018113,"Chateau Gazin Pomerol 2011 Magnum",200]
[5012555,"Chateau Grand Puy Lacoste 1995",190]
[2005905,"Balvenie 21 Year Old Port Wood",185]
[2136882,"Blanc de Noirs Champagne NV",65]
[2204138,"Chateau La Conseillante 2006",170]
[4004747,"Ichiro's Malt MWR / Mizunara Wood Reserve / 46% / 70cl",165]
[8026718,"Barbeito Ribeira Real 20 year old Tinta Negra",160]
[4004689,"Condrieu, Coteau de Vernon, Domaine Georges Vernay",155]
[2005819,"Glenfiddich 21 Year Old Gran Reserva",150]
[2181115,"Meursault Sous 1er Cru Le Dos d'Ane Domaine Leflaive",145]
[5046139,"Antinori Guado al Tasso",125]
[2156195,"Dictador XO Perpetual Colombian Rum",120]
[2004398,"Billecart Salmon Brut Reserve N.V Magnum",100]
[2005934,"Talisker 18 Year Old",97.5]
[2170430,"Togouchi Japenese Blended Whisky 12 YO",95]
[2189557,"La Reserve de Leoville Barton Magnum",95]
[8026848,"Glenmorangie Private Edition Allta",95]
[2161480,"Quintarelli Valpolicella Classico",92]
[2161259,"Catena Adrianna White Bones Chardonnay 2015",90]
[2130604,"Domaines Ott Clos Mireille Rose Magnum",87.5]
[2177902,"Querciabella Batar",85]
[2157197,"Personalised Champagne Magnum Old Label",84]
[2004455,"Pol Roger Vintage Rose",80.75]
[2005199,"Corte Sant'Alda Amarone della Valpolicella",80]
[2214328,"Meursault 1er cru Blagny Matrot 2014",80]
[2214930,"Puligny Montrachet les Perriers Pernot Belicard",80]
[5012554,"Grand Puy Lacoste 2011",75.5]
[2004502,"Gosset Grand Millesime",75]
[2098016,"Te Mata Coleraine",75]
[2115172,"Graham 30 Year Old Tawny",72.5]
[5039621,"Cote Rotie Bonnivieres Cuilleron 2017",72]
[2040284,"Jacques Picard Art de Vigne",70]
[2141148,"Nikka Coffey Grain",70]
[8021503,"Puligny Montrachet Blanc Jacques Carillon 2017",70]
[2004461,"Gosset Grand Rose N.V",69.5]
[2159281,"Kah Tequila Reposado",69.5]
[2005742,"Klein Constantia Vin de Constance",67.5]
[2125030,"Vestal Vodka 2011 Vintage Pomorze Potato",67.5]
[2178476,"Chardonnay Hyde Vineyard David Ramey",67.5]
[5001899,"Cuatro Palmas Amontillado",67.5]
[2200027,"Santa Teresa 1796",65]
[4004736,"Port Charlotte Islay Barley 2011 Single Malt Whisky 70cl",65]
[8019312,"Veuve Fourny Rosé Extra Brut 1er Cru Vinothèque 2013",65]
[2004408,"Bollinger Rose N.V",60]
[2141128,"Death's Door Gin",60]
[8018114,"Segla Margaux 2009",60]
[2004580,"Ruinart Blanc de Blancs N.V",65]
[2173202,"Petite Figeac Saint Emilion 2015",58.5]
[8018104,"Chateau Lagrange St Julien 2015",58.5]
[2163612,"Remy Martin 1738",57]
[2005600,"Leeuwin Estate Art Series Cabernet Sauvignon",55]
[2203828,"Boatyard Gin",54.95]
[2183822,"Gutsy Monkey Gin",53]
[2140698,"Aberfeldy 12yo",52]
[2004483,"Bollinger Special Cuvee N.V",50]
[2157945,"Gin Mare",50]
[2196524,"Single Pot Still Irish Whiskey Green Spot",49.95]
[5057132,"Ridge Lytton Springs",49.5]
[2063594,"Miclo Kirsch Vieux Grand Reserve 70cl",48.95]
[2107750,"Graham's Tawny Port 20 Year Old",48]
[4004688,"Arras Sparkling Rose, Tasmania",47.95]
[8026714,"Borges Malmsey 15YO",47.5]
[2124449,"Chryseia Douro Tinto",46.85]
[2194056,"Bobby's Schiedam Jenever 38%",46]
[2005456,"Fonseca 20 Year Old Tawny",45]
[2142838,"Golden Slope Chardonnay Liquid Farm",45]
[2204081,"Brut Nature C00.00 Dosage Lenoble",45]
[2204082,"Blanc de Noirs Lenoble",70]
[2006058,"Belvedere Pure",43.5]
[4007100,"Sandhills Gin",43]
[2004582,"Ruinart Rose N.V Half Bottle",42.5]
[5002561,"Conker Cold Brew Coffee Liqueur",39.950000000000003]
[2204148,"Oxley Gin",39]
[2095913,"Personalised Rose Champagne Old Label",38.6]
[2006144,"Mandarine Napoleon",37.950000000000003]
[8027441,"Woods Navy Rum",37.5]
[2005644,"Cloudy Bay Pinot Noir",36.5]
[2040029,"Domaine Les Pallieres Gigondas Les Racines",36.5]
[2005107,"Domaine Vieux Telegraphe Chateauneuf-du-Pape Half Bottle",35]
[2005139,"Domaines Ott Clos Mireille Rose",35]
[2137675,"Reyka Vodka",35]
[2145891,"Vestal Blended Potato Vodka",35]
[2005098,"Vincent Paris Cornas Granite 30",34]
[2141513,"Cocchi Amaro Vermouth 16% 75cl",33]
[8019283,"Metaxa 12 Star",33]
[8026913,"Duluc de Branaire-Ducru",32.950000000000003]
[2206815,"Velo Flor Manzanilla Madura, Bodegas Alonso, Sanlucar",32.5]
[2188495,"Buffalo Trace 40% 2017",32]
[2194307,"Greywacke Wild Sauvignon Blanc",30]
[2004258,"Pedro Ximenez Sherry VOS",29.95]
[2154628,"Hambledon Classic Cuvee Brut NV",29.95]
[2204876,"Sipsmith Lemon Drizzle Gin",29.95]
[2207611,"Treu, Gruner Veltliner Federspiel Hirtzberger",29.5]
[2211195,"Forge Cellars Finger Lakes Riesling",29.5]
[2006194,"Partagas Series P No. 2 in Tube (PA1103)",28.95]
[8026258,"Festive Sipsmith Spirits Pairing Exclusive",28.1]
[2005037,"Domaine Jean-Paul Balland Sancerre Grand Cuvee",27.95]
[2005466,"Warre's Late Bottled Vintage Port",27.95]
[2173769,"Jade 1901 Absinthe 20cl",27.95]
[5039610,"Rully Blanc en Vauvry Ponsot 2017",27.5]
[2154915,"Sherry Pairing Box 2x20cl",26.5]
[2005354,"Marques de Murrieta Capellania Gran Reserve Rioja Blanco",24.95]
[2005647,"Cloudy Bay Sauvignon Blanc",24.95]
[2005483,"Henriques & Henriques Verdelho 10 Year Old",24.5]
[2005484,"Henriques & Henriques Sercial 10 Year Old",24.5]
[5001164,"Palmer 10 Year Tawny white Port 50cl",24.5]
[2207846,"Ron Botran Reserva Blanca",24.35]
[2155839,"Combier L'Original Triple Sec",23.25]
[2192343,"Lugana Ca Lojera",21.5]
[8027446,"Conciso Tinto, Niepoort 2015",21.35]
[5002558,"Royal Tokaji Company Vineyard Selection Dry Furmint",19.95]
[2005394,"Schloss Gobelsburg Gruner Veltliner Lamm Erste Lage Half Btl",19.100000000000001]
[2005150,"Chateau Miraval Rose",18.5]
[2196323,"Gruner Veltliner Rainer Wess",18.5]
[2152167,"Aperol",16.45]
[5000499,"Back House Chardonnay Central Coast 2016",15.5]
[2004252,"Prosecco N.V",14.95]
[2006196,"Romeo Y Julieta No 3 in Tube (RJ0302)",14.5]
[5057135,"Torrontes Pasarisa",14.25]
[2005327,"Lustau San Emilio Pedro Ximenez Half Bottle",13.95]
[2140675,"Glenfiddich 12 Year Old 20cl",13.45]
[2188714,"English Barley Vodka 20cl",10.85]
[2006174,"Romeo Y Julieta Minis (CM0703)",9.9499999999999993]
[5023703,"Punchy Yuzu, Cucumber and Rosemary Soft",2.95]
[2181383,"Chateau Lafite Rothchild 2002 Magnum",1850]
[2004728,"Chateau Latour 2008",1325]
[2191315,"Chateau Lafite Rothschild 2011",750]
[8024345,"Chateau Haut Brion",700]
[2004932,"Chevalier Montrachet Grand Cru Les Demoiselles Jadot 2014",675]
[2140489,"Armand de Brignac Brut Rose Gift box",500]
[2107675,"Dom Perignon Vintage Rose",340]
[2004669,"Chateau Conseillante 2000",325]
[2213646,"Corton Charlemagne Grand Cru Drouhin 2016 Magnum",295]
[8018111,"Chateau Vieux Chateau Certan 2006",250]
[2205450,"Louis Roederer Cristal 2008",235]
[2202737,"Frapin Chateau Fontpinot Millesime 1988 25 YO",225]
[8024816,"Macallan Estate Oak 70cl",220]
[2004454,"Pol Roger Cuvee Sir Winston Churchill",185]
[2004191,"Blanc de Blancs Champagne N.V Magnum Old Label",77.5]
[4004741,"Octomore 9.3",180]
[2140983,"Whisky Advent Calendar",165]
[4004750,"Ichiro's Double Distilleries",165]
[2142393,"George T Stagg Bourbon BTAC",160]
[8017718,"Tequila Enemigo 00 Extra Añejo",159]
[2004465,"Pol Roger Vintage Magnum",146.25]
[8024346,"Chateau Certan de May 2005",145]
[8027286,"Pommard 1er Cru Clos des Epeneaux, Comte Armand",145]
[2005966,"Frapin Chateau Fontpinot XO",135]
[2095903,"Balvenie Doublewood 17 Year Old",125]
[2140701,"Craigellachie 17yo",125]
[2154061,"Ferdinand's Saar Dry Gin GOLD CAP 49%",125]
[2005895,"Glenfarclas 21 Year Old",120]
[2005899,"Glenlivet 18 Year Old",120]
[5055040,"Domaines Ott Etoile Rose",120]
[2195957,"GLENDALOUGH 13 YEAR SINGLE MALT MIZUNARA JAPANESE OAK FINISH",110]
[2204874,"Gevrey Chambertin Vielles Vignes Dugat Py",110]
[4004749,"Ichiro's Malt & Grain White Label",105]
[2209329,"Bruno Rocca Barbaresco Rabaja",100]
[2196525,"12 Year Old Single Pot Still Irish Whiskey Yellow Spot",90]
[2213126,"Chateau Cantemerle Magnum",90]
[5001158,"Catena Adrianna Fortuna Terrae Malbec 2015",90]
[2005838,"Glenfiddich 18 Year Old",87.5]
[2005627,"Leeuwin Estate Art Series Chardonnay",82.5]
[2040291,"Dalmore 15 Year Old",80]
[2161279,"Nyetimber Classic Cuvee Magnum",80]
[2205234,"Nuits Saint Georges 1er Cru Proces Joseph Drouhin",80]
[2005854,"Johnnie Walker Platinum",79]
[2005650,"Kah Tequila Anejo",76]
[2004437,"Louis Roederer Vintage",75]
[2005764,"Ardbeg Uigeadail",75]
[2206774,"Chateau Haut Batailley",73.5]
[5030255,"Bruichladdich Bere Barley 2010",72.5]
[2140948,"Macallan Double Cask 12 Year Old",70]
[2187319,"Perrier Jouet Blanc de Blancs NV",77.5]
[2078673,"Inniskillin Riesling Icewine Half Bottle",69.5]
[5012557,"Chateau La Dominique Saint Emilion 2010",68.95]
[2140700,"Craigellachie 13yo",67.5]
[2207843,"Corte Vetusto Espadin",67.5]
[2004482,"Laurent Perrier La Cuvee Brut Rose N.V",65]
[2005878,"Oban 14 Year Old",65]
[2141115,"Glenmorangie Quinta Ruban Port Cask",65]
[2195518,"Spirit of Hven Organic Single Malt Tycho's 41.8%",65]
[2192033,"Bookers Bourbon 70cl",64.5]
[2005425,"Prieler Blaufrankisch Ried Goldberg",60]
[2080706,"Mezan Trinidad Caroni",60]
[2137678,"Chassagne Montrachet 1er Cru Champgains Laurent Pillot",60]
[2204373,"Patron Silver 70cl",60]
[4007259,"The Glenrothes Whisky Makers Cut 48.8%",60]
[5003840,"Chassagne Montrachet 1er Cru Vergers Pillot",60]
[2204954,"Chivas Mizunara",59.5]
[2180213,"Pothecary Gin",59]
[2005334,"Bodegas y Vinedos Pintia",57.5]
[2179470,"Nikka Pure Malt Black 43% 50cl",57.5]
[4004707,"Rampur Indian Single Malt Whiskey",57.5]
[2005837,"Glenfiddich 15 Year Old Solera",55]
[5001170,"Clos Figueres Priorat",52.5]
[4007105,"Salcombe Gin Island Queen",52.1]
[2152767,"Star of Bombay",50]
[2203292,"Black Bull 12yo",50]
[2212266,"Rose Gin by Tinkture F&M Edition",50]
[4004704,"Hattiers Premium Reserve Rum",50]
[2197019,"Chase Rhubarb Vodka",49.95]
[4004698,"Hacienda Monasterio Ribera Del Duero",49.5]
[2141393,"Sipsmith VJOP",48]
[2005915,"Cragganmore 12 Year Old",47.5]
[2192032,"Basil Hayden Bourbon 70cl",46.5]
[2208084,"Blanc de Blancs Grand Cru Champagne N.V Magnum",80]
[2005731,"Boekenhoutskloof Franschhoek Cabernet Sauvignon",45]
[2006063,"Chase English Vodka",45]
[2199607,"Tarquin's Cornish Pastis",45]
[2213550,"Touriga Nacional Quinta do Noval Douro",43.5]
[2195513,"Spirit of Hven Organic Aqua vitae 40%",42.95]
[2170432,"Akashi Japanese Blended Whiskey",42.5]
[2202028,"Quinta dos Roques Touriga Nacional",42.5]
[2196279,"Pinot Noir Failla Sonoma Coast",42]
[2202511,"Misty Isle Gin",41.25]
[8026917,"Sandhi Santa Rita Hills Chardonnay",40.950000000000003]
[2206823,"Moorland Spirit Company Douglas Fir Nootka",40]
[2056093,"Isake Classic",39.950000000000003]
[2172759,"ENAMOR Yuzu Liqueur",39.950000000000003]
[2005740,"Hamilton Russell Pinot Noir",38.5]
[2208406,"Hayman's Old Tom",36.5]
[2138641,"Espolon Blanco Tequila",35]
[2212893,"Myatt's Fields Cocktails Aged Negroni 50cl",35]
[2117196,"Two Birds Gin with Hessian Bag",34.950000000000003]
[2006054,"Plymouth Original Strength Gin",34]
[2138055,"Digby English Sparkling Vintage",33.75]
[2163582,"Dictador 100 Claro Rum",33.75]
[2005739,"Hamilton Russell Chardonnay",32.950000000000003]
[5001161,"Garzon Single Vineyard Tannat (Uruguay)",32.950000000000003]
[2006152,"Bepi Tosolini Amaretto Saliza",32.5]
[2208094,"Personalised Blanc de Blancs Champagne Magnum",86.5]
[2207934,"Spirit of Ilmington Apple Brandy",32.5]
[5030252,"Metaxa 7 Stars Limited Edition by Love Greece",32.5]
[2192153,"So Jennie Paris",31.95]
[2205126,"Riecine Chianti Classico Riserva",30.95]
[2197999,"Six Bottle Wood W06F Retail",30]
[2202508,"Zind Humbrecht Pinot Gris Rotenberg Alsace",30]
[2212892,"Myatt's Fields Cocktails Espresso Martini 50cl",30]
[2040027,"Massaya Terrasses de Baalbeck",29.95]
[2190810,"Bimber Oak Aged Vodka",29.95]
[2005688,"Roederer Quartet N.V",28.9]
[2101947,"Warner Edwards Harrington Dry Gin",28.5]
[8026385,"Upper Yarra Valley Pinot Noir 2013",28.5]
[2162844,"Nyetimber Cuvee Cherie Multi-Vintage",28.1]
[2209321,"Riecine di Riecine",27.35]
[2105214,"Graham's Quinta dos Malvedos",26.95]
[2005412,"Weingut Moric Blaufrankisch Burgenland",26.5]
[2005654,"Dog Point Chardonnay",24.95]
[2006148,"Maison Edmond Briottet Creme de Peche",23.5]
[2005571,"Clonakilla Canberra District Viognier",23.35]
[2196318,"Chianti Classico Rocca Montegrosso",22.95]
[2199604,"Rioja Inedito Seleccion Bodegas Lacus White",22.95]
[8026914,"Morgon Cote de Py Dominique Piron",21.5]
[8021509,"Lillet Rose",21]
[2207616,"Fleurie La Madone Vieilles Vignes",19.5]
[2005914,"J & B Rare",19.45]
[8027285,"Arboleda Chardonnay Aconcagua",18.95]
[2190118,"Shoreline Lyme Bay Winery",18.350000000000001]
[2204172,"Cabernet Sauvignon Pedroncelli",17.95]
[2190119,"Bacchus Lyme Bay Winery",17.600000000000001]
[2006150,"Noilly Prat",16.5]
[2212406,"Signature Chardonnay Susana Balbo",14.95]
[4004695,"Elysium' Black Muscat, California 37.5 cl, Quady",14.5]
[2205706,"Copenhagen Sparkling Tea Vinter (5% alc.)",13.85]
[2141210,"Peychauds Bitters 14.8cl",11.95]
[2187268,"Dao Tinto",9.9499999999999993]
[2004310,"English Red Ale",3.25]
[2198548,"Big Drop Lager",2.75]
[2211369,"Hibiki 30 Year Old",4000]
[2162439,"Royal Salute 38 Year Old",1250]
[2196681,"Louis Roederer Cristal Vinotheque Blanc",1000]
[2005984,"Hennessy Paradis",950]
[2213127,"Rauzan Segla 2010 Double Magnum",900]
[2204139,"Chateau Angelus Saint Emilion 2005",750]
[2004758,"Chateau Montrose 1989",700]
[2004769,"Chateau Palmer Margaux Magnums",600]
[2004457,"Dom Perignon vintage Magnum",450]
[2005349,"Vega Sicilia Unico",400]
[2040260,"Chateau Pontet Canet Magnum 2005",400]
[2040318,"Glenlivet 25 Year Old",395]
[2140702,"Craigellachie 23yo",395]
[2087996,"Margaux Jeroboam",375]
[2209598,"Nyetimber 1086 Vintage Rose 2010 Magnum",375]
[2004449,"Krug Rose Gift Box N.V",300]
[2163747,"Courvoisier Initiale Gift Pack",300]
[8027288,"Corton Charlemagne Domaine Bonnneau du Martray",285]
[2063589,"Krug Vintage",280]
[2062000,"Chateau Montrose",255]
[4007258,"The Glenrothes 25-Year-Old",250]
[5007306,"Glenfiddich Grand Cru 23yo",235]
[2004394,"Billecart Salmon Cuvee Louis Salmon Blanc de Blancs",87.5]
[2004547,"Louis Roederer Blanc de Blancs Vintage",92.5]
[4004680,"HIGHLAND PARK THE LIGHT 52.9% 3X0.7L-UK",225]
[8026712,"Dom Perignon Lenny Kravitz 2008",200]
[5026233,"Isole Cepparello 2016 Magnum",195]
[5030257,"Mount Gay Peat Smoke Limited Edition",190]
[2142115,"Octomore Islay Barley Bruichladdich",180]
[2004446,"Krug Grande Cuvee N.V in Gift box",175]
[2209597,"Nyetimber 1086 Vintage Rose 2010",175]
[2005507,"Quinta do Noval Vintage",160]
[2040292,"Dalmore 18 Year Old",160]
[2097092,"Courvoisier XO Imperial",150]
[5013718,"Ichiro's Malt Wine Wood Reserve Red Label",145]
[8020757,"Vina Sena",140]
[2005903,"Highland Park 18 Year Old",135]
[2005956,"Suntory Yamazaki 12 Year Old",135]
[5030254,"Metaxa Angels Treasure",135]
[2138639,"Crystal Head Vodka Magnum",130]
[2005454,"Dow Vintage Port 1985",125]
[2005538,"Warre's Vintage Port 1980",125]
[2211967,"Rivesaltes Domaine de Sobilane 1959",125]
[2004451,"Bollinger La Grande Annee Rose",117.5]
[2214953,"Puligny-Montrachet 1er Cru Les Chalumeaux Cherisey-Martelet",115]
[8026253,"l'Orbe Caviar Vodka",115]
[2141117,"Glenmorangie 18 year old",107.5]
[2212145,"Ridge Geyserville Magnum",105]
[2004447,"Krug Grande Cuvee N.V Half Bottle in Giftbox",100]
[2005169,"Allegrini La Poja",100]
[2005763,"Aberlour A Bunadh",100]
[2105294,"Margaux Magnum in Wood",95]
[2179480,"Nikka Yoichi Single Malt 45% 70cl",95]
[2204956,"Redbreast 15 Year Old",95]
[4004737,"Port Charlotte MRC:01 2010 Islay Single Malt Whisky 70cl",92.5]
[2005277,"G.D. Vajra Barolo Bricco Viole",90]
[2005824,"Ardbeg Corryvreckan",90]
[2158708,"Nuits St Georges 1er Cru Pruliers Taupenot Merme",90]
[2215636,"Aleste Barolo Luciano Sandrone 2014",82.5]
[4004745,"Togouchi 9yo / 40% / 70cl",82.5]
[8024818,"Laphroaig 10YO Cask 2019",82.5]
[2005174,"Antinori Cervaro Della Sala",80]
[2006017,"Baron de Sigognac 20 Year Old",80]
[2006021,"J Bally Vintage",80]
[2006038,"Patron Anejo Tequila 70cl",80]
[2179516,"Hibiki Harmony 70cl",79.95]
[4007097,"Rare Spirits Ron Viejo Rum Valdespino",79]
[2005869,"Macallan Sherry Oak 12 Year Old",75]
[5030256,"Bruichladdich Organic 2010",72.5]
[2004432,"Veuve Clicquot Vintage Rich",70]
[2207824,"KI NO SEI Navy Strength Gin",70]
[2108536,"Riesling GG Trocken Silver Seal Schloss Johannisberg",65]
[2156510,"Jack Daniel's Single Barrel F&M",65]
[2207825,"KI NO TEA Gin",65]
[8019302,"Del Maguey Vida Single Village Mezcal",65]
[2084497,"Paul Dethune Brut Cuvee Prestige Princesse des Thunes N.V",60]
[2192349,"Moz Art Wine Brunello Il Paradiso di Frassina",60]
[8023448,"Nuits St Georges Vieilles Vignes Robert Chevillon 2016",60]
[2180652,"Mount Gay Origins Series 2 (2x35cl)",56.25]
[2189488,"Cambridge Gin",55]
[2188953,"Dancing Dragontail Summer Gin",53]
[2004497,"R de Ruinart Brut N.V",52.5]
[2074213,"Michel Hubert Calvados Pays d'Auge",52.5]
[8026850,"Belvedere Single Estate Rye Vodka Lake Bartężek",52.5]
[2116839,"Felton Road Bannockburn Pinot Noir",50]
[2179698,"Fishers Gin",50]
[8022954,"Vivir Tequila Anjeo / 40% / 70cl",50]
[2006098,"Chartreuse Green",49.95]
[4007256,"The Glenrothes 12-Year-Old",49.5]
[2192148,"Courvoisier VSOP",48]
[2135033,"D1 London Gin 70cl",47.5]
[2141372,"Liverpool Complex Organic Gin",47.5]
[2211189,"Palo Cortado Viejo C.P.",47.5]
[2004184,"Rose Champagne N.V Old Label",45]
[2006110,"Somerset Cider Brandy Co. Shipwreck 50cl",45]
[2114121,"Highgrove Organic Single Malt Whisky 700ml",45]
[2141130,"Aviation Gin",45]
[5007307,"Hendrick's Seasonal Release - Lunar",45]
[2004429,"Veuve Fourny Rose N.V",44.95]
[2140952,"Knob Creek 9 year old Bourbon",43]
[2180504,"Italicus Rosolio di Bergamotto",42]
[2211361,"Roku gin",42]
[2203284,"Asterley Bros Dispense Amaro",41]
[2135073,"Shortcross Gin",40]
[5066035,"Smokey English Whisky",40]
[2040288,"Sacred London Dry Vodka",39.950000000000003]
[2004485,"Pol Roger White Foil Brut N.V",39.5]
[2005200,"Corte Sant'Alda Recioto della Valpolicella",39.35]
[2098018,"Te Mata Bullnose Syrah",37.5]
[2158539,"FMC Ken Forrester",37.5]
[8018102,"Lalande Borie St Julien 2015",37.5]
[8023630,"Chablis 1er Cru Montmains Vaudon Drouhin 2018",37.5]
[2138171,"Monkey Shoulder Whisky",36.5]
[4004690,"Assyrtiko 'Wild Ferment', Santorini, Gaia Wines",36.5]
[8020654,"Lorchauser Seligmacher Riesling, Eva Fricke Rheingau",36.35]
[2005918,"Glenlivet Founders Reserve",35.6]
[2004264,"Single Cask Malvasia Madeira",35]
[2140453,"St Germain Elderflower Liqueur 50cl",35]
[5001169,"Jim Barry The McRae Wood Museum Release Shiraz",35]
[2200994,"Bourgogne Rouge Domaine Robert Chevillon 2015",33.950000000000003]
[5001162,"Le Soula Blanc Roussillon",33.950000000000003]
[2005303,"Lustau Almacenista Oloroso Pata Gallina 50cl",32.950000000000003]
[2121874,"Two Birds English Vodka",32.5]
[2125367,"Rioja Crianza Magnum",32.5]
[8027439,"Tullamore Dew XO Rum Finish Irish Whiskey",32.5]
[2121865,"St George Terroir Gin",31.85]
[2005553,"Camel Valley Pinot Noir Brut Rose Sparkling",29.95]
[2115170,"Warre Quinta da Cavadinha",29.5]
[2005316,"Gonzalez Byass Noe Pedro Ximenez VORS",28.5]
[2163140,"Kings Ginger Liqueur",28.5]
[2181936,"Seedlip Garden 108 Non Alcoholic Spirits",28.5]
[4007084,"Cocchi Americano Bianco",27.95]
[8026994,"Graacher Himmelreich Riesling Kabinett Joh Jos Prum",27.95]
[2196280,"Vacqueyras Domaine de la Charbonniere",26.95]
[2005758,"Waterford Chardonnay",25.95]
[2105151,"Bourgogne Blanc la Combe Dureuil-Janthial",25.1]
[2144853,"Two Birds Countryside Spirit Set",25]
[2005326,"Lustau Emilin Moscatel",23.5]
[2005732,"Boekenhoutskloof Chocolate Block",23.5]
[2130397,"G.D Vajra Barbera",23.5]
[2212179,"Pinot Noir Pittnauer",22.5]
[2005715,"Achaval Ferrer Malbec",21.95]
[2205198,"Pampelle Ruby L'Apero Grapefruit Aperitif",21.35]
[2168031,"Pinot Gris Classic Hugel",20.95]
[2196326,"Pinot Noir Heirloom Vineyards",19.95]
[2206820,"Fino `Inocente` Pago de Macharnudo Valdespino",19.95]
[2004238,"Crozes Hermitage",19.5]
[5036222,"Etna Rosso Caiuria Pietro Caciorgna",19.5]
[2127563,"Glenfiddich 15 years old 20cl",18.5]
[2191466,"Aecorn 'Æcorn' Aromatic",18.350000000000001]
[8020764,"Aecorn 'Æcorn' Dry",18.350000000000001]
[2202771,"Sardon Quinta Sardonia",17.2]
[2005187,"Ca dei Frati Rosa dei Frati",16.45]
[8026716,"Barbeito Atlantic Rainwater 50cl",16.45]
[2004453,"Pol Roger Blanc de Blancs Vintage",100]
[2177903,"Chateau Dereszla Dry Tokaji",14.95]
[2194055,"Vertigo by Lotus Cyclone Lighter 100407",14.95]
[4006950,"Williams & Humbert Pando Fino Sherry",13.95]
[2004886,"Chablis Domaine Fevre Half Bottle",13.5]
[2005540,"Massaya Colombier",12.7]
[2005300,"Gonzalez Byass Tio Pepe Fino",11.6]
[5023704,"Punchy Gin, Yuzu, Cucumber and Rosemary Hard 4%",4.5]
[8019284,"Sipsmith Gin and Tonic 250ml Can",3.95]
[5028718,"Macallan Exceptional Single Cask 1950",65000]
[5002562,"Royal Tokaji Company Essencia 2008 Magnum",30000]
[5007312,"The Balvenie 50yo Marriage 0192",29950]
[5001500,"Champagne Salon Oenotheque 2008 – Caisse 8",8500]
[4004748,"Karuizawa 1979 / 35yo / Cask #8187 / 58.8% / 70cl",7950]
[2181382,"Chateau Lafite Rothschild 2005 Double Magnum",6000]
[2005867,"Macallan Sherry Oak 30 Year Old",4950]
[2075409,"Balvenie 40 Year Old",3500]
[2195881,"Last Drop 1947 Cognac",3200]
[2195882,"Last Drop Scotch 1971",3000]
[2162431,"Martell L'Or Dome",2895]
[2005840,"Glenfiddich 40 Year Old",2800]
[2117188,"Plume Frapin",2750]
[2081431,"Echezeaux Grand Cru Domaine de la Romanee-Conti 2010",2500]
[2181381,"Chateau Lafite Rothchild 1999 Magnum",2350]
[2162441,"Royal Salute 62 Gun",2250]
[2214959,"MARS 27yr old",2250]
[2097091,"Courvoisier L'Essence",1950]
[2005871,"Macallan Sherry Oak 25 Year Old",1650]
[2004642,"Chateau Ausone 2009",1350]
[2196682,"Louis Roederer Cristal Vinotheque 1995 Rose",1330]
[2195878,"Laphroaig 21 Year Old Magnum",1120]
[2005852,"Highland Park 30 Year Old",1050]
[2192369,"Musigny Domaine de Vogue Grand Cru 2009",1000]
[5007311,"The Balvenie DCS Chapter 5 2001 Fino Sherry Cask",950]
[2203294,"Black Bull 40yo",850]
[8024819,"Laphroaig Ian Hunter 30YO 70cl",750]
[4004744,"Bruichladdich Rare Cask Series: 1985 / 32 YEARS",700]
[5000501,"Old & Rare Whisky Advent 2019",700]
[5028087,"Lustrac 1960 Vintage Armagnac",650]
[2004433,"Louis Roederer Cristal Magnum",635]
[2181173,"Royal Tokaji Company Essencia 37.5cl",585]
[2005982,"Louis XIII Remy Martin Cognac 5cl",555]
[2004412,"Louis Roederer Cristal Rose",550]
[2005904,"Glenfarclas 30 Year Old",525]
[2186408,"Hibiki 17 Year Old",500]
[2205020,"Montrachet Marquis de Laguiche Joseph Drouhin 2015",500]
[2109199,"Suntory Hakushu 18 Year Old",495]
[2004771,"Chateau Palmer 2000",485]
[2140686,"Glenfiddich 26YO Excellence",450]
[5007309,"The Balvenie 25yo Single Barrel",450]
[2005865,"Laphroaig 25 Year Old",415]
[2005783,"Bowmore Port Matured 23 Year Old",410]
[2005902,"Highland Park 25 Year Old",400]
[2199958,"Ornellaia 2014 Magnum",385]
[2005781,"Bowmore 25 Year Old",379]
[2213647,"Cristal 2002",375]
[2004421,"Dom Perignon P2",350]
[2004567,"Moet & Chandon Brut Imperial N.V Jeroboam",350]
[2162428,"Chivas Regal 25 Year Old",350]
[2181402,"Charmes-Chambertin Grand Cru - Lignier Magnum",340]
[4004786,"Carte Blanche II Merpins Cellar Edition Cognac 70cl",335]
[2176600,"Chateau d'Yquem Sauternes 2008",325]
[2209702,"Beefeater Crown Jewel London Dry Gin 1993 bottling",300]
[4007101,"Sigognac Armagnac 1959",300]
[2184800,"AO Yun Shangri LA 2013",295]
[4004742,"Black Art Edition 7.1",295]
[5030191,"The Duppy Share Aged Caribbean Rum  450cl",295]
[5007310,"The Balvenie Tun 1509 Batch 6",280]
[4004746,"Togouchi 15yo / 43.8% / 70cl",260]
[2126938,"Barbeito Faja dos Padres 1986",255]
[8026257,"The London Distillery Company LV-1767 Rye Whiskey",251]
[2203827,"Nyetimber Classic Cuvee Jeroboam",250]
[2005052,"Chateau de Beaucastel Chateaneuf-du-Pape Magnum",235]
[2093385,"Charles Heidsieck Blanc des Millenaires",150]
[2205013,"Clos de Vougeot Joseph Drouhin 2015",225]
[2205023,"Glenfiddich Winter Storm Edition 2",225]
[2176510,"Japanese Whisky Advent Calendar",220]
[5041223,"Cristal Blanc 2012",220]
[2192621,"Domaines Ott Clos Mireille Cotes Provence Rose Jeroboam",215]
[4006949,"Colheita Port Feuerheerd 1970",200]
[2005192,"Aldo Conterno Barolo Romirasco",195]
[2176381,"Fallen Angel Vodka",195]
[2198836,"Ornellaia 2013",195]
[5028088,"Lustrac 1970 Vintage Armagnac",195]
[8024347,"Chateau Vieux Certan",190]
[2205235,"Gaja Barbaresco",185]
[2005113,"Trimbach Riesling Clos Saint Hune",180]
[5044519,"Brunello di Montalcino Biondi Santi 2009",180]
[2160017,"Termanthia",176.25]
[2004586,"Dom Ruinart Blanc de Blancs Vintage",175]
[2004792,"Chateau Lynch Bages 2004",175]
[2005814,"Glenmorangie Signet",175]
[2005887,"Johnnie Walker Blue Label",170]
[2004436,"Perrier Jouet Belle Epoque",165]
[2005453,"Taylor's Vintage Port 1994",165]
[2005886,"Chivas Regal Royal Salute 21 Year Old",165]
[2005896,"Glenfarclas 25 Year Old",165]
[5000500,"Rum Advent Calendar",165]
[5003197,"Bollinger 007 Millesime 2011 (limited edition)",165]
[2004442,"Veuve Clicquot La Grande Dame",160]
[2005347,"Vega Sicilia Valbuena 2014",160]
[2004456,"Dom Perignon Vintage",155]
[2004496,"Billecart Salmon Rose N.V Magnum",155]
[2005283,"La Rioja Alta Gran Reserva 890",150]
[2005999,"Cognac Tesseron Lot 76 X.O",150]
[2004584,"Ruinart Blanc de Blancs N.V Magnum",175]
[2142938,"Martell Cordon Bleu",150]
[2179472,"Kavalan Solist Sherry Cask",150]
[2204955,"Chivas Ultis",150]
[5041022,"Chateau Grand Puy Lacoste 2005",145]
[2006031,"Rhum J.M Vintage",140]
[5046137,"Barolo Riserva Vigna Rionda Massolino 2012",140]
[5028089,"Lustrac 1980 Vintage Armagnac",139.5]
[2040330,"Glenlivet 21 Year Old",135]
[2157947,"E.H. Taylor Small Batch",135]
[8026894,"Bas Armagnac Laubade Private Cellar Selection",131.25]
[4004740,"Octomore 10.1",130]
[5028093,"Sigognac 1980 Vintage Armagnac",130]
[8022217,"Warre 1977",130]
[2004476,"Bollinger Special Cuvee N.V Magnum",125]
[2126318,"Antinori Tignanello",125]
[2126433,"Antinori Guado al Tasso",125]
[2159874,"Remy Martin XO Special Coffret",123.75]
[5003195,"Valdespino Palo Cortado `Single Cask` Macharnudo Alto 2000",120]
[5041024,"Chateau Montrose 2012",120]
[2004450,"Bollinger La Grande Annee",115]
[2006084,"u'Luvka Magnum",115]
[2005284,"La Rioja Alta Gran Reserva 904 Magnum",110]
[2005506,"Quinta do Noval 40 Year Old Tawny",110]
[2176565,"Royal Brackla 16YO",110]
[5028090,"Lustrac 1990 Vintage Armagnac",110]
[8027440,"Tullamore Dew 18 Year Old Irish Single Malt",110]
[8023295,"Château de Beaucastel Chateauneuf du Pape 2009",107.5]
[2195883,"Oloroso 'Su Majestad' VORS 30YO",105]
[2140956,"Dalmore Cigar Malt",102.5]
[2196490,"Salcombe Gin & Fino Sherry Gift Pack",100]
[2204171,"Shafer One Point Five Napa Valley",100]
[2005771,"Auchentoshan 18 Year Old",99.5]
[5046138,"Flor de Pingus Ribera del Duero 2014",97.5]
[2140984,"Premium Gin Advent Calendar",95]
[4004733,"The Botanist Islay Dry Gin 1.5L",95]
[2212062,"Graham Vintage Port 2016",90]
[2004434,"Taittinger Comtes de Champagne Blanc de Blanc Brut",180]
[5003199,"Gevrey-Chambertin Clos Tamisot Pierre Damoy 2014",86.25]
[5041023,"Chateau Talbot 2015",85]
[8027444,"Rivesaltes Riveyrac 1970",85]
[2004452,"Pol Roger Vintage",80]
[5001165,"Henriques & Henriques Verdelho 20 Year Old",80]
[2126934,"Yamazaki Distillers Reserve",79.95]
[8017717,"Tequila Enemigo 89 Añejo Cristalino",79.95]
[8019287,"Balvenie Stories 14 Year Old Peat Week 70cl",79.5]
[2004404,"Billecart Salmon Extra Brut Vintage",77.5]
[2005080,"Guigal Chateau D'Ampuis Cote Rotie",75]
[5029539,"Fortnum’s X Patron Single Cask Tequila Anejo",75]
[8019321,"Joseph Drouhin Vosne Romanee 2015",69.95]
[2128942,"FAT SAMURAI Junmai Ginjo Genshu Sake",68]
[2160929,"Billecart Salmon Brut Sous Bois NV",67.95]
[2040054,"Domaine Vieux Telegraphe Chateauneuf-du-Pape",67.5]
[2152856,"Michters Rye",67.5]
[2004462,"Ruinart Rose N.V",65]
[2102456,"Balvenie 12 Year Old First Fill",65]
[2160317,"Montifaud Cognac Napoleon",65]
[2005964,"Frapin VSOP",62.5]
[2005994,"Remy Martin VSOP",60]
[2141360,"Mezan Panama 2004",60]
[2195522,"KiNoBi Kyoto Gin",60]
[2202767,"Abtsberg' Grosses Gewachs Mosel Riesling Maximin Grunhaus",57.5]
[2005422,"Weingut Prager Gruner Veltliner Achleiten Smaragd",55]
[2078671,"Inniskillin 'Gold' Vidal Icewine Half Bottle",55]
[2141515,"Diplomatico Reserva Exclusiva Gift Pack With Two Glasses",55]
[8018975,"Veuve Clicquot Comet",55]
[8026916,"Lingua Franca Joshua, Junichi & Siri Pinot Noir",55]
[2005894,"Balvenie Doublewood 12 Year Old",53.5]
[2213554,"Hudson Baby Bourbon 70cl",53.5]
[2199326,"Dashing Dog Gin",53]
[2105916,"Monkey 47 Schwarzwald Dry Gin",52.5]
[2179495,"The English Original Single Malt 43% 70CL",52.5]
[2159872,"Bruichladdich Wee Laddie Tasting Kit 3 x 200ml",52.45]
[2129230,"Geyserville Ridge",52]
[2134170,"Beluga Noble Russian Vodka",50]
[2155834,"St Nicholas Abbey White Rum",50]
[5005050,"Chablis Louis Michel Magnum",50]
[8026915,"Gevrey Chambertin Domaine Harmand Geoffroy 2017",50]
[2004473,"Taittinger Brut Reserve N.V",49.5]
[2006103,"Miclo Poire William Grand Reserve 50cl",48.95]
[2076579,"Nikka From The Barrel Japanese Whisky 51.4% 50cl",47.5]
[2005795,"Cardhu 12 Year Old",47]
[8022953,"Vivir Tequila Reposado / 40%  / 70cl",47]
[2005921,"Glenmorangie Original",45]
[2180012,"Pollination Gin",45]
[5001898,"Champagne Pierre Peters Cuvee de Reserve",45]
[5007308,"Hendrick's Orbium",45]
[5041021,"Reserve de Leoville Barton 2015",45]
[2004182,"Brut Reserve Champagne N.V Magnum Old Label",42]
[2004486,"Billecart Salmon Brut Reserve N.V",41.5]
[2135034,"Dictador Colombian Rum 12yo 70cl",40]
[2208393,"Santenay 1er Cru Gravieres Rouge Vincent Girardin",40]
[2212894,"Myatt's Fields Cocktails Aged Manhattan 50cl",40]
[5013719,"Exclusive F&M Secret Garden Piccadilly Honey & Violet Gin",40]
[2195519,"Spirit of Hven Organic Vodka 40%",39.5]
[4007260,"The Glenrothes Bourbon Reserve",39.35]
[2096307,"Bathtub Gin",39]
[2206787,"Bullards Norwich Dry Gin",38.25]
[2142054,"Warner Edwards Elderflower Infused Gin",38]
[2208087,"Blanc de Blancs Grand Cru Champagne N.V Jeroboam",225]
[2088001,"Blanc de Blancs Champagne N.V Jeroboam Old Label",225]
[2137465,"Bathtub Gin Navy Strength",37.5]
[2199605,"Fortnum's Ling Heather Honey Gin 50cl",35]
[5029540,"Jukes Cordialities Number 1 Pack [9x3cl]",35]
[8021502,"Bernkasteler Badstube Riesling Auslese Dr H Thanisch",35]
[2160465,"Soave Classico La Rocca Pieropan",34.5]
[2005759,"Waterford Pinot Noir",33.5]
[2006145,"Benedictine",33.5]
[2202509,"Riesling Grand Cru Schoenenbourg Charles Sparr",33.5]
[2098776,"Brecon Botanicals Gin by Penderyn",32.950000000000003]
[2197024,"Botanist Tin",32.25]
[8018163,"Personalised Blanc de Blancs Champagne Jeroboam",231.5]
[5013716,"Champagne Geoffroy Expression NV Giftbox",30.75]
[2174150,"Kew Gin",30]
[2006146,"Cointreau Vincent Darre limited edition",29.95]
[2004179,"Brut Reserve Champagne N.V. Old Label",29.6]
[2004490,"Moet & Chandon Brut Imperial N.V Half Bottle",29.5]
[2066221,"Kwai Feh Lychee Liqueur",29.5]
[2138172,"Hudson Baby Bourbon 35cl",29.2]
[2006159,"Mentzendorff Kummel",29]
[4007085,"Cocchi Americano Rosa",28.95]
[2004572,"Perrier Jouet Belle Epoque Blanc de Blancs",395]
[2005572,"Clonakilla Hilltops Shiraz",27.95]
[8026717,"Barbeito Single Harvest Tinta Negra",27.95]
[2006160,"Bepi Tosolini Limoncello",27.5]
[5001166,"Mulderbosch Chenin Blanc Block W Stellenbosch",27.5]
[2203299,"Pruno Finca Villacreces",27.35]
[8026991,"Chateau Siaurac Lalande de Pomerol",26.95]
[2056058,"Tokaji Aszu 5 Puttunyos 50cl",26.5]
[2005026,"Chablis Domaine Fevre",25.5]
[8019311,"Montepulciano Sant Eusanio Valle Reale",24.95]
[2191467,"Aecorn 'Æcorn' Bitter",24.5]
[2211190,"Amontillado `Tio Diego` Pago de Macharnudo",23.95]
[2146362,"Furleigh Classic Cuvee Sparkling Wine",23.6]
[2207621,"Bloodshot Vodka Spirit",23.25]
[2006013,"Baron de Sigognac 10 Year Old 20cl",22.95]
[2006121,"Maison Edmond Briottet Liqueur de Violette",22.95]
[5039618,"New Claret Magnum",22.95]
[2204369,"Slingshot Cabernet Napa Valley",21.95]
[2207613,"Crozes Hermitage Pontaix Blanc Fayolle",21.7]
[4006946,"Sin Blanca El Hato y El Garabato",21.7]
[2066598,"Lopez de Heredia Vina Cubillo Tinto Crianza",21.5]
[2121912,"Anselmo Mendes Alvarinho Contacto",21.5]
[2192165,"Vertente Niepoort",21.5]
[2005143,"Anne Gros-Tollot Fontanilles Minervois",21.35]
[2213223,"Ceder's Classic Non-Alcoholic Spirit",20]
[2004247,"Chianti Classico",19.95]
[8021500,"12 YO Cream Sherry 37.5cl",19.5]
[2004231,"Sancerre Rose",18.5]
[2146357,"The Botanist Islay Dry Gin 20cl",17.5]
[2006126,"Punt e Mes",16.5]
[2196486,"Crios Torrontes Susana Balbo",15]
[2205192,"Gris de Triennes Rose",15]
[2004268,"Dry White Port",14.95]
[2214327,"Siblings Sauvignon Blanc Leeuwin Estate",14.95]
[8018101,"Chateau Haut Nauve Saint Emilion Grand Cru",14.95]
[5057141,"Meerlust Red",14.5]
[2088019,"Highgrove Organic Claret 75cl",12.5]
[2004234,"Muscadet Sur Lie",11.5]
[2204167,"Sicillian Grillo",9.5]
[2199959,"Woodstar Acai Berry Blend 75cl",8.5]
[2004380,"Cream Cooler Bag",3.75]
[2183191,"Hiver The Honey Beer",2.95]
[2199230,"Double Dutch Indian Tonic 50cl",2.7]
[5012551,"Intune 10mg CBD Pomegranate & Ginger",2.5]
[2200845,"Krug Grand Cuvee Naked Stock",0]
[2178472,"Chardonnay Roserock Vineyard Domaine Drouhin Eloa-Amity",23.25]
[2096719,"The Botanist Islay Dry Gin",40]
[8027207,"Chateau Musar 2002",35]
[2132795,"Terre Rouge Les C tes de L'Ouest Syrah",20.6]
[2004282,"English Cassis",18.5]
[5052787,"Yalumba Samuel’s Collection Shiraz Cabernet",17.95]
[2061837,"Non Scan: Wine Dept",0]
[5054157,"2016 Joseph Drouhin Marquis de Laguiche Montrachet Grand Cru",595]
[2147122,"Assyrtiko Estate Argyros",34.5]
[2212156,"12 Bottle Beer Case",29.5]
[2103928,"English Pilsner",2.6]
[2186291,"Cookbook Gift Box",50]
[8025966,"The Sparkling Tea & Truffle Gift Box",60]
[5070061,"The Mini Tuck Box",50]
[5001062,"The Spring Gift Box",50]
[2001135,"The Port & Stilton Gift Box",56.5]
[8025450,"The Taste of Highgrove Hamper",55]
[2040007,"The Tea Basket",75]
[5079145,"A Chocolate Adventure Hamper",60]
[2202271,"The Merrymaker's Hamper",75]
[2201511,"The Taste of Fortnum's Hamper ",75]
[8025967,"The Personalised Sparkling Tea & Truffle Gift Box",65]
[2214032,"The Happy Easter Basket",75]
[8021201,"The Champagne & Chocolate Gift Box",80]
[5086033,"The Mother’s Day Tea Hamper",75]
[8021205,"The Personalised Champagne & Chocolate Gift Box",85]
[8021202,"The Rose Champagne & Chocolate Gift Box",90]
[8017835,"The Thank You Hamper ",90]
[2196085,"The Tanner Hamper",85]
[5070058,"The Just For You Hamper",85]
[8021212,"The Personalised Rose Champagne & Chocolates Box",95]
[5097723,"The Fortnum's Express Hamper",140]
[2001152,"The Fortmason Hamper",140]
[8021013,"The Piccadilly Hamper",110]
[2204301,"The Birthday Hamper",110]
[8021016,"The Housewarming Hamper",130]
[8021016,"The Housewarming Hamper",130]
[5070059,"The Highgrove Highlights Hamper",100]
[2166086,"The Mother’s Day Hamper",100]
[5071522,"The Tea Celebration Hamper",120]
[5075454,"The Easter Hamper",125]
[5022594,"The Fortnum's Foodhall Hamper",125]
[8023168,"The Sparkling Quartet Wicker",130]
[2040021,"The Grosvenor Hamper",140]
[2001161,"The English Essentials Hamper",125]
[5070227,"Man’s Best Friend Hamper",125]
[5088302,"The VIP HAMPER",125]
[2214033,"The Spring Celebration Hamper",100]
[2198847,"The Extraordinary Easter Hamper",150]
[5075450,"The Wine Tasting Wicker",140]
[5079144,"The Chocolate Lover's Hamper",150]
[2164790,"The Utterly Smitten Hamper",150]
[2213810,"The Fu Dai Hamper",150]
[8023424,"The Fortnum's Collection Hamper",160]
[8021021,"The Savoury Selection Hamper",140]
[5054762,"PB Dash Away Dancer Reindeer Figure",120]
[5054763,"PB Dash Away Vixen Reindeer Figure",120]
[5054765,"PB Myrtle Elephant Figure",75]
[8019450,"PB Nativity Set",380]
[8019461,"PB Dancer Reindeer Stocking",100]
[5054774,"MKC Sleigh Ride Snowglobe",115]
[5054776,"MKC Carousel Horse Snowglobe",95]
[5054778,"MKC Aberdeen Stag w Red Coat",195]
[5054780,"MKC Happy Holidays Nostalgia Tree",255]
[5054782,"MKC Piper Nutcracker",295]
[8019381,"A Mistletoe Sprig",12]
[5048344,"A Donkey with Panniers Decoration",15]
[2204091,"A Schnauzer with Holly Sprig Decoration",12]
[2204100,"A Guinea Pig with Hat Decoration",12]
[5048346,"A Sausage Dog with Hat and Scarf Decoration",12]
[2204103,"A Chimney Sweep Snowman Decoaration",12]
[8019382,"A Dinosaur with Stocking Decoration",15]
[5048350,"A Narwhal with Mistletoe Decoration",12]
[8019388,"A Baby Penguin with Present Decoration",12]
[5056797,"BC Scrooge Caroler Collectible",120]
[5056799,"BC Bob Cratchit & Tiny Tim Caroler Collectible",150]
[5056800,"BC Marley’s Ghost Caroler Collectible",120]
[5056802,"BC Spirit Present Caroler Collectible",120]
[5056804,"BC Red Coat Male Caroler Collectible",120]
[5056805,"BC Woman Caroler Collectible",120]
[5056811,"BC 16in Snow Tree Collectible",18]
[5056813,"BC Santa Caroler Collectible",130]
[5056814,"BC Mrs Claus Caroler Collectible",120]
[2215543,"F&M Piccadilly House Advent Calendar",99]
[2215544,"F&M Musical Piccadilly House Advent Calendar",165]
[4004806,"GG Green Holly Wreath Dec",8]
[2167745,"GG Clear/Gold Glitter Hummingbird Dec",6]
[5029887,"GG Gold Glitter Moon Face Decoration",6]
[5029888,"GG Giant Gold Glitter Moon Face ",65]
[5029890,"GG Painted Glass Toucan Decoration",12]
[5029892,"GG Clear glass Bauble w Gold Etched Stars",6]
[5029893,"GG Starry Glass Bauble 8cm",6]
[5031571,"GAS Rocking Horse Baby's First Decoration",30]
[5031572,"GAS Santa with Wreath Decoration",35]
[5031574,"GAS Holy Family Decoration",35]
[5031575,"GAS Sleigh with Gifts Decoration",35]
[5031576,"GAS 2020 Wreath Decoration",35]
[5031579,"GAS Christmas Tree on Pillow Decoration",35]
[5031580,"GAS Santa Red Check Tree Topper",65]
[5031581,"GAS Snowman Tree Topper",65]
[8017881,"GW Champagne jewelled Butterfly Clip",12]
[5049309,"GW Jewel Sequin Dragonfly on Clip",10]
[5049321,"GW Gold Jewel Net Cone Tree",115]
[5049322,"GW Musical Nutcracker Theatre 56cm",575]
[8017886,"GW Red Poinsettia on Clip",12]
[5049326,"GW Gold/Cream Magnolia on Clip",6]
[5049336,"GW Ribbed Brown Onion Bauble 15cm",18]
[5049339,"GW Red Beaded Butterfly on Clip",10]
[5063855,"HG Dog Bone Personalised Hessian Stocking",20]
[5063857,"HG Medium Tartan Personalised Hessian Sack",30]
[5063859,"HG Large Tartan Personalised Hessian Sack",35]
[5029913,"V Cacatua Hot Pink Bird Decoration",15]
[5029914,"V Disco Dip Pink Bauble 8cm",8]
[5029916,"V Gold Panther Head Decoration",15]
[5032206,"K Red Flock Leaf Bauble 8cm",8]
[5032207,"K Green Flock Leaf Bauble 8cm",8]
[5032222,"K Small White stag",30]
[5032225,"K LED Skiing Mountain Scene",85]
[5032227,"K Polar Bear on all Fours",100]
[4006744,"K LED Musical Xmas London Scene",145]
[5030166,"KA White Pagasus Unicorn Decoration",15]
[5030170,"KA Red Glitter Sleigh Decoration",6]
[2201226,"KA Gold Multi Angle Star Topper",40]
[2201227,"KA Silver Multi Angle Star Topper",40]
[5052543,"MBW Small Angel Red Carousel with Horses",60]
[5052544,"MBW Marquee Deluxe Wild Animal Carousel",750]
[2189048,"MBW Snow Globe Nutcracker Ballet",45]
[5052545,"MBW Large Searching Santa double snowglobe",300]
[5052546,"MBW Christmas Tree Nutcracker Suite Wind Up",40]
[5052548,"MBW Illuminated houses with flying Santa Animation",375]
[8018755,"MBW Christmas TV with Bluetooth",200]
[5052549,"MBW Snowglobe Village with flying Santa",100]
[5052551,"MBW Large Illuminated Christmas Tree",185]
[5052552,"MBW Large Snowglobe Santa in Sleigh",220]
[2189041,"MBW Large Musical LED Ferris Wheel",500]
[4006770,"OWC White Kitten Decoration",15]
[4006772,"OWC Golden Retriever Decoration",15]
[4006773,"OWC German Shepherd Decoration",15]
[4006774,"OWC Jack Russell Decoration",15]
[2190889,"OWC Dachshund Decoration",15]
[2190890,"OWC Westie Decoration",15]
[4006777,"OWC Chihuahua Decoration",15]
[2190892,"OWC Welsh Corgi Decoration",15]
[4006778,"OWC Scottish Terrier Decoration",15]
[4006779,"OWC Black Labrador Decoration",15]
[4006780,"OWC Yellow Labrador Decoration",15]
[4006781,"OWC Chocolate Labrador Decoration",15]
[4006783,"OWC Cockapoo Decoration",15]
[4006784,"OWC Long-Haired Dachshund Decoration",15]
[2190907,"Turkey Platter Tree Decoration",15]
[5031497,"OWC Dazzling Fuchsia Reflector Decoration",15]
[5031498,"OWC Turquoise Lustre Reflector Decoration",15]
[4008046,"PS Holiday Leaf Wreath Green/Red/Gold on Gold Boxed Card",40]
[5045260,"PS Holly Ornament on Red Boxed Card",40]
[4008044,"PS London Skyline W/Santa Gold on White Boxed Card",40]
[2204003,"PS Tree W/Ornaments Green/Red/Gold on Gold Boxed Card",40]
[5035082,"GV Papa Noel Santa Decoration",35]
[5035083,"GV La Renne Reindeer Decoration",35]
[8022760,"Red Alphabet Decoration A",12]
[8022761,"Red Alphabet Decoration B",12]
[8022762,"Red Alphabet Decoration C",12]
[8022763,"Red Alphabet Decoration D",12]
[8022764,"Red Alphabet Decoration E",12]
[8022765,"Red Alphabet Decoration F",12]
[8022766,"Red Alphabet Decoration G",12]
[8022767,"Red Alphabet Decoration H",12]
[8022768,"Red Alphabet Decoration I",12]
[8022769,"Red Alphabet Decoration J",12]
[8022770,"Red Alphabet Decoration K",12]
[8022771,"Red Alphabet Decoration L",12]
[8022772,"Red Alphabet Decoration M",12]
[8022773,"Red Alphabet Decoration N",12]
[8022774,"Red Alphabet Decoration O",12]
[8022775,"Red Alphabet Decoration P",12]
[8022776,"Red Alphabet Decoration Q ",12]
[8022777,"Red Alphabet Decoration R",12]
[8022778,"Red Alphabet Decoration S",12]
[8022779,"Red Alphabet Decoration T",12]
[8022780,"Red Alphabet Decoration U",12]
[8022781,"Red Alphabet Decoration V",12]
[8022782,"Red Alphabet Decoration W",12]
[8022783,"Red Alphabet Decoration X",12]
[8022784,"Red Alphabet Decoration Y",12]
[8022785,"Red Alphabet Decoration Z",12]
[8022786,"Red Alphabet Decoration &",12]
[5044489,"D Large Copper Frosty Snowflake Bauble",12]
[5044493,"D White Pearly Snowflake Bauble",8]
[5044499,"D Clear Glitter leaf detail Bauble",8]
[5044503,"D Navy Shiny Real Feather Bauble",8]
[5044504,"D Burgundy Shiny with Gold detail Bauble",8]
[5044506,"D Large All Gold Metallic swirl detail Bauble",12]
[5044508,"D Large All Red Burgundy Bauble",12]
[4006854,"D Gold star Tree Topper",55]
[4006855,"D Silver Star Topper",55]
[2203624,"D Red Candle with Gold Decoration",10]
[2203625,"D Gold Candle with Gold Decoration",10]
[2203626,"D Champagne Candle with Champagne Decoration",10]
[2203627,"D White Candle with Snowflake Decoration",10]
[5044510,"D All Red with red glitter pattern Bauble",8]
[5044512,"D All Gold with Gold swirl pattern Bauble",8]
[5044530,"D Set of 6 White Baubles ",45]
[5044531,"D Set of 6 Red Baubles ",45]
[5044532,"D Set of 6 Champagne Baubles ",45]
[5044533,"D Set of 6 Gold Baubles ",45]
[5032111,"CF Winter Lynx Wool Decoration",18]
[5032115,"CF Glass Decorated Palace Elephant Decoration",25]
[5032120,"CF Pixelated Unicorn with wings Decoration",25]
[5032122,"CF Glass Victorian Narwhal Decoration",20]
[5032124,"CF Queen Bee Decoration",22]
[5031343,"F&M Musical Santa's Sleigh Advent Calendar",165]
[5031344,"F&M Christmas Tree Advent Calendar",99]
[5032203,"F&M Bawden Stag & Santa Advent Calendar",99]
[8020571,"Fortnum & Mason 3D Advent Calendar ",18]
[2200889,"GAS Hanger Large",10]
[5048359,"S Black Glitter Tiger Print 8cm Bauble",15]
[5048360,"S White with Silver Decoration 10cm Bauble",18]
[5048363,"S Green Glitter Leaf Bauble 10cm",18]
[5048367,"S Glass Handpainted Puma Decoration",18]
[5048368,"S White Onion Swirl Drop Bauble",22]
[5048369,"S Sandstone Decorated Onion Drop Bauble",22]
[5044869,"SN Dazzle Nutcracker Embroidered Decoration",18]
[5044870,"SN Bee Embroidered Decoration",16]
[5044871,"SN Sequin Hare Embroidered Decoration",18]
[5044872,"SN Sequin Stag Embroidered Decoration",18]
[5044873,"SN Winter Owl Embroidered Decoration",16]
[5044874,"SN Robin Embroidered Decoration",18]
[5044875,"SN Mistletoe Embroidered Decoration",20]
[5044876,"SN Dove with Halo Embroidered Decoration",16]
[5044877,"SN Winter Wreath Embroidered Decoration",22]
[5044878,"SN Red Crown Embroidered Decoration",20]
[5044879,"SN Sequin Champagne Embroidered Decoration",18]
[5044880,"SN Sparkle Train Embroidered Decoration",20]
[5044881,"SN Baby's First Christmas 2020 Pink Stork ",20]
[8013825,"Ko Globe with Reindeer",120]
[8013826,"Ko Globe with Carousel Horse",120]
[5039211,"Ko Globe with Teddy ",120]
[5039212,"Ko Globe with Tree",120]
[2201030,"Ko Nutcracker Boxed Decorations Set of 3",140]
[4004083,"Ko The Nutcracker Story Decorations Set of 4",200]
[2201031,"Ko Pinocchio Boxed Decorations Set of 5",255]
[5039213,"Ko Santa's Sleigh Single Decoration",90]
[5039214,"Ko Snowman with Children Single Decoration",90]
[5039215,"Ko Children on Sledge Single Decoration",90]
[5039216,"Ko Girl looking up to Tree Single Decoration",90]
[5041561,"ES Hand Painted Parrot Glass Bauble",15]
[5041565,"ES Leopard Print Gold and Black glass Bauble",15]
[5041566,"ES Tiger Print Copper and Black glass Bauble",15]
[5041567,"ES Gold Stars on Pink Bauble",15]
[5041570,"ES Mulit colour Chevron Stripe Pink Bauble",15]
[5039217,"Ko Tree and Santa Decoration Set of 2",130]
[5044882,"SN Baby's First Christmas 2020 Blue Stork ",20]
[5060282,"UWP Holiday Tree MOMA Boxed Card",28]
[5060283,"UWP Wintery Owl MOMA Boxed Card",28]
[4008383,"UWP Forest Holiday MOMA Boxed Card",28]
[2203048,"UWP North Pole Voyage MOMA Boxed Card",28]
[5060284,"UWP Christmas Cats MOMA Boxed Card",28]
[5060285,"UWP Winter Foxes MOMA Boxed Card",28]
[5048806,"AG Vintage Gramophone Musical Advent Calendar",45]
[8020562,"AG Music in the Street Musical Advent Calendar",35]
[5048807,"AG Christmas Railway Tree Advent Calendar",20]
[5048808,"AG Christmas Eve Sleigh Over Globe Advent Calendar",18]
[5048811,"AG The Christmas Express Train 1000pc Puzzle",20]
[5048812,"AG The Chocolate Shop 1000pc Puzzle",20]
[5048813,"AG The Christmas Carousel 1000pc Puzzle",20]
[5052207,"C Berry Foil Decorated Bauble Boxed Card",18]
[5052208,"C Foiled Open Door Boxed Card",18]
[8020586,"C Jewelled Fruits Wreath Boxed Card",20]
[8020587,"C Christmas Tree Embossed Boxed Card",20]
[5054663,"AG Music in the Street 1000pc Puzzle",20]
[2138331,"Mini Hamper Decoration",18]
[5061679,"F&M Christmas Cards 2020 Box of 8",15]
[5063318,"Mini Georgian Crackers",15]
[5063319,"Mini Piccadilly Crackers",15]
[5063320,"Georgian Crackers",60]
[5063321,"Piccadilly Crackers",60]
[5063322,"White Christmas Crackers",60]
[5063323,"Reindeer Games Crackers",50]
[5063324,"The Cat's Cracker",15]
[5063325,"The Dog's Cracker",15]
[5063794,"Glimmering Gold Crackers",175]
[5063795,"Christmas Forest Crackers",295]
[5063796,"All that Glitters Crackers",550]
[5063797,"The Majestic Crackers",1000]
[5063798,"Christmas Truffle Crackers",110]
[5029040,"F&M Red Tea Caddy Ornament",20]
[2204559,"F&M Hot Air Balloon Ornament",20]
[2151169,"F&M Afternoon Tea Tray Ornament",25]
[8018994,"F&M Sundae Ornament",15]
[2188410,"F&M Cake Stand Orn",25]
[5055930,"F&M Clock Ornament",20]
[8020156,"F&M Camelia Teacup and Saucer Ornament",20]
[8020157,"F&M Camelia Teapot Ornament",20]
[2041349,"BB Little London Set",99]
[5056679,"BB Little Royal London Set",99]
[2136656,"BB Little English Christmas Set",89]
[5056680,"BB Little Xmas F&M Set",99]
[2190950,"BB Little English Countryside Set",99]
[5056681,"BB Litte Crackers F&M Set",99]
[2085130,"BB Little Away in a Manger Set",115]
[5056682,"BB We Three Kings Set",115]
[2205498,"BB Little Bees Set",99]
[5056683,"BB Little London Bus Glass Decoration",27]
[5056684,"BB Little Soldier Glass Decoration",27]
[5056685,"BB Little Phone Box Glass Decoration",27]
[5056686,"BB Little Corgi Glass Decoration",27]
[5056687,"BB Little Golden Coach Glass Decoration",27]
[5056688,"BB Little Buckingham Palace Glass Decoration",27]
[5056689,"BB Little Cracker Glass Decoration",27]
[5056690,"BB Little Bee Glass Decoration",27]
[5056691,"BB Little Spitfire VE Day Glass Decoration",60]
[5056692,"BB Little Robin Glass Decoration",27]
[5056693,"BB Little Christmas Tree Glass Decoration",27]
[5056694,"BB Rock Guitar Glass Decoration",29]
[5056695,"BB Little British Bulldog Glass Decoration",35]
[5056696,"BB Little Victoria Set Glass Decoration",110]
[5056697,"BB Little Mistletoe Glass Decoration",30]
[5056698,"BB Deck The Halls Set ",95]
[5056699,"BB Rainbow Glass Decoration",39]
[5062254,"Fill Your Own Christmas Decoration 2020",7]
[5063222,"PP Escape from the Starline Express",20]
[5063225,"PP The Case of the Smoking Pipe",12]
[8023961,"PP The Case of the Treasury Safe Game",18]
[2198964,"PP Set of 5 Puzzle Compendium",17]
[5063844,"MG The Hygge Game",18]
[5063846,"MG I Should Have Known That Game",18]
[5063847,"MG Who in the Room? Game",18]
[5063848,"MG Thanks for Asking! Game",18]
[5063387,"BM Snowflakes Pop Up Book",22]
[5063388,"BM The Nutcracker Pop Up Book",22]
[5063389,"BM The Mitten Pop Up Book",18]
[5063390,"BM The Most Beautiful Ballets Musical Pop Up Book",22]
[5064968,"OCM Star Happy New Year Boxed Cards",30]
[5064970,"OCM Three Reindeer on Gold Boxed Cards",30]
[5064971,"OCM Marchioness Blue and Gold Building Front  Boxed Cards",30]
[5064972,"OCM Tree with Star Baubles Boxed Cards",30]
[5064898,"TT Metallic Embroidered Alphabet Decoration Letter A",25]
[5064899,"TT Metallic Embroidered Alphabet Decoration Letter B",25]
[5064900,"TT Metallic Embroidered Alphabet Decoration Letter C",25]
[5064901,"TT Metallic Embroidered Alphabet Decoration Letter D",25]
[5064902,"TT Metallic Embroidered Alphabet Decoration Letter E",25]
[5064903,"TT Metallic Embroidered Alphabet Decoration Letter F",25]
[5064904,"TT Metallic Embroidered Alphabet Decoration Letter G",25]
[5064905,"TT Metallic Embroidered Alphabet Decoration Letter H",25]
[5064906,"TT Metallic Embroidered Alphabet Decoration Letter I",25]
[5064907,"TT Metallic Embroidered Alphabet Decoration Letter J",25]
[5064908,"TT Metallic Embroidered Alphabet Decoration Letter K",25]
[5064909,"TT Metallic Embroidered Alphabet Decoration Letter L",25]
[5064910,"TT Metallic Embroidered Alphabet Decoration Letter M",25]
[5064911,"TT Metallic Embroidered Alphabet Decoration Letter N",25]
[5064912,"TT Metallic Embroidered Alphabet Decoration Letter O",25]
[5064913,"TT Metallic Embroidered Alphabet Decoration Letter P",25]
[5064914,"TT Metallic Embroidered Alphabet Decoration Letter Q",25]
[5064915,"TT Metallic Embroidered Alphabet Decoration Letter R",25]
[5064916,"TT Metallic Embroidered Alphabet Decoration Letter S",25]
[5064917,"TT Metallic Embroidered Alphabet Decoration Letter T",25]
[5064918,"TT Metallic Embroidered Alphabet Decoration Letter U",25]
[5064919,"TT Metallic Embroidered Alphabet Decoration Letter V",25]
[5064920,"TT Metallic Embroidered Alphabet Decoration Letter W",25]
[5064921,"TT Metallic Embroidered Alphabet Decoration Letter X",25]
[5064922,"TT Metallic Embroidered Alphabet Decoration Letter Y",25]
[5064923,"TT Metallic Embroidered Alphabet Decoration Letter Z",25]
[5064924,"TT Metallic Embroidered Alphabet Decoration Letter &",25]
[5064974,"Hamper Embroidered Decoration",25]
[5064975,"Teapot Embroidered Decoration",25]
[5064976,"Cracker Embroidered Decoration",25]
[5064977,"Beefeater Knife Embroidered Decoration",20]
[5064978,"Beefeater Fork Embroidered Decoration",20]
[5064979,"Monkey Embroidered Decoration",25]
[5064980,"Camel Embroidered Decoration",25]
[5064981,"Cat Embroidered Decoration",20]
[5064982,"Dog Embroidered Decoration",20]
[5064983,"Unicorn Embroidered Decoration",22]
[5064984,"Egret Embroidered Decoration",30]
[5064985,"Fairy Embroidered Decoration",25]
[5065718,"TT Metallic Embroidered Alphabet Stocking  A",55]
[5065719,"TT Metallic Embroidered Alphabet Stocking  B",55]
[5065720,"TT Metallic Embroidered Alphabet Stocking  C",55]
[5065721,"TT Metallic Embroidered Alphabet Stocking  D",55]
[5065722,"TT Metallic Embroidered Alphabet Stocking  E",55]
[5065723,"TT Metallic Embroidered Alphabet Stocking  F",55]
[5065724,"TT Metallic Embroidered Alphabet Stocking  G",55]
[5065725,"TT Metallic Embroidered Alphabet Stocking  H",55]
[5065726,"TT Metallic Embroidered Alphabet Stocking  I",55]
[5065727,"TT Metallic Embroidered Alphabet Stocking  J",55]
[5065728,"TT Metallic Embroidered Alphabet Stocking  K",55]
[5065729,"TT Metallic Embroidered Alphabet Stocking  L",55]
[5065730,"TT Metallic Embroidered Alphabet Stocking  M",55]
[5065731,"TT Metallic Embroidered Alphabet Stocking  N",55]
[5065732,"TT Metallic Embroidered Alphabet Stocking  O",55]
[5065733,"TT Metallic Embroidered Alphabet Stocking  P",55]
[5065734,"TT Metallic Embroidered Alphabet Stocking  Q",55]
[5065735,"TT Metallic Embroidered Alphabet Stocking  R",55]
[5065736,"TT Metallic Embroidered Alphabet Stocking  S",55]
[5065737,"TT Metallic Embroidered Alphabet Stocking  T",55]
[5065738,"TT Metallic Embroidered Alphabet Stocking  U",55]
[5065739,"TT Metallic Embroidered Alphabet Stocking  V",55]
[5065740,"TT Metallic Embroidered Alphabet Stocking  W",55]
[5065741,"TT Metallic Embroidered Alphabet Stocking  X",55]
[5065742,"TT Metallic Embroidered Alphabet Stocking  Y",55]
[5065743,"TT Metallic Embroidered Alphabet Stocking  Z",55]
[5063823,"TT Parrot Embroidered Decoration",25]
[5063824,"TT Silver Elephant Embroidered Decoration",25]
[5063826,"TT Zebra Embroidered Decoration",25]
[5029884,"GG Silver Bristle Owl Decoration",10]
[4004809,"GG Nativity Set w 11 pieces",35]
[5032221,"K Large White Stag",95]
[5032226,"K Up Standing Polar Bear",120]
[5030174,"KA Standing Red Santa 1.2m",395]
[5032008,"S Metal 3D champagne star 25cm",20]
[5035098,"GV Parisian Sleigh",385]
[5035099,"GV La Renne Reindeer Figure",75]
[5035109,"GV XL Papa Noel Santa Display",575]
[5049342,"GW Decorated Deer with Saddle on Base",250]
[5049343,"GW Large Ornate Sleigh",775]
[2205712,"MDC The Nutcracker Musical Card",14]
[2205714,"MDC Christmas in London Musical Card",14]
[2205718,"MDC The Snowman Musical Card",14]
[8021003,"MDC Let It Snow Musical Card",14]
[2138331,"Mini Hamper Decoration",18]
[2188410,"F&M Cake Stand Ornament",25]
[8020571,"Fortnum & Mason 3D Advent Calendar",18]
[8020156,"F&M Camellia Teacup and Saucer Ornament",20]
[8020157,"F&M Camellia Teapot Ornament",20]
[2203624,"D Red Candle with Gold Decoration",10]
[2203627,"D White Candle with Snowflake Decoration",10]
[8020562,"AG Music in the Street Musical Advent Calendar",35]
[8018994,"F&M Sundae Ornament",15]
[4003268,"SN  Wreath Tea Pot Embroidered Decoration",25]
[4003278,"SN Train Embroidered Decoration",20]
[4006855,"D Silver Star Tree Topper",55]
[8024007,"F&M Christmas Tree Cards Pack 2019",10]
[8020565,"AG Christmas Treasure Chest Advent Calendar",18]
[4006854,"D Gold Star Tree Topper",55]
[2215543,"F&M Piccadilly House Advent Calendar",99]
[2151169,"F&M Afternoon Tea Tray Ornament",25]
[2215544,"F&M Musical Piccadilly House Advent Calendar",165]
[2204561,"KA Tea Caddy Ornament",20]
[2204559,"Hot Air Balloon Ornament",20]
[8017651,"TT Silver Tree Embroidered Decoration",18]
[8022776,"Red Alphabet Decoration Q",12]
[8022784,"Red Alphabet Decoration Y",12]
[8022781,"Red Alphabet Decoration V",12]
[8022762,"Red Alphabet Decoration C",12]
[8022786,"Red Alphabet Decoration &",12]
[8022775,"Red Alphabet Decoration P",12]
[8022774,"Red Alphabet Decoration O",12]
[8022780,"Red Alphabet Decoration U",12]
[8022773,"Red Alphabet Decoration N",12]
[8022761,"Red Alphabet Decoration B",12]
[8022760,"Red Alphabet Decoration A",12]
[8022766,"Red Alphabet Decoration G",12]
[8022779,"Red Alphabet Decoration T",12]
[8022785,"Red Alphabet Decoration Z",12]
[8022768,"Red Alphabet Decoration I",12]
[8022782,"Red Alphabet Decoration W",12]
[8022783,"Red Alphabet Decoration X",12]
[8017328,"Miniature Classic Gold Cracker",16]
[8017330,"Miniature Classic Silver Cracker",16]
[8017331,"Classic Silver Cracker",60]
[8017332,"Classic Gold Cracker",60]
[8017333,"Classic Red Cracker",60]
[8017334,"Harlequin Crackers",65]
[8017336,"The Nutcracker Cracker",45]
[8019749,"Berry Wreath Cracker",295]
[5067996,"MS Scotty Christmas with presents Boxed card",32]
[5067997,"MS Trumpets Boxed card",32]
[5067998,"MS London Scene Boxed card",32]
[5068001,"MS Fireplace with Scotty Boxed card",32]
[5067535,"KL Noel Navy Boxed Card",25]
[5067536,"KL Happy Christmas script on cream Boxed Card",25]
[5067537,"KL Christmas Cottage on Cream Boxed Card",25]
[5067538,"KL Door on Navy Boxed Card",25]
[5048345,"A White Westie Decoration",12]
[8019380,"A Hamster with Hat Decoration",12]
[8019379,"A Dalmation with Pudding Decoration",12]
[5048347,"A Golden Labrador with Hat Decoration",12]
[5048348,"A Father Christmas with folded Hat Decoration",12]
[5048349,"A Hanging Robin Decoration",10]
[5029883,"GG Blue Feather Butterfly Clip",10]
[5029915,"V Gold Glass Macaron Decoration",12]
[2186414,"V Glass Gold Watch Ornament",12]
[2200583,"V Glass Egg Red w/Diamonds Ornament",15]
[5029918,"V Cognac Glass Hummingbird Decoration",12]
[5029919,"V Green Glass Hummingbird Decoration",12]
[5029920,"V Large Green Glass Butterfly Decoration",15]
[5052542,"MBW Small Pastel Carousel",40]
[5029902,"SC 12\" Burgundy & Rose Gold Fireworks tree",165]
[5029907,"SC 12\" Vintage Silver Classic tree",165]
[5031997,"S Shiny gold glass bird w long feather tail",18]
[5032010,"S Gold beetle decoration 7.5cm",12]
[5044498,"D Large Clear Gold Palm Leaf detail Bauble",12]
[5063821,"TT Gold Angel Embroidered Decoration",18]
[5063822,"TT Red Embroidered Heart",18]
[5063825,"TT Leopard Head Embroidered Decoration",25]
[8024069,"PF Large Fruit Bag",22]
[8024072,"PF Large Fruit and Cinnamon Sticks",40]
[5055900,"PF Small Fruit Pollyfields Circle",55]
[5055902,"PF Sliced Orange Bag",15]
[5055905,"PF Medium Fruit Heart Cage",18]
[5059422,"The New Arrival Gift Box",150]
[2182300,"The Fit for Your Queen Hamper",160]
[8023169,"The Highgrove Wine Hamper",175]
[2214082,"The Easter Provisions",150]
[5045387,"The Congratulations Hamper",155]
[5079146,"The Mid-Afternoon Tea Hamper",150]
[5071697,"The Teatime Treats Hamper",150]
[2203585,"The Bundle of Joy Hamper",150]
[5071696,"The Wedding Day Hamper ",160]
[2061209,"The Highgrove at Fortnu's Hamper",175]
[2158121,"The Fortnum's Wine Hamper",200]
[2187971,"The Fortnum's Hamper",185]
[5079142,"The Birthday Tea Hamper",175]
[5071698,"The Anniversary Hamper",200]
[2001158,"The Marylebone Hamper ",280]
[5070063,"The Wine Merchant's Selection Hamper",0]
[5061461,"The For the Love of Tea Hamper",200]
[5071698,"The Anniversary Hamper",200]
[5001063,"The Spring Hamper ",200]
[2001170,"The Burlington Hamper",260]
[5057144,"The English Sparkling Wine Hamper",285]
[2213100,"The Celebration Hamper",250]
[5071701,"The Easter Feast Hamper ",250]
[5075452,"The Easter Parade Hamper",250]
[5070229,"The Tea & Treats Hamper ",275]
[2188190,"The Wine Cellar Hamper",300]
[8021022,"The Tea Adventurer Hamper",300]
[5071699,"The Perfect Match Hamper",300]
[2158326,"The Connoisseur Hamper",400]
[8021025,"The Fortnum's Afternoon Tea Hamper",520]
[2196519,"The Vintage Champagne Hamper",500]
[2201632,"The Monarch Hamper",750]
[2204952,"The Ultimate Drinks Cabinet Hamper",710]
[2001184,"The Windsor Hamper",1000]
[2188186,"The Drinks Banquet Hamper",1000]
[5057145,"The Extraordinary Drinks Hamper",2500]
[2202332,"Children's Advent Calendar",22]
[2202333,"Fortnum's Truffle Selection Advent Calendar",35]
[2210796,"Advent Calendar Refill Pack",36]
[2215158,"Confectionery Wooden House Advent Calendar",135]
[2006877,"Marrons 360g",62]
[2006910,"Medium Christmas Marzipan Fruits Selection 275g",22]
[2205222,"Marzipan Christmas Puddings 100g",9.9499999999999993]
[2006874,"Pruneaux d'Agens (450g)",27]
[2006883,"Dark Chocolate Griottes 227g",46]
[2156878,"Cerisettes 180g",19.95]
[2172299,"Elvas Plums 320g",17.95]
[2006829,"Liqueurs Selection 260g",45]
[5053851,"Chocolate Covered Figs 180g",22]
[2074315,"White Chocolate Snowman 195g",25]
[2210800,"Dark Chocolate & Orange Cognac Dragees",8.9499999999999993]
[5047376,"Sweet Tuck Box  300g",22.95]
[5047377,"Chocolate Coins Tin 150g",15.95]
[5026336,"Gianduja Selection Chocolate 150g",18.95]
[5047378,"Caramel & Toffee Tin 200g",30]
[2202077,"Christmas Bar",6.95]
[8025963,"Christmas Matchbox Gingerbreadman 35g",6.5]
[8026275,"Christmas Coal 200g",12.95]
[2204553,"Christmas Reindeer Noses 150g",8.9499999999999993]
[5026333,"Carrot Reindeer Sweets pot 3500",6.5]
[2203280,"Christmas Peppermint Bark 160g",12.95]
[5026337,"Christmas Ultimate Chocolate Selection 1.6kg",165]
[5094238,"Glace Kea Plum  -Glace Kea Plums 170g",28]
[5094237,"Christmas Chocolate Truffle Selection Box 265g",30]
[2215156,"Christmas 2021 Caramel Truffle Bauble 55g",12.95]
[2215543,"F&M Piccadilly House Advent Calendar",99]
[2215544,"F&M Musical Piccadilly House Advent Calendar",165]
[5031344,"F&M Christmas Tree Advent Calendar",99]
[2151169,"F&M Afternoon Tea Tray Ornament",24.95]
[2204559,"F&M Hot Air Balloon Ornament",19.95]
[2204561,"F&M Blue Tea Caddy Ornament ",19.95]
[5097252,"F&M Carousel Ornament",19.95]
[2188410,"F&M Cake Stand Ornament",24.95]
[5055930,"F&M Clock Ornament",19.95]
[8020157,"F&M Camellia Teapot Ornament",19.95]
[5099512,"F&M Father Chefmas Ornament",24.95]
[2138331,"F&M Mini Hamper Decoration",19.95]
[5063318,"Mini Georgian Crackers",15]
[5063319,"Mini Piccadilly Crackers",15]
[5063320,"Georgian Crackers",60]
[5063321,"Piccadilly Crackers",60]
[5097785,"Snowy Christmas Crackers",60]
[5097786,"Red Rudolph Crackers",50]
[5097787,"The Dog Cracker",15]
[5097788,"The Cat Cracker",15]
[5097789,"Christmas Cheer Crackers",150]
[5061679,"F&M Christmas Cards 2021 Box of 8",11.95]
[2210924,"Feasting Advent",200]
[5024797,"Christmas Biscuit Selection Tin 650g",21.95]
[2210881,"Christmas Merrilossus 600g",17.95]
[2210884,"Mini Musical Christmas Tin 130g",14.95]
[5086415,"Christmas Pecan & Ginger Biscuit, 250g",12.95]
[5072979,"Christmas Tea Biscuit",9.9499999999999993]
[2210885,"Christmas Nutcracker Biscuit, 200g",7.95]
[5072995,"Christmas Orange & Dark Chocolate Biscuits 125g",5.95]
[2210889,"King George Christmas Pudding In China, 1.36kg",44.95]
[2210888,"Magnificent Christmas Pudding 907g",39.950000000000003]
[2210890,"King George Christmas Pudding In China, 907g",36.950000000000003]
[2210891,"King George Christmas Pudding In China, 454g",24.95]
[5024799,"Figgy Christmas Pudding 454g",24.95]
[2210893,"St James Christmas Pudding, 907g",18.95]
[2210894,"St James Christmas Pudding, 454g",12.95]
[2210895,"St James Christmas Pudding, 227g",8.9499999999999993]
[5024765,"Gluten Free/ Nut Free / Vegan / Alcohol Free St James Christmas Pudding, 454g",12.95]
[5024800,"Christmas Cake 900g",35]
[5094198,"Christmas Traditional Mince Pies, 500g",12.95]
[5094199,"Christmas Almond Mince Pies, 500g",12.95]
[5094200,"Christmas Petit Fours Traditional Mince Pies, 210g",10.95]
[5094201,"Christmas Petit Fours Almond Mince Pies, 210g",10.95]
[5094202,"Christmas Mince Pie Mini Medley, 560g",19.95]
[5094203,"Christmas Petit Fours Mixed Mince Pies, 70g",5.95]
[2210916,"Christmas Pudding Preserve, 200g",7.95]
[5030499,"Christmas Fig Preserve",7.95]
[2210918,"Christmas Cognac Butter 195g",4.95]
[2210917,"Christmas Mincemeat Pantry Jar, 400g",10.95]
[2210921,"Christmas Figgy Mustard, 200g",4.95]
[5030500,"Christmas Chutney, 230g",4.95]
[2210923,"Boxing Day Pickle, 220g",4.95]
[5088091,"Mulled Wine Spice Box",6.95]
[8023433,"Pickled Sprouts",9.9499999999999993]
[5091929,"Spiced Pickled Clementines in Port",9.9499999999999993]
[5024704,"Highgrove Organic Christmas Pudding 454g",14.95]
[2152126,"Highgrove Organic 12 Mini Mince Pies 210g",9.9499999999999993]
[2198291,"Highgrove Organic Christmas Shortbread Fingers 160g",6.95]
[2066936,"Highgrove Organic Christmas Preserve 454g",6.95]
[2171535,"Highgrove Organic Christmas Marmalade 454g",6.95]
[2210933,"Highgrove Organic Mulled Wine Spice Bag 20g",6.95]
[2114153,"Highgrove Organic Brandy Butter 210g",4.95]
[5098942,"Christmas Pudding Gauntlet",15]
[5061732,"Christmas Pudding Tea Towel",12]
[5052364,"Red and Gold Bag for Life Small",7.95]
[5052365,"Red and Gold Bag for Life Standard",9.9499999999999993]
[5057209,"Piccadilly Bag for Life 2021",12]
[2004312,"Christmas Ale",3.5]
[2204711,"Fortnum's Mulled Cider with English Cassis",5.25]
[2004266,"Christmas Pudding Madeira",16.5]
[5067983,"Chocolate Chestnut Liqueur",25]
[5067982,"Figgy Pudding ",25]
[2142258,"Mince Pie and Marmalade Liqueur",4.9000000000000004]
[2140984,"Gin advent Calendar",95]
[5000501,"Old & Rare Whisky Advent",700]
[2176510,"Japanese Advent Whisky Calendar",220]
[5000500,"Rum Advent 2019",165]
[2140983,"Whisky Advent Calendar",165]
[8027277,"Secret Garden Christmas Gin F&M Exclusive Edition 50cl",40]
[8021292,"A Georgian Christmas Tea Candle",75]
[8021294,"A Georgian Christmas Tea for One",140]
[8021293,"A Georgian Christmas Tea Plate",40]
[8021291,"A Georgian Christmas Tea Mug",35]
[2210789,"Plum, Apple and Cinnamon Infusion 50g",12]
[5015429,"Mint Humbug Odditea 37.5g",6.95]
[2210787,"Christmas Black Tea Tin 200g",16.5]
[2210795,"Christmas Green Tea 20 Silky Bags 50g",12.5]
[5015428,"Gisovu White Tea Wooden Caddy 30g",37.5]
[2210786,"Christmas Tea Medley (15 Teabags) 37.5g",14.5]
[2210788,"Christmas Coffee",12.95]
[5095538,"The Magic of Christmas",310]
[2187975,"The Christmas Day Hamper",500]
[2201629,"The Christmas Celebration Hamper",260]
[2202271,"The Merrymaker's Hamper",70]
[2187972,"The Highgrove Christmas Hamper",210]
[5095534,"The Winter Evening Hamper",100]
[2201912,"The Fortnum's Classic Christmas Hamper",200]
[2001174,"The Family Christmas Hamper",260]
[2187965,"The Joy of Christmas Hamper (Free From Gluten)",150]
[5095536,"The Fortnum's Christmas Collection Hamper",160]
[5065546,"The Christmas Treat Hamper",110]
[8021203,"The Christmas Champagne & Chocolate Gift Box",82]
[2201615,"The Highgrove Christmas Basket",125]
[2201631,"The Sleighborne Hamper",520]
[8021018,"The Winter Feast Hamper",300]
[5095530,"The Festivi-Tea Gift Box",70]
[2134598,"The Christmas Pantry Hamper",160]
[8021014,"The Yuletide Hamper (Vegan Friendly)",160]
[2001173,"The St Nicholas Hamper",310]
[8021023,"The Good Cheer Hamper",400]
[2174969,"The Merry Christmas Hamper",420]
[2187976,"The Christmas Feast Hamper",1000]
[5059151,"The Sovereign",2500]
[2001183,"The Imperial",6000]
[2158329,"The Wine Explorer Hamper",155]
[2158195,"The French Wine Quartet",78]
[2158118,"The Italian Wine Quartet",65]
[2004322,"The Bellini Box",37.5]
[2004334,"The Kir Royale Box",62]
[2187613,"The English Spirits Quartet",65]
[2177353,"Easter Hot Cross Bun Shortbread 160g",8.9499999999999993]
[5065787,"Easter Simnel Biscuit, Gluten Free 150g",5.95]
[5100692,"Forced Yorkshire Rhubarb Preserve, 200g",9.9499999999999993]
[5071785,"Easter Chocolate Baby Bunny",27.95]
[5114061,"The Easter Picnic Cool Bag ",130]
[5086033,"The Mother's Day Tea Hamper",78]
[2004321,"The Champagne Pairing Box",98]
[5113252,"The St James's Hamper",100]
[5111674,"The Rosé Quartet Wicker",115]
[5088302,"The Mother's Day Afternoon Tea Hamper",130]
[5095345,"The Easter Feaster",140]
[5095310,"Fortnum’s Hamper Tote with Waterproof Picnic Blanket",145]
[5113255,"The Herbivore Hamper",150]
[5113254,"The Fortnum's Wheat-Free Hamper",150]
[5113253,"The Sparkling Tea Party Hamper",150]
[5112298,"The Jubilee Tea Party Hamper",150]
[5112299,"The Jubilee Celebration Hamper",230]
[5112738,"The Happy & Glorious Hamper",450]
[5095340,"Fortnum's Platinum Jubilee Mini Musical Biscuit Tin, 150g",14.95]
[5112293,"The Royal Teatime Gift Box",30]
[5105612,"Fortnum's Platinum Jubilee Blend, Loose Leaf Tea Caddy, 250g",16.5]
[5112294,"The Jubilee Tea Gift Box",45]
[5114880,"Fortnum's Platinum Jubilee Mug",35]
[5095339,"Fortnum's Platinum Jubilee Biscuit Selection, 525g",25]
[5111874,"Fortnum's Platinum Jubilee Gingerbread Iced Biscuits, 30g",17.95]
[5112296,"The Jubilee Picnic Cool Bag",130]
["5107958","Platinum Jubilee English Sparkling Giftbox 75cl 12.5% ABV",39.5]
["5107959","Platinum Jubilee Blanc de Blancs NV Giftbox 75cl 12% ABV",39.5]
["5111685","Platinum Jubilee Bag for Life",9.9499999999999993]
["5111686","Platinum Jubilee Crown Tea Towel",12.95]
["5111687","Platinum Jubilee Tea Towel",12.95]
[5095339,"Fortnum's Platinum Jubilee Biscuit Selection, 525g",25]
["5112466","Platinum Jubilee English Sparkling 75cl 12.5% ABV",39.5]
["5112839","F&M Platinum Jubilee Candle 300g",60]
["5114878","Platinum Jubilee Teacup and Saucer",75]
["5114879","Platinum Jubilee Teapot for Two",125]
[5099617,"Fortnum's Platinum Jubilee Celebration Chocolate Truffles, 265g",30]
["5114881","Platinum Jubilee Plate",45]
["5114882","Platinum Jubilee Coaster",25]
["5114883","Platinum Jubilee Tea for Two Set",250]
[5127913,"The Nice List Gift Box",45]
[5127914,"The Christmas Spice Gift Box",50]
[5131367,"The Celebration Champagne & Chocolate Gift Box",90]
[5127915,"The Christmas at Piccadilly Gift Box",85]
[5127916,"The Christmas Pamper Gift Box",100]
[5127923,"The Christmas Party at Piccadilly Hamper",420]
[5127973,"The Tipsy Hot Chocolate Gift Box",100]
[5127974,"The Wine Lover's Gift Box",82]
[5112973,"The Little Luxuries Hamper",110]
[5113069,"The Highgrove Hamper",140]
[5127917,"The Festive Cheese Board Hamper",185]
[5127919,"The Home for Christmas Coolbag",185]
[5127921,"The Coffee at Fortnum’s Hamper",210]
[5127922,"The Gather Together Hamper",310]
[5127925,"The Chef’s Pantry Hamper",750]
[2188032,"London's Spirits Pairing",35]
[2158537,"The Half Bottle Gift Box",50]
[5057143,"White Burgundy Pairing in Wood",68]
[8023167,"Malbec & St Emilion Box",76]
[2004335,"The Champagne & Port Box",78]
[2106379,"The Six Course Wine Hamper",160]
[5096008,"The Wine Merchant's Hamper  (Vegan)",175]
[5127975,"The Sparkling Christmas Hamper",215]
[2187965,"The Joy of Christmas Hamper, Made Without Wheat",160]
[5045387,"The Congratulations Hamper",160]

{"sheet":"Sheet1","index":2,"n_rows":96,"n_cols":3,"rows_kept":96,"cut":false,"hidden":true,"merged":[]}
["Item number","Product name","Price"]
["2001152","The Fortmason Hamper",130]
["2001158","The Marylebone Hamper",230]
["2001161","The English Essentials Hamper",125]
["2001170","The Burlington Hamper",250]
["2001173","The St Nicholas Hamper",300]
["2001174","The Family Christmas Hamper",250]
["2001184","The Windsor Hamper",1000]
["2002708","HAMPER & INTERNATIONAL ONLY-Royal Blend Loose Tea Tin 125g",12.5]
["2040021","The Grosvenor Hamper",130]
["2061209","The Highgrove at Fortnum's Hamper",185]
["2134598","The Christmas Pantry Hamper",150]
["2138331","F&M Mini Hamper Decoration",19.95]
["2145148","St James 8 Inch Plate - Hamper only",35]
["2158121","The Fortnum's Wine Hamper",200]
["2158326","The Connoisseur Hamper",400]
["2158329","Wine Explorer Hamper",130]
["2162489","Silver Plated Tea Strainer With Long Handle - Hamper Only",38]
["2164790","The Utterly Smitten Hamper",150]
["2166086","The Mother's Day Hamper",100]
["2174969","The Merry Christmas Hamper",400]
["2182300","The Fit For Your Queen Hamper",150]
["2183823","The Vegetarian Hamperling",15]
["2183842","The 30g Oscietra Caviar Hamperling",90]
["2187965","The Joy of Christmas Hamper (Made without Wheat)",150]
["2187966","The Fortnums Express Hamper",100]
["2187971","The Fortnum's Hamper",185]
["2187972","The Highgrove Christmas Hamper",200]
["2187975","The Christmas Day Hamper",500]
["2187976","The Christmas Feast Hamper",1000]
["2188186","The Drinks Banquet Hamper",1000]
["2188190","The Wine Cellar Hamper",300]
["2189418","The Smoked Salmon Hamperling",16]
["2190736","Unboxed Camellia Tea Cup & Saucer Hamper only",55]
["2190737","Unboxed Camellia Mug - Hamper only",35]
["2196085","The Tanner Hamper",85]
["2196519","The Vintage Champagne Hamper",500]
["2198847","The Extraordinary Easter Hamper",125]
["2201511","The Taste of Fortnum's Hamper",75]
["2201629","The Christmas Celebration Hamper",250]
["2201631","The Sleighborne Hamper",500]
["2201632","The Monarch Hamper",750]
["2201912","The Fortnum's Classic Christmas Hamper",185]
["2202271","The Merrymaker's Hamper",75]
["2203585","The Bundle of Joy Hamper",150]
["2204301","The Birthday Hamper",100]
["2204952","The Ultimate Drinks Cabinet",750]
["2213100","The Celebration Hamper 2020",250]
["2213810","The Fu Dai Hamper",150]
["2214033","The Fortnum’s Summer Fête Hamper",125]
["5001063","The Spring Hamper",200]
["5007006","Champagne and Scone Hamperling",28.95]
["5022594","The Fortnum's Foodhall Hamper 2020",125]
["5045387","Congratulations Hamper",150]
["5054147","Sancerre Andre Dezat 2019 75cl 13% ABV",19.5]
["5054148","Sancerre Andre Dezat Half Bottle 37.5cl 12% ABV",7.8]
["5054149","Cotes du Rhone Est-Ouest Brunel - HAMPER ONLY",11.5]
["5054151","Chateau de Cardaillan",17.5]
["5057144","English Sparkling Wine Hamper",250]
["5057145","The Extraordinary Drinks Hamper",2500]
["5061461","For The Love of Tea Hamper",200]
["5064974","Hamper Embroidered Decoration",24.95]
["5065546","The Christmas Treat Hamper",100]
["5070058","The Just For You Hamper",85]
["5070059","The Highgrove Highlights Hamper",100]
["5070063","The Wine Merchant's Selection Hamper",150]
["5070227","Man’s Best Friend Hamper",125]
["5070229","The Tea & Treats Hamper",275]
["5071522","The Tea Celebration Hamper",125]
["5071696","The Wedding Day Hamper",150]
["5071697","The Teatime Treats Hamper",150]
["5071698","The Anniversary Hamper",200]
["5071699","The Perfect Match Hamper",325]
["5071701","The Easter Feast Hamper",250]
["5075452","The Easter Parade Hamper",250]
["5075454","The Easter Hamper",100]
["5079142","The Birthday Tea Hamper",175]
["5079144","The Chocolate Lover’s Hamper",150]
["5079145","A Chocolate Adventure Hamper",60]
["5079146","The Mid Afternoon Tea Hamper",150]
["5086033","The Mother’s Day Tea Hamper",75]
["5088302","The Mother’s Day VIP Hamper",125]
["5095534","A Winter's Evening Hamper",100]
["5095536","The Fortnum's Christmas Collection Hamper",150]
["8017835","The Thank You Hamper",85]
["8021013","The Piccadilly Hamper",100]
["8021014","The Yuletide Hamper (Vegan Friendly)",150]
["8021016","The Housewarming Hamper",130]
["8021018","The Winter Feast Hamper",300]
["8021020","The Savoury Selection Hamper",130]
["8021022","The Tea Adventurer Hamper",300]
["8021023","The Good Cheer Hamper",400]
["8021025","The Fortnum's Afternoon Tea Hamper",500]
["8023169","Highgrove Wine Hamper",150]
["8023424","The Fortnum's Collection Hamper",150]
["8025450","The Taste of Highgrove Hamper",70]

{"sheet":"Country & Delivery","index":3,"n_rows":558,"n_cols":33,"rows_kept":558,"cut":false,"hidden":true,"merged":[]}
["Afghanistan","AFG","ROWDelivery",null,"Named Day","NAMED","EuropeDelivery","EUROPE","USCANDelivery","ROW","ROWDelivery","ROW","UKDelivery","Named Day","NAMED",null,null,null,null,null,null,null,"Title",null,null,null,"AGO","Luanda","Luanda",null,null,"State Name","StateId"]
["Åland Islands","ALA","ROWDelivery",null,"Next Day","NEXT",null,null,null,null,"USCANDelivery","ROW","EuropeDelivery","Next Day","NEXT",null,"Named Day",{"$f":"COUNTIF('Order Form'!U$14:U$1011,'Country & Delivery'!Q2)","v":0},7.95,{"$f":"R2*S2","v":0},null,null,"Air Commodore",null,null,null,"ARE","Abu Dhabi","Abu Dhabi",null,null,"Alaska","AK"]
["Albania","ALB","ROWDelivery",null,"Saturday","SATURDAY",null,null,null,null,null,null,"ROWDelivery","Saturday","SATURDAY",null,"Next Day",{"$f":"COUNTIF('Order Form'!U$14:U$1011,'Country & Delivery'!Q3)","v":0},9.9499999999999993,{"$f":"R3*S3","v":0},null,null,"Brigadier",null,null,null,"ARE","ạ̉BWẓBY","ạ̉BWẓBY",null,null,"Alabama","AL"]
["Algeria","DZA","ROWDelivery",null,"Sunday","SUNDAY",null,null,null,null,null,null,"USCANDelivery","Sunday","SUNDAY",null,"Saturday",{"$f":"COUNTIF('Order Form'!U$14:U$1011,'Country & Delivery'!Q4)","v":0},7.95,0,null,null,"Captain",null,null,null,"ARE","ạLSẖạRQẗ","ạLSẖạRQẗ",null,null,"Arkansas","AR"]
["American Samoa","ASM","ROWDelivery",null,"Standard","STD",null,null,null,null,null,null,null,"Standard","STD",null,"Sunday",{"$f":"COUNTIF('Order Form'!U$14:U$1011,'Country & Delivery'!Q5)","v":0},7.95,0,null,null,"Colonel",null,null,null,"ARE","DBY","DBY",null,null,"Arizona","AZ"]
["Andorra","AND","EuropeDelivery",null,null,null,null,null,null,null,null,null,null,"EuropeDelivery","EUROPE",null,"Standard",{"$f":"COUNTIF('Order Form'!U$14:U$1011,'Country & Delivery'!Q6)","v":0},5.95,0,null,null,"Commander",null,null,null,"ARE","Dubai","Dubai",null,null,"California","CA"]
["Angola","AGO","ROWDelivery",null,null,null,null,null,null,null,null,null,null,"ROWDelivery","ROW",null,"EuropeDelivery",{"$f":"COUNTIF('Order Form'!U$14:U$1011,'Country & Delivery'!Q7)","v":0},15,0,null,null,"Dame",null,null,null,"ARE","Dubayy","Dubayy",null,null,"Colorado","CO"]
["Anguilla","AIA","ROWDelivery",null,null,null,null,null,null,null,null,null,null,"USCANDelivery","ROW",null,"ROWDelivery",{"$f":"COUNTIF('Order Form'!U$14:U$1011,'Country & Delivery'!Q8)","v":0},40,0,null,null,"District Judge",null,null,null,"ARE","Fujairah","Fujairah",null,null,"Connecticut","CT"]
["Antarctica","ATA","ROWDelivery",null,null,null,null,null,null,null,null,null,null,null,null,null,"USCANDelivery",{"$f":"COUNTIF('Order Form'!U$14:U$1011,'Country & Delivery'!Q9)","v":0},25,0,null,null,"Dr",null,null,null,"ARE","Ras Al Kha","Ras Al Kha",null,null,"Delaware","DE"]
["Antigua and Barbuda","ATG","ROWDelivery",null,null,null,null,null,null,null,null,null,null,null,null,null,null,null,null,null,null,null,"Dr.",null,null,null,"ARE","Sharjah","Sharjah",null,null,"Florida","FL"]
["Argentina","ARG","ROWDelivery",null,null,null,null,null,null,null,null,null,null,null,null,null,null,null,null,{"$f":"SUM(T2:T10)","v":0},null,null,"General",null,null,null,"ARG","Cf","Cf",null,null,"Georgia","GA"]
["Armenia","ARM","ROWDelivery",null,null,null,null,null,null,null,null,null,null,null,null,null,null,null,null,null,null,null,"Group Captain",null,null,null,"ARM","Yerevan","Yerevan",null,null,"Hawai","HI"]
["Aruba","ABW","ROWDelivery",null,null,null,null,null,null,null,null,null,null,null,null,null,null,null,null,null,null,null,"H. H. Sheik",null,null,null,"ATG","St. John's","St. John's",null,null,"Idaho","ID"]
["Australia","AUS","ROWDelivery",null,null,null,null,null,null,null,null,null,null,null,null,null,null,null,null,null,null,null,"H.E.",null,null,null,"AUS","ACT","ACT",null,null,"Illinois","IL"]
["Austria","AUT","EuropeDelivery",null,null,null,null,null,null,null,null,null,null,null,null,null,null,null,null,null,null,null,"Her Hon. Judge",null,null,null,"AUS","NSW","NSW",null,null,"Indiana","IN"]
["Azerbaijan","AZE","ROWDelivery",null,null,null,null,null,null,null,null,null,null,null,null,null,null,null,null,null,null,null,"His Hon. Judge",null,null,null,"AUS","NT","NT",null,null,"Kansas","KS"]
["Bahamas, The","BHS","ROWDelivery",null,null,null,null,null,null,null,null,null,null,null,null,null,null,null,null,null,null,null,"HRH",null,null,null,"AUS","QLD","QLD",null,null,"Kentucky","KY"]
["Bahrain","BHR","ROWDelivery",null,null,null,null,null,null,null,null,null,null,null,null,null,null,null,null,null,null,null,"Lady",null,null,null,"AUS","SA","SA",null,null,"Lousiana","LA"]
["Bangladesh","BGD","ROWDelivery",null,null,null,null,null,null,null,null,null,null,null,null,null,null,null,null,null,null,null,"Lord",null,null,null,"AUS","TAS","TAS",null,null,"Massachusetts","MA"]
["Barbados","BRB","ROWDelivery",null,null,null,null,null,null,null,null,null,null,null,null,null,null,null,null,null,null,null,"Lt.",null,null,null,"AUS","VIC","VIC",null,null,"Maryland","MD"]
["Belarus","BLR","ROWDelivery",null,null,null,null,null,null,null,null,null,null,null,null,null,null,null,null,null,null,null,"Lt. Col",null,null,null,"AUS","WA","WA",null,null,"Maine","ME"]
["Belgium","BEL","EuropeDelivery",null,null,null,null,null,null,null,null,null,null,null,null,null,null,null,null,null,null,null,"Madam",null,null,null,"BHR","ạLMḥạFẓẗ ạ","ạLMḥạFẓẗ ạ",null,null,"Michigan","MI"]
["Belize","BLZ","ROWDelivery",null,null,null,null,null,null,null,null,null,null,null,null,null,null,null,null,null,null,null,"Major",null,null,null,"BHR","Capital Go","Capital Go",null,null,"Minnesota","MN"]
["Benin","BEN","ROWDelivery",null,null,null,null,null,null,null,null,null,null,null,null,null,null,null,null,null,null,null,"Miss",null,null,null,"BHR","MḥạFẓẗ ạLʿ","MḥạFẓẗ ạLʿ",null,null,"Missouri","MO"]
["Bermuda","BMU","ROWDelivery",null,null,null,null,null,null,null,null,null,null,null,null,null,null,null,null,null,null,null,"Mr",null,null,null,"BHR","Muharraq","Muharraq",null,null,"Mississipi","MS"]
["Bhutan","BTN","ROWDelivery",null,null,null,null,null,null,null,null,null,null,null,null,null,null,null,null,null,null,null,"Mr & Mr",null,null,null,"BHR","Northern","Northern",null,null,"Montana","MT"]
["Bolivia","BOL","ROWDelivery",null,null,null,null,null,null,null,null,null,null,null,null,null,null,null,null,null,null,null,"Mr & Mrs",null,null,null,"BHS","New Provid","New Provid",null,null,"North Carolina","NC"]
["Bosnia and Herzegovina","BIH","ROWDelivery",null,null,null,null,null,null,null,null,null,null,null,null,null,null,null,null,null,null,null,"Mr.",null,null,null,"BLR","Minsk","Minsk",null,null,"North Dakota","ND"]
["Botswana","BWA","ROWDelivery",null,null,null,null,null,null,null,null,null,null,null,null,null,null,null,null,null,null,null,"Mrs",null,null,null,"BMU","Pembroke","Pembroke",null,null,"Nebraska","NE"]
["Bouvet Island","BVT","ROWDelivery",null,null,null,null,null,null,null,null,null,null,null,null,null,null,null,null,null,null,null,"Mrs & Mrs",null,null,null,"BOL",".",".",null,null,"New Hampshire","NH"]
["Brazil","BRA","ROWDelivery",null,null,null,null,null,null,null,null,null,null,null,null,null,null,null,null,null,null,null,"Mrs.",null,null,null,"BRA","RJ","RJ",null,null,"New Jersey","NJ"]
["British Indian Ocean Territory","IOT","ROWDelivery",null,null,null,null,null,null,null,null,null,null,null,null,null,null,null,null,null,null,null,"Ms",null,null,null,"BRA","SP","SP",null,null,"New Mexico","NM"]
["British Virgin Islands","VGB","ROWDelivery",null,null,null,null,null,null,null,null,null,null,null,null,null,null,null,null,null,null,null,"Ms.",null,null,null,"BRN","Brunei Mua","Brunei Mua",null,null,"Nevada","NV"]
["Brunei","BRN","ROWDelivery",null,null,null,null,null,null,null,null,null,null,null,null,null,null,null,null,null,null,null,"Mx",null,null,null,"CAN","AB","AB",null,null,"New York","NY"]
["Bulgaria","BGR","EuropeDelivery",null,null,null,null,null,null,null,null,null,null,null,null,null,null,null,null,null,null,null,"Priest",null,null,null,"CAN","BC","BC",null,null,"Ohio","OH"]
["Burkina Faso","BFA","ROWDelivery",null,null,null,null,null,null,null,null,null,null,null,null,null,null,null,null,null,null,null,"Prof",null,null,null,"CAN","MB","MB",null,null,"Oklahoma","OK"]
["Burundi","BDI","ROWDelivery",null,null,null,null,null,null,null,null,null,null,null,null,null,null,null,null,null,null,null,"Prof.",null,null,null,"CAN","NB","NB",null,null,"Oregon","OR"]
["Cambodia","KHM","ROWDelivery",null,null,null,null,null,null,null,null,null,null,null,null,null,null,null,null,null,null,null,"Rabbi",null,null,null,"CAN","NL","NL",null,null,"Pennsylvania","PA"]
["Cameroon","CMR","ROWDelivery",null,null,null,null,null,null,null,null,null,null,null,null,null,null,null,null,null,null,null,"Rev",null,null,null,"CAN","NS","NS",null,null,"Rhode Island","RI"]
["Canada","CAN","USCANDelivery",null,null,null,null,null,null,null,null,null,null,null,null,null,null,null,null,null,null,null,"Reverend Mother",null,null,null,"CAN","ON","ON",null,null,"South Carolina","SC"]
["Cape Verde","CPV","ROWDelivery",null,null,null,null,null,null,null,null,null,null,null,null,null,null,null,null,null,null,null,"Sergeant",null,null,null,"CAN","PE","PE",null,null,"South Dakota","SD"]
["Cayman Islands","CYM","ROWDelivery",null,null,null,null,null,null,null,null,null,null,null,null,null,null,null,null,null,null,null,"Sir",null,null,null,"CAN","QC","QC",null,null,"Tennessee","TN"]
["Central African Republic","CAF","ROWDelivery",null,null,null,null,null,null,null,null,null,null,null,null,null,null,null,null,null,null,null,"Sister",null,null,null,"CAN","SK","SK",null,null,"Texas","TX"]
["Chad","TCD","ROWDelivery",null,null,null,null,null,null,null,null,null,null,null,null,null,null,null,null,null,null,null,"Squadron Leader",null,null,null,"CHN","Beijing","Beijing",null,null,"Utah","UT"]
["Chile","CHL","ROWDelivery",null,null,null,null,null,null,null,null,null,null,null,null,null,null,null,null,null,null,null,"The Hon. Mr Justice",null,null,null,"CHN","Beijing Ci","Beijing Ci",null,null,"Virginia","VA"]
["China","CHN","ROWDelivery",null,null,null,null,null,null,null,null,null,null,null,null,null,null,null,null,null,null,null,"The Hon. Mrs Justice",null,null,null,"CHN","Běijīng sh","Běijīng sh",null,null,"Vermont","VT"]
["Christmas Island","CXR","ROWDelivery",null,null,null,null,null,null,null,null,null,null,null,null,null,null,null,null,null,null,null,"The Hon. Ms Justice",null,null,null,"CHN","Guangdong","Guangdong",null,null,"Washington","WA"]
["Cocos (Keeling) Islands","CCK","ROWDelivery",null,null,null,null,null,null,null,null,null,null,null,null,null,null,null,null,null,null,null,"The Lady",null,null,null,"CHN","Guǎngdōng","Guǎngdōng",null,null,"Wisconsin","WI"]
["Colombia","COL","ROWDelivery",null,null,null,null,null,null,null,null,null,null,null,null,null,null,null,null,null,null,null,"The Lord",null,null,null,"CHN","Hainan Pro","Hainan Pro",null,null,"West Virginia","WV"]
["Comoros","COM","ROWDelivery",null,null,null,null,null,null,null,null,null,null,null,null,null,null,null,null,null,null,null,"The Marchioness",null,null,null,"CHN","Heilongjia","Heilongjia",null,null,"Wyoming","WY"]
["Congo","COG","ROWDelivery",null,null,null,null,null,null,null,null,null,null,null,null,null,null,null,null,null,null,null,"The Marquess",null,null,null,"CHN","Hēilóngjiā","Hēilóngjiā"]
["Congo (DRC)","COD","ROWDelivery",null,null,null,null,null,null,null,null,null,null,null,null,null,null,null,null,null,null,null,"The Most Revd",null,null,null,"CHN","Jiangsu","Jiangsu"]
["Cook Islands","COK","ROWDelivery",null,null,null,null,null,null,null,null,null,null,null,null,null,null,null,null,null,null,null,"The Revd",null,null,null,"CHN","Jiangxi Pr","Jiangxi Pr"]
["Costa Rica","CRI","ROWDelivery",null,null,null,null,null,null,null,null,null,null,null,null,null,null,null,null,null,null,null,"The Revd Canon",null,null,null,"CHN","Macau","Macau"]
["Côte d’Ivoire","CIV","ROWDelivery",null,null,null,null,null,null,null,null,null,null,null,null,null,null,null,null,null,null,null,"The Rt. Hon",null,null,null,"CHN","Shandong","Shandong"]
["Croatia","HRV","EuropeDelivery",null,null,null,null,null,null,null,null,null,null,null,null,null,null,null,null,null,null,null,"The Rt. Rev",null,null,null,"CHN","Shanghai","Shanghai"]
["Cuba","CUB","ROWDelivery",null,null,null,null,null,null,null,null,null,null,null,null,null,null,null,null,null,null,null,"The Venerable",null,null,null,"CHN","Shanghai C","Shanghai C"]
["Curaçao","CUW","ROWDelivery",null,null,null,null,null,null,null,null,null,null,null,null,null,null,null,null,null,null,null,"The Very Revd",null,null,null,"CHN","Sichuan","Sichuan"]
["Cyprus","CYP","ROWDelivery",null,null,null,null,null,null,null,null,null,null,null,null,null,null,null,null,null,null,null,"Viscount",null,null,null,"CHN","Sichuan Pr","Sichuan Pr"]
["Czech Republic","CZE","EuropeDelivery",null,null,null,null,null,null,null,null,null,null,null,null,null,null,null,null,null,null,null,"Viscountess",null,null,null,"CHN","上海市","上海市"]
["Denmark","DNK","EuropeDelivery",null,null,null,null,null,null,null,null,null,null,null,null,null,null,null,null,null,null,null,"Wing Commander",null,null,null,"CHN","河北省","河北省"]
["Djibouti","DJI","ROWDelivery",null,null,null,null,null,null,null,null,null,null,null,null,null,null,null,null,null,null,null,null,null,null,null,"CHN","浙江省","浙江省"]
["Dominica","DMA","ROWDelivery",null,null,null,null,null,null,null,null,null,null,null,null,null,null,null,null,null,null,null,null,null,null,null,"CHN","湖南省","湖南省"]
["Dominican Republic","DOM","ROWDelivery",null,null,null,null,null,null,null,null,null,null,null,null,null,null,null,null,null,null,null,null,null,null,null,"CHN","甘肃省","甘肃省"]
["Ecuador","ECU","ROWDelivery",null,null,null,null,null,null,null,null,null,null,null,null,null,null,null,null,null,null,null,null,null,null,null,"CHN","陕西省","陕西省"]
["Egypt","EGY","ROWDelivery",null,null,null,null,null,null,null,null,null,null,null,null,null,null,null,null,null,null,null,null,null,null,null,"COL","COL","COL"]
["El Salvador","SLV","ROWDelivery",null,null,null,null,null,null,null,null,null,null,null,null,null,null,null,null,null,null,null,null,null,null,null,"CYM","Grand Caym","Grand Caym"]
["Equatorial Guinea","GNQ","ROWDelivery",null,null,null,null,null,null,null,null,null,null,null,null,null,null,null,null,null,null,null,null,null,null,null,"CYP","Larnaka","Larnaka"]
["Eritrea","ERI","ROWDelivery",null,null,null,null,null,null,null,null,null,null,null,null,null,null,null,null,null,null,null,null,null,null,null,"CYP","Lefkosia","Lefkosia"]
["Estonia","EST","EuropeDelivery",null,null,null,null,null,null,null,null,null,null,null,null,null,null,null,null,null,null,null,null,null,null,null,"CYP","Lefxosia","Lefxosia"]
["Ethiopia","ETH","ROWDelivery",null,null,null,null,null,null,null,null,null,null,null,null,null,null,null,null,null,null,null,null,null,null,null,"CYP","Lemesos","Lemesos"]
["Falkland Islands (Islas Malvinas)","FLK","ROWDelivery",null,null,null,null,null,null,null,null,null,null,null,null,null,null,null,null,null,null,null,null,null,null,null,"CYP","Pafos","Pafos"]
["Faroe Islands","FRO","ROWDelivery",null,null,null,null,null,null,null,null,null,null,null,null,null,null,null,null,null,null,null,null,null,null,null,"EGY","Cairo","Cairo"]
["Fiji","FJI","ROWDelivery",null,null,null,null,null,null,null,null,null,null,null,null,null,null,null,null,null,null,null,null,null,null,null,"EST",".","."]
["Finland","FIN","EuropeDelivery",null,null,null,null,null,null,null,null,null,null,null,null,null,null,null,null,null,null,null,null,null,null,null,"ETH","Addis Abab","Addis Abab"]
["France","FRA","EuropeDelivery",null,null,null,null,null,null,null,null,null,null,null,null,null,null,null,null,null,null,null,null,null,null,null,"FLK","East Falkl","East Falkl"]
["French Guiana","GUF","ROWDelivery",null,null,null,null,null,null,null,null,null,null,null,null,null,null,null,null,null,null,null,null,null,null,null,"GBR","Aberdeensh","Aberdeensh"]
["French Polynesia","PYF","ROWDelivery",null,null,null,null,null,null,null,null,null,null,null,null,null,null,null,null,null,null,null,null,null,null,null,"GBR","Angus","Angus"]
["French Southern and Antarctic Lands","ATF","ROWDelivery",null,null,null,null,null,null,null,null,null,null,null,null,null,null,null,null,null,null,null,null,null,null,null,"GBR","Argyll","Argyll"]
["Gabon","GAB","ROWDelivery",null,null,null,null,null,null,null,null,null,null,null,null,null,null,null,null,null,null,null,null,null,null,null,"GBR","Avon","Avon"]
["Gambia","GMB","ROWDelivery",null,null,null,null,null,null,null,null,null,null,null,null,null,null,null,null,null,null,null,null,null,null,null,"GBR","Ayrshire","Ayrshire"]
["Georgia","GEO","ROWDelivery",null,null,null,null,null,null,null,null,null,null,null,null,null,null,null,null,null,null,null,null,null,null,null,"GBR","Banffshire","Banffshire"]
["Germany","DEU","EuropeDelivery",null,null,null,null,null,null,null,null,null,null,null,null,null,null,null,null,null,null,null,null,null,null,null,"GBR","Beds","Beds"]
["Ghana","GHA","ROWDelivery",null,null,null,null,null,null,null,null,null,null,null,null,null,null,null,null,null,null,null,null,null,null,null,"GBR","Berks","Berks"]
["Gibraltar","GIB","EuropeDelivery",null,null,null,null,null,null,null,null,null,null,null,null,null,null,null,null,null,null,null,null,null,null,null,"GBR","Berwickshi","Berwickshi"]
["Greece","GRC","EuropeDelivery",null,null,null,null,null,null,null,null,null,null,null,null,null,null,null,null,null,null,null,null,null,null,null,"GBR","Bucks","Bucks"]
["Greenland","GRL","ROWDelivery",null,null,null,null,null,null,null,null,null,null,null,null,null,null,null,null,null,null,null,null,null,null,null,"GBR","Caithness","Caithness"]
["Grenada","GRD","ROWDelivery",null,null,null,null,null,null,null,null,null,null,null,null,null,null,null,null,null,null,null,null,null,null,null,"GBR","Cambs","Cambs"]
["Guadeloupe","GLP","ROWDelivery",null,null,null,null,null,null,null,null,null,null,null,null,null,null,null,null,null,null,null,null,null,null,null,"GBR","CC-Picc","CC-Picc"]
["Guam","GUM","ROWDelivery",null,null,null,null,null,null,null,null,null,null,null,null,null,null,null,null,null,null,null,null,null,null,null,"GBR","CC-ReX","CC-ReX"]
["Guatemala","GTM","ROWDelivery",null,null,null,null,null,null,null,null,null,null,null,null,null,null,null,null,null,null,null,null,null,null,null,"GBR","CC-Som","CC-Som"]
["Guernsey","GGY","EuropeDelivery",null,null,null,null,null,null,null,null,null,null,null,null,null,null,null,null,null,null,null,null,null,null,null,"GBR","CC-StP","CC-StP"]
["Guinea","GIN","ROWDelivery",null,null,null,null,null,null,null,null,null,null,null,null,null,null,null,null,null,null,null,null,null,null,null,"GBR","CC-T5","CC-T6"]
["Guinea-Bissau","GNB","ROWDelivery",null,null,null,null,null,null,null,null,null,null,null,null,null,null,null,null,null,null,null,null,null,null,null,"GBR","Cheshire","Cheshire"]
["Guyana","GUY","ROWDelivery",null,null,null,null,null,null,null,null,null,null,null,null,null,null,null,null,null,null,null,null,null,null,null,"GBR","Clackmanna","Clackmanna"]
["Haiti","HTI","ROWDelivery",null,null,null,null,null,null,null,null,null,null,null,null,null,null,null,null,null,null,null,null,null,null,null,"GBR","Cleveland","Cleveland"]
["Heard Island and McDonald Islands","HMD","ROWDelivery",null,null,null,null,null,null,null,null,null,null,null,null,null,null,null,null,null,null,null,null,null,null,null,"GBR","Clwyd","Clwyd"]
["Honduras","HND","ROWDelivery",null,null,null,null,null,null,null,null,null,null,null,null,null,null,null,null,null,null,null,null,null,null,null,"GBR","Co Antrim","Co Antrim"]
["Hong Kong SAR","HKG","ROWDelivery",null,null,null,null,null,null,null,null,null,null,null,null,null,null,null,null,null,null,null,null,null,null,null,"GBR","Co Armagh","Co Armagh"]
["Hungary","HUN","EuropeDelivery",null,null,null,null,null,null,null,null,null,null,null,null,null,null,null,null,null,null,null,null,null,null,null,"GBR","Co Down","Co Down"]
["Iceland","ISL","ROWDelivery",null,null,null,null,null,null,null,null,null,null,null,null,null,null,null,null,null,null,null,null,null,null,null,"GBR","Co Durham","Co Durham"]
["India","IND","ROWDelivery",null,null,null,null,null,null,null,null,null,null,null,null,null,null,null,null,null,null,null,null,null,null,null,"GBR","Co Fermana","Co Fermana"]
["Indonesia","IDN","ROWDelivery",null,null,null,null,null,null,null,null,null,null,null,null,null,null,null,null,null,null,null,null,null,null,null,"GBR","Co Tyrone","Co Tyrone"]
["Iran","IRN","EuropeDelivery",null,null,null,null,null,null,null,null,null,null,null,null,null,null,null,null,null,null,null,null,null,null,null,"GBR","Cornwall","Cornwall"]
["Iraq","IRQ","ROWDelivery",null,null,null,null,null,null,null,null,null,null,null,null,null,null,null,null,null,null,null,null,null,null,null,"GBR","County Lon","County Lon"]
["Ireland","IRL","EuropeDelivery",null,null,null,null,null,null,null,null,null,null,null,null,null,null,null,null,null,null,null,null,null,null,null,"GBR","Cumbria","Cumbria"]
["Isle of Man","IMN","UKDelivery",null,null,null,null,null,null,null,null,null,null,null,null,null,null,null,null,null,null,null,null,null,null,null,"GBR","Derbyshire","Derbyshire"]
["Israel","ISR","ROWDelivery",null,null,null,null,null,null,null,null,null,null,null,null,null,null,null,null,null,null,null,null,null,null,null,"GBR","Devon","Devon"]
["Italy","ITA","EuropeDelivery",null,null,null,null,null,null,null,null,null,null,null,null,null,null,null,null,null,null,null,null,null,null,null,"GBR","Dorset","Dorset"]
["Jamaica","JAM","ROWDelivery",null,null,null,null,null,null,null,null,null,null,null,null,null,null,null,null,null,null,null,null,null,null,null,"GBR","Dumfriessh","Dumfriessh"]
["Japan","JPN","ROWDelivery",null,null,null,null,null,null,null,null,null,null,null,null,null,null,null,null,null,null,null,null,null,null,null,"GBR","Dunbartons","Dunbartons"]
["Jersey","JEY","EuropeDelivery",null,null,null,null,null,null,null,null,null,null,null,null,null,null,null,null,null,null,null,null,null,null,null,"GBR","Dyfed","Dyfed"]
["Jordan","JOR","ROWDelivery",null,null,null,null,null,null,null,null,null,null,null,null,null,null,null,null,null,null,null,null,null,null,null,"GBR","E Sussex","E Sussex"]
["Kazakhstan","KAZ","ROWDelivery",null,null,null,null,null,null,null,null,null,null,null,null,null,null,null,null,null,null,null,null,null,null,null,"GBR","East Lothi","East Lothi"]
["Kenya","KEN","ROWDelivery",null,null,null,null,null,null,null,null,null,null,null,null,null,null,null,null,null,null,null,null,null,null,null,"GBR","Essex","Essex"]
["Kiribati","KIR","ROWDelivery",null,null,null,null,null,null,null,null,null,null,null,null,null,null,null,null,null,null,null,null,null,null,null,"GBR","Fife","Fife"]
["Korea","KOR","ROWDelivery",null,null,null,null,null,null,null,null,null,null,null,null,null,null,null,null,null,null,null,null,null,null,null,"GBR","GBR","GBR"]
["Kuwait","KWT","ROWDelivery",null,null,null,null,null,null,null,null,null,null,null,null,null,null,null,null,null,null,null,null,null,null,null,"GBR","Gibraltar","Gibraltar"]
["Kyrgyzstan","KGZ","ROWDelivery",null,null,null,null,null,null,null,null,null,null,null,null,null,null,null,null,null,null,null,null,null,null,null,"GBR","Glos","Glos"]
["Laos","LAO","ROWDelivery",null,null,null,null,null,null,null,null,null,null,null,null,null,null,null,null,null,null,null,null,null,null,null,"GBR","Gwent","Gwent"]
["Latvia","LVA","EuropeDelivery",null,null,null,null,null,null,null,null,null,null,null,null,null,null,null,null,null,null,null,null,null,null,null,"GBR","Gwynedd","Gwynedd"]
["Lebanon","LBN","ROWDelivery",null,null,null,null,null,null,null,null,null,null,null,null,null,null,null,null,null,null,null,null,null,null,null,"GBR","Hants","Hants"]
["Lesotho","LSO","ROWDelivery",null,null,null,null,null,null,null,null,null,null,null,null,null,null,null,null,null,null,null,null,null,null,null,"GBR","Herefordsh","Herefordsh"]
["Liberia","LBR","ROWDelivery",null,null,null,null,null,null,null,null,null,null,null,null,null,null,null,null,null,null,null,null,null,null,null,"GBR","Herts","Herts"]
["Libya","LBY","ROWDelivery",null,null,null,null,null,null,null,null,null,null,null,null,null,null,null,null,null,null,null,null,null,null,null,"GBR","Inverness-","Inverness-"]
["Liechtenstein","LIE","ROWDelivery",null,null,null,null,null,null,null,null,null,null,null,null,null,null,null,null,null,null,null,null,null,null,null,"GBR","Isle of Wi","Isle of Wi"]
["Lithuania","LTU","ROWDelivery",null,null,null,null,null,null,null,null,null,null,null,null,null,null,null,null,null,null,null,null,null,null,null,"GBR","Kent","Kent"]
["Luxembourg","LUX","EuropeDelivery",null,null,null,null,null,null,null,null,null,null,null,null,null,null,null,null,null,null,null,null,null,null,null,"GBR","Kincardine","Kincardine"]
["Macao SAR","MAC","ROWDelivery",null,null,null,null,null,null,null,null,null,null,null,null,null,null,null,null,null,null,null,null,null,null,null,"GBR","Kirkcudbri","Kirkcudbri"]
["Macedonia, Former Yugoslav Republic of","MKD","ROWDelivery",null,null,null,null,null,null,null,null,null,null,null,null,null,null,null,null,null,null,null,null,null,null,null,"GBR","Lanarkshir","Lanarkshir"]
["Madagascar","MDG","ROWDelivery",null,null,null,null,null,null,null,null,null,null,null,null,null,null,null,null,null,null,null,null,null,null,null,"GBR","Lancs","Lancs"]
["Malawi","MWI","ROWDelivery",null,null,null,null,null,null,null,null,null,null,null,null,null,null,null,null,null,null,null,null,null,null,null,"GBR","Leics","Leics"]
["Malaysia","MYS","ROWDelivery",null,null,null,null,null,null,null,null,null,null,null,null,null,null,null,null,null,null,null,null,null,null,null,"GBR","Lincs","Lincs"]
["Maldives","MDV","ROWDelivery",null,null,null,null,null,null,null,null,null,null,null,null,null,null,null,null,null,null,null,null,null,null,null,"GBR","London","London"]
["Mali","MLI","ROWDelivery",null,null,null,null,null,null,null,null,null,null,null,null,null,null,null,null,null,null,null,null,null,null,null,"GBR","M Glam","M Glam"]
["Malta","MLT","ROWDelivery",null,null,null,null,null,null,null,null,null,null,null,null,null,null,null,null,null,null,null,null,null,null,null,"GBR","Merseyside","Merseyside"]
["Marshall Islands","MHL","ROWDelivery",null,null,null,null,null,null,null,null,null,null,null,null,null,null,null,null,null,null,null,null,null,null,null,"GBR","Middx","Middx"]
["Martinique","MTQ","ROWDelivery",null,null,null,null,null,null,null,null,null,null,null,null,null,null,null,null,null,null,null,null,null,null,null,"GBR","Midlothian","Midlothian"]
["Mauritania","MRT","ROWDelivery",null,null,null,null,null,null,null,null,null,null,null,null,null,null,null,null,null,null,null,null,null,null,null,"GBR","Morayshire","Morayshire"]
["Mauritius","MUS","ROWDelivery",null,null,null,null,null,null,null,null,null,null,null,null,null,null,null,null,null,null,null,null,null,null,null,"GBR","N Humbersi","N Humbersi"]
["Mayotte","MYT","ROWDelivery",null,null,null,null,null,null,null,null,null,null,null,null,null,null,null,null,null,null,null,null,null,null,null,"GBR","N Yorkshir","N Yorkshir"]
["Mexico","MEX","ROWDelivery",null,null,null,null,null,null,null,null,null,null,null,null,null,null,null,null,null,null,null,null,null,null,null,"GBR","Norfolk","Norfolk"]
["Micronesia","FSM","ROWDelivery",null,null,null,null,null,null,null,null,null,null,null,null,null,null,null,null,null,null,null,null,null,null,null,"GBR","Northants","Northants"]
["Moldova","MDA","ROWDelivery",null,null,null,null,null,null,null,null,null,null,null,null,null,null,null,null,null,null,null,null,null,null,null,"GBR","Northd","Northd"]
["Monaco","MCO","EuropeDelivery",null,null,null,null,null,null,null,null,null,null,null,null,null,null,null,null,null,null,null,null,null,null,null,"GBR","Notts","Notts"]
["Mongolia","MNG","ROWDelivery",null,null,null,null,null,null,null,null,null,null,null,null,null,null,null,null,null,null,null,null,null,null,null,"GBR","Orkney","Orkney"]
["Montenegro","MNE","ROWDelivery",null,null,null,null,null,null,null,null,null,null,null,null,null,null,null,null,null,null,null,null,null,null,null,"GBR","Oxon","Oxon"]
["Montserrat","MSR","ROWDelivery",null,null,null,null,null,null,null,null,null,null,null,null,null,null,null,null,null,null,null,null,null,null,null,"GBR","Peeblesshi","Peeblesshi"]
["Morocco","MAR","ROWDelivery",null,null,null,null,null,null,null,null,null,null,null,null,null,null,null,null,null,null,null,null,null,null,null,"GBR","Perthshire","Perthshire"]
["Mozambique","MOZ","ROWDelivery",null,null,null,null,null,null,null,null,null,null,null,null,null,null,null,null,null,null,null,null,null,null,null,"GBR","Powys","Powys"]
["Myanmar","MMR","ROWDelivery",null,null,null,null,null,null,null,null,null,null,null,null,null,null,null,null,null,null,null,null,null,null,null,"GBR","Renfrewshi","Renfrewshi"]
["Namibia","NAM","ROWDelivery",null,null,null,null,null,null,null,null,null,null,null,null,null,null,null,null,null,null,null,null,null,null,null,"GBR","Ross-Shire","Ross-Shire"]
["Nauru","NRU","ROWDelivery",null,null,null,null,null,null,null,null,null,null,null,null,null,null,null,null,null,null,null,null,null,null,null,"GBR","Roxburghsh","Roxburghsh"]
["Nepal","NPL","ROWDelivery",null,null,null,null,null,null,null,null,null,null,null,null,null,null,null,null,null,null,null,null,null,null,null,"GBR","Rutland","Rutland"]
["Netherlands","NLD","EuropeDelivery",null,null,null,null,null,null,null,null,null,null,null,null,null,null,null,null,null,null,null,null,null,null,null,"GBR","S Glam","S Glam"]
["Netherlands Antilles","ANT","ROWDelivery",null,null,null,null,null,null,null,null,null,null,null,null,null,null,null,null,null,null,null,null,null,null,null,"GBR","S Humbersi","S Humbersi"]
["New Caledonia","NCL","ROWDelivery",null,null,null,null,null,null,null,null,null,null,null,null,null,null,null,null,null,null,null,null,null,null,null,"GBR","S Yorkshir","S Yorkshir"]
["New Zealand","NZL","ROWDelivery",null,null,null,null,null,null,null,null,null,null,null,null,null,null,null,null,null,null,null,null,null,null,null,"GBR","Selkirkshi","Selkirkshi"]
["Nicaragua","NIC","ROWDelivery",null,null,null,null,null,null,null,null,null,null,null,null,null,null,null,null,null,null,null,null,null,null,null,"GBR","Shropshire","Shropshire"]
["Niger","NER","ROWDelivery",null,null,null,null,null,null,null,null,null,null,null,null,null,null,null,null,null,null,null,null,null,null,null,"GBR","Somerset","Somerset"]
["Nigeria","NGA","ROWDelivery",null,null,null,null,null,null,null,null,null,null,null,null,null,null,null,null,null,null,null,null,null,null,null,"GBR","Staffs","Staffs"]
["Niue","NIU","ROWDelivery",null,null,null,null,null,null,null,null,null,null,null,null,null,null,null,null,null,null,null,null,null,null,null,"GBR","Stirlingsh","Stirlingsh"]
["Norfolk Island","NFK","ROWDelivery",null,null,null,null,null,null,null,null,null,null,null,null,null,null,null,null,null,null,null,null,null,null,null,"GBR","Suffolk","Suffolk"]
["North Korea","PRK","ROWDelivery",null,null,null,null,null,null,null,null,null,null,null,null,null,null,null,null,null,null,null,null,null,null,null,"GBR","Surrey","Surrey"]
["Northern Mariana Islands","MNP","ROWDelivery",null,null,null,null,null,null,null,null,null,null,null,null,null,null,null,null,null,null,null,null,null,null,null,"GBR","Sutherland","Sutherland"]
["Norway","NOR","EuropeDelivery",null,null,null,null,null,null,null,null,null,null,null,null,null,null,null,null,null,null,null,null,null,null,null,"GBR","Tyne & Wea","Tyne & Wea"]
["Oman","OMN","ROWDelivery",null,null,null,null,null,null,null,null,null,null,null,null,null,null,null,null,null,null,null,null,null,null,null,"GBR","W Glam","W Glam"]
["Pakistan","PAK","ROWDelivery",null,null,null,null,null,null,null,null,null,null,null,null,null,null,null,null,null,null,null,null,null,null,null,"GBR","W Midlands","W Midlands"]
["Palau","PLW","ROWDelivery",null,null,null,null,null,null,null,null,null,null,null,null,null,null,null,null,null,null,null,null,null,null,null,"GBR","W Sussex","W Sussex"]
["Palestinian Authority","PSE","ROWDelivery",null,null,null,null,null,null,null,null,null,null,null,null,null,null,null,null,null,null,null,null,null,null,null,"GBR","W Yorkshir","W Yorkshir"]
["Panama","PAN","ROWDelivery",null,null,null,null,null,null,null,null,null,null,null,null,null,null,null,null,null,null,null,null,null,null,null,"GBR","Warks","Warks"]
["Papua New Guinea","PNG","ROWDelivery",null,null,null,null,null,null,null,null,null,null,null,null,null,null,null,null,null,null,null,null,null,null,null,"GBR","West Lothi","West Lothi"]
["Paraguay","PRY","ROWDelivery",null,null,null,null,null,null,null,null,null,null,null,null,null,null,null,null,null,null,null,null,null,null,null,"GBR","Wigtownshi","Wigtownshi"]
["Peru","PER","ROWDelivery",null,null,null,null,null,null,null,null,null,null,null,null,null,null,null,null,null,null,null,null,null,null,null,"GBR","Wilts","Wilts"]
["Philippines","PHL","ROWDelivery",null,null,null,null,null,null,null,null,null,null,null,null,null,null,null,null,null,null,null,null,null,null,null,"GBR","Worcs","Worcs"]
["Pitcairn Islands","PCN","ROWDelivery",null,null,null,null,null,null,null,null,null,null,null,null,null,null,null,null,null,null,null,null,null,null,null,"GEO","TBILISI","TBILISI"]
["Poland","POL","EuropeDelivery",null,null,null,null,null,null,null,null,null,null,null,null,null,null,null,null,null,null,null,null,null,null,null,"GGY","Guernsey","Guernsey"]
["Portugal","PRT","EuropeDelivery",null,null,null,null,null,null,null,null,null,null,null,null,null,null,null,null,null,null,null,null,null,null,null,"GHA","Greater Ac","Greater Ac"]
["Puerto Rico","PRI","ROWDelivery",null,null,null,null,null,null,null,null,null,null,null,null,null,null,null,null,null,null,null,null,null,null,null,"GIB","Gibraltar","Gibraltar"]
["Qatar","QAT","ROWDelivery",null,null,null,null,null,null,null,null,null,null,null,null,null,null,null,null,null,null,null,null,null,null,null,"GRC","Attiki","Attiki"]
["Reunion","REU","ROWDelivery",null,null,null,null,null,null,null,null,null,null,null,null,null,null,null,null,null,null,null,null,null,null,null,"GRC","Dytiki Ell","Dytiki Ell"]
["Romania","ROU","EuropeDelivery",null,null,null,null,null,null,null,null,null,null,null,null,null,null,null,null,null,null,null,null,null,null,null,"GRC","Ipeiros","Ipeiros"]
["Russia","RUS","ROWDelivery",null,null,null,null,null,null,null,null,null,null,null,null,null,null,null,null,null,null,null,null,null,null,null,"GRC","Kentriki M","Kentriki M"]
["Rwanda","RWA","ROWDelivery",null,null,null,null,null,null,null,null,null,null,null,null,null,null,null,null,null,null,null,null,null,null,null,"GRC","Kriti","Kriti"]
["Saint Barthélemy","BLM","ROWDelivery",null,null,null,null,null,null,null,null,null,null,null,null,null,null,null,null,null,null,null,null,null,null,null,"GRC","Notio Aiga","Notio Aiga"]
["Saint Helena, Ascension and Tristan da Cunha","SHN","ROWDelivery",null,null,null,null,null,null,null,null,null,null,null,null,null,null,null,null,null,null,null,null,null,null,null,"GRC","Peloponnis","Peloponnis"]
["Saint Kitts and Nevis","KNA","ROWDelivery",null,null,null,null,null,null,null,null,null,null,null,null,null,null,null,null,null,null,null,null,null,null,null,"GRC","Voreio Aig","Voreio Aig"]
["Saint Lucia","LCA","ROWDelivery",null,null,null,null,null,null,null,null,null,null,null,null,null,null,null,null,null,null,null,null,null,null,null,"HKG","Hong Kong","Hong Kong"]
["Saint Martin","MAF","ROWDelivery",null,null,null,null,null,null,null,null,null,null,null,null,null,null,null,null,null,null,null,null,null,null,null,"HRV","Splitsko-d","Splitsko-d"]
["Saint Pierre and Miquelon","SPM","ROWDelivery",null,null,null,null,null,null,null,null,null,null,null,null,null,null,null,null,null,null,null,null,null,null,null,"HRV","Zagreb","Zagreb"]
["Saint Vincent and the Grenadines","VCT","ROWDelivery",null,null,null,null,null,null,null,null,null,null,null,null,null,null,null,null,null,null,null,null,null,null,null,"IDN","Denpasar","Denpasar"]
["Samoa","WSM","ROWDelivery",null,null,null,null,null,null,null,null,null,null,null,null,null,null,null,null,null,null,null,null,null,null,null,"IND","Haryana","Haryana"]
["San Marino","SMR","EuropeDelivery",null,null,null,null,null,null,null,null,null,null,null,null,null,null,null,null,null,null,null,null,null,null,null,"IND","Karnataka","Karnataka"]
["São Tomé and Príncipe","STP","ROWDelivery",null,null,null,null,null,null,null,null,null,null,null,null,null,null,null,null,null,null,null,null,null,null,null,"IND","Tamil Nadu","Tamil Nadu"]
["Saudi Arabia","SAU","ROWDelivery",null,null,null,null,null,null,null,null,null,null,null,null,null,null,null,null,null,null,null,null,null,null,null,"IRL","Co. 2 Dubl","Co. 2 Dubl"]
["Senegal","SEN","ROWDelivery",null,null,null,null,null,null,null,null,null,null,null,null,null,null,null,null,null,null,null,null,null,null,null,"IRL","Co. Carlow","Co. Carlow"]
["Serbia","SRB","ROWDelivery",null,null,null,null,null,null,null,null,null,null,null,null,null,null,null,null,null,null,null,null,null,null,null,"IRL","Co. Cavan","Co. Cavan"]
["Seychelles","SYC","ROWDelivery",null,null,null,null,null,null,null,null,null,null,null,null,null,null,null,null,null,null,null,null,null,null,null,"IRL","Co. Clare","Co. Clare"]
["Sierra Leone","SLE","ROWDelivery",null,null,null,null,null,null,null,null,null,null,null,null,null,null,null,null,null,null,null,null,null,null,null,"IRL","Co. Cork","Co. Cork"]
["Singapore","SGP","ROWDelivery",null,null,null,null,null,null,null,null,null,null,null,null,null,null,null,null,null,null,null,null,null,null,null,"IRL","Co. Donega","Co. Donega"]
["Slovakia","SVK","EuropeDelivery",null,null,null,null,null,null,null,null,null,null,null,null,null,null,null,null,null,null,null,null,null,null,null,"IRL","Co. Dublin","Co. Dublin"]
["Slovenia","SVN","EuropeDelivery",null,null,null,null,null,null,null,null,null,null,null,null,null,null,null,null,null,null,null,null,null,null,null,"IRL","Co. Galway","Co. Galway"]
["Solomon Islands","SLB","ROWDelivery",null,null,null,null,null,null,null,null,null,null,null,null,null,null,null,null,null,null,null,null,null,null,null,"IRL","Co. Kerry","Co. Kerry"]
["Somalia","SOM","ROWDelivery",null,null,null,null,null,null,null,null,null,null,null,null,null,null,null,null,null,null,null,null,null,null,null,"IRL","Co. Kildar","Co. Kildar"]
["South Africa","ZAF","ROWDelivery",null,null,null,null,null,null,null,null,null,null,null,null,null,null,null,null,null,null,null,null,null,null,null,"IRL","Co. Kilken","Co. Kilken"]
["South Georgia and the South Sandwich Islands","SGS","ROWDelivery",null,null,null,null,null,null,null,null,null,null,null,null,null,null,null,null,null,null,null,null,null,null,null,"IRL","Co. Laois","Co. Laois"]
["Spain","ESP","EuropeDelivery",null,null,null,null,null,null,null,null,null,null,null,null,null,null,null,null,null,null,null,null,null,null,null,"IRL","Co. Leitri","Co. Leitri"]
["Sri Lanka","LKA","ROWDelivery",null,null,null,null,null,null,null,null,null,null,null,null,null,null,null,null,null,null,null,null,null,null,null,"IRL","Co. Limeri","Co. Limeri"]
["Sudan","SDN","ROWDelivery",null,null,null,null,null,null,null,null,null,null,null,null,null,null,null,null,null,null,null,null,null,null,null,"IRL","Co. Longfo","Co. Longfo"]
["Suriname","SUR","ROWDelivery",null,null,null,null,null,null,null,null,null,null,null,null,null,null,null,null,null,null,null,null,null,null,null,"IRL","Co. Louth","Co. Louth"]
["Svalbard and Jan Mayen Island","SJM","ROWDelivery",null,null,null,null,null,null,null,null,null,null,null,null,null,null,null,null,null,null,null,null,null,null,null,"IRL","Co. Mayo","Co. Mayo"]
["Swaziland","SWZ","ROWDelivery",null,null,null,null,null,null,null,null,null,null,null,null,null,null,null,null,null,null,null,null,null,null,null,"IRL","Co. Meath","Co. Meath"]
["Sweden","SWE","EuropeDelivery",null,null,null,null,null,null,null,null,null,null,null,null,null,null,null,null,null,null,null,null,null,null,null,"IRL","Co. Monagh","Co. Monagh"]
["Switzerland","CHE","EuropeDelivery",null,null,null,null,null,null,null,null,null,null,null,null,null,null,null,null,null,null,null,null,null,null,null,"IRL","Co. Offaly","Co. Offaly"]
["Syria","SYR","ROWDelivery",null,null,null,null,null,null,null,null,null,null,null,null,null,null,null,null,null,null,null,null,null,null,null,"IRL","Co. Roscom","Co. Roscom"]
["Taiwan","TWN","ROWDelivery",null,null,null,null,null,null,null,null,null,null,null,null,null,null,null,null,null,null,null,null,null,null,null,"IRL","Co. Sligo","Co. Sligo"]
["Tajikistan","TJK","ROWDelivery",null,null,null,null,null,null,null,null,null,null,null,null,null,null,null,null,null,null,null,null,null,null,null,"IRL","Co. Tipper","Co. Tipper"]
["Tanzania","TZA","ROWDelivery",null,null,null,null,null,null,null,null,null,null,null,null,null,null,null,null,null,null,null,null,null,null,null,"IRL","Co. Waterf","Co. Waterf"]
["Thailand","THA","ROWDelivery",null,null,null,null,null,null,null,null,null,null,null,null,null,null,null,null,null,null,null,null,null,null,null,"IRL","Co. Westme","Co. Westme"]
["Timor-Leste","TLS","ROWDelivery",null,null,null,null,null,null,null,null,null,null,null,null,null,null,null,null,null,null,null,null,null,null,null,"IRL","Co. Wexfor","Co. Wexfor"]
["Togo","TGO","ROWDelivery",null,null,null,null,null,null,null,null,null,null,null,null,null,null,null,null,null,null,null,null,null,null,null,"IRL","Co. Wicklo","Co. Wicklo"]
["Tokelau","TKL","ROWDelivery",null,null,null,null,null,null,null,null,null,null,null,null,null,null,null,null,null,null,null,null,null,null,null,"IRL","Co.Dublin","Co.Dublin"]
["Tonga","TON","ROWDelivery",null,null,null,null,null,null,null,null,null,null,null,null,null,null,null,null,null,null,null,null,null,null,null,"IRQ","Nainawa","Nainawa"]
["Trinidad and Tobago","TTO","ROWDelivery",null,null,null,null,null,null,null,null,null,null,null,null,null,null,null,null,null,null,null,null,null,null,null,"IRQ","Wasit","Wasit"]
["Tunisia","TUN","ROWDelivery",null,null,null,null,null,null,null,null,null,null,null,null,null,null,null,null,null,null,null,null,null,null,null,"IRQ","محافظة نين","محافظة نين"]
["Turkey","TUR","ROWDelivery",null,null,null,null,null,null,null,null,null,null,null,null,null,null,null,null,null,null,null,null,null,null,null,"ITA","AG","AG"]
["Turkmenistan","TKM","ROWDelivery",null,null,null,null,null,null,null,null,null,null,null,null,null,null,null,null,null,null,null,null,null,null,null,"ITA","Agrigento","Agrigento"]
["Turks and Caicos Islands","TCA","ROWDelivery",null,null,null,null,null,null,null,null,null,null,null,null,null,null,null,null,null,null,null,null,null,null,null,"ITA","AL","AL"]
["Tuvalu","TUV","ROWDelivery",null,null,null,null,null,null,null,null,null,null,null,null,null,null,null,null,null,null,null,null,null,null,null,"ITA","Alessandri","Alessandri"]
["U.S. Minor Outlying Islands","UMI","ROWDelivery",null,null,null,null,null,null,null,null,null,null,null,null,null,null,null,null,null,null,null,null,null,null,null,"ITA","Ancona","Ancona"]
["Uganda","UGA","ROWDelivery",null,null,null,null,null,null,null,null,null,null,null,null,null,null,null,null,null,null,null,null,null,null,null,"ITA","Arezzo","Arezzo"]
["Ukraine","UKR","ROWDelivery",null,null,null,null,null,null,null,null,null,null,null,null,null,null,null,null,null,null,null,null,null,null,null,"ITA","Ascoli Pic","Ascoli Pic"]
["United Arab Emirates","ARE","ROWDelivery",null,null,null,null,null,null,null,null,null,null,null,null,null,null,null,null,null,null,null,null,null,null,null,"ITA","BA","BA"]
["United Kingdom","GBR","UKDelivery",null,null,null,null,null,null,null,null,null,null,null,null,null,null,null,null,null,null,null,null,null,null,null,"ITA","Bari","Bari"]
["United States","USA","USCANDelivery",null,null,null,null,null,null,null,null,null,null,null,null,null,null,null,null,null,null,null,null,null,null,null,"ITA","BG","BG"]
["Uruguay","URY","ROWDelivery",null,null,null,null,null,null,null,null,null,null,null,null,null,null,null,null,null,null,null,null,null,null,null,"ITA","Biella","Biella"]
["Uzbekistan","UZB","ROWDelivery",null,null,null,null,null,null,null,null,null,null,null,null,null,null,null,null,null,null,null,null,null,null,null,"ITA","BL","BL"]
["Vanuatu","VUT","ROWDelivery",null,null,null,null,null,null,null,null,null,null,null,null,null,null,null,null,null,null,null,null,null,null,null,"ITA","BO","BO"]
["Vatican City","VAT","EuropeDelivery",null,null,null,null,null,null,null,null,null,null,null,null,null,null,null,null,null,null,null,null,null,null,null,"ITA","Bologna","Bologna"]
["Venezuela","VEN","ROWDelivery",null,null,null,null,null,null,null,null,null,null,null,null,null,null,null,null,null,null,null,null,null,null,null,"ITA","Bozen","Bozen"]
["Vietnam","VNM","ROWDelivery",null,null,null,null,null,null,null,null,null,null,null,null,null,null,null,null,null,null,null,null,null,null,null,"ITA","Brescia","Brescia"]
["Virgin Islands","VIR","ROWDelivery",null,null,null,null,null,null,null,null,null,null,null,null,null,null,null,null,null,null,null,null,null,null,null,"ITA","BS","BS"]
["Wallis and Futuna","WLF","ROWDelivery",null,null,null,null,null,null,null,null,null,null,null,null,null,null,null,null,null,null,null,null,null,null,null,"ITA","CA","CA"]
["Yemen","YEM","ROWDelivery",null,null,null,null,null,null,null,null,null,null,null,null,null,null,null,null,null,null,null,null,null,null,null,"ITA","Caserta","Caserta"]
["Zambia","ZMB","ROWDelivery",null,null,null,null,null,null,null,null,null,null,null,null,null,null,null,null,null,null,null,null,null,null,null,"ITA","Catania","Catania"]
["Zimbabwe","ZWE","ROWDelivery",null,null,null,null,null,null,null,null,null,null,null,null,null,null,null,null,null,null,null,null,null,null,null,"ITA","CB","CB"]
[null,null,null,null,null,null,null,null,null,null,null,null,null,null,null,null,null,null,null,null,null,null,null,null,null,null,"ITA","CN","CN"]
[null,null,null,null,null,null,null,null,null,null,null,null,null,null,null,null,null,null,null,null,null,null,null,null,null,null,"ITA","CO","CO"]
[null,null,null,null,null,null,null,null,null,null,null,null,null,null,null,null,null,null,null,null,null,null,null,null,null,null,"ITA","Como","Como"]
[null,null,null,null,null,null,null,null,null,null,null,null,null,null,null,null,null,null,null,null,null,null,null,null,null,null,"ITA","Cosenza","Cosenza"]
[null,null,null,null,null,null,null,null,null,null,null,null,null,null,null,null,null,null,null,null,null,null,null,null,null,null,"ITA","Cremona","Cremona"]
[null,null,null,null,null,null,null,null,null,null,null,null,null,null,null,null,null,null,null,null,null,null,null,null,null,null,"ITA","Cuneo","Cuneo"]
[null,null,null,null,null,null,null,null,null,null,null,null,null,null,null,null,null,null,null,null,null,null,null,null,null,null,"ITA","Emilia Rom","Emilia Rom"]
[null,null,null,null,null,null,null,null,null,null,null,null,null,null,null,null,null,null,null,null,null,null,null,null,null,null,"ITA","FE","FE"]
[null,null,null,null,null,null,null,null,null,null,null,null,null,null,null,null,null,null,null,null,null,null,null,null,null,null,"ITA","Ferrara","Ferrara"]
[null,null,null,null,null,null,null,null,null,null,null,null,null,null,null,null,null,null,null,null,null,null,null,null,null,null,"ITA","FI","FI"]
[null,null,null,null,null,null,null,null,null,null,null,null,null,null,null,null,null,null,null,null,null,null,null,null,null,null,"ITA","Firenze","Firenze"]
[null,null,null,null,null,null,null,null,null,null,null,null,null,null,null,null,null,null,null,null,null,null,null,null,null,null,"ITA","Friuli-Ven","Friuli-Ven"]
[null,null,null,null,null,null,null,null,null,null,null,null,null,null,null,null,null,null,null,null,null,null,null,null,null,null,"ITA","GE","GE"]
[null,null,null,null,null,null,null,null,null,null,null,null,null,null,null,null,null,null,null,null,null,null,null,null,null,null,"ITA","Grosseto","Grosseto"]
[null,null,null,null,null,null,null,null,null,null,null,null,null,null,null,null,null,null,null,null,null,null,null,null,null,null,"ITA","IM","IM"]
[null,null,null,null,null,null,null,null,null,null,null,null,null,null,null,null,null,null,null,null,null,null,null,null,null,null,"ITA","La Spezia","La Spezia"]
[null,null,null,null,null,null,null,null,null,null,null,null,null,null,null,null,null,null,null,null,null,null,null,null,null,null,"ITA","Lazio, RM","Lazio, RM"]
[null,null,null,null,null,null,null,null,null,null,null,null,null,null,null,null,null,null,null,null,null,null,null,null,null,null,"ITA","LE","LE"]
[null,null,null,null,null,null,null,null,null,null,null,null,null,null,null,null,null,null,null,null,null,null,null,null,null,null,"ITA","Liguria, S","Liguria, S"]
[null,null,null,null,null,null,null,null,null,null,null,null,null,null,null,null,null,null,null,null,null,null,null,null,null,null,"ITA","Lombardia,","Lombardia,"]
[null,null,null,null,null,null,null,null,null,null,null,null,null,null,null,null,null,null,null,null,null,null,null,null,null,null,"ITA","LT","LT"]
[null,null,null,null,null,null,null,null,null,null,null,null,null,null,null,null,null,null,null,null,null,null,null,null,null,null,"ITA","LU","LU"]
[null,null,null,null,null,null,null,null,null,null,null,null,null,null,null,null,null,null,null,null,null,null,null,null,null,null,"ITA","Mantova","Mantova"]
[null,null,null,null,null,null,null,null,null,null,null,null,null,null,null,null,null,null,null,null,null,null,null,null,null,null,"ITA","Marche, AP","Marche, AP"]
[null,null,null,null,null,null,null,null,null,null,null,null,null,null,null,null,null,null,null,null,null,null,null,null,null,null,"ITA","Marche, MC","Marche, MC"]
[null,null,null,null,null,null,null,null,null,null,null,null,null,null,null,null,null,null,null,null,null,null,null,null,null,null,"ITA","MB","MB"]
[null,null,null,null,null,null,null,null,null,null,null,null,null,null,null,null,null,null,null,null,null,null,null,null,null,null,"ITA","MC","MC"]
[null,null,null,null,null,null,null,null,null,null,null,null,null,null,null,null,null,null,null,null,null,null,null,null,null,null,"ITA","ME","ME"]
[null,null,null,null,null,null,null,null,null,null,null,null,null,null,null,null,null,null,null,null,null,null,null,null,null,null,"ITA","MI","MI"]
[null,null,null,null,null,null,null,null,null,null,null,null,null,null,null,null,null,null,null,null,null,null,null,null,null,null,"ITA","Milano","Milano"]
[null,null,null,null,null,null,null,null,null,null,null,null,null,null,null,null,null,null,null,null,null,null,null,null,null,null,"ITA","MO","MO"]
[null,null,null,null,null,null,null,null,null,null,null,null,null,null,null,null,null,null,null,null,null,null,null,null,null,null,"ITA","Monza e Br","Monza e Br"]
[null,null,null,null,null,null,null,null,null,null,null,null,null,null,null,null,null,null,null,null,null,null,null,null,null,null,"ITA","MS","MS"]
[null,null,null,null,null,null,null,null,null,null,null,null,null,null,null,null,null,null,null,null,null,null,null,null,null,null,"ITA","NA","NA"]
[null,null,null,null,null,null,null,null,null,null,null,null,null,null,null,null,null,null,null,null,null,null,null,null,null,null,"ITA","Napoli","Napoli"]
[null,null,null,null,null,null,null,null,null,null,null,null,null,null,null,null,null,null,null,null,null,null,null,null,null,null,"ITA","NO","NO"]
[null,null,null,null,null,null,null,null,null,null,null,null,null,null,null,null,null,null,null,null,null,null,null,null,null,null,"ITA","NU","NU"]
[null,null,null,null,null,null,null,null,null,null,null,null,null,null,null,null,null,null,null,null,null,null,null,null,null,null,"ITA","Padova","Padova"]
[null,null,null,null,null,null,null,null,null,null,null,null,null,null,null,null,null,null,null,null,null,null,null,null,null,null,"ITA","Palermo","Palermo"]
[null,null,null,null,null,null,null,null,null,null,null,null,null,null,null,null,null,null,null,null,null,null,null,null,null,null,"ITA","Parma","Parma"]
[null,null,null,null,null,null,null,null,null,null,null,null,null,null,null,null,null,null,null,null,null,null,null,null,null,null,"ITA","PC","PC"]
[null,null,null,null,null,null,null,null,null,null,null,null,null,null,null,null,null,null,null,null,null,null,null,null,null,null,"ITA","Perugia","Perugia"]
[null,null,null,null,null,null,null,null,null,null,null,null,null,null,null,null,null,null,null,null,null,null,null,null,null,null,"ITA","PG","PG"]
[null,null,null,null,null,null,null,null,null,null,null,null,null,null,null,null,null,null,null,null,null,null,null,null,null,null,"ITA","PI","PI"]
[null,null,null,null,null,null,null,null,null,null,null,null,null,null,null,null,null,null,null,null,null,null,null,null,null,null,"ITA","Piemonte,","Piemonte,"]
[null,null,null,null,null,null,null,null,null,null,null,null,null,null,null,null,null,null,null,null,null,null,null,null,null,null,"ITA","Pisa","Pisa"]
[null,null,null,null,null,null,null,null,null,null,null,null,null,null,null,null,null,null,null,null,null,null,null,null,null,null,"ITA","PN","PN"]
[null,null,null,null,null,null,null,null,null,null,null,null,null,null,null,null,null,null,null,null,null,null,null,null,null,null,"ITA","PT","PT"]
[null,null,null,null,null,null,null,null,null,null,null,null,null,null,null,null,null,null,null,null,null,null,null,null,null,null,"ITA","PU","PU"]
[null,null,null,null,null,null,null,null,null,null,null,null,null,null,null,null,null,null,null,null,null,null,null,null,null,null,"ITA","Puglia, BA","Puglia, BA"]
[null,null,null,null,null,null,null,null,null,null,null,null,null,null,null,null,null,null,null,null,null,null,null,null,null,null,"ITA","Puglia, BT","Puglia, BT"]
[null,null,null,null,null,null,null,null,null,null,null,null,null,null,null,null,null,null,null,null,null,null,null,null,null,null,"ITA","PV","PV"]
[null,null,null,null,null,null,null,null,null,null,null,null,null,null,null,null,null,null,null,null,null,null,null,null,null,null,"ITA","Ravenna","Ravenna"]
[null,null,null,null,null,null,null,null,null,null,null,null,null,null,null,null,null,null,null,null,null,null,null,null,null,null,"ITA","Reggio di","Reggio di"]
[null,null,null,null,null,null,null,null,null,null,null,null,null,null,null,null,null,null,null,null,null,null,null,null,null,null,"ITA","Reigio nel","Reigio nel"]
[null,null,null,null,null,null,null,null,null,null,null,null,null,null,null,null,null,null,null,null,null,null,null,null,null,null,"ITA","RI","RI"]
[null,null,null,null,null,null,null,null,null,null,null,null,null,null,null,null,null,null,null,null,null,null,null,null,null,null,"ITA","Rieti","Rieti"]
[null,null,null,null,null,null,null,null,null,null,null,null,null,null,null,null,null,null,null,null,null,null,null,null,null,null,"ITA","Rimini","Rimini"]
[null,null,null,null,null,null,null,null,null,null,null,null,null,null,null,null,null,null,null,null,null,null,null,null,null,null,"ITA","RM","RM"]
[null,null,null,null,null,null,null,null,null,null,null,null,null,null,null,null,null,null,null,null,null,null,null,null,null,null,"ITA","RN","RN"]
[null,null,null,null,null,null,null,null,null,null,null,null,null,null,null,null,null,null,null,null,null,null,null,null,null,null,"ITA","RO","RO"]
[null,null,null,null,null,null,null,null,null,null,null,null,null,null,null,null,null,null,null,null,null,null,null,null,null,null,"ITA","Roma","Roma"]
[null,null,null,null,null,null,null,null,null,null,null,null,null,null,null,null,null,null,null,null,null,null,null,null,null,null,"ITA","Sassari","Sassari"]
[null,null,null,null,null,null,null,null,null,null,null,null,null,null,null,null,null,null,null,null,null,null,null,null,null,null,"ITA","SI","SI"]
[null,null,null,null,null,null,null,null,null,null,null,null,null,null,null,null,null,null,null,null,null,null,null,null,null,null,"ITA","Sicilia, P","Sicilia, P"]
[null,null,null,null,null,null,null,null,null,null,null,null,null,null,null,null,null,null,null,null,null,null,null,null,null,null,"ITA","Siracusa","Siracusa"]
[null,null,null,null,null,null,null,null,null,null,null,null,null,null,null,null,null,null,null,null,null,null,null,null,null,null,"ITA","SP","SP"]
[null,null,null,null,null,null,null,null,null,null,null,null,null,null,null,null,null,null,null,null,null,null,null,null,null,null,"ITA","SS","SS"]
[null,null,null,null,null,null,null,null,null,null,null,null,null,null,null,null,null,null,null,null,null,null,null,null,null,null,"ITA","SU","SU"]
[null,null,null,null,null,null,null,null,null,null,null,null,null,null,null,null,null,null,null,null,null,null,null,null,null,null,"ITA","SV","SV"]
[null,null,null,null,null,null,null,null,null,null,null,null,null,null,null,null,null,null,null,null,null,null,null,null,null,null,"ITA","TN","TN"]
[null,null,null,null,null,null,null,null,null,null,null,null,null,null,null,null,null,null,null,null,null,null,null,null,null,null,"ITA","TO","TO"]
[null,null,null,null,null,null,null,null,null,null,null,null,null,null,null,null,null,null,null,null,null,null,null,null,null,null,"ITA","Torino","Torino"]
[null,null,null,null,null,null,null,null,null,null,null,null,null,null,null,null,null,null,null,null,null,null,null,null,null,null,"ITA","Toscana, A","Toscana, A"]
[null,null,null,null,null,null,null,null,null,null,null,null,null,null,null,null,null,null,null,null,null,null,null,null,null,null,"ITA","Toscana, S","Toscana, S"]
[null,null,null,null,null,null,null,null,null,null,null,null,null,null,null,null,null,null,null,null,null,null,null,null,null,null,"ITA","TP","TP"]
[null,null,null,null,null,null,null,null,null,null,null,null,null,null,null,null,null,null,null,null,null,null,null,null,null,null,"ITA","TR","TR"]
[null,null,null,null,null,null,null,null,null,null,null,null,null,null,null,null,null,null,null,null,null,null,null,null,null,null,"ITA","Trentino-A","Trentino-A"]
[null,null,null,null,null,null,null,null,null,null,null,null,null,null,null,null,null,null,null,null,null,null,null,null,null,null,"ITA","Trento","Trento"]
[null,null,null,null,null,null,null,null,null,null,null,null,null,null,null,null,null,null,null,null,null,null,null,null,null,null,"ITA","Treviso","Treviso"]
[null,null,null,null,null,null,null,null,null,null,null,null,null,null,null,null,null,null,null,null,null,null,null,null,null,null,"ITA","Tuscany","Tuscany"]
[null,null,null,null,null,null,null,null,null,null,null,null,null,null,null,null,null,null,null,null,null,null,null,null,null,null,"ITA","TV","TV"]
[null,null,null,null,null,null,null,null,null,null,null,null,null,null,null,null,null,null,null,null,null,null,null,null,null,null,"ITA","UD","UD"]
[null,null,null,null,null,null,null,null,null,null,null,null,null,null,null,null,null,null,null,null,null,null,null,null,null,null,"ITA","Umbria, TR","Umbria, TR"]
[null,null,null,null,null,null,null,null,null,null,null,null,null,null,null,null,null,null,null,null,null,null,null,null,null,null,"ITA","Varese","Varese"]
[null,null,null,null,null,null,null,null,null,null,null,null,null,null,null,null,null,null,null,null,null,null,null,null,null,null,"ITA","VB","VB"]
[null,null,null,null,null,null,null,null,null,null,null,null,null,null,null,null,null,null,null,null,null,null,null,null,null,null,"ITA","Veneto, TV","Veneto, TV"]
[null,null,null,null,null,null,null,null,null,null,null,null,null,null,null,null,null,null,null,null,null,null,null,null,null,null,"ITA","Veneto, VE","Veneto, VE"]
[null,null,null,null,null,null,null,null,null,null,null,null,null,null,null,null,null,null,null,null,null,null,null,null,null,null,"ITA","Venezia","Venezia"]
[null,null,null,null,null,null,null,null,null,null,null,null,null,null,null,null,null,null,null,null,null,null,null,null,null,null,"ITA","Vercelli","Vercelli"]
[null,null,null,null,null,null,null,null,null,null,null,null,null,null,null,null,null,null,null,null,null,null,null,null,null,null,"ITA","Verona","Verona"]
[null,null,null,null,null,null,null,null,null,null,null,null,null,null,null,null,null,null,null,null,null,null,null,null,null,null,"ITA","VI","VI"]
[null,null,null,null,null,null,null,null,null,null,null,null,null,null,null,null,null,null,null,null,null,null,null,null,null,null,"ITA","VR","VR"]
[null,null,null,null,null,null,null,null,null,null,null,null,null,null,null,null,null,null,null,null,null,null,null,null,null,null,"JEY","Jersey","Jersey"]
[null,null,null,null,null,null,null,null,null,null,null,null,null,null,null,null,null,null,null,null,null,null,null,null,null,null,"JOR","Amman Qasa","Amman Qasa"]
[null,null,null,null,null,null,null,null,null,null,null,null,null,null,null,null,null,null,null,null,null,null,null,null,null,null,"JOR","Wadi Essir","Wadi Essir"]
[null,null,null,null,null,null,null,null,null,null,null,null,null,null,null,null,null,null,null,null,null,null,null,null,null,null,"JPN","Aichi","Aichi"]
[null,null,null,null,null,null,null,null,null,null,null,null,null,null,null,null,null,null,null,null,null,null,null,null,null,null,"JPN","Akita","Akita"]
[null,null,null,null,null,null,null,null,null,null,null,null,null,null,null,null,null,null,null,null,null,null,null,null,null,null,"JPN","Aomori","Aomori"]
[null,null,null,null,null,null,null,null,null,null,null,null,null,null,null,null,null,null,null,null,null,null,null,null,null,null,"JPN","Chiba","Chiba"]
[null,null,null,null,null,null,null,null,null,null,null,null,null,null,null,null,null,null,null,null,null,null,null,null,null,null,"JPN","Ehime","Ehime"]
[null,null,null,null,null,null,null,null,null,null,null,null,null,null,null,null,null,null,null,null,null,null,null,null,null,null,"JPN","Fukui","Fukui"]
[null,null,null,null,null,null,null,null,null,null,null,null,null,null,null,null,null,null,null,null,null,null,null,null,null,null,"JPN","Fukuoka","Fukuoka"]
[null,null,null,null,null,null,null,null,null,null,null,null,null,null,null,null,null,null,null,null,null,null,null,null,null,null,"JPN","Fukushima","Fukushima"]
[null,null,null,null,null,null,null,null,null,null,null,null,null,null,null,null,null,null,null,null,null,null,null,null,null,null,"JPN","Gifu","Gifu"]
[null,null,null,null,null,null,null,null,null,null,null,null,null,null,null,null,null,null,null,null,null,null,null,null,null,null,"JPN","Gumma","Gumma"]
[null,null,null,null,null,null,null,null,null,null,null,null,null,null,null,null,null,null,null,null,null,null,null,null,null,null,"JPN","Gunma","Gunma"]
[null,null,null,null,null,null,null,null,null,null,null,null,null,null,null,null,null,null,null,null,null,null,null,null,null,null,"JPN","Hiroshima","Hiroshima"]
[null,null,null,null,null,null,null,null,null,null,null,null,null,null,null,null,null,null,null,null,null,null,null,null,null,null,"JPN","Hokkaido","Hokkaido"]
[null,null,null,null,null,null,null,null,null,null,null,null,null,null,null,null,null,null,null,null,null,null,null,null,null,null,"JPN","Hyogo","Hyogo"]
[null,null,null,null,null,null,null,null,null,null,null,null,null,null,null,null,null,null,null,null,null,null,null,null,null,null,"JPN","Ibaraki","Ibaraki"]
[null,null,null,null,null,null,null,null,null,null,null,null,null,null,null,null,null,null,null,null,null,null,null,null,null,null,"JPN","Ishikawa","Ishikawa"]
[null,null,null,null,null,null,null,null,null,null,null,null,null,null,null,null,null,null,null,null,null,null,null,null,null,null,"JPN","Iwate","Iwate"]
[null,null,null,null,null,null,null,null,null,null,null,null,null,null,null,null,null,null,null,null,null,null,null,null,null,null,"JPN","Kagawa","Kagawa"]
[null,null,null,null,null,null,null,null,null,null,null,null,null,null,null,null,null,null,null,null,null,null,null,null,null,null,"JPN","Kagoshima","Kagoshima"]
[null,null,null,null,null,null,null,null,null,null,null,null,null,null,null,null,null,null,null,null,null,null,null,null,null,null,"JPN","Kanagawa","Kanagawa"]
[null,null,null,null,null,null,null,null,null,null,null,null,null,null,null,null,null,null,null,null,null,null,null,null,null,null,"JPN","Kochi","Kochi"]
[null,null,null,null,null,null,null,null,null,null,null,null,null,null,null,null,null,null,null,null,null,null,null,null,null,null,"JPN","Kumamoto","Kumamoto"]
[null,null,null,null,null,null,null,null,null,null,null,null,null,null,null,null,null,null,null,null,null,null,null,null,null,null,"JPN","Kyoto","Kyoto"]
[null,null,null,null,null,null,null,null,null,null,null,null,null,null,null,null,null,null,null,null,null,null,null,null,null,null,"JPN","Mie","Mie"]
[null,null,null,null,null,null,null,null,null,null,null,null,null,null,null,null,null,null,null,null,null,null,null,null,null,null,"JPN","Miyagi","Miyagi"]
[null,null,null,null,null,null,null,null,null,null,null,null,null,null,null,null,null,null,null,null,null,null,null,null,null,null,"JPN","Miyazaki","Miyazaki"]
[null,null,null,null,null,null,null,null,null,null,null,null,null,null,null,null,null,null,null,null,null,null,null,null,null,null,"JPN","Nagano","Nagano"]
[null,null,null,null,null,null,null,null,null,null,null,null,null,null,null,null,null,null,null,null,null,null,null,null,null,null,"JPN","Nagasaki","Nagasaki"]
[null,null,null,null,null,null,null,null,null,null,null,null,null,null,null,null,null,null,null,null,null,null,null,null,null,null,"JPN","Nara","Nara"]
[null,null,null,null,null,null,null,null,null,null,null,null,null,null,null,null,null,null,null,null,null,null,null,null,null,null,"JPN","Niigata","Niigata"]
[null,null,null,null,null,null,null,null,null,null,null,null,null,null,null,null,null,null,null,null,null,null,null,null,null,null,"JPN","Oita","Oita"]
[null,null,null,null,null,null,null,null,null,null,null,null,null,null,null,null,null,null,null,null,null,null,null,null,null,null,"JPN","Okayama","Okayama"]
[null,null,null,null,null,null,null,null,null,null,null,null,null,null,null,null,null,null,null,null,null,null,null,null,null,null,"JPN","Okinawa","Okinawa"]
[null,null,null,null,null,null,null,null,null,null,null,null,null,null,null,null,null,null,null,null,null,null,null,null,null,null,"JPN","Osaka","Osaka"]
[null,null,null,null,null,null,null,null,null,null,null,null,null,null,null,null,null,null,null,null,null,null,null,null,null,null,"JPN","Saga","Saga"]
[null,null,null,null,null,null,null,null,null,null,null,null,null,null,null,null,null,null,null,null,null,null,null,null,null,null,"JPN","Saitama","Saitama"]
[null,null,null,null,null,null,null,null,null,null,null,null,null,null,null,null,null,null,null,null,null,null,null,null,null,null,"JPN","Shiga","Shiga"]
[null,null,null,null,null,null,null,null,null,null,null,null,null,null,null,null,null,null,null,null,null,null,null,null,null,null,"JPN","Shimane","Shimane"]
[null,null,null,null,null,null,null,null,null,null,null,null,null,null,null,null,null,null,null,null,null,null,null,null,null,null,"JPN","Shizuoka","Shizuoka"]
[null,null,null,null,null,null,null,null,null,null,null,null,null,null,null,null,null,null,null,null,null,null,null,null,null,null,"JPN","Tochigi","Tochigi"]
[null,null,null,null,null,null,null,null,null,null,null,null,null,null,null,null,null,null,null,null,null,null,null,null,null,null,"JPN","Tokushima","Tokushima"]
[null,null,null,null,null,null,null,null,null,null,null,null,null,null,null,null,null,null,null,null,null,null,null,null,null,null,"JPN","Tokyo","Tokyo"]
[null,null,null,null,null,null,null,null,null,null,null,null,null,null,null,null,null,null,null,null,null,null,null,null,null,null,"JPN","Tottori","Tottori"]
[null,null,null,null,null,null,null,null,null,null,null,null,null,null,null,null,null,null,null,null,null,null,null,null,null,null,"JPN","Toyama","Toyama"]
[null,null,null,null,null,null,null,null,null,null,null,null,null,null,null,null,null,null,null,null,null,null,null,null,null,null,"JPN","Wakayama","Wakayama"]
[null,null,null,null,null,null,null,null,null,null,null,null,null,null,null,null,null,null,null,null,null,null,null,null,null,null,"JPN","Yamagata","Yamagata"]
[null,null,null,null,null,null,null,null,null,null,null,null,null,null,null,null,null,null,null,null,null,null,null,null,null,null,"JPN","Yamaguchi","Yamaguchi"]
[null,null,null,null,null,null,null,null,null,null,null,null,null,null,null,null,null,null,null,null,null,null,null,null,null,null,"JPN","Yamanashi","Yamanashi"]
[null,null,null,null,null,null,null,null,null,null,null,null,null,null,null,null,null,null,null,null,null,null,null,null,null,null,"KAZ","Almaty Qal","Almaty Qal"]
[null,null,null,null,null,null,null,null,null,null,null,null,null,null,null,null,null,null,null,null,null,null,null,null,null,null,"KOR",".","."]
[null,null,null,null,null,null,null,null,null,null,null,null,null,null,null,null,null,null,null,null,null,null,null,null,null,null,"KOR","Daegugwang","Daegugwang"]
[null,null,null,null,null,null,null,null,null,null,null,null,null,null,null,null,null,null,null,null,null,null,null,null,null,null,"KOR","Gyeonggido","Gyeonggido"]
[null,null,null,null,null,null,null,null,null,null,null,null,null,null,null,null,null,null,null,null,null,null,null,null,null,null,"KOR","Seoulteukb","Seoulteukb"]
[null,null,null,null,null,null,null,null,null,null,null,null,null,null,null,null,null,null,null,null,null,null,null,null,null,null,"KWT","Kuwait","Kuwait"]
[null,null,null,null,null,null,null,null,null,null,null,null,null,null,null,null,null,null,null,null,null,null,null,null,null,null,"LBN",".","."]
[null,null,null,null,null,null,null,null,null,null,null,null,null,null,null,null,null,null,null,null,null,null,null,null,null,null,"LBN","Mount Leba","Mount Leba"]
[null,null,null,null,null,null,null,null,null,null,null,null,null,null,null,null,null,null,null,null,null,null,null,null,null,null,"LCA","Soufriere","Soufriere"]
[null,null,null,null,null,null,null,null,null,null,null,null,null,null,null,null,null,null,null,null,null,null,null,null,null,null,"LKA","Colombo","Colombo"]
[null,null,null,null,null,null,null,null,null,null,null,null,null,null,null,null,null,null,null,null,null,null,null,null,null,null,"LKA","Western, C","Western, C"]
[null,null,null,null,null,null,null,null,null,null,null,null,null,null,null,null,null,null,null,null,null,null,null,null,null,null,"LTU","Kauno apsk","Kauno apsk"]
[null,null,null,null,null,null,null,null,null,null,null,null,null,null,null,null,null,null,null,null,null,null,null,null,null,null,"LTU","Marijampol","Marijampol"]
[null,null,null,null,null,null,null,null,null,null,null,null,null,null,null,null,null,null,null,null,null,null,null,null,null,null,"LTU","Vilniaus a","Vilniaus a"]
[null,null,null,null,null,null,null,null,null,null,null,null,null,null,null,null,null,null,null,null,null,null,null,null,null,null,"LUX","Capellen","Capellen"]
[null,null,null,null,null,null,null,null,null,null,null,null,null,null,null,null,null,null,null,null,null,null,null,null,null,null,"LUX","Esch-sur-A","Esch-sur-A"]
[null,null,null,null,null,null,null,null,null,null,null,null,null,null,null,null,null,null,null,null,null,null,null,null,null,null,"LUX","Luxembourg","Luxembourg"]
[null,null,null,null,null,null,null,null,null,null,null,null,null,null,null,null,null,null,null,null,null,null,null,null,null,null,"LVA","Alojas nov","Alojas nov"]
[null,null,null,null,null,null,null,null,null,null,null,null,null,null,null,null,null,null,null,null,null,null,null,null,null,null,"LVA","Jūrmala","Jūrmala"]
[null,null,null,null,null,null,null,null,null,null,null,null,null,null,null,null,null,null,null,null,null,null,null,null,null,null,"LVA","Rīga","Rīga"]
[null,null,null,null,null,null,null,null,null,null,null,null,null,null,null,null,null,null,null,null,null,null,null,null,null,null,"LVA","Salaspils","Salaspils"]
[null,null,null,null,null,null,null,null,null,null,null,null,null,null,null,null,null,null,null,null,null,null,null,null,null,null,"MAC","Macau","Macau"]
[null,null,null,null,null,null,null,null,null,null,null,null,null,null,null,null,null,null,null,null,null,null,null,null,null,null,"MAR","Rabat-Salé","Rabat-Salé"]
[null,null,null,null,null,null,null,null,null,null,null,null,null,null,null,null,null,null,null,null,null,null,null,null,null,null,"MCO","Monaco","Monaco"]
[null,null,null,null,null,null,null,null,null,null,null,null,null,null,null,null,null,null,null,null,null,null,null,null,null,null,"MDA","Chisinau","Chisinau"]
[null,null,null,null,null,null,null,null,null,null,null,null,null,null,null,null,null,null,null,null,null,null,null,null,null,null,"MDA","Chişinău","Chişinău"]
[null,null,null,null,null,null,null,null,null,null,null,null,null,null,null,null,null,null,null,null,null,null,null,null,null,null,"MDV","Male, Jana","Male, Jana"]
[null,null,null,null,null,null,null,null,null,null,null,null,null,null,null,null,null,null,null,null,null,null,null,null,null,null,"MEX","Ciudad de","Ciudad de"]
[null,null,null,null,null,null,null,null,null,null,null,null,null,null,null,null,null,null,null,null,null,null,null,null,null,null,"MEX","GUA","GUA"]
[null,null,null,null,null,null,null,null,null,null,null,null,null,null,null,null,null,null,null,null,null,null,null,null,null,null,"MEX","TAM","TAM"]
[null,null,null,null,null,null,null,null,null,null,null,null,null,null,null,null,null,null,null,null,null,null,null,null,null,null,"MKD","Centar","Centar"]
[null,null,null,null,null,null,null,null,null,null,null,null,null,null,null,null,null,null,null,null,null,null,null,null,null,null,"MKD","Chair","Chair"]
[null,null,null,null,null,null,null,null,null,null,null,null,null,null,null,null,null,null,null,null,null,null,null,null,null,null,"MKD","Skopski","Skopski"]
[null,null,null,null,null,null,null,null,null,null,null,null,null,null,null,null,null,null,null,null,null,null,null,null,null,null,"MLT","Malta","Malta"]
[null,null,null,null,null,null,null,null,null,null,null,null,null,null,null,null,null,null,null,null,null,null,null,null,null,null,"MLT","Malta Majj","Malta Majj"]
[null,null,null,null,null,null,null,null,null,null,null,null,null,null,null,null,null,null,null,null,null,null,null,null,null,null,"MUS","Black Rive","Black Rive"]
[null,null,null,null,null,null,null,null,null,null,null,null,null,null,null,null,null,null,null,null,null,null,null,null,null,null,"MUS","Port Louis","Port Louis"]
[null,null,null,null,null,null,null,null,null,null,null,null,null,null,null,null,null,null,null,null,null,null,null,null,null,null,"MUS","Rivière du","Rivière du"]
[null,null,null,null,null,null,null,null,null,null,null,null,null,null,null,null,null,null,null,null,null,null,null,null,null,null,"MYS","Pulau Pina","Pulau Pina"]
[null,null,null,null,null,null,null,null,null,null,null,null,null,null,null,null,null,null,null,null,null,null,null,null,null,null,"MYS","Sarawak","Sarawak"]
[null,null,null,null,null,null,null,null,null,null,null,null,null,null,null,null,null,null,null,null,null,null,null,null,null,null,"MYS","Selangor","Selangor"]
[null,null,null,null,null,null,null,null,null,null,null,null,null,null,null,null,null,null,null,null,null,null,null,null,null,null,"MYS","Wilayah Pe","Wilayah Pe"]
[null,null,null,null,null,null,null,null,null,null,null,null,null,null,null,null,null,null,null,null,null,null,null,null,null,null,"MYS","Wp Kuala L","Wp Kuala L"]
[null,null,null,null,null,null,null,null,null,null,null,null,null,null,null,null,null,null,null,null,null,null,null,null,null,null,"NGA","Adamawa St","Adamawa St"]
[null,null,null,null,null,null,null,null,null,null,null,null,null,null,null,null,null,null,null,null,null,null,null,null,null,null,"NGA","Federal Ca","Federal Ca"]
[null,null,null,null,null,null,null,null,null,null,null,null,null,null,null,null,null,null,null,null,null,null,null,null,null,null,"NGA","Lagos","Lagos"]
[null,null,null,null,null,null,null,null,null,null,null,null,null,null,null,null,null,null,null,null,null,null,null,null,null,null,"NGA","Ondo State","Ondo State"]
[null,null,null,null,null,null,null,null,null,null,null,null,null,null,null,null,null,null,null,null,null,null,null,null,null,null,"NGA","Rivers Sta","Rivers Sta"]
[null,null,null,null,null,null,null,null,null,null,null,null,null,null,null,null,null,null,null,null,null,null,null,null,null,null,"NZL","Auckland","Auckland"]
[null,null,null,null,null,null,null,null,null,null,null,null,null,null,null,null,null,null,null,null,null,null,null,null,null,null,"NZL","NZL","NZL"]
[null,null,null,null,null,null,null,null,null,null,null,null,null,null,null,null,null,null,null,null,null,null,null,null,null,null,"NZL","Otago","Otago"]
[null,null,null,null,null,null,null,null,null,null,null,null,null,null,null,null,null,null,null,null,null,null,null,null,null,null,"OMN",".","."]
[null,null,null,null,null,null,null,null,null,null,null,null,null,null,null,null,null,null,null,null,null,null,null,null,null,null,"OMN","Al Seeb","Al Seeb"]
[null,null,null,null,null,null,null,null,null,null,null,null,null,null,null,null,null,null,null,null,null,null,null,null,null,null,"OMN","BWSẖR","BWSẖR"]
[null,null,null,null,null,null,null,null,null,null,null,null,null,null,null,null,null,null,null,null,null,null,null,null,null,null,"OMN","MṭRḥ","MṭRḥ"]
[null,null,null,null,null,null,null,null,null,null,null,null,null,null,null,null,null,null,null,null,null,null,null,null,null,null,"OMN","Muscat","Muscat"]
[null,null,null,null,null,null,null,null,null,null,null,null,null,null,null,null,null,null,null,null,null,null,null,null,null,null,"OMN","Salalah","Salalah"]
[null,null,null,null,null,null,null,null,null,null,null,null,null,null,null,null,null,null,null,null,null,null,null,null,null,null,"PER","Lima","Lima"]
[null,null,null,null,null,null,null,null,null,null,null,null,null,null,null,null,null,null,null,null,null,null,null,null,null,null,"PHL","Metro Mani","Metro Mani"]
[null,null,null,null,null,null,null,null,null,null,null,null,null,null,null,null,null,null,null,null,null,null,null,null,null,null,"PHL","Ncr - Nati","Ncr - Nati"]
[null,null,null,null,null,null,null,null,null,null,null,null,null,null,null,null,null,null,null,null,null,null,null,null,null,null,"PRT","Alcobaca","Alcobaca"]
[null,null,null,null,null,null,null,null,null,null,null,null,null,null,null,null,null,null,null,null,null,null,null,null,null,null,"PRT","Alcobaça","Alcobaça"]
[null,null,null,null,null,null,null,null,null,null,null,null,null,null,null,null,null,null,null,null,null,null,null,null,null,null,"PRT","Alcoboca","Alcoboca"]
[null,null,null,null,null,null,null,null,null,null,null,null,null,null,null,null,null,null,null,null,null,null,null,null,null,null,"PRT","Aveiro","Aveiro"]
[null,null,null,null,null,null,null,null,null,null,null,null,null,null,null,null,null,null,null,null,null,null,null,null,null,null,"PRT","Beja","Beja"]
[null,null,null,null,null,null,null,null,null,null,null,null,null,null,null,null,null,null,null,null,null,null,null,null,null,null,"PRT","Bragança","Bragança"]
[null,null,null,null,null,null,null,null,null,null,null,null,null,null,null,null,null,null,null,null,null,null,null,null,null,null,"PRT","Castelo","Castelo"]
[null,null,null,null,null,null,null,null,null,null,null,null,null,null,null,null,null,null,null,null,null,null,null,null,null,null,"PRT","Coimbra","Coimbra"]
[null,null,null,null,null,null,null,null,null,null,null,null,null,null,null,null,null,null,null,null,null,null,null,null,null,null,"PRT","Faro","Faro"]
[null,null,null,null,null,null,null,null,null,null,null,null,null,null,null,null,null,null,null,null,null,null,null,null,null,null,"PRT","Ilha da Ma","Ilha da Ma"]
[null,null,null,null,null,null,null,null,null,null,null,null,null,null,null,null,null,null,null,null,null,null,null,null,null,null,"PRT","Leiria","Leiria"]
[null,null,null,null,null,null,null,null,null,null,null,null,null,null,null,null,null,null,null,null,null,null,null,null,null,null,"PRT","Lisboa","Lisboa"]
[null,null,null,null,null,null,null,null,null,null,null,null,null,null,null,null,null,null,null,null,null,null,null,null,null,null,"PRT","Porto","Porto"]
[null,null,null,null,null,null,null,null,null,null,null,null,null,null,null,null,null,null,null,null,null,null,null,null,null,null,"PRT","Setúbal","Setúbal"]
[null,null,null,null,null,null,null,null,null,null,null,null,null,null,null,null,null,null,null,null,null,null,null,null,null,null,"PRT","Viseu","Viseu"]
[null,null,null,null,null,null,null,null,null,null,null,null,null,null,null,null,null,null,null,null,null,null,null,null,null,null,"QAT",".","."]
[null,null,null,null,null,null,null,null,null,null,null,null,null,null,null,null,null,null,null,null,null,null,null,null,null,null,"ROU","Arad","Arad"]
[null,null,null,null,null,null,null,null,null,null,null,null,null,null,null,null,null,null,null,null,null,null,null,null,null,null,"ROU","Bucuresti","Bucuresti"]
[null,null,null,null,null,null,null,null,null,null,null,null,null,null,null,null,null,null,null,null,null,null,null,null,null,null,"ROU","București","București"]
[null,null,null,null,null,null,null,null,null,null,null,null,null,null,null,null,null,null,null,null,null,null,null,null,null,null,"ROU","Cluj","Cluj"]
[null,null,null,null,null,null,null,null,null,null,null,null,null,null,null,null,null,null,null,null,null,null,null,null,null,null,"ROU","Hunedoara","Hunedoara"]
[null,null,null,null,null,null,null,null,null,null,null,null,null,null,null,null,null,null,null,null,null,null,null,null,null,null,"ROU","Ilfov","Ilfov"]
[null,null,null,null,null,null,null,null,null,null,null,null,null,null,null,null,null,null,null,null,null,null,null,null,null,null,"ROU","Prahova","Prahova"]
[null,null,null,null,null,null,null,null,null,null,null,null,null,null,null,null,null,null,null,null,null,null,null,null,null,null,"RUS","Moskva","Moskva"]
[null,null,null,null,null,null,null,null,null,null,null,null,null,null,null,null,null,null,null,null,null,null,null,null,null,null,"SGP",".","."]
[null,null,null,null,null,null,null,null,null,null,null,null,null,null,null,null,null,null,null,null,null,null,null,null,null,null,"SRB","Grad Beogr","Grad Beogr"]
[null,null,null,null,null,null,null,null,null,null,null,null,null,null,null,null,null,null,null,null,null,null,null,null,null,null,"SRB","Juzno-Bačk","Juzno-Bačk"]
[null,null,null,null,null,null,null,null,null,null,null,null,null,null,null,null,null,null,null,null,null,null,null,null,null,null,"SVK","Bratislava","Bratislava"]
[null,null,null,null,null,null,null,null,null,null,null,null,null,null,null,null,null,null,null,null,null,null,null,null,null,null,"SVK","Košice","Košice"]
[null,null,null,null,null,null,null,null,null,null,null,null,null,null,null,null,null,null,null,null,null,null,null,null,null,null,"SVK","ŽILINA","ŽILINA"]
[null,null,null,null,null,null,null,null,null,null,null,null,null,null,null,null,null,null,null,null,null,null,null,null,null,null,"SVN","Domzale","Domzale"]
[null,null,null,null,null,null,null,null,null,null,null,null,null,null,null,null,null,null,null,null,null,null,null,null,null,null,"SVN","Domžale","Domžale"]
[null,null,null,null,null,null,null,null,null,null,null,null,null,null,null,null,null,null,null,null,null,null,null,null,null,null,"SVN","Jesenice","Jesenice"]
[null,null,null,null,null,null,null,null,null,null,null,null,null,null,null,null,null,null,null,null,null,null,null,null,null,null,"SVN","Ljubljana","Ljubljana"]
[null,null,null,null,null,null,null,null,null,null,null,null,null,null,null,null,null,null,null,null,null,null,null,null,null,null,"SWZ","Hhohho","Hhohho"]
[null,null,null,null,null,null,null,null,null,null,null,null,null,null,null,null,null,null,null,null,null,null,null,null,null,null,"SYC","La Digue","La Digue"]
[null,null,null,null,null,null,null,null,null,null,null,null,null,null,null,null,null,null,null,null,null,null,null,null,null,null,"THA","Bang Bon","Bang Bon"]
[null,null,null,null,null,null,null,null,null,null,null,null,null,null,null,null,null,null,null,null,null,null,null,null,null,null,"THA","Phaya Thai","Phaya Thai"]
[null,null,null,null,null,null,null,null,null,null,null,null,null,null,null,null,null,null,null,null,null,null,null,null,null,null,"THA","Sathon","Sathon"]
[null,null,null,null,null,null,null,null,null,null,null,null,null,null,null,null,null,null,null,null,null,null,null,null,null,null,"TTO","TTO","TTO"]
[null,null,null,null,null,null,null,null,null,null,null,null,null,null,null,null,null,null,null,null,null,null,null,null,null,null,"TUN","NạBL","NạBL"]
[null,null,null,null,null,null,null,null,null,null,null,null,null,null,null,null,null,null,null,null,null,null,null,null,null,null,"TUN","TWNS","TWNS"]
[null,null,null,null,null,null,null,null,null,null,null,null,null,null,null,null,null,null,null,null,null,null,null,null,null,null,"TUR","Ankara","Ankara"]
[null,null,null,null,null,null,null,null,null,null,null,null,null,null,null,null,null,null,null,null,null,null,null,null,null,null,"TUR","İstanbul","İstanbul"]
[null,null,null,null,null,null,null,null,null,null,null,null,null,null,null,null,null,null,null,null,null,null,null,null,null,null,"TUR","Muğla","Muğla"]
[null,null,null,null,null,null,null,null,null,null,null,null,null,null,null,null,null,null,null,null,null,null,null,null,null,null,"TWN",".","."]
[null,null,null,null,null,null,null,null,null,null,null,null,null,null,null,null,null,null,null,null,null,null,null,null,null,null,"TWN","Tai Bei Sh","Tai Bei Sh"]
[null,null,null,null,null,null,null,null,null,null,null,null,null,null,null,null,null,null,null,null,null,null,null,null,null,null,"TWN","Xin Bei Sh","Xin Bei Sh"]
[null,null,null,null,null,null,null,null,null,null,null,null,null,null,null,null,null,null,null,null,null,null,null,null,null,null,"UKR","Harkívsʹki","Harkívsʹki"]
[null,null,null,null,null,null,null,null,null,null,null,null,null,null,null,null,null,null,null,null,null,null,null,null,null,null,"UKR","Kirovs'kyi","Kirovs'kyi"]
[null,null,null,null,null,null,null,null,null,null,null,null,null,null,null,null,null,null,null,null,null,null,null,null,null,null,"UKR","Odesa","Odesa"]
[null,null,null,null,null,null,null,null,null,null,null,null,null,null,null,null,null,null,null,null,null,null,null,null,null,null,"UKR","Stavyshche","Stavyshche"]
[null,null,null,null,null,null,null,null,null,null,null,null,null,null,null,null,null,null,null,null,null,null,null,null,null,null,"URY","Montevideo","Montevideo"]
[null,null,null,null,null,null,null,null,null,null,null,null,null,null,null,null,null,null,null,null,null,null,null,null,null,null,"USA","Alaska","AK"]
[null,null,null,null,null,null,null,null,null,null,null,null,null,null,null,null,null,null,null,null,null,null,null,null,null,null,"USA","Alabama","AL"]
[null,null,null,null,null,null,null,null,null,null,null,null,null,null,null,null,null,null,null,null,null,null,null,null,null,null,"USA","Arkansas","AR"]
[null,null,null,null,null,null,null,null,null,null,null,null,null,null,null,null,null,null,null,null,null,null,null,null,null,null,"USA","Arizona","AZ"]
[null,null,null,null,null,null,null,null,null,null,null,null,null,null,null,null,null,null,null,null,null,null,null,null,null,null,"USA","California","CA"]
[null,null,null,null,null,null,null,null,null,null,null,null,null,null,null,null,null,null,null,null,null,null,null,null,null,null,"USA","Colorado","CO"]
[null,null,null,null,null,null,null,null,null,null,null,null,null,null,null,null,null,null,null,null,null,null,null,null,null,null,"USA","Connecticut","CT"]
[null,null,null,null,null,null,null,null,null,null,null,null,null,null,null,null,null,null,null,null,null,null,null,null,null,null,"USA","Delaware","DE"]
[null,null,null,null,null,null,null,null,null,null,null,null,null,null,null,null,null,null,null,null,null,null,null,null,null,null,"USA","Florida","FL"]
[null,null,null,null,null,null,null,null,null,null,null,null,null,null,null,null,null,null,null,null,null,null,null,null,null,null,"USA","Georgia","GA"]
[null,null,null,null,null,null,null,null,null,null,null,null,null,null,null,null,null,null,null,null,null,null,null,null,null,null,"USA","Hawai","HI"]
[null,null,null,null,null,null,null,null,null,null,null,null,null,null,null,null,null,null,null,null,null,null,null,null,null,null,"USA","Idaho","ID"]
[null,null,null,null,null,null,null,null,null,null,null,null,null,null,null,null,null,null,null,null,null,null,null,null,null,null,"USA","Illinois","IL"]
[null,null,null,null,null,null,null,null,null,null,null,null,null,null,null,null,null,null,null,null,null,null,null,null,null,null,"USA","Indiana","IN"]
[null,null,null,null,null,null,null,null,null,null,null,null,null,null,null,null,null,null,null,null,null,null,null,null,null,null,"USA","Kansas","KS"]
[null,null,null,null,null,null,null,null,null,null,null,null,null,null,null,null,null,null,null,null,null,null,null,null,null,null,"USA","Kentucky","KY"]
[null,null,null,null,null,null,null,null,null,null,null,null,null,null,null,null,null,null,null,null,null,null,null,null,null,null,"USA","Lousiana","LA"]
[null,null,null,null,null,null,null,null,null,null,null,null,null,null,null,null,null,null,null,null,null,null,null,null,null,null,"USA","Massachusetts","MA"]
[null,null,null,null,null,null,null,null,null,null,null,null,null,null,null,null,null,null,null,null,null,null,null,null,null,null,"USA","Maryland","MD"]
[null,null,null,null,null,null,null,null,null,null,null,null,null,null,null,null,null,null,null,null,null,null,null,null,null,null,"USA","Maine","ME"]
[null,null,null,null,null,null,null,null,null,null,null,null,null,null,null,null,null,null,null,null,null,null,null,null,null,null,"USA","Michigan","MI"]
[null,null,null,null,null,null,null,null,null,null,null,null,null,null,null,null,null,null,null,null,null,null,null,null,null,null,"USA","Minnesota","MN"]
[null,null,null,null,null,null,null,null,null,null,null,null,null,null,null,null,null,null,null,null,null,null,null,null,null,null,"USA","Missouri","MO"]
[null,null,null,null,null,null,null,null,null,null,null,null,null,null,null,null,null,null,null,null,null,null,null,null,null,null,"USA","Mississipi","MS"]
[null,null,null,null,null,null,null,null,null,null,null,null,null,null,null,null,null,null,null,null,null,null,null,null,null,null,"USA","Montana","MT"]
[null,null,null,null,null,null,null,null,null,null,null,null,null,null,null,null,null,null,null,null,null,null,null,null,null,null,"USA","North Carolina","NC"]
[null,null,null,null,null,null,null,null,null,null,null,null,null,null,null,null,null,null,null,null,null,null,null,null,null,null,"USA","North Dakota","ND"]
[null,null,null,null,null,null,null,null,null,null,null,null,null,null,null,null,null,null,null,null,null,null,null,null,null,null,"USA","Nebraska","NE"]
[null,null,null,null,null,null,null,null,null,null,null,null,null,null,null,null,null,null,null,null,null,null,null,null,null,null,"USA","New Hampshire","NH"]
[null,null,null,null,null,null,null,null,null,null,null,null,null,null,null,null,null,null,null,null,null,null,null,null,null,null,"USA","New Jersey","NJ"]
[null,null,null,null,null,null,null,null,null,null,null,null,null,null,null,null,null,null,null,null,null,null,null,null,null,null,"USA","New Mexico","NM"]
[null,null,null,null,null,null,null,null,null,null,null,null,null,null,null,null,null,null,null,null,null,null,null,null,null,null,"USA","Nevada","NV"]
[null,null,null,null,null,null,null,null,null,null,null,null,null,null,null,null,null,null,null,null,null,null,null,null,null,null,"USA","New York","NY"]
[null,null,null,null,null,null,null,null,null,null,null,null,null,null,null,null,null,null,null,null,null,null,null,null,null,null,"USA","Ohio","OH"]
[null,null,null,null,null,null,null,null,null,null,null,null,null,null,null,null,null,null,null,null,null,null,null,null,null,null,"USA","Oklahoma","OK"]
[null,null,null,null,null,null,null,null,null,null,null,null,null,null,null,null,null,null,null,null,null,null,null,null,null,null,"USA","Oregon","OR"]
[null,null,null,null,null,null,null,null,null,null,null,null,null,null,null,null,null,null,null,null,null,null,null,null,null,null,"USA","Pennsylvania","PA"]
[null,null,null,null,null,null,null,null,null,null,null,null,null,null,null,null,null,null,null,null,null,null,null,null,null,null,"USA","Rhode Island","RI"]
[null,null,null,null,null,null,null,null,null,null,null,null,null,null,null,null,null,null,null,null,null,null,null,null,null,null,"USA","South Carolina","SC"]
[null,null,null,null,null,null,null,null,null,null,null,null,null,null,null,null,null,null,null,null,null,null,null,null,null,null,"USA","South Dakota","SD"]
[null,null,null,null,null,null,null,null,null,null,null,null,null,null,null,null,null,null,null,null,null,null,null,null,null,null,"USA","Tennessee","TN"]
[null,null,null,null,null,null,null,null,null,null,null,null,null,null,null,null,null,null,null,null,null,null,null,null,null,null,"USA","Texas","TX"]
[null,null,null,null,null,null,null,null,null,null,null,null,null,null,null,null,null,null,null,null,null,null,null,null,null,null,"USA","Utah","UT"]
[null,null,null,null,null,null,null,null,null,null,null,null,null,null,null,null,null,null,null,null,null,null,null,null,null,null,"USA","Virginia","VA"]
[null,null,null,null,null,null,null,null,null,null,null,null,null,null,null,null,null,null,null,null,null,null,null,null,null,null,"USA","Vermont","VT"]
[null,null,null,null,null,null,null,null,null,null,null,null,null,null,null,null,null,null,null,null,null,null,null,null,null,null,"USA","Washington","WA"]
[null,null,null,null,null,null,null,null,null,null,null,null,null,null,null,null,null,null,null,null,null,null,null,null,null,null,"USA","Wisconsin","WI"]
[null,null,null,null,null,null,null,null,null,null,null,null,null,null,null,null,null,null,null,null,null,null,null,null,null,null,"USA","West Virginia","WV"]
[null,null,null,null,null,null,null,null,null,null,null,null,null,null,null,null,null,null,null,null,null,null,null,null,null,null,"USA","Wyoming","WY"]
[null,null,null,null,null,null,null,null,null,null,null,null,null,null,null,null,null,null,null,null,null,null,null,null,null,null,"VAT","Vatican Ci","Vatican Ci"]
[null,null,null,null,null,null,null,null,null,null,null,null,null,null,null,null,null,null,null,null,null,null,null,null,null,null,"VCT",".","."]
[null,null,null,null,null,null,null,null,null,null,null,null,null,null,null,null,null,null,null,null,null,null,null,null,null,null,"VNM","Cầu Giấy","Cầu Giấy"]
[null,null,null,null,null,null,null,null,null,null,null,null,null,null,null,null,null,null,null,null,null,null,null,null,null,null,"VNM","Diễn Châu","Diễn Châu"]
[null,null,null,null,null,null,null,null,null,null,null,null,null,null,null,null,null,null,null,null,null,null,null,null,null,null,"VNM","Quận 2","Quận 3"]
[null,null,null,null,null,null,null,null,null,null,null,null,null,null,null,null,null,null,null,null,null,null,null,null,null,null,"ZMB","Livingston","Livingston"]

{"sheet":"Export","index":4,"n_rows":12,"n_cols":34,"rows_kept":12,"cut":false,"hidden":true,"merged":[]}
["LINENUMBER","IMPORTEDBY","IMPORTEDDATETIME","CUSTOMERNUMBER","RECIPIENTTITLE","FIRSTNAME","LASTNAME","PHONE","EMAIL","RECIPIENTCOMPANYNAME","BUILDING","STREET","CITY","STATE","COUNTY","ZIPCODE","COUNTRYREGIONID","ITEMID","PRICE","QTY","DELIVERYMODE","DELIVERYBY","GIFTCARDMESSAGE","SalesOrderNum","SalesOrderLinNum","LineStatus","LineError","Bypass","DeleteLine","PRODUCTPERSONALIZATIONLINE1","PRODUCTPERSONALIZATIONLINE2","PRODUCTPERSONALIZATIONLINE3","PRODUCTPERSONALIZATIONLINE4","PRODUCTPERSONALIZATIONLINE5"]
[1,null,null,null,"Mr","Michael","Foggin",7961100504,null,null,null,"13 Moreton Avenue","Harpenden","",null,"AL5 2EU","GBR",5138145,{"$error":"#N/A"},1,"STD","2022-11-12"]
[2,null,null,null,"None","Christopher","Katkowski",7802253343,null,null,"Beech Mill Farm","Kane Hythe Road","Battle","",null,"TN33 9QU","GBR",5128368,{"$error":"#N/A"},1,"STD","2022-11-12"]
[3,null,null,null,"Mr","Grant","Reed",7773328440,null,null,"Aery","Beechfield Road","Alderley Edge","",null,"SK9 7AT","GBR",2215158,135,1,"STD","2022-11-12"]
[4,null,null,null,"Mrs","Claire","Masse",7506069716,null,null,null,"45 Roseneath Road","London","",null,"SW11 6AG","GBR",2215158,135,1,"STD","2022-11-12"]
[5,null,null,null,"Mr","David","Gibbons",7989568673,null,null,null,"70 Culcheth Hall Drive","Warrington","",null,"WA3 4PX","GBR",5128358,{"$error":"#N/A"},2,"STD","2022-11-12"]
[6,null,null,null,"Mrs","Mandy","Johnston",7817973645,null,null,null,"38a  Wilford Lane","Nottingham","",null,"NG2 7RL","GBR",5045329,{"$error":"#N/A"},1,"STD","2022-11-12"]
[7,null,null,null,"Mrs","Gillian","Rae",7885448577,null,null,"Hill House","35 Pilgrims Way","Reigate","",null,"RH2 9LG","GBR",2215158,135,1,"STD","2022-11-12"]
[8,null,null,null,"Mr","Sean","Booth",7785738081,null,null,null,"55 Poplar Road","Derby","",null,"DE72 3BH","GBR",2210924,200,1,"STD","2022-11-12"]
[9,null,null,null,"Dr","David","Griffiths",7775107212,null,null,"Anchors Rest","Northfield Lane","Wells-next-the-sea","",null,"NR23 1LF","GBR",5045358,{"$error":"#N/A"},1,"STD","2022-11-12"]
[10,null,null,null,"Mr","Michael","Srokowski",7950307496,null,null,"The Birches Church Road","Swainsthorpe","Norwich","",null,"NR14 8PS","GBR",2201912,185,1,"STD","2022-11-12"]
[11,null,null,null,"Mr","Daniel","Thornton",7976299076,null,null,null,"14 Farmer Street","London","",null,"W8 7SN","GBR",2215158,135,1,"STD","2022-11-12"]

{"sheet":"Import","index":5,"n_rows":7,"n_cols":29,"rows_kept":7,"cut":false,"hidden":true,"merged":[]}
["LINENUMBER","IMPORTEDBY","IMPORTEDDATETIME","CUSTOMERNUMBER","RECIPIENTTITLE","FIRSTNAME","LASTNAME","PHONE","EMAIL","RECIPIENTCOMPANYNAME","BUILDING","STREET","CITY","STATE","COUNTY","ZIPCODE","COUNTRYREGIONID","ITEMID","PRICE","QTY","DELIVERYMODE","DELIVERYBY","GIFTCARDMESSAGE","SalesOrderNum","SalesOrderLinNum","LineStatus","LineError","Bypass","DeleteLine"]
[11,"b2","c2","d2","e2","f2","g2","h2","i2","j2","k2","l2","m2","n2","o2","p2","q2","r2","s2","t2","u2","v2","w2","x2","y2","Error","aa2","ab2","ac2"]
[12,"b3","c3",null,"Mr","Test2","Wood",null,"test2","Fortnum & Mason",null,"28 Barnsbury Square","London",null,null,"N1 1JP","GBR",2001134,70,1,"NEXT","2018-07-19","Please accept this gift with our apologies\nfor the problems you have experienced.\nVery Best Wishes,\nNeil Lewis\nBarclays Bank Plc.",null,null,"Error"]
[13,"b4",null,null,"Mrs","#","Balding",1328855718,null,"Fortnum & Mason","St. Marys Gate","Church Road","Colkirk",null,"Fakenham","NR21 7NR","GBR",2001134,70,1,"STD","2018-07-19","Please accept this gift with our apologies\nfor the problems you have experienced.\nVery Best Wishes\nMark Walker\nRelationship Manager\nBarclays Bank Plc."]
[14,"b5",null,null,"Mr","Darren","Abbott",7779661256,"email","Fortnum & Mason","flat no","18 Bursary Court","Dringhouses",null,"York","YO24 1UL","GGY",2001134,70,1,"STD","2018-07-19","Thank you for allowing us to put things \nright for you.\nKind Regards,\nSandra Goulbourne\nCustomer Relations Officer\nBarclays Bank Plc."]
[15,"b6",null,null,"Mr","Andrew","George Scarlett",7768057148,null,"Fortnum & Mason",null,"15a Park Avenue South","Harpenden",null,null,"AL5 2DZ","GBR",2001134,70,1,"STD","2018-07-19","Please accept this gift with our \napologies for the problems you have\nexperienced. \nVery best wishes.\nJames Morrison\nBarclays Bank Plc."]
[16,"b7","c7","d7","e7","f7","g7","h7","i7","j7","k7","l7","m7","n7","o7","p7","q7","r7","s7","t7","u7","v7","w7","x7","y7","z7","aa7","ab7","ac7"]